BEGIN:VCALENDAR
VERSION:2.0
PRODID:-//Swanscombe and Greenhithe Town Council - ECPv6.15.20//NONSGML v1.0//EN
CALSCALE:GREGORIAN
METHOD:PUBLISH
X-ORIGINAL-URL:https://swanscombeandgreenhithetowncouncil.gov.uk
X-WR-CALDESC:Events for Swanscombe and Greenhithe Town Council
REFRESH-INTERVAL;VALUE=DURATION:PT1H
X-Robots-Tag:noindex
X-PUBLISHED-TTL:PT1H
BEGIN:VTIMEZONE
TZID:Europe/London
BEGIN:DAYLIGHT
TZOFFSETFROM:+0000
TZOFFSETTO:+0100
TZNAME:BST
DTSTART:20230326T010000
END:DAYLIGHT
BEGIN:STANDARD
TZOFFSETFROM:+0100
TZOFFSETTO:+0000
TZNAME:GMT
DTSTART:20231029T010000
END:STANDARD
BEGIN:DAYLIGHT
TZOFFSETFROM:+0000
TZOFFSETTO:+0100
TZNAME:BST
DTSTART:20240331T010000
END:DAYLIGHT
BEGIN:STANDARD
TZOFFSETFROM:+0100
TZOFFSETTO:+0000
TZNAME:GMT
DTSTART:20241027T010000
END:STANDARD
BEGIN:DAYLIGHT
TZOFFSETFROM:+0000
TZOFFSETTO:+0100
TZNAME:BST
DTSTART:20250330T010000
END:DAYLIGHT
BEGIN:STANDARD
TZOFFSETFROM:+0100
TZOFFSETTO:+0000
TZNAME:GMT
DTSTART:20251026T010000
END:STANDARD
END:VTIMEZONE
BEGIN:VEVENT
DTSTART;TZID=Europe/London:20240724T093000
DTEND;TZID=Europe/London:20240724T113000
DTSTAMP:20260423T032841
CREATED:20240703T143330Z
LAST-MODIFIED:20240703T143927Z
UID:10022105-1721813400-1721820600@swanscombeandgreenhithetowncouncil.gov.uk
SUMMARY:Managing Your Money
DESCRIPTION:
URL:https://swanscombeandgreenhithetowncouncil.gov.uk/event/managing-your-money-2/2024-07-24/
LOCATION:CAS Community Solutions – A Community Interest Company\, The Old Fire Station\, Church Rd\, Swanscombe DA10 0HF\, United Kingdom\, United Kingdom
CATEGORIES:Community Event
END:VEVENT
BEGIN:VEVENT
DTSTART;TZID=Europe/London:20240724T103000
DTEND;TZID=Europe/London:20240724T113000
DTSTAMP:20260423T032841
CREATED:20240313T011712Z
LAST-MODIFIED:20241219T091954Z
UID:10019447-1721817000-1721820600@swanscombeandgreenhithetowncouncil.gov.uk
SUMMARY:Free Weekly Health Walk
DESCRIPTION:  \n 
URL:https://swanscombeandgreenhithetowncouncil.gov.uk/event/free-weekly-health-walk-3-2/2024-07-24/
LOCATION:Greenhithe Community Centre\, Alexander Rd\, Greenhithe DA9 9HH\, United Kingdom\, United Kingdom
CATEGORIES:Community Event|Sports & Recreation Group
ATTACH;FMTTYPE=image/jpeg:https://swanscombeandgreenhithetowncouncil.gov.uk/wp-content/uploads/2021/05/43.2021-Health-Walks-S-and-G.jpg
ORGANIZER;CN="One You Kent team":MAILTO:oneyou@dartford.gov.uk
END:VEVENT
BEGIN:VEVENT
DTSTART;TZID=Europe/London:20240724T173000
DTEND;TZID=Europe/London:20240724T203000
DTSTAMP:20260423T032841
CREATED:20240424T184609Z
LAST-MODIFIED:20241219T092041Z
UID:10021479-1721842200-1721853000@swanscombeandgreenhithetowncouncil.gov.uk
SUMMARY:North Kent Martial Arts Club
DESCRIPTION:Please click on the photo below for details of the North Kent Martial Arts Club operating in Swanscombe.
URL:https://swanscombeandgreenhithetowncouncil.gov.uk/event/north-kent-martial-arts-club-4-2-2/2024-07-24/
LOCATION:Swanscombe and Greenhithe Town Council and Community Hall\, 16 The Grove\, Swanscombe DA10 0AD\, United Kingdom\, United Kingdom
CATEGORIES:Sports & Recreation Group
END:VEVENT
BEGIN:VEVENT
DTSTART;TZID=Europe/London:20240724T180000
DTEND;TZID=Europe/London:20240724T203000
DTSTAMP:20260423T032841
CREATED:20240624T140406Z
LAST-MODIFIED:20240624T140902Z
UID:10022004-1721844000-1721853000@swanscombeandgreenhithetowncouncil.gov.uk
SUMMARY:FREE Open Air Cinema - Greenhithe.
DESCRIPTION:They are back\, and they are FREE\, on 24 July (Greenhithe) and 22 August (Swanscombe)……..
URL:https://swanscombeandgreenhithetowncouncil.gov.uk/event/free-open-air-cinema-greenhithe/
LOCATION:Knockhall Recreation Ground\, 38 Knockhall Rd\, Greenhithe DA9 9HJ\, United Kingdom\, United Kingdom
CATEGORIES:Community Event,Family Fun
ORGANIZER;CN="Swanscombe and Greenhithe Town Council":MAILTO:info@swanscombeandgreenhithetowncouncil.gov.uk
END:VEVENT
BEGIN:VEVENT
DTSTART;TZID=Europe/London:20240724T190000
DTEND;TZID=Europe/London:20240724T203000
DTSTAMP:20260423T032841
CREATED:20240313T013529Z
LAST-MODIFIED:20241219T090853Z
UID:10010534-1721847600-1721853000@swanscombeandgreenhithetowncouncil.gov.uk
SUMMARY:Scouts are Back - Cubs on Wednesdays
DESCRIPTION:
URL:https://swanscombeandgreenhithetowncouncil.gov.uk/event/scouts-are-back-cubs-on-wednesdays-2/2024-07-24/
LOCATION:1st Galley Hill Scout Group\, 0HJ\, 110 Church Rd\, Swanscombe DA10 0HJ\, United Kingdom\, United Kingdom
CATEGORIES:Sports & Recreation Group
ATTACH;FMTTYPE=image/jpeg:https://swanscombeandgreenhithetowncouncil.gov.uk/wp-content/uploads/2021/12/57.2021-Scouts-are-back-30-Nov.jpg
ORGANIZER;CN="Rob Weller":MAILTO:info@1stgalleyhillscouts.org.uk
END:VEVENT
BEGIN:VEVENT
DTSTART;TZID=Europe/London:20240724T190000
DTEND;TZID=Europe/London:20240724T203000
DTSTAMP:20260423T032841
CREATED:20240313T165459Z
LAST-MODIFIED:20241219T090929Z
UID:10013421-1721847600-1721853000@swanscombeandgreenhithetowncouncil.gov.uk
SUMMARY:Catzout Community Choir  - Wednesdays 7pm to 8.30pm
DESCRIPTION:
URL:https://swanscombeandgreenhithetowncouncil.gov.uk/event/catzout-community-choir-wednesdays-7pm-to-8-30pm-2/2024-07-24/
LOCATION:Heritage Community Hall\, 22 Craylands Ln\, Swanscombe DA10 0LP\, United Kingdom\, United Kingdom
CATEGORIES:Community Event
ATTACH;FMTTYPE=image/jpeg:https://swanscombeandgreenhithetowncouncil.gov.uk/wp-content/uploads/2022/06/77.2022-Catzout-Choir-22-June.jpg
ORGANIZER;CN="Walk_Tall":MAILTO:info@walk-tall.org.uk
END:VEVENT
END:VCALENDAR