BEGIN:VCALENDAR
VERSION:2.0
PRODID:-//Swanscombe and Greenhithe Town Council - ECPv6.15.20//NONSGML v1.0//EN
CALSCALE:GREGORIAN
METHOD:PUBLISH
X-ORIGINAL-URL:https://swanscombeandgreenhithetowncouncil.gov.uk
X-WR-CALDESC:Events for Swanscombe and Greenhithe Town Council
REFRESH-INTERVAL;VALUE=DURATION:PT1H
X-Robots-Tag:noindex
X-PUBLISHED-TTL:PT1H
BEGIN:VTIMEZONE
TZID:Europe/London
BEGIN:DAYLIGHT
TZOFFSETFROM:+0000
TZOFFSETTO:+0100
TZNAME:BST
DTSTART:20230326T010000
END:DAYLIGHT
BEGIN:STANDARD
TZOFFSETFROM:+0100
TZOFFSETTO:+0000
TZNAME:GMT
DTSTART:20231029T010000
END:STANDARD
BEGIN:DAYLIGHT
TZOFFSETFROM:+0000
TZOFFSETTO:+0100
TZNAME:BST
DTSTART:20240331T010000
END:DAYLIGHT
BEGIN:STANDARD
TZOFFSETFROM:+0100
TZOFFSETTO:+0000
TZNAME:GMT
DTSTART:20241027T010000
END:STANDARD
BEGIN:DAYLIGHT
TZOFFSETFROM:+0000
TZOFFSETTO:+0100
TZNAME:BST
DTSTART:20250330T010000
END:DAYLIGHT
BEGIN:STANDARD
TZOFFSETFROM:+0100
TZOFFSETTO:+0000
TZNAME:GMT
DTSTART:20251026T010000
END:STANDARD
END:VTIMEZONE
BEGIN:VEVENT
DTSTART;TZID=Europe/London:20240828T103000
DTEND;TZID=Europe/London:20240828T113000
DTSTAMP:20260422T235040
CREATED:20240313T011712Z
LAST-MODIFIED:20241219T091954Z
UID:10019452-1724841000-1724844600@swanscombeandgreenhithetowncouncil.gov.uk
SUMMARY:Free Weekly Health Walk
DESCRIPTION:  \n 
URL:https://swanscombeandgreenhithetowncouncil.gov.uk/event/free-weekly-health-walk-3-2/2024-08-28/
LOCATION:Greenhithe Community Centre\, Alexander Rd\, Greenhithe DA9 9HH\, United Kingdom\, United Kingdom
CATEGORIES:Community Event|Sports & Recreation Group
ATTACH;FMTTYPE=image/jpeg:https://swanscombeandgreenhithetowncouncil.gov.uk/wp-content/uploads/2021/05/43.2021-Health-Walks-S-and-G.jpg
ORGANIZER;CN="One You Kent team":MAILTO:oneyou@dartford.gov.uk
END:VEVENT
BEGIN:VEVENT
DTSTART;TZID=Europe/London:20240828T140000
DTEND;TZID=Europe/London:20240828T160000
DTSTAMP:20260422T235040
CREATED:20240710T095607Z
LAST-MODIFIED:20240819T131650Z
UID:10022123-1724853600-1724860800@swanscombeandgreenhithetowncouncil.gov.uk
SUMMARY:Childrens Summer Entertainment - Laser Tag at Knockhall Park
DESCRIPTION:
URL:https://swanscombeandgreenhithetowncouncil.gov.uk/event/childrens-summer-entertainment-laser-tag-at-knockhall-park/
LOCATION:Knockhall Recreation Ground\, 38 Knockhall Rd\, Greenhithe DA9 9HJ\, United Kingdom\, United Kingdom
CATEGORIES:Community Event|Sports & Recreation Group
ORGANIZER;CN="Swanscombe & Greenhithe Town Council":MAILTO:info@swanscombeandgreenhithetowncouncil.gov.uk
END:VEVENT
BEGIN:VEVENT
DTSTART;TZID=Europe/London:20240828T173000
DTEND;TZID=Europe/London:20240828T203000
DTSTAMP:20260422T235040
CREATED:20240424T184609Z
LAST-MODIFIED:20241219T092041Z
UID:10021484-1724866200-1724877000@swanscombeandgreenhithetowncouncil.gov.uk
SUMMARY:North Kent Martial Arts Club
DESCRIPTION:Please click on the photo below for details of the North Kent Martial Arts Club operating in Swanscombe.
URL:https://swanscombeandgreenhithetowncouncil.gov.uk/event/north-kent-martial-arts-club-4-2-2/2024-08-28/
LOCATION:Swanscombe and Greenhithe Town Council and Community Hall\, 16 The Grove\, Swanscombe DA10 0AD\, United Kingdom\, United Kingdom
CATEGORIES:Sports & Recreation Group
END:VEVENT
BEGIN:VEVENT
DTSTART;TZID=Europe/London:20240828T183000
DTEND;TZID=Europe/London:20240828T183000
DTSTAMP:20260422T235040
CREATED:20240703T142152Z
LAST-MODIFIED:20240703T142157Z
UID:10022103-1724869800-1724869800@swanscombeandgreenhithetowncouncil.gov.uk
SUMMARY:Summer pop-up events
DESCRIPTION:
URL:https://swanscombeandgreenhithetowncouncil.gov.uk/event/summer-pop-up-events-5/
LOCATION:Basketball Courts\, Ebbsfleet Green\, DA10 1BU\, United Kingdom
CATEGORIES:Community Event
ORGANIZER;CN="The Salvation Army":MAILTO:ebbsfleet@salvationarmy.org.uk
END:VEVENT
BEGIN:VEVENT
DTSTART;TZID=Europe/London:20240828T190000
DTEND;TZID=Europe/London:20240828T203000
DTSTAMP:20260422T235040
CREATED:20240313T013529Z
LAST-MODIFIED:20241219T090853Z
UID:10010539-1724871600-1724877000@swanscombeandgreenhithetowncouncil.gov.uk
SUMMARY:Scouts are Back - Cubs on Wednesdays
DESCRIPTION:
URL:https://swanscombeandgreenhithetowncouncil.gov.uk/event/scouts-are-back-cubs-on-wednesdays-2/2024-08-28/
LOCATION:1st Galley Hill Scout Group\, 0HJ\, 110 Church Rd\, Swanscombe DA10 0HJ\, United Kingdom\, United Kingdom
CATEGORIES:Sports & Recreation Group
ATTACH;FMTTYPE=image/jpeg:https://swanscombeandgreenhithetowncouncil.gov.uk/wp-content/uploads/2021/12/57.2021-Scouts-are-back-30-Nov.jpg
ORGANIZER;CN="Rob Weller":MAILTO:info@1stgalleyhillscouts.org.uk
END:VEVENT
BEGIN:VEVENT
DTSTART;TZID=Europe/London:20240828T190000
DTEND;TZID=Europe/London:20240828T203000
DTSTAMP:20260422T235040
CREATED:20240313T165459Z
LAST-MODIFIED:20241219T090929Z
UID:10013426-1724871600-1724877000@swanscombeandgreenhithetowncouncil.gov.uk
SUMMARY:Catzout Community Choir  - Wednesdays 7pm to 8.30pm
DESCRIPTION:
URL:https://swanscombeandgreenhithetowncouncil.gov.uk/event/catzout-community-choir-wednesdays-7pm-to-8-30pm-2/2024-08-28/
LOCATION:Heritage Community Hall\, 22 Craylands Ln\, Swanscombe DA10 0LP\, United Kingdom\, United Kingdom
CATEGORIES:Community Event
ATTACH;FMTTYPE=image/jpeg:https://swanscombeandgreenhithetowncouncil.gov.uk/wp-content/uploads/2022/06/77.2022-Catzout-Choir-22-June.jpg
ORGANIZER;CN="Walk_Tall":MAILTO:info@walk-tall.org.uk
END:VEVENT
END:VCALENDAR