BEGIN:VCALENDAR
VERSION:2.0
PRODID:-//Swanscombe and Greenhithe Town Council - ECPv6.15.20//NONSGML v1.0//EN
CALSCALE:GREGORIAN
METHOD:PUBLISH
X-ORIGINAL-URL:https://swanscombeandgreenhithetowncouncil.gov.uk
X-WR-CALDESC:Events for Swanscombe and Greenhithe Town Council
REFRESH-INTERVAL;VALUE=DURATION:PT1H
X-Robots-Tag:noindex
X-PUBLISHED-TTL:PT1H
BEGIN:VTIMEZONE
TZID:Europe/London
BEGIN:DAYLIGHT
TZOFFSETFROM:+0000
TZOFFSETTO:+0100
TZNAME:BST
DTSTART:20240331T010000
END:DAYLIGHT
BEGIN:STANDARD
TZOFFSETFROM:+0100
TZOFFSETTO:+0000
TZNAME:GMT
DTSTART:20241027T010000
END:STANDARD
BEGIN:DAYLIGHT
TZOFFSETFROM:+0000
TZOFFSETTO:+0100
TZNAME:BST
DTSTART:20250330T010000
END:DAYLIGHT
BEGIN:STANDARD
TZOFFSETFROM:+0100
TZOFFSETTO:+0000
TZNAME:GMT
DTSTART:20251026T010000
END:STANDARD
BEGIN:DAYLIGHT
TZOFFSETFROM:+0000
TZOFFSETTO:+0100
TZNAME:BST
DTSTART:20260329T010000
END:DAYLIGHT
BEGIN:STANDARD
TZOFFSETFROM:+0100
TZOFFSETTO:+0000
TZNAME:GMT
DTSTART:20261025T010000
END:STANDARD
END:VTIMEZONE
BEGIN:VEVENT
DTSTART;TZID=Europe/London:20250803T090000
DTEND;TZID=Europe/London:20250803T100000
DTSTAMP:20260422T051252
CREATED:20210520T102552Z
LAST-MODIFIED:20241219T091648Z
UID:10020483-1754211600-1754215200@swanscombeandgreenhithetowncouncil.gov.uk
SUMMARY:Free Weekly Health Walk
DESCRIPTION:
URL:https://swanscombeandgreenhithetowncouncil.gov.uk/event/free-weekly-health-walk/2025-08-03/
LOCATION:Swanscombe and Greenhithe Town Council and Community Hall\, 16 The Grove\, Swanscombe DA10 0AD\, United Kingdom\, United Kingdom
CATEGORIES:Community Event|Sports & Recreation Group
ATTACH;FMTTYPE=image/jpeg:https://swanscombeandgreenhithetowncouncil.gov.uk/wp-content/uploads/2021/05/43.2021-Health-Walks-S-and-G.jpg
ORGANIZER;CN="One You Kent team":MAILTO:oneyou@dartford.gov.uk
END:VEVENT
BEGIN:VEVENT
DTSTART;TZID=Europe/London:20250803T120000
DTEND;TZID=Europe/London:20250803T160000
DTSTAMP:20260422T051252
CREATED:20250618T075813Z
LAST-MODIFIED:20250618T075917Z
UID:10023558-1754222400-1754236800@swanscombeandgreenhithetowncouncil.gov.uk
SUMMARY:Annual Ingress Park Family Fun Day - 3 August 2025
DESCRIPTION: 
URL:https://swanscombeandgreenhithetowncouncil.gov.uk/event/annual-ingress-park-family-fun-day-3-august-2025/
LOCATION:In front of Ingress Abbey\, Ingress Park Ave\, Greenhithe DA9 9XJ\, UK\, England\, DA9 9XJ\, United Kingdom
CATEGORIES:Community Event
ATTACH;FMTTYPE=image/jpeg:https://swanscombeandgreenhithetowncouncil.gov.uk/wp-content/uploads/2025/06/2025-IPFFD-3-Aug.jpg
ORGANIZER;CN="Sue Butterfill":MAILTO:suebutterfill155@gmail.com
GEO:51.453083;0.289609
X-APPLE-STRUCTURED-LOCATION;VALUE=URI;X-ADDRESS=In front of Ingress Abbey Ingress Park Ave Greenhithe DA9 9XJ UK England DA9 9XJ United Kingdom;X-APPLE-RADIUS=500;X-TITLE=Ingress Park Ave\, Greenhithe DA9 9XJ\, UK:geo:0.289609,51.453083
END:VEVENT
END:VCALENDAR