BEGIN:VCALENDAR
VERSION:2.0
PRODID:-//Swanscombe and Greenhithe Town Council - ECPv6.15.20//NONSGML v1.0//EN
CALSCALE:GREGORIAN
METHOD:PUBLISH
X-WR-CALNAME:Swanscombe and Greenhithe Town Council
X-ORIGINAL-URL:https://swanscombeandgreenhithetowncouncil.gov.uk
X-WR-CALDESC:Events for Swanscombe and Greenhithe Town Council
REFRESH-INTERVAL;VALUE=DURATION:PT1H
X-Robots-Tag:noindex
X-PUBLISHED-TTL:PT1H
BEGIN:VTIMEZONE
TZID:Europe/London
BEGIN:DAYLIGHT
TZOFFSETFROM:+0000
TZOFFSETTO:+0100
TZNAME:BST
DTSTART:20240331T010000
END:DAYLIGHT
BEGIN:STANDARD
TZOFFSETFROM:+0100
TZOFFSETTO:+0000
TZNAME:GMT
DTSTART:20241027T010000
END:STANDARD
BEGIN:DAYLIGHT
TZOFFSETFROM:+0000
TZOFFSETTO:+0100
TZNAME:BST
DTSTART:20250330T010000
END:DAYLIGHT
BEGIN:STANDARD
TZOFFSETFROM:+0100
TZOFFSETTO:+0000
TZNAME:GMT
DTSTART:20251026T010000
END:STANDARD
BEGIN:DAYLIGHT
TZOFFSETFROM:+0000
TZOFFSETTO:+0100
TZNAME:BST
DTSTART:20260329T010000
END:DAYLIGHT
BEGIN:STANDARD
TZOFFSETFROM:+0100
TZOFFSETTO:+0000
TZNAME:GMT
DTSTART:20261025T010000
END:STANDARD
END:VTIMEZONE
BEGIN:VEVENT
DTSTART;TZID=Europe/London:20250830T093000
DTEND;TZID=Europe/London:20250830T143000
DTSTAMP:20260422T051132
CREATED:20240312T171726Z
LAST-MODIFIED:20240313T005116Z
UID:10008185-1756546200-1756564200@swanscombeandgreenhithetowncouncil.gov.uk
SUMMARY:Rosie's Groovy Movers - Children's Dance Groups
DESCRIPTION:
URL:https://swanscombeandgreenhithetowncouncil.gov.uk/event/rosies-groovy-movers-childrens-dance-groups-2-2-2/2025-08-30/
LOCATION:Swanscombe and Greenhithe Town Council and Community Hall\, 16 The Grove\, Swanscombe DA10 0AD\, United Kingdom\, United Kingdom
CATEGORIES:Community Event
ATTACH;FMTTYPE=image/jpeg:https://swanscombeandgreenhithetowncouncil.gov.uk/wp-content/uploads/2020/02/38.2021-Rosies-Groovy-Movers-25-Oct.jpg
ORGANIZER;CN="Rosie":MAILTO:groovymovers@yahoo.co.uk
END:VEVENT
BEGIN:VEVENT
DTSTART;TZID=Europe/London:20250830T100000
DTEND;TZID=Europe/London:20250830T113000
DTSTAMP:20260422T051132
CREATED:20240313T165627Z
LAST-MODIFIED:20240313T165627Z
UID:10013840-1756548000-1756553400@swanscombeandgreenhithetowncouncil.gov.uk
SUMMARY:Cake & Computer Club - Saturdays 10.00am to 11.30am
DESCRIPTION:This is a free club but donations are wlecomed to cover the cost of the hall\, tea and cakes.
URL:https://swanscombeandgreenhithetowncouncil.gov.uk/event/cake-computer-club-saturdays-10-00am-to-11-30am-2/2025-08-30/
LOCATION:Church Road Hall\, Church Rd\, Swanscombe DA10 0HE\, United Kingdom\, United Kingdom
CATEGORIES:Community Event
ATTACH;FMTTYPE=image/jpeg:https://swanscombeandgreenhithetowncouncil.gov.uk/wp-content/uploads/2022/06/80.2022-Cake-Computer-Club-20-June.jpg
END:VEVENT
BEGIN:VEVENT
DTSTART;TZID=Europe/London:20250830T103000
DTEND;TZID=Europe/London:20250830T120000
DTSTAMP:20260422T051132
CREATED:20240313T013714Z
LAST-MODIFIED:20240313T013714Z
UID:10010970-1756549800-1756555200@swanscombeandgreenhithetowncouncil.gov.uk
SUMMARY:Scouts are Back - Beavers on Saturdays
DESCRIPTION:
URL:https://swanscombeandgreenhithetowncouncil.gov.uk/event/scouts-are-back-scouts-on-fridays-3/2025-08-30/
LOCATION:1st Galley Hill Scout Group\, 0HJ\, 110 Church Rd\, Swanscombe DA10 0HJ\, United Kingdom\, United Kingdom
CATEGORIES:Sports & Recreation Group
ATTACH;FMTTYPE=image/jpeg:https://swanscombeandgreenhithetowncouncil.gov.uk/wp-content/uploads/2021/12/57.2021-Scouts-are-back-30-Nov.jpg
ORGANIZER;CN="Rob Weller":MAILTO:info@1stgalleyhillscouts.org.uk
END:VEVENT
BEGIN:VEVENT
DTSTART;TZID=Europe/London:20250830T160000
DTEND;TZID=Europe/London:20250830T173000
DTSTAMP:20260422T051132
CREATED:20250819T113546Z
LAST-MODIFIED:20250819T124037Z
UID:10023578-1756569600-1756575000@swanscombeandgreenhithetowncouncil.gov.uk
SUMMARY:Step Into The War Room - Family Movie Night
DESCRIPTION:In association with  Church Christ Embassy Greenhithe we have a movie for families and children. Refreshments provided\, and all welcome. Please see attached flyer and link for registration: Event Registration
URL:https://swanscombeandgreenhithetowncouncil.gov.uk/event/step-into-the-war-room-family-movie-night/
LOCATION:Greenhithe Community Centre\, Alexander Rd\, Greenhithe DA9 9HH\, United Kingdom\, United Kingdom
ATTACH;FMTTYPE=image/jpeg:https://swanscombeandgreenhithetowncouncil.gov.uk/wp-content/uploads/2025/08/2025-GCC-Step-into-the-War-Room-30-Aug.jpg
END:VEVENT
END:VCALENDAR