BEGIN:VCALENDAR
VERSION:2.0
PRODID:-//Swanscombe and Greenhithe Town Council - ECPv6.15.20//NONSGML v1.0//EN
CALSCALE:GREGORIAN
METHOD:PUBLISH
X-ORIGINAL-URL:https://swanscombeandgreenhithetowncouncil.gov.uk
X-WR-CALDESC:Events for Swanscombe and Greenhithe Town Council
REFRESH-INTERVAL;VALUE=DURATION:PT1H
X-Robots-Tag:noindex
X-PUBLISHED-TTL:PT1H
BEGIN:VTIMEZONE
TZID:Europe/London
BEGIN:DAYLIGHT
TZOFFSETFROM:+0000
TZOFFSETTO:+0100
TZNAME:BST
DTSTART:20240331T010000
END:DAYLIGHT
BEGIN:STANDARD
TZOFFSETFROM:+0100
TZOFFSETTO:+0000
TZNAME:GMT
DTSTART:20241027T010000
END:STANDARD
BEGIN:DAYLIGHT
TZOFFSETFROM:+0000
TZOFFSETTO:+0100
TZNAME:BST
DTSTART:20250330T010000
END:DAYLIGHT
BEGIN:STANDARD
TZOFFSETFROM:+0100
TZOFFSETTO:+0000
TZNAME:GMT
DTSTART:20251026T010000
END:STANDARD
BEGIN:DAYLIGHT
TZOFFSETFROM:+0000
TZOFFSETTO:+0100
TZNAME:BST
DTSTART:20260329T010000
END:DAYLIGHT
BEGIN:STANDARD
TZOFFSETFROM:+0100
TZOFFSETTO:+0000
TZNAME:GMT
DTSTART:20261025T010000
END:STANDARD
END:VTIMEZONE
BEGIN:VEVENT
DTSTART;TZID=Europe/London:20251001T103000
DTEND;TZID=Europe/London:20251001T113000
DTSTAMP:20260421T223643
CREATED:20240313T011712Z
LAST-MODIFIED:20241219T091954Z
UID:10019509-1759314600-1759318200@swanscombeandgreenhithetowncouncil.gov.uk
SUMMARY:Free Weekly Health Walk
DESCRIPTION:  \n 
URL:https://swanscombeandgreenhithetowncouncil.gov.uk/event/free-weekly-health-walk-3-2/2025-10-01/
LOCATION:Greenhithe Community Centre\, Alexander Rd\, Greenhithe DA9 9HH\, United Kingdom\, United Kingdom
CATEGORIES:Community Event|Sports & Recreation Group
ATTACH;FMTTYPE=image/jpeg:https://swanscombeandgreenhithetowncouncil.gov.uk/wp-content/uploads/2021/05/43.2021-Health-Walks-S-and-G.jpg
ORGANIZER;CN="One You Kent team":MAILTO:oneyou@dartford.gov.uk
END:VEVENT
BEGIN:VEVENT
DTSTART;TZID=Europe/London:20251005T090000
DTEND;TZID=Europe/London:20251005T100000
DTSTAMP:20260421T223643
CREATED:20210520T102552Z
LAST-MODIFIED:20241219T091648Z
UID:10020492-1759654800-1759658400@swanscombeandgreenhithetowncouncil.gov.uk
SUMMARY:Free Weekly Health Walk
DESCRIPTION:
URL:https://swanscombeandgreenhithetowncouncil.gov.uk/event/free-weekly-health-walk/2025-10-05/
LOCATION:Swanscombe and Greenhithe Town Council and Community Hall\, 16 The Grove\, Swanscombe DA10 0AD\, United Kingdom\, United Kingdom
CATEGORIES:Community Event|Sports & Recreation Group
ATTACH;FMTTYPE=image/jpeg:https://swanscombeandgreenhithetowncouncil.gov.uk/wp-content/uploads/2021/05/43.2021-Health-Walks-S-and-G.jpg
ORGANIZER;CN="One You Kent team":MAILTO:oneyou@dartford.gov.uk
END:VEVENT
BEGIN:VEVENT
DTSTART;TZID=Europe/London:20251008T103000
DTEND;TZID=Europe/London:20251008T113000
DTSTAMP:20260421T223643
CREATED:20240313T011712Z
LAST-MODIFIED:20241219T091954Z
UID:10019510-1759919400-1759923000@swanscombeandgreenhithetowncouncil.gov.uk
SUMMARY:Free Weekly Health Walk
DESCRIPTION:  \n 
URL:https://swanscombeandgreenhithetowncouncil.gov.uk/event/free-weekly-health-walk-3-2/2025-10-08/
LOCATION:Greenhithe Community Centre\, Alexander Rd\, Greenhithe DA9 9HH\, United Kingdom\, United Kingdom
CATEGORIES:Community Event|Sports & Recreation Group
ATTACH;FMTTYPE=image/jpeg:https://swanscombeandgreenhithetowncouncil.gov.uk/wp-content/uploads/2021/05/43.2021-Health-Walks-S-and-G.jpg
ORGANIZER;CN="One You Kent team":MAILTO:oneyou@dartford.gov.uk
END:VEVENT
BEGIN:VEVENT
DTSTART;TZID=Europe/London:20251012T090000
DTEND;TZID=Europe/London:20251012T100000
DTSTAMP:20260421T223643
CREATED:20210520T102552Z
LAST-MODIFIED:20241219T091648Z
UID:10020493-1760259600-1760263200@swanscombeandgreenhithetowncouncil.gov.uk
SUMMARY:Free Weekly Health Walk
DESCRIPTION:
URL:https://swanscombeandgreenhithetowncouncil.gov.uk/event/free-weekly-health-walk/2025-10-12/
LOCATION:Swanscombe and Greenhithe Town Council and Community Hall\, 16 The Grove\, Swanscombe DA10 0AD\, United Kingdom\, United Kingdom
CATEGORIES:Community Event|Sports & Recreation Group
ATTACH;FMTTYPE=image/jpeg:https://swanscombeandgreenhithetowncouncil.gov.uk/wp-content/uploads/2021/05/43.2021-Health-Walks-S-and-G.jpg
ORGANIZER;CN="One You Kent team":MAILTO:oneyou@dartford.gov.uk
END:VEVENT
BEGIN:VEVENT
DTSTART;TZID=Europe/London:20251015T103000
DTEND;TZID=Europe/London:20251015T113000
DTSTAMP:20260421T223643
CREATED:20240313T011712Z
LAST-MODIFIED:20241219T091954Z
UID:10019511-1760524200-1760527800@swanscombeandgreenhithetowncouncil.gov.uk
SUMMARY:Free Weekly Health Walk
DESCRIPTION:  \n 
URL:https://swanscombeandgreenhithetowncouncil.gov.uk/event/free-weekly-health-walk-3-2/2025-10-15/
LOCATION:Greenhithe Community Centre\, Alexander Rd\, Greenhithe DA9 9HH\, United Kingdom\, United Kingdom
CATEGORIES:Community Event|Sports & Recreation Group
ATTACH;FMTTYPE=image/jpeg:https://swanscombeandgreenhithetowncouncil.gov.uk/wp-content/uploads/2021/05/43.2021-Health-Walks-S-and-G.jpg
ORGANIZER;CN="One You Kent team":MAILTO:oneyou@dartford.gov.uk
END:VEVENT
BEGIN:VEVENT
DTSTART;TZID=Europe/London:20251019T090000
DTEND;TZID=Europe/London:20251019T100000
DTSTAMP:20260421T223643
CREATED:20210520T102552Z
LAST-MODIFIED:20241219T091648Z
UID:10020494-1760864400-1760868000@swanscombeandgreenhithetowncouncil.gov.uk
SUMMARY:Free Weekly Health Walk
DESCRIPTION:
URL:https://swanscombeandgreenhithetowncouncil.gov.uk/event/free-weekly-health-walk/2025-10-19/
LOCATION:Swanscombe and Greenhithe Town Council and Community Hall\, 16 The Grove\, Swanscombe DA10 0AD\, United Kingdom\, United Kingdom
CATEGORIES:Community Event|Sports & Recreation Group
ATTACH;FMTTYPE=image/jpeg:https://swanscombeandgreenhithetowncouncil.gov.uk/wp-content/uploads/2021/05/43.2021-Health-Walks-S-and-G.jpg
ORGANIZER;CN="One You Kent team":MAILTO:oneyou@dartford.gov.uk
END:VEVENT
BEGIN:VEVENT
DTSTART;TZID=Europe/London:20251022T103000
DTEND;TZID=Europe/London:20251022T113000
DTSTAMP:20260421T223643
CREATED:20240313T011712Z
LAST-MODIFIED:20241219T091954Z
UID:10019512-1761129000-1761132600@swanscombeandgreenhithetowncouncil.gov.uk
SUMMARY:Free Weekly Health Walk
DESCRIPTION:  \n 
URL:https://swanscombeandgreenhithetowncouncil.gov.uk/event/free-weekly-health-walk-3-2/2025-10-22/
LOCATION:Greenhithe Community Centre\, Alexander Rd\, Greenhithe DA9 9HH\, United Kingdom\, United Kingdom
CATEGORIES:Community Event|Sports & Recreation Group
ATTACH;FMTTYPE=image/jpeg:https://swanscombeandgreenhithetowncouncil.gov.uk/wp-content/uploads/2021/05/43.2021-Health-Walks-S-and-G.jpg
ORGANIZER;CN="One You Kent team":MAILTO:oneyou@dartford.gov.uk
END:VEVENT
BEGIN:VEVENT
DTSTART;TZID=Europe/London:20251026T090000
DTEND;TZID=Europe/London:20251026T100000
DTSTAMP:20260421T223643
CREATED:20210520T102552Z
LAST-MODIFIED:20241219T091648Z
UID:10020495-1761469200-1761472800@swanscombeandgreenhithetowncouncil.gov.uk
SUMMARY:Free Weekly Health Walk
DESCRIPTION:
URL:https://swanscombeandgreenhithetowncouncil.gov.uk/event/free-weekly-health-walk/2025-10-26/
LOCATION:Swanscombe and Greenhithe Town Council and Community Hall\, 16 The Grove\, Swanscombe DA10 0AD\, United Kingdom\, United Kingdom
CATEGORIES:Community Event|Sports & Recreation Group
ATTACH;FMTTYPE=image/jpeg:https://swanscombeandgreenhithetowncouncil.gov.uk/wp-content/uploads/2021/05/43.2021-Health-Walks-S-and-G.jpg
ORGANIZER;CN="One You Kent team":MAILTO:oneyou@dartford.gov.uk
END:VEVENT
BEGIN:VEVENT
DTSTART;TZID=Europe/London:20251029T103000
DTEND;TZID=Europe/London:20251029T113000
DTSTAMP:20260421T223643
CREATED:20240313T011712Z
LAST-MODIFIED:20241219T091954Z
UID:10019513-1761733800-1761737400@swanscombeandgreenhithetowncouncil.gov.uk
SUMMARY:Free Weekly Health Walk
DESCRIPTION:  \n 
URL:https://swanscombeandgreenhithetowncouncil.gov.uk/event/free-weekly-health-walk-3-2/2025-10-29/
LOCATION:Greenhithe Community Centre\, Alexander Rd\, Greenhithe DA9 9HH\, United Kingdom\, United Kingdom
CATEGORIES:Community Event|Sports & Recreation Group
ATTACH;FMTTYPE=image/jpeg:https://swanscombeandgreenhithetowncouncil.gov.uk/wp-content/uploads/2021/05/43.2021-Health-Walks-S-and-G.jpg
ORGANIZER;CN="One You Kent team":MAILTO:oneyou@dartford.gov.uk
END:VEVENT
END:VCALENDAR