BEGIN:VCALENDAR
VERSION:2.0
PRODID:-//Swanscombe and Greenhithe Town Council - ECPv6.15.20//NONSGML v1.0//EN
CALSCALE:GREGORIAN
METHOD:PUBLISH
X-ORIGINAL-URL:https://swanscombeandgreenhithetowncouncil.gov.uk
X-WR-CALDESC:Events for Swanscombe and Greenhithe Town Council
REFRESH-INTERVAL;VALUE=DURATION:PT1H
X-Robots-Tag:noindex
X-PUBLISHED-TTL:PT1H
BEGIN:VTIMEZONE
TZID:Europe/London
BEGIN:DAYLIGHT
TZOFFSETFROM:+0000
TZOFFSETTO:+0100
TZNAME:BST
DTSTART:20260329T010000
END:DAYLIGHT
BEGIN:STANDARD
TZOFFSETFROM:+0100
TZOFFSETTO:+0000
TZNAME:GMT
DTSTART:20261025T010000
END:STANDARD
BEGIN:DAYLIGHT
TZOFFSETFROM:+0000
TZOFFSETTO:+0100
TZNAME:BST
DTSTART:20270328T010000
END:DAYLIGHT
BEGIN:STANDARD
TZOFFSETFROM:+0100
TZOFFSETTO:+0000
TZNAME:GMT
DTSTART:20271031T010000
END:STANDARD
BEGIN:DAYLIGHT
TZOFFSETFROM:+0000
TZOFFSETTO:+0100
TZNAME:BST
DTSTART:20280326T010000
END:DAYLIGHT
BEGIN:STANDARD
TZOFFSETFROM:+0100
TZOFFSETTO:+0000
TZNAME:GMT
DTSTART:20281029T010000
END:STANDARD
END:VTIMEZONE
BEGIN:VEVENT
DTSTART;TZID=Europe/London:20270103T090000
DTEND;TZID=Europe/London:20270103T100000
DTSTAMP:20260422T034126
CREATED:20210520T102552Z
LAST-MODIFIED:20241219T091648Z
UID:10020557-1798966800-1798970400@swanscombeandgreenhithetowncouncil.gov.uk
SUMMARY:Free Weekly Health Walk
DESCRIPTION:
URL:https://swanscombeandgreenhithetowncouncil.gov.uk/event/free-weekly-health-walk/2027-01-03/
LOCATION:Swanscombe and Greenhithe Town Council and Community Hall\, 16 The Grove\, Swanscombe DA10 0AD\, United Kingdom\, United Kingdom
CATEGORIES:Community Event|Sports & Recreation Group
ATTACH;FMTTYPE=image/jpeg:https://swanscombeandgreenhithetowncouncil.gov.uk/wp-content/uploads/2021/05/43.2021-Health-Walks-S-and-G.jpg
ORGANIZER;CN="One You Kent team":MAILTO:oneyou@dartford.gov.uk
END:VEVENT
BEGIN:VEVENT
DTSTART;TZID=Europe/London:20270106T103000
DTEND;TZID=Europe/London:20270106T113000
DTSTAMP:20260422T034126
CREATED:20240313T011712Z
LAST-MODIFIED:20241219T091954Z
UID:10019575-1799231400-1799235000@swanscombeandgreenhithetowncouncil.gov.uk
SUMMARY:Free Weekly Health Walk
DESCRIPTION:  \n 
URL:https://swanscombeandgreenhithetowncouncil.gov.uk/event/free-weekly-health-walk-3-2/2027-01-06/
LOCATION:Greenhithe Community Centre\, Alexander Rd\, Greenhithe DA9 9HH\, United Kingdom\, United Kingdom
CATEGORIES:Community Event|Sports & Recreation Group
ATTACH;FMTTYPE=image/jpeg:https://swanscombeandgreenhithetowncouncil.gov.uk/wp-content/uploads/2021/05/43.2021-Health-Walks-S-and-G.jpg
ORGANIZER;CN="One You Kent team":MAILTO:oneyou@dartford.gov.uk
END:VEVENT
BEGIN:VEVENT
DTSTART;TZID=Europe/London:20270110T090000
DTEND;TZID=Europe/London:20270110T100000
DTSTAMP:20260422T034126
CREATED:20210520T102552Z
LAST-MODIFIED:20241219T091648Z
UID:10020558-1799571600-1799575200@swanscombeandgreenhithetowncouncil.gov.uk
SUMMARY:Free Weekly Health Walk
DESCRIPTION:
URL:https://swanscombeandgreenhithetowncouncil.gov.uk/event/free-weekly-health-walk/2027-01-10/
LOCATION:Swanscombe and Greenhithe Town Council and Community Hall\, 16 The Grove\, Swanscombe DA10 0AD\, United Kingdom\, United Kingdom
CATEGORIES:Community Event|Sports & Recreation Group
ATTACH;FMTTYPE=image/jpeg:https://swanscombeandgreenhithetowncouncil.gov.uk/wp-content/uploads/2021/05/43.2021-Health-Walks-S-and-G.jpg
ORGANIZER;CN="One You Kent team":MAILTO:oneyou@dartford.gov.uk
END:VEVENT
BEGIN:VEVENT
DTSTART;TZID=Europe/London:20270113T103000
DTEND;TZID=Europe/London:20270113T113000
DTSTAMP:20260422T034126
CREATED:20240313T011712Z
LAST-MODIFIED:20241219T091954Z
UID:10019576-1799836200-1799839800@swanscombeandgreenhithetowncouncil.gov.uk
SUMMARY:Free Weekly Health Walk
DESCRIPTION:  \n 
URL:https://swanscombeandgreenhithetowncouncil.gov.uk/event/free-weekly-health-walk-3-2/2027-01-13/
LOCATION:Greenhithe Community Centre\, Alexander Rd\, Greenhithe DA9 9HH\, United Kingdom\, United Kingdom
CATEGORIES:Community Event|Sports & Recreation Group
ATTACH;FMTTYPE=image/jpeg:https://swanscombeandgreenhithetowncouncil.gov.uk/wp-content/uploads/2021/05/43.2021-Health-Walks-S-and-G.jpg
ORGANIZER;CN="One You Kent team":MAILTO:oneyou@dartford.gov.uk
END:VEVENT
BEGIN:VEVENT
DTSTART;TZID=Europe/London:20270117T090000
DTEND;TZID=Europe/London:20270117T100000
DTSTAMP:20260422T034126
CREATED:20210520T102552Z
LAST-MODIFIED:20241219T091648Z
UID:10020559-1800176400-1800180000@swanscombeandgreenhithetowncouncil.gov.uk
SUMMARY:Free Weekly Health Walk
DESCRIPTION:
URL:https://swanscombeandgreenhithetowncouncil.gov.uk/event/free-weekly-health-walk/2027-01-17/
LOCATION:Swanscombe and Greenhithe Town Council and Community Hall\, 16 The Grove\, Swanscombe DA10 0AD\, United Kingdom\, United Kingdom
CATEGORIES:Community Event|Sports & Recreation Group
ATTACH;FMTTYPE=image/jpeg:https://swanscombeandgreenhithetowncouncil.gov.uk/wp-content/uploads/2021/05/43.2021-Health-Walks-S-and-G.jpg
ORGANIZER;CN="One You Kent team":MAILTO:oneyou@dartford.gov.uk
END:VEVENT
BEGIN:VEVENT
DTSTART;TZID=Europe/London:20270120T103000
DTEND;TZID=Europe/London:20270120T113000
DTSTAMP:20260422T034126
CREATED:20240313T011712Z
LAST-MODIFIED:20241219T091954Z
UID:10019577-1800441000-1800444600@swanscombeandgreenhithetowncouncil.gov.uk
SUMMARY:Free Weekly Health Walk
DESCRIPTION:  \n 
URL:https://swanscombeandgreenhithetowncouncil.gov.uk/event/free-weekly-health-walk-3-2/2027-01-20/
LOCATION:Greenhithe Community Centre\, Alexander Rd\, Greenhithe DA9 9HH\, United Kingdom\, United Kingdom
CATEGORIES:Community Event|Sports & Recreation Group
ATTACH;FMTTYPE=image/jpeg:https://swanscombeandgreenhithetowncouncil.gov.uk/wp-content/uploads/2021/05/43.2021-Health-Walks-S-and-G.jpg
ORGANIZER;CN="One You Kent team":MAILTO:oneyou@dartford.gov.uk
END:VEVENT
BEGIN:VEVENT
DTSTART;TZID=Europe/London:20270124T090000
DTEND;TZID=Europe/London:20270124T100000
DTSTAMP:20260422T034126
CREATED:20210520T102552Z
LAST-MODIFIED:20241219T091648Z
UID:10020560-1800781200-1800784800@swanscombeandgreenhithetowncouncil.gov.uk
SUMMARY:Free Weekly Health Walk
DESCRIPTION:
URL:https://swanscombeandgreenhithetowncouncil.gov.uk/event/free-weekly-health-walk/2027-01-24/
LOCATION:Swanscombe and Greenhithe Town Council and Community Hall\, 16 The Grove\, Swanscombe DA10 0AD\, United Kingdom\, United Kingdom
CATEGORIES:Community Event|Sports & Recreation Group
ATTACH;FMTTYPE=image/jpeg:https://swanscombeandgreenhithetowncouncil.gov.uk/wp-content/uploads/2021/05/43.2021-Health-Walks-S-and-G.jpg
ORGANIZER;CN="One You Kent team":MAILTO:oneyou@dartford.gov.uk
END:VEVENT
BEGIN:VEVENT
DTSTART;TZID=Europe/London:20270127T103000
DTEND;TZID=Europe/London:20270127T113000
DTSTAMP:20260422T034126
CREATED:20240313T011712Z
LAST-MODIFIED:20241219T091954Z
UID:10019578-1801045800-1801049400@swanscombeandgreenhithetowncouncil.gov.uk
SUMMARY:Free Weekly Health Walk
DESCRIPTION:  \n 
URL:https://swanscombeandgreenhithetowncouncil.gov.uk/event/free-weekly-health-walk-3-2/2027-01-27/
LOCATION:Greenhithe Community Centre\, Alexander Rd\, Greenhithe DA9 9HH\, United Kingdom\, United Kingdom
CATEGORIES:Community Event|Sports & Recreation Group
ATTACH;FMTTYPE=image/jpeg:https://swanscombeandgreenhithetowncouncil.gov.uk/wp-content/uploads/2021/05/43.2021-Health-Walks-S-and-G.jpg
ORGANIZER;CN="One You Kent team":MAILTO:oneyou@dartford.gov.uk
END:VEVENT
BEGIN:VEVENT
DTSTART;TZID=Europe/London:20270131T090000
DTEND;TZID=Europe/London:20270131T100000
DTSTAMP:20260422T034126
CREATED:20210520T102552Z
LAST-MODIFIED:20241219T091648Z
UID:10020561-1801386000-1801389600@swanscombeandgreenhithetowncouncil.gov.uk
SUMMARY:Free Weekly Health Walk
DESCRIPTION:
URL:https://swanscombeandgreenhithetowncouncil.gov.uk/event/free-weekly-health-walk/2027-01-31/
LOCATION:Swanscombe and Greenhithe Town Council and Community Hall\, 16 The Grove\, Swanscombe DA10 0AD\, United Kingdom\, United Kingdom
CATEGORIES:Community Event|Sports & Recreation Group
ATTACH;FMTTYPE=image/jpeg:https://swanscombeandgreenhithetowncouncil.gov.uk/wp-content/uploads/2021/05/43.2021-Health-Walks-S-and-G.jpg
ORGANIZER;CN="One You Kent team":MAILTO:oneyou@dartford.gov.uk
END:VEVENT
END:VCALENDAR