BEGIN:VCALENDAR
VERSION:2.0
PRODID:-//Swanscombe and Greenhithe Town Council - ECPv6.15.20//NONSGML v1.0//EN
CALSCALE:GREGORIAN
METHOD:PUBLISH
X-ORIGINAL-URL:https://swanscombeandgreenhithetowncouncil.gov.uk
X-WR-CALDESC:Events for Swanscombe and Greenhithe Town Council
REFRESH-INTERVAL;VALUE=DURATION:PT1H
X-Robots-Tag:noindex
X-PUBLISHED-TTL:PT1H
BEGIN:VTIMEZONE
TZID:Europe/London
BEGIN:DAYLIGHT
TZOFFSETFROM:+0000
TZOFFSETTO:+0100
TZNAME:BST
DTSTART:20240331T010000
END:DAYLIGHT
BEGIN:STANDARD
TZOFFSETFROM:+0100
TZOFFSETTO:+0000
TZNAME:GMT
DTSTART:20241027T010000
END:STANDARD
BEGIN:DAYLIGHT
TZOFFSETFROM:+0000
TZOFFSETTO:+0100
TZNAME:BST
DTSTART:20250330T010000
END:DAYLIGHT
BEGIN:STANDARD
TZOFFSETFROM:+0100
TZOFFSETTO:+0000
TZNAME:GMT
DTSTART:20251026T010000
END:STANDARD
BEGIN:DAYLIGHT
TZOFFSETFROM:+0000
TZOFFSETTO:+0100
TZNAME:BST
DTSTART:20260329T010000
END:DAYLIGHT
BEGIN:STANDARD
TZOFFSETFROM:+0100
TZOFFSETTO:+0000
TZNAME:GMT
DTSTART:20261025T010000
END:STANDARD
END:VTIMEZONE
BEGIN:VEVENT
DTSTART;TZID=Europe/London:20250109T190000
DTEND;TZID=Europe/London:20250109T200000
DTSTAMP:20260423T013917
CREATED:20240628T082849Z
LAST-MODIFIED:20240628T083046Z
UID:10022093-1736449200-1736452800@swanscombeandgreenhithetowncouncil.gov.uk
SUMMARY:Finance & General Purposes Committee
DESCRIPTION:Agenda details can be viewed by clicking here
URL:https://swanscombeandgreenhithetowncouncil.gov.uk/event/finance-general-purposes-committee/2025-01-09/
LOCATION:Swanscombe and Greenhithe Town Council and Community Hall\, 16 The Grove\, Swanscombe DA10 0AD\, United Kingdom\, United Kingdom
CATEGORIES:Council Meetings
ATTACH;FMTTYPE=image/jpeg:https://swanscombeandgreenhithetowncouncil.gov.uk/wp-content/uploads/2018/05/14.Meeting-lightbulb-on-table.jpg
END:VEVENT
BEGIN:VEVENT
DTSTART;TZID=Europe/London:20250115T190000
DTEND;TZID=Europe/London:20250115T200000
DTSTAMP:20260423T013917
CREATED:20221125T104445Z
LAST-MODIFIED:20240628T081448Z
UID:10022058-1736967600-1736971200@swanscombeandgreenhithetowncouncil.gov.uk
SUMMARY:Planning\, Major Developments\, Transportation & the Environment Committee
DESCRIPTION:Agenda details can be viewed by clicking here
URL:https://swanscombeandgreenhithetowncouncil.gov.uk/event/planning-major-developments-transportation-the-environment-committee-4/2025-01-15/
LOCATION:Swanscombe and Greenhithe Town Council and Community Hall\, 16 The Grove\, Swanscombe DA10 0AD\, United Kingdom\, United Kingdom
CATEGORIES:Council Meetings
ATTACH;FMTTYPE=image/jpeg:https://swanscombeandgreenhithetowncouncil.gov.uk/wp-content/uploads/2018/05/15.Meeting-figures-around-a-desk.jpg
END:VEVENT
BEGIN:VEVENT
DTSTART;TZID=Europe/London:20250123T190000
DTEND;TZID=Europe/London:20250123T200000
DTSTAMP:20260423T013917
CREATED:20240313T160149Z
LAST-MODIFIED:20240627T154734Z
UID:10022031-1737658800-1737662400@swanscombeandgreenhithetowncouncil.gov.uk
SUMMARY:Recreation\, Leisure & Amenities Committee
DESCRIPTION:Agenda details can be viewed by clicking here
URL:https://swanscombeandgreenhithetowncouncil.gov.uk/event/recreation-leisure-amenities-committee/2025-01-23/
LOCATION:Swanscombe and Greenhithe Town Council and Community Hall\, 16 The Grove\, Swanscombe DA10 0AD\, United Kingdom\, United Kingdom
CATEGORIES:Council Meetings
ATTACH;FMTTYPE=image/jpeg:https://swanscombeandgreenhithetowncouncil.gov.uk/wp-content/uploads/2018/05/14.Meeting-lightbulb-on-table.jpg
END:VEVENT
BEGIN:VEVENT
DTSTART;TZID=Europe/London:20250130T190000
DTEND;TZID=Europe/London:20250130T203000
DTSTAMP:20260423T013917
CREATED:20180518T102605Z
LAST-MODIFIED:20240628T080755Z
UID:10022046-1738263600-1738269000@swanscombeandgreenhithetowncouncil.gov.uk
SUMMARY:Town Council Meeting
DESCRIPTION:  \nAgenda details can be viewed by clicking here
URL:https://swanscombeandgreenhithetowncouncil.gov.uk/event/town-council-meeting/2025-01-30/
CATEGORIES:Council Meetings
END:VEVENT
END:VCALENDAR