BEGIN:VCALENDAR
VERSION:2.0
PRODID:-//Swanscombe and Greenhithe Town Council - ECPv6.15.20//NONSGML v1.0//EN
CALSCALE:GREGORIAN
METHOD:PUBLISH
X-WR-CALNAME:Swanscombe and Greenhithe Town Council
X-ORIGINAL-URL:https://swanscombeandgreenhithetowncouncil.gov.uk
X-WR-CALDESC:Events for Swanscombe and Greenhithe Town Council
REFRESH-INTERVAL;VALUE=DURATION:PT1H
X-Robots-Tag:noindex
X-PUBLISHED-TTL:PT1H
BEGIN:VTIMEZONE
TZID:Europe/London
BEGIN:DAYLIGHT
TZOFFSETFROM:+0000
TZOFFSETTO:+0100
TZNAME:BST
DTSTART:20240331T010000
END:DAYLIGHT
BEGIN:STANDARD
TZOFFSETFROM:+0100
TZOFFSETTO:+0000
TZNAME:GMT
DTSTART:20241027T010000
END:STANDARD
BEGIN:DAYLIGHT
TZOFFSETFROM:+0000
TZOFFSETTO:+0100
TZNAME:BST
DTSTART:20250330T010000
END:DAYLIGHT
BEGIN:STANDARD
TZOFFSETFROM:+0100
TZOFFSETTO:+0000
TZNAME:GMT
DTSTART:20251026T010000
END:STANDARD
BEGIN:DAYLIGHT
TZOFFSETFROM:+0000
TZOFFSETTO:+0100
TZNAME:BST
DTSTART:20260329T010000
END:DAYLIGHT
BEGIN:STANDARD
TZOFFSETFROM:+0100
TZOFFSETTO:+0000
TZNAME:GMT
DTSTART:20261025T010000
END:STANDARD
END:VTIMEZONE
BEGIN:VEVENT
DTSTART;TZID=Europe/London:20250205T190000
DTEND;TZID=Europe/London:20250205T200000
DTSTAMP:20260422T235216
CREATED:20221125T104445Z
LAST-MODIFIED:20240628T081448Z
UID:10022059-1738782000-1738785600@swanscombeandgreenhithetowncouncil.gov.uk
SUMMARY:Planning\, Major Developments\, Transportation & the Environment Committee
DESCRIPTION:Agenda details can be viewed by clicking here
URL:https://swanscombeandgreenhithetowncouncil.gov.uk/event/planning-major-developments-transportation-the-environment-committee-4/2025-02-05/
LOCATION:Swanscombe and Greenhithe Town Council and Community Hall\, 16 The Grove\, Swanscombe DA10 0AD\, United Kingdom\, United Kingdom
CATEGORIES:Council Meetings
ATTACH;FMTTYPE=image/jpeg:https://swanscombeandgreenhithetowncouncil.gov.uk/wp-content/uploads/2018/05/15.Meeting-figures-around-a-desk.jpg
END:VEVENT
BEGIN:VEVENT
DTSTART;TZID=Europe/London:20250226T190000
DTEND;TZID=Europe/London:20250226T200000
DTSTAMP:20260422T235216
CREATED:20221125T104445Z
LAST-MODIFIED:20240628T081448Z
UID:10022060-1740596400-1740600000@swanscombeandgreenhithetowncouncil.gov.uk
SUMMARY:Planning\, Major Developments\, Transportation & the Environment Committee
DESCRIPTION:Agenda details can be viewed by clicking here
URL:https://swanscombeandgreenhithetowncouncil.gov.uk/event/planning-major-developments-transportation-the-environment-committee-4/2025-02-26/
LOCATION:Swanscombe and Greenhithe Town Council and Community Hall\, 16 The Grove\, Swanscombe DA10 0AD\, United Kingdom\, United Kingdom
CATEGORIES:Council Meetings
ATTACH;FMTTYPE=image/jpeg:https://swanscombeandgreenhithetowncouncil.gov.uk/wp-content/uploads/2018/05/15.Meeting-figures-around-a-desk.jpg
END:VEVENT
END:VCALENDAR