BEGIN:VCALENDAR
VERSION:2.0
PRODID:-//Swanscombe and Greenhithe Town Council - ECPv6.15.20//NONSGML v1.0//EN
CALSCALE:GREGORIAN
METHOD:PUBLISH
X-WR-CALNAME:Swanscombe and Greenhithe Town Council
X-ORIGINAL-URL:https://swanscombeandgreenhithetowncouncil.gov.uk
X-WR-CALDESC:Events for Swanscombe and Greenhithe Town Council
REFRESH-INTERVAL;VALUE=DURATION:PT1H
X-Robots-Tag:noindex
X-PUBLISHED-TTL:PT1H
BEGIN:VTIMEZONE
TZID:Europe/London
BEGIN:DAYLIGHT
TZOFFSETFROM:+0000
TZOFFSETTO:+0100
TZNAME:BST
DTSTART:20230326T010000
END:DAYLIGHT
BEGIN:STANDARD
TZOFFSETFROM:+0100
TZOFFSETTO:+0000
TZNAME:GMT
DTSTART:20231029T010000
END:STANDARD
BEGIN:DAYLIGHT
TZOFFSETFROM:+0000
TZOFFSETTO:+0100
TZNAME:BST
DTSTART:20240331T010000
END:DAYLIGHT
BEGIN:STANDARD
TZOFFSETFROM:+0100
TZOFFSETTO:+0000
TZNAME:GMT
DTSTART:20241027T010000
END:STANDARD
BEGIN:DAYLIGHT
TZOFFSETFROM:+0000
TZOFFSETTO:+0100
TZNAME:BST
DTSTART:20250330T010000
END:DAYLIGHT
BEGIN:STANDARD
TZOFFSETFROM:+0100
TZOFFSETTO:+0000
TZNAME:GMT
DTSTART:20251026T010000
END:STANDARD
END:VTIMEZONE
BEGIN:VEVENT
DTSTART;TZID=Europe/London:20240501T173000
DTEND;TZID=Europe/London:20240501T203000
DTSTAMP:20260423T032331
CREATED:20240424T184609Z
LAST-MODIFIED:20241219T092041Z
UID:10016614-1714584600-1714595400@swanscombeandgreenhithetowncouncil.gov.uk
SUMMARY:North Kent Martial Arts Club
DESCRIPTION:Please click on the photo below for details of the North Kent Martial Arts Club operating in Swanscombe.
URL:https://swanscombeandgreenhithetowncouncil.gov.uk/event/north-kent-martial-arts-club-4-2-2/2024-05-01/
LOCATION:Swanscombe and Greenhithe Town Council and Community Hall\, 16 The Grove\, Swanscombe DA10 0AD\, United Kingdom\, United Kingdom
CATEGORIES:Sports & Recreation Group
END:VEVENT
BEGIN:VEVENT
DTSTART;TZID=Europe/London:20240501T190000
DTEND;TZID=Europe/London:20240501T203000
DTSTAMP:20260423T032331
CREATED:20240313T013529Z
LAST-MODIFIED:20241219T090853Z
UID:10010522-1714590000-1714595400@swanscombeandgreenhithetowncouncil.gov.uk
SUMMARY:Scouts are Back - Cubs on Wednesdays
DESCRIPTION:
URL:https://swanscombeandgreenhithetowncouncil.gov.uk/event/scouts-are-back-cubs-on-wednesdays-2/2024-05-01/
LOCATION:1st Galley Hill Scout Group\, 0HJ\, 110 Church Rd\, Swanscombe DA10 0HJ\, United Kingdom\, United Kingdom
CATEGORIES:Sports & Recreation Group
ATTACH;FMTTYPE=image/jpeg:https://swanscombeandgreenhithetowncouncil.gov.uk/wp-content/uploads/2021/12/57.2021-Scouts-are-back-30-Nov.jpg
ORGANIZER;CN="Rob Weller":MAILTO:info@1stgalleyhillscouts.org.uk
END:VEVENT
BEGIN:VEVENT
DTSTART;TZID=Europe/London:20240503T183000
DTEND;TZID=Europe/London:20240503T203000
DTSTAMP:20260423T032331
CREATED:20240424T184742Z
LAST-MODIFIED:20241219T091732Z
UID:10021727-1714761000-1714768200@swanscombeandgreenhithetowncouncil.gov.uk
SUMMARY:North Kent Martial Arts Club
DESCRIPTION:Please click on the photo below for details of the North Kent Martial Arts Club operating in Swanscombe.
URL:https://swanscombeandgreenhithetowncouncil.gov.uk/event/north-kent-martial-arts-club-4-3-2/2024-05-03/
LOCATION:Swanscombe and Greenhithe Town Council and Community Hall\, 16 The Grove\, Swanscombe DA10 0AD\, United Kingdom\, United Kingdom
CATEGORIES:Sports & Recreation Group
END:VEVENT
BEGIN:VEVENT
DTSTART;TZID=Europe/London:20240503T193000
DTEND;TZID=Europe/London:20240503T213000
DTSTAMP:20260423T032331
CREATED:20211202T145121Z
LAST-MODIFIED:20240313T013914Z
UID:10019963-1714764600-1714771800@swanscombeandgreenhithetowncouncil.gov.uk
SUMMARY:Scouts are Back - Scouts on Fridays
DESCRIPTION:
URL:https://swanscombeandgreenhithetowncouncil.gov.uk/event/scouts-are-back-scouts-on-fridays-2/2024-05-03/
LOCATION:1st Galley Hill Scout Group\, 0HJ\, 110 Church Rd\, Swanscombe DA10 0HJ\, United Kingdom\, United Kingdom
CATEGORIES:Sports & Recreation Group
ATTACH;FMTTYPE=image/jpeg:https://swanscombeandgreenhithetowncouncil.gov.uk/wp-content/uploads/2021/12/57.2021-Scouts-are-back-30-Nov.jpg
ORGANIZER;CN="Rob Weller":MAILTO:info@1stgalleyhillscouts.org.uk
END:VEVENT
BEGIN:VEVENT
DTSTART;TZID=Europe/London:20240504T103000
DTEND;TZID=Europe/London:20240504T120000
DTSTAMP:20260423T032331
CREATED:20240313T013714Z
LAST-MODIFIED:20240313T013714Z
UID:10010901-1714818600-1714824000@swanscombeandgreenhithetowncouncil.gov.uk
SUMMARY:Scouts are Back - Beavers on Saturdays
DESCRIPTION:
URL:https://swanscombeandgreenhithetowncouncil.gov.uk/event/scouts-are-back-scouts-on-fridays-3/2024-05-04/
LOCATION:1st Galley Hill Scout Group\, 0HJ\, 110 Church Rd\, Swanscombe DA10 0HJ\, United Kingdom\, United Kingdom
CATEGORIES:Sports & Recreation Group
ATTACH;FMTTYPE=image/jpeg:https://swanscombeandgreenhithetowncouncil.gov.uk/wp-content/uploads/2021/12/57.2021-Scouts-are-back-30-Nov.jpg
ORGANIZER;CN="Rob Weller":MAILTO:info@1stgalleyhillscouts.org.uk
END:VEVENT
BEGIN:VEVENT
DTSTART;TZID=Europe/London:20240508T173000
DTEND;TZID=Europe/London:20240508T203000
DTSTAMP:20260423T032331
CREATED:20240424T184609Z
LAST-MODIFIED:20241219T092041Z
UID:10021468-1715189400-1715200200@swanscombeandgreenhithetowncouncil.gov.uk
SUMMARY:North Kent Martial Arts Club
DESCRIPTION:Please click on the photo below for details of the North Kent Martial Arts Club operating in Swanscombe.
URL:https://swanscombeandgreenhithetowncouncil.gov.uk/event/north-kent-martial-arts-club-4-2-2/2024-05-08/
LOCATION:Swanscombe and Greenhithe Town Council and Community Hall\, 16 The Grove\, Swanscombe DA10 0AD\, United Kingdom\, United Kingdom
CATEGORIES:Sports & Recreation Group
END:VEVENT
BEGIN:VEVENT
DTSTART;TZID=Europe/London:20240508T190000
DTEND;TZID=Europe/London:20240508T203000
DTSTAMP:20260423T032331
CREATED:20240313T013529Z
LAST-MODIFIED:20241219T090853Z
UID:10010523-1715194800-1715200200@swanscombeandgreenhithetowncouncil.gov.uk
SUMMARY:Scouts are Back - Cubs on Wednesdays
DESCRIPTION:
URL:https://swanscombeandgreenhithetowncouncil.gov.uk/event/scouts-are-back-cubs-on-wednesdays-2/2024-05-08/
LOCATION:1st Galley Hill Scout Group\, 0HJ\, 110 Church Rd\, Swanscombe DA10 0HJ\, United Kingdom\, United Kingdom
CATEGORIES:Sports & Recreation Group
ATTACH;FMTTYPE=image/jpeg:https://swanscombeandgreenhithetowncouncil.gov.uk/wp-content/uploads/2021/12/57.2021-Scouts-are-back-30-Nov.jpg
ORGANIZER;CN="Rob Weller":MAILTO:info@1stgalleyhillscouts.org.uk
END:VEVENT
BEGIN:VEVENT
DTSTART;TZID=Europe/London:20240510T183000
DTEND;TZID=Europe/London:20240510T203000
DTSTAMP:20260423T032331
CREATED:20240424T184742Z
LAST-MODIFIED:20241219T091732Z
UID:10021728-1715365800-1715373000@swanscombeandgreenhithetowncouncil.gov.uk
SUMMARY:North Kent Martial Arts Club
DESCRIPTION:Please click on the photo below for details of the North Kent Martial Arts Club operating in Swanscombe.
URL:https://swanscombeandgreenhithetowncouncil.gov.uk/event/north-kent-martial-arts-club-4-3-2/2024-05-10/
LOCATION:Swanscombe and Greenhithe Town Council and Community Hall\, 16 The Grove\, Swanscombe DA10 0AD\, United Kingdom\, United Kingdom
CATEGORIES:Sports & Recreation Group
END:VEVENT
BEGIN:VEVENT
DTSTART;TZID=Europe/London:20240510T193000
DTEND;TZID=Europe/London:20240510T213000
DTSTAMP:20260423T032331
CREATED:20211202T145121Z
LAST-MODIFIED:20240313T013914Z
UID:10019964-1715369400-1715376600@swanscombeandgreenhithetowncouncil.gov.uk
SUMMARY:Scouts are Back - Scouts on Fridays
DESCRIPTION:
URL:https://swanscombeandgreenhithetowncouncil.gov.uk/event/scouts-are-back-scouts-on-fridays-2/2024-05-10/
LOCATION:1st Galley Hill Scout Group\, 0HJ\, 110 Church Rd\, Swanscombe DA10 0HJ\, United Kingdom\, United Kingdom
CATEGORIES:Sports & Recreation Group
ATTACH;FMTTYPE=image/jpeg:https://swanscombeandgreenhithetowncouncil.gov.uk/wp-content/uploads/2021/12/57.2021-Scouts-are-back-30-Nov.jpg
ORGANIZER;CN="Rob Weller":MAILTO:info@1stgalleyhillscouts.org.uk
END:VEVENT
BEGIN:VEVENT
DTSTART;TZID=Europe/London:20240511T103000
DTEND;TZID=Europe/London:20240511T120000
DTSTAMP:20260423T032331
CREATED:20240313T013714Z
LAST-MODIFIED:20240313T013714Z
UID:10010902-1715423400-1715428800@swanscombeandgreenhithetowncouncil.gov.uk
SUMMARY:Scouts are Back - Beavers on Saturdays
DESCRIPTION:
URL:https://swanscombeandgreenhithetowncouncil.gov.uk/event/scouts-are-back-scouts-on-fridays-3/2024-05-11/
LOCATION:1st Galley Hill Scout Group\, 0HJ\, 110 Church Rd\, Swanscombe DA10 0HJ\, United Kingdom\, United Kingdom
CATEGORIES:Sports & Recreation Group
ATTACH;FMTTYPE=image/jpeg:https://swanscombeandgreenhithetowncouncil.gov.uk/wp-content/uploads/2021/12/57.2021-Scouts-are-back-30-Nov.jpg
ORGANIZER;CN="Rob Weller":MAILTO:info@1stgalleyhillscouts.org.uk
END:VEVENT
BEGIN:VEVENT
DTSTART;TZID=Europe/London:20240515T173000
DTEND;TZID=Europe/London:20240515T203000
DTSTAMP:20260423T032331
CREATED:20240424T184609Z
LAST-MODIFIED:20241219T092041Z
UID:10021469-1715794200-1715805000@swanscombeandgreenhithetowncouncil.gov.uk
SUMMARY:North Kent Martial Arts Club
DESCRIPTION:Please click on the photo below for details of the North Kent Martial Arts Club operating in Swanscombe.
URL:https://swanscombeandgreenhithetowncouncil.gov.uk/event/north-kent-martial-arts-club-4-2-2/2024-05-15/
LOCATION:Swanscombe and Greenhithe Town Council and Community Hall\, 16 The Grove\, Swanscombe DA10 0AD\, United Kingdom\, United Kingdom
CATEGORIES:Sports & Recreation Group
END:VEVENT
BEGIN:VEVENT
DTSTART;TZID=Europe/London:20240515T190000
DTEND;TZID=Europe/London:20240515T203000
DTSTAMP:20260423T032331
CREATED:20240313T013529Z
LAST-MODIFIED:20241219T090853Z
UID:10010524-1715799600-1715805000@swanscombeandgreenhithetowncouncil.gov.uk
SUMMARY:Scouts are Back - Cubs on Wednesdays
DESCRIPTION:
URL:https://swanscombeandgreenhithetowncouncil.gov.uk/event/scouts-are-back-cubs-on-wednesdays-2/2024-05-15/
LOCATION:1st Galley Hill Scout Group\, 0HJ\, 110 Church Rd\, Swanscombe DA10 0HJ\, United Kingdom\, United Kingdom
CATEGORIES:Sports & Recreation Group
ATTACH;FMTTYPE=image/jpeg:https://swanscombeandgreenhithetowncouncil.gov.uk/wp-content/uploads/2021/12/57.2021-Scouts-are-back-30-Nov.jpg
ORGANIZER;CN="Rob Weller":MAILTO:info@1stgalleyhillscouts.org.uk
END:VEVENT
BEGIN:VEVENT
DTSTART;TZID=Europe/London:20240517T183000
DTEND;TZID=Europe/London:20240517T203000
DTSTAMP:20260423T032331
CREATED:20240424T184742Z
LAST-MODIFIED:20241219T091732Z
UID:10021729-1715970600-1715977800@swanscombeandgreenhithetowncouncil.gov.uk
SUMMARY:North Kent Martial Arts Club
DESCRIPTION:Please click on the photo below for details of the North Kent Martial Arts Club operating in Swanscombe.
URL:https://swanscombeandgreenhithetowncouncil.gov.uk/event/north-kent-martial-arts-club-4-3-2/2024-05-17/
LOCATION:Swanscombe and Greenhithe Town Council and Community Hall\, 16 The Grove\, Swanscombe DA10 0AD\, United Kingdom\, United Kingdom
CATEGORIES:Sports & Recreation Group
END:VEVENT
BEGIN:VEVENT
DTSTART;TZID=Europe/London:20240517T193000
DTEND;TZID=Europe/London:20240517T213000
DTSTAMP:20260423T032331
CREATED:20211202T145121Z
LAST-MODIFIED:20240313T013914Z
UID:10019965-1715974200-1715981400@swanscombeandgreenhithetowncouncil.gov.uk
SUMMARY:Scouts are Back - Scouts on Fridays
DESCRIPTION:
URL:https://swanscombeandgreenhithetowncouncil.gov.uk/event/scouts-are-back-scouts-on-fridays-2/2024-05-17/
LOCATION:1st Galley Hill Scout Group\, 0HJ\, 110 Church Rd\, Swanscombe DA10 0HJ\, United Kingdom\, United Kingdom
CATEGORIES:Sports & Recreation Group
ATTACH;FMTTYPE=image/jpeg:https://swanscombeandgreenhithetowncouncil.gov.uk/wp-content/uploads/2021/12/57.2021-Scouts-are-back-30-Nov.jpg
ORGANIZER;CN="Rob Weller":MAILTO:info@1stgalleyhillscouts.org.uk
END:VEVENT
BEGIN:VEVENT
DTSTART;TZID=Europe/London:20240518T103000
DTEND;TZID=Europe/London:20240518T120000
DTSTAMP:20260423T032331
CREATED:20240313T013714Z
LAST-MODIFIED:20240313T013714Z
UID:10010903-1716028200-1716033600@swanscombeandgreenhithetowncouncil.gov.uk
SUMMARY:Scouts are Back - Beavers on Saturdays
DESCRIPTION:
URL:https://swanscombeandgreenhithetowncouncil.gov.uk/event/scouts-are-back-scouts-on-fridays-3/2024-05-18/
LOCATION:1st Galley Hill Scout Group\, 0HJ\, 110 Church Rd\, Swanscombe DA10 0HJ\, United Kingdom\, United Kingdom
CATEGORIES:Sports & Recreation Group
ATTACH;FMTTYPE=image/jpeg:https://swanscombeandgreenhithetowncouncil.gov.uk/wp-content/uploads/2021/12/57.2021-Scouts-are-back-30-Nov.jpg
ORGANIZER;CN="Rob Weller":MAILTO:info@1stgalleyhillscouts.org.uk
END:VEVENT
BEGIN:VEVENT
DTSTART;TZID=Europe/London:20240522T173000
DTEND;TZID=Europe/London:20240522T203000
DTSTAMP:20260423T032331
CREATED:20240424T184609Z
LAST-MODIFIED:20241219T092041Z
UID:10021470-1716399000-1716409800@swanscombeandgreenhithetowncouncil.gov.uk
SUMMARY:North Kent Martial Arts Club
DESCRIPTION:Please click on the photo below for details of the North Kent Martial Arts Club operating in Swanscombe.
URL:https://swanscombeandgreenhithetowncouncil.gov.uk/event/north-kent-martial-arts-club-4-2-2/2024-05-22/
LOCATION:Swanscombe and Greenhithe Town Council and Community Hall\, 16 The Grove\, Swanscombe DA10 0AD\, United Kingdom\, United Kingdom
CATEGORIES:Sports & Recreation Group
END:VEVENT
BEGIN:VEVENT
DTSTART;TZID=Europe/London:20240522T190000
DTEND;TZID=Europe/London:20240522T203000
DTSTAMP:20260423T032331
CREATED:20240313T013529Z
LAST-MODIFIED:20241219T090853Z
UID:10010525-1716404400-1716409800@swanscombeandgreenhithetowncouncil.gov.uk
SUMMARY:Scouts are Back - Cubs on Wednesdays
DESCRIPTION:
URL:https://swanscombeandgreenhithetowncouncil.gov.uk/event/scouts-are-back-cubs-on-wednesdays-2/2024-05-22/
LOCATION:1st Galley Hill Scout Group\, 0HJ\, 110 Church Rd\, Swanscombe DA10 0HJ\, United Kingdom\, United Kingdom
CATEGORIES:Sports & Recreation Group
ATTACH;FMTTYPE=image/jpeg:https://swanscombeandgreenhithetowncouncil.gov.uk/wp-content/uploads/2021/12/57.2021-Scouts-are-back-30-Nov.jpg
ORGANIZER;CN="Rob Weller":MAILTO:info@1stgalleyhillscouts.org.uk
END:VEVENT
BEGIN:VEVENT
DTSTART;TZID=Europe/London:20240524T183000
DTEND;TZID=Europe/London:20240524T203000
DTSTAMP:20260423T032331
CREATED:20240424T184742Z
LAST-MODIFIED:20241219T091732Z
UID:10021730-1716575400-1716582600@swanscombeandgreenhithetowncouncil.gov.uk
SUMMARY:North Kent Martial Arts Club
DESCRIPTION:Please click on the photo below for details of the North Kent Martial Arts Club operating in Swanscombe.
URL:https://swanscombeandgreenhithetowncouncil.gov.uk/event/north-kent-martial-arts-club-4-3-2/2024-05-24/
LOCATION:Swanscombe and Greenhithe Town Council and Community Hall\, 16 The Grove\, Swanscombe DA10 0AD\, United Kingdom\, United Kingdom
CATEGORIES:Sports & Recreation Group
END:VEVENT
BEGIN:VEVENT
DTSTART;TZID=Europe/London:20240524T193000
DTEND;TZID=Europe/London:20240524T213000
DTSTAMP:20260423T032331
CREATED:20211202T145121Z
LAST-MODIFIED:20240313T013914Z
UID:10019966-1716579000-1716586200@swanscombeandgreenhithetowncouncil.gov.uk
SUMMARY:Scouts are Back - Scouts on Fridays
DESCRIPTION:
URL:https://swanscombeandgreenhithetowncouncil.gov.uk/event/scouts-are-back-scouts-on-fridays-2/2024-05-24/
LOCATION:1st Galley Hill Scout Group\, 0HJ\, 110 Church Rd\, Swanscombe DA10 0HJ\, United Kingdom\, United Kingdom
CATEGORIES:Sports & Recreation Group
ATTACH;FMTTYPE=image/jpeg:https://swanscombeandgreenhithetowncouncil.gov.uk/wp-content/uploads/2021/12/57.2021-Scouts-are-back-30-Nov.jpg
ORGANIZER;CN="Rob Weller":MAILTO:info@1stgalleyhillscouts.org.uk
END:VEVENT
BEGIN:VEVENT
DTSTART;TZID=Europe/London:20240525T103000
DTEND;TZID=Europe/London:20240525T120000
DTSTAMP:20260423T032331
CREATED:20240313T013714Z
LAST-MODIFIED:20240313T013714Z
UID:10010904-1716633000-1716638400@swanscombeandgreenhithetowncouncil.gov.uk
SUMMARY:Scouts are Back - Beavers on Saturdays
DESCRIPTION:
URL:https://swanscombeandgreenhithetowncouncil.gov.uk/event/scouts-are-back-scouts-on-fridays-3/2024-05-25/
LOCATION:1st Galley Hill Scout Group\, 0HJ\, 110 Church Rd\, Swanscombe DA10 0HJ\, United Kingdom\, United Kingdom
CATEGORIES:Sports & Recreation Group
ATTACH;FMTTYPE=image/jpeg:https://swanscombeandgreenhithetowncouncil.gov.uk/wp-content/uploads/2021/12/57.2021-Scouts-are-back-30-Nov.jpg
ORGANIZER;CN="Rob Weller":MAILTO:info@1stgalleyhillscouts.org.uk
END:VEVENT
BEGIN:VEVENT
DTSTART;TZID=Europe/London:20240529T173000
DTEND;TZID=Europe/London:20240529T203000
DTSTAMP:20260423T032331
CREATED:20240424T184609Z
LAST-MODIFIED:20241219T092041Z
UID:10021471-1717003800-1717014600@swanscombeandgreenhithetowncouncil.gov.uk
SUMMARY:North Kent Martial Arts Club
DESCRIPTION:Please click on the photo below for details of the North Kent Martial Arts Club operating in Swanscombe.
URL:https://swanscombeandgreenhithetowncouncil.gov.uk/event/north-kent-martial-arts-club-4-2-2/2024-05-29/
LOCATION:Swanscombe and Greenhithe Town Council and Community Hall\, 16 The Grove\, Swanscombe DA10 0AD\, United Kingdom\, United Kingdom
CATEGORIES:Sports & Recreation Group
END:VEVENT
BEGIN:VEVENT
DTSTART;TZID=Europe/London:20240529T190000
DTEND;TZID=Europe/London:20240529T203000
DTSTAMP:20260423T032331
CREATED:20240313T013529Z
LAST-MODIFIED:20241219T090853Z
UID:10010526-1717009200-1717014600@swanscombeandgreenhithetowncouncil.gov.uk
SUMMARY:Scouts are Back - Cubs on Wednesdays
DESCRIPTION:
URL:https://swanscombeandgreenhithetowncouncil.gov.uk/event/scouts-are-back-cubs-on-wednesdays-2/2024-05-29/
LOCATION:1st Galley Hill Scout Group\, 0HJ\, 110 Church Rd\, Swanscombe DA10 0HJ\, United Kingdom\, United Kingdom
CATEGORIES:Sports & Recreation Group
ATTACH;FMTTYPE=image/jpeg:https://swanscombeandgreenhithetowncouncil.gov.uk/wp-content/uploads/2021/12/57.2021-Scouts-are-back-30-Nov.jpg
ORGANIZER;CN="Rob Weller":MAILTO:info@1stgalleyhillscouts.org.uk
END:VEVENT
BEGIN:VEVENT
DTSTART;TZID=Europe/London:20240531T183000
DTEND;TZID=Europe/London:20240531T203000
DTSTAMP:20260423T032331
CREATED:20240424T184742Z
LAST-MODIFIED:20241219T091732Z
UID:10021731-1717180200-1717187400@swanscombeandgreenhithetowncouncil.gov.uk
SUMMARY:North Kent Martial Arts Club
DESCRIPTION:Please click on the photo below for details of the North Kent Martial Arts Club operating in Swanscombe.
URL:https://swanscombeandgreenhithetowncouncil.gov.uk/event/north-kent-martial-arts-club-4-3-2/2024-05-31/
LOCATION:Swanscombe and Greenhithe Town Council and Community Hall\, 16 The Grove\, Swanscombe DA10 0AD\, United Kingdom\, United Kingdom
CATEGORIES:Sports & Recreation Group
END:VEVENT
BEGIN:VEVENT
DTSTART;TZID=Europe/London:20240531T193000
DTEND;TZID=Europe/London:20240531T213000
DTSTAMP:20260423T032331
CREATED:20211202T145121Z
LAST-MODIFIED:20240313T013914Z
UID:10019967-1717183800-1717191000@swanscombeandgreenhithetowncouncil.gov.uk
SUMMARY:Scouts are Back - Scouts on Fridays
DESCRIPTION:
URL:https://swanscombeandgreenhithetowncouncil.gov.uk/event/scouts-are-back-scouts-on-fridays-2/2024-05-31/
LOCATION:1st Galley Hill Scout Group\, 0HJ\, 110 Church Rd\, Swanscombe DA10 0HJ\, United Kingdom\, United Kingdom
CATEGORIES:Sports & Recreation Group
ATTACH;FMTTYPE=image/jpeg:https://swanscombeandgreenhithetowncouncil.gov.uk/wp-content/uploads/2021/12/57.2021-Scouts-are-back-30-Nov.jpg
ORGANIZER;CN="Rob Weller":MAILTO:info@1stgalleyhillscouts.org.uk
END:VEVENT
END:VCALENDAR