BEGIN:VCALENDAR
VERSION:2.0
PRODID:-//Swanscombe and Greenhithe Town Council - ECPv6.15.20//NONSGML v1.0//EN
CALSCALE:GREGORIAN
METHOD:PUBLISH
X-WR-CALNAME:Swanscombe and Greenhithe Town Council
X-ORIGINAL-URL:https://swanscombeandgreenhithetowncouncil.gov.uk
X-WR-CALDESC:Events for Swanscombe and Greenhithe Town Council
REFRESH-INTERVAL;VALUE=DURATION:PT1H
X-Robots-Tag:noindex
X-PUBLISHED-TTL:PT1H
BEGIN:VTIMEZONE
TZID:Europe/London
BEGIN:DAYLIGHT
TZOFFSETFROM:+0000
TZOFFSETTO:+0100
TZNAME:BST
DTSTART:20230326T010000
END:DAYLIGHT
BEGIN:STANDARD
TZOFFSETFROM:+0100
TZOFFSETTO:+0000
TZNAME:GMT
DTSTART:20231029T010000
END:STANDARD
BEGIN:DAYLIGHT
TZOFFSETFROM:+0000
TZOFFSETTO:+0100
TZNAME:BST
DTSTART:20240331T010000
END:DAYLIGHT
BEGIN:STANDARD
TZOFFSETFROM:+0100
TZOFFSETTO:+0000
TZNAME:GMT
DTSTART:20241027T010000
END:STANDARD
BEGIN:DAYLIGHT
TZOFFSETFROM:+0000
TZOFFSETTO:+0100
TZNAME:BST
DTSTART:20250330T010000
END:DAYLIGHT
BEGIN:STANDARD
TZOFFSETFROM:+0100
TZOFFSETTO:+0000
TZNAME:GMT
DTSTART:20251026T010000
END:STANDARD
END:VTIMEZONE
BEGIN:VEVENT
DTSTART;TZID=Europe/London:20240904T173000
DTEND;TZID=Europe/London:20240904T203000
DTSTAMP:20260422T203104
CREATED:20240424T184609Z
LAST-MODIFIED:20241219T092041Z
UID:10021485-1725471000-1725481800@swanscombeandgreenhithetowncouncil.gov.uk
SUMMARY:North Kent Martial Arts Club
DESCRIPTION:Please click on the photo below for details of the North Kent Martial Arts Club operating in Swanscombe.
URL:https://swanscombeandgreenhithetowncouncil.gov.uk/event/north-kent-martial-arts-club-4-2-2/2024-09-04/
LOCATION:Swanscombe and Greenhithe Town Council and Community Hall\, 16 The Grove\, Swanscombe DA10 0AD\, United Kingdom\, United Kingdom
CATEGORIES:Sports & Recreation Group
END:VEVENT
BEGIN:VEVENT
DTSTART;TZID=Europe/London:20240904T190000
DTEND;TZID=Europe/London:20240904T203000
DTSTAMP:20260422T203104
CREATED:20240313T013529Z
LAST-MODIFIED:20241219T090853Z
UID:10010540-1725476400-1725481800@swanscombeandgreenhithetowncouncil.gov.uk
SUMMARY:Scouts are Back - Cubs on Wednesdays
DESCRIPTION:
URL:https://swanscombeandgreenhithetowncouncil.gov.uk/event/scouts-are-back-cubs-on-wednesdays-2/2024-09-04/
LOCATION:1st Galley Hill Scout Group\, 0HJ\, 110 Church Rd\, Swanscombe DA10 0HJ\, United Kingdom\, United Kingdom
CATEGORIES:Sports & Recreation Group
ATTACH;FMTTYPE=image/jpeg:https://swanscombeandgreenhithetowncouncil.gov.uk/wp-content/uploads/2021/12/57.2021-Scouts-are-back-30-Nov.jpg
ORGANIZER;CN="Rob Weller":MAILTO:info@1stgalleyhillscouts.org.uk
END:VEVENT
BEGIN:VEVENT
DTSTART;TZID=Europe/London:20240906T183000
DTEND;TZID=Europe/London:20240906T203000
DTSTAMP:20260422T203104
CREATED:20240424T184742Z
LAST-MODIFIED:20241219T091732Z
UID:10021745-1725647400-1725654600@swanscombeandgreenhithetowncouncil.gov.uk
SUMMARY:North Kent Martial Arts Club
DESCRIPTION:Please click on the photo below for details of the North Kent Martial Arts Club operating in Swanscombe.
URL:https://swanscombeandgreenhithetowncouncil.gov.uk/event/north-kent-martial-arts-club-4-3-2/2024-09-06/
LOCATION:Swanscombe and Greenhithe Town Council and Community Hall\, 16 The Grove\, Swanscombe DA10 0AD\, United Kingdom\, United Kingdom
CATEGORIES:Sports & Recreation Group
END:VEVENT
BEGIN:VEVENT
DTSTART;TZID=Europe/London:20240906T193000
DTEND;TZID=Europe/London:20240906T213000
DTSTAMP:20260422T203104
CREATED:20211202T145121Z
LAST-MODIFIED:20240313T013914Z
UID:10019981-1725651000-1725658200@swanscombeandgreenhithetowncouncil.gov.uk
SUMMARY:Scouts are Back - Scouts on Fridays
DESCRIPTION:
URL:https://swanscombeandgreenhithetowncouncil.gov.uk/event/scouts-are-back-scouts-on-fridays-2/2024-09-06/
LOCATION:1st Galley Hill Scout Group\, 0HJ\, 110 Church Rd\, Swanscombe DA10 0HJ\, United Kingdom\, United Kingdom
CATEGORIES:Sports & Recreation Group
ATTACH;FMTTYPE=image/jpeg:https://swanscombeandgreenhithetowncouncil.gov.uk/wp-content/uploads/2021/12/57.2021-Scouts-are-back-30-Nov.jpg
ORGANIZER;CN="Rob Weller":MAILTO:info@1stgalleyhillscouts.org.uk
END:VEVENT
BEGIN:VEVENT
DTSTART;TZID=Europe/London:20240907T103000
DTEND;TZID=Europe/London:20240907T120000
DTSTAMP:20260422T203104
CREATED:20240313T013714Z
LAST-MODIFIED:20240313T013714Z
UID:10010919-1725705000-1725710400@swanscombeandgreenhithetowncouncil.gov.uk
SUMMARY:Scouts are Back - Beavers on Saturdays
DESCRIPTION:
URL:https://swanscombeandgreenhithetowncouncil.gov.uk/event/scouts-are-back-scouts-on-fridays-3/2024-09-07/
LOCATION:1st Galley Hill Scout Group\, 0HJ\, 110 Church Rd\, Swanscombe DA10 0HJ\, United Kingdom\, United Kingdom
CATEGORIES:Sports & Recreation Group
ATTACH;FMTTYPE=image/jpeg:https://swanscombeandgreenhithetowncouncil.gov.uk/wp-content/uploads/2021/12/57.2021-Scouts-are-back-30-Nov.jpg
ORGANIZER;CN="Rob Weller":MAILTO:info@1stgalleyhillscouts.org.uk
END:VEVENT
BEGIN:VEVENT
DTSTART;TZID=Europe/London:20240911T173000
DTEND;TZID=Europe/London:20240911T203000
DTSTAMP:20260422T203104
CREATED:20240424T184609Z
LAST-MODIFIED:20241219T092041Z
UID:10021486-1726075800-1726086600@swanscombeandgreenhithetowncouncil.gov.uk
SUMMARY:North Kent Martial Arts Club
DESCRIPTION:Please click on the photo below for details of the North Kent Martial Arts Club operating in Swanscombe.
URL:https://swanscombeandgreenhithetowncouncil.gov.uk/event/north-kent-martial-arts-club-4-2-2/2024-09-11/
LOCATION:Swanscombe and Greenhithe Town Council and Community Hall\, 16 The Grove\, Swanscombe DA10 0AD\, United Kingdom\, United Kingdom
CATEGORIES:Sports & Recreation Group
END:VEVENT
BEGIN:VEVENT
DTSTART;TZID=Europe/London:20240911T190000
DTEND;TZID=Europe/London:20240911T203000
DTSTAMP:20260422T203104
CREATED:20240313T013529Z
LAST-MODIFIED:20241219T090853Z
UID:10010541-1726081200-1726086600@swanscombeandgreenhithetowncouncil.gov.uk
SUMMARY:Scouts are Back - Cubs on Wednesdays
DESCRIPTION:
URL:https://swanscombeandgreenhithetowncouncil.gov.uk/event/scouts-are-back-cubs-on-wednesdays-2/2024-09-11/
LOCATION:1st Galley Hill Scout Group\, 0HJ\, 110 Church Rd\, Swanscombe DA10 0HJ\, United Kingdom\, United Kingdom
CATEGORIES:Sports & Recreation Group
ATTACH;FMTTYPE=image/jpeg:https://swanscombeandgreenhithetowncouncil.gov.uk/wp-content/uploads/2021/12/57.2021-Scouts-are-back-30-Nov.jpg
ORGANIZER;CN="Rob Weller":MAILTO:info@1stgalleyhillscouts.org.uk
END:VEVENT
BEGIN:VEVENT
DTSTART;TZID=Europe/London:20240913T183000
DTEND;TZID=Europe/London:20240913T203000
DTSTAMP:20260422T203104
CREATED:20240424T184742Z
LAST-MODIFIED:20241219T091732Z
UID:10021746-1726252200-1726259400@swanscombeandgreenhithetowncouncil.gov.uk
SUMMARY:North Kent Martial Arts Club
DESCRIPTION:Please click on the photo below for details of the North Kent Martial Arts Club operating in Swanscombe.
URL:https://swanscombeandgreenhithetowncouncil.gov.uk/event/north-kent-martial-arts-club-4-3-2/2024-09-13/
LOCATION:Swanscombe and Greenhithe Town Council and Community Hall\, 16 The Grove\, Swanscombe DA10 0AD\, United Kingdom\, United Kingdom
CATEGORIES:Sports & Recreation Group
END:VEVENT
BEGIN:VEVENT
DTSTART;TZID=Europe/London:20240913T193000
DTEND;TZID=Europe/London:20240913T213000
DTSTAMP:20260422T203104
CREATED:20211202T145121Z
LAST-MODIFIED:20240313T013914Z
UID:10019982-1726255800-1726263000@swanscombeandgreenhithetowncouncil.gov.uk
SUMMARY:Scouts are Back - Scouts on Fridays
DESCRIPTION:
URL:https://swanscombeandgreenhithetowncouncil.gov.uk/event/scouts-are-back-scouts-on-fridays-2/2024-09-13/
LOCATION:1st Galley Hill Scout Group\, 0HJ\, 110 Church Rd\, Swanscombe DA10 0HJ\, United Kingdom\, United Kingdom
CATEGORIES:Sports & Recreation Group
ATTACH;FMTTYPE=image/jpeg:https://swanscombeandgreenhithetowncouncil.gov.uk/wp-content/uploads/2021/12/57.2021-Scouts-are-back-30-Nov.jpg
ORGANIZER;CN="Rob Weller":MAILTO:info@1stgalleyhillscouts.org.uk
END:VEVENT
BEGIN:VEVENT
DTSTART;TZID=Europe/London:20240914T103000
DTEND;TZID=Europe/London:20240914T120000
DTSTAMP:20260422T203104
CREATED:20240313T013714Z
LAST-MODIFIED:20240313T013714Z
UID:10010920-1726309800-1726315200@swanscombeandgreenhithetowncouncil.gov.uk
SUMMARY:Scouts are Back - Beavers on Saturdays
DESCRIPTION:
URL:https://swanscombeandgreenhithetowncouncil.gov.uk/event/scouts-are-back-scouts-on-fridays-3/2024-09-14/
LOCATION:1st Galley Hill Scout Group\, 0HJ\, 110 Church Rd\, Swanscombe DA10 0HJ\, United Kingdom\, United Kingdom
CATEGORIES:Sports & Recreation Group
ATTACH;FMTTYPE=image/jpeg:https://swanscombeandgreenhithetowncouncil.gov.uk/wp-content/uploads/2021/12/57.2021-Scouts-are-back-30-Nov.jpg
ORGANIZER;CN="Rob Weller":MAILTO:info@1stgalleyhillscouts.org.uk
END:VEVENT
BEGIN:VEVENT
DTSTART;TZID=Europe/London:20240918T173000
DTEND;TZID=Europe/London:20240918T203000
DTSTAMP:20260422T203104
CREATED:20240424T184609Z
LAST-MODIFIED:20241219T092041Z
UID:10021487-1726680600-1726691400@swanscombeandgreenhithetowncouncil.gov.uk
SUMMARY:North Kent Martial Arts Club
DESCRIPTION:Please click on the photo below for details of the North Kent Martial Arts Club operating in Swanscombe.
URL:https://swanscombeandgreenhithetowncouncil.gov.uk/event/north-kent-martial-arts-club-4-2-2/2024-09-18/
LOCATION:Swanscombe and Greenhithe Town Council and Community Hall\, 16 The Grove\, Swanscombe DA10 0AD\, United Kingdom\, United Kingdom
CATEGORIES:Sports & Recreation Group
END:VEVENT
BEGIN:VEVENT
DTSTART;TZID=Europe/London:20240918T190000
DTEND;TZID=Europe/London:20240918T203000
DTSTAMP:20260422T203104
CREATED:20240313T013529Z
LAST-MODIFIED:20241219T090853Z
UID:10010542-1726686000-1726691400@swanscombeandgreenhithetowncouncil.gov.uk
SUMMARY:Scouts are Back - Cubs on Wednesdays
DESCRIPTION:
URL:https://swanscombeandgreenhithetowncouncil.gov.uk/event/scouts-are-back-cubs-on-wednesdays-2/2024-09-18/
LOCATION:1st Galley Hill Scout Group\, 0HJ\, 110 Church Rd\, Swanscombe DA10 0HJ\, United Kingdom\, United Kingdom
CATEGORIES:Sports & Recreation Group
ATTACH;FMTTYPE=image/jpeg:https://swanscombeandgreenhithetowncouncil.gov.uk/wp-content/uploads/2021/12/57.2021-Scouts-are-back-30-Nov.jpg
ORGANIZER;CN="Rob Weller":MAILTO:info@1stgalleyhillscouts.org.uk
END:VEVENT
BEGIN:VEVENT
DTSTART;TZID=Europe/London:20240920T183000
DTEND;TZID=Europe/London:20240920T203000
DTSTAMP:20260422T203104
CREATED:20240424T184742Z
LAST-MODIFIED:20241219T091732Z
UID:10021747-1726857000-1726864200@swanscombeandgreenhithetowncouncil.gov.uk
SUMMARY:North Kent Martial Arts Club
DESCRIPTION:Please click on the photo below for details of the North Kent Martial Arts Club operating in Swanscombe.
URL:https://swanscombeandgreenhithetowncouncil.gov.uk/event/north-kent-martial-arts-club-4-3-2/2024-09-20/
LOCATION:Swanscombe and Greenhithe Town Council and Community Hall\, 16 The Grove\, Swanscombe DA10 0AD\, United Kingdom\, United Kingdom
CATEGORIES:Sports & Recreation Group
END:VEVENT
BEGIN:VEVENT
DTSTART;TZID=Europe/London:20240920T193000
DTEND;TZID=Europe/London:20240920T213000
DTSTAMP:20260422T203104
CREATED:20211202T145121Z
LAST-MODIFIED:20240313T013914Z
UID:10019983-1726860600-1726867800@swanscombeandgreenhithetowncouncil.gov.uk
SUMMARY:Scouts are Back - Scouts on Fridays
DESCRIPTION:
URL:https://swanscombeandgreenhithetowncouncil.gov.uk/event/scouts-are-back-scouts-on-fridays-2/2024-09-20/
LOCATION:1st Galley Hill Scout Group\, 0HJ\, 110 Church Rd\, Swanscombe DA10 0HJ\, United Kingdom\, United Kingdom
CATEGORIES:Sports & Recreation Group
ATTACH;FMTTYPE=image/jpeg:https://swanscombeandgreenhithetowncouncil.gov.uk/wp-content/uploads/2021/12/57.2021-Scouts-are-back-30-Nov.jpg
ORGANIZER;CN="Rob Weller":MAILTO:info@1stgalleyhillscouts.org.uk
END:VEVENT
BEGIN:VEVENT
DTSTART;TZID=Europe/London:20240921T103000
DTEND;TZID=Europe/London:20240921T120000
DTSTAMP:20260422T203104
CREATED:20240313T013714Z
LAST-MODIFIED:20240313T013714Z
UID:10010921-1726914600-1726920000@swanscombeandgreenhithetowncouncil.gov.uk
SUMMARY:Scouts are Back - Beavers on Saturdays
DESCRIPTION:
URL:https://swanscombeandgreenhithetowncouncil.gov.uk/event/scouts-are-back-scouts-on-fridays-3/2024-09-21/
LOCATION:1st Galley Hill Scout Group\, 0HJ\, 110 Church Rd\, Swanscombe DA10 0HJ\, United Kingdom\, United Kingdom
CATEGORIES:Sports & Recreation Group
ATTACH;FMTTYPE=image/jpeg:https://swanscombeandgreenhithetowncouncil.gov.uk/wp-content/uploads/2021/12/57.2021-Scouts-are-back-30-Nov.jpg
ORGANIZER;CN="Rob Weller":MAILTO:info@1stgalleyhillscouts.org.uk
END:VEVENT
BEGIN:VEVENT
DTSTART;TZID=Europe/London:20240925T173000
DTEND;TZID=Europe/London:20240925T203000
DTSTAMP:20260422T203104
CREATED:20240424T184609Z
LAST-MODIFIED:20241219T092041Z
UID:10021488-1727285400-1727296200@swanscombeandgreenhithetowncouncil.gov.uk
SUMMARY:North Kent Martial Arts Club
DESCRIPTION:Please click on the photo below for details of the North Kent Martial Arts Club operating in Swanscombe.
URL:https://swanscombeandgreenhithetowncouncil.gov.uk/event/north-kent-martial-arts-club-4-2-2/2024-09-25/
LOCATION:Swanscombe and Greenhithe Town Council and Community Hall\, 16 The Grove\, Swanscombe DA10 0AD\, United Kingdom\, United Kingdom
CATEGORIES:Sports & Recreation Group
END:VEVENT
BEGIN:VEVENT
DTSTART;TZID=Europe/London:20240925T190000
DTEND;TZID=Europe/London:20240925T203000
DTSTAMP:20260422T203104
CREATED:20240313T013529Z
LAST-MODIFIED:20241219T090853Z
UID:10010543-1727290800-1727296200@swanscombeandgreenhithetowncouncil.gov.uk
SUMMARY:Scouts are Back - Cubs on Wednesdays
DESCRIPTION:
URL:https://swanscombeandgreenhithetowncouncil.gov.uk/event/scouts-are-back-cubs-on-wednesdays-2/2024-09-25/
LOCATION:1st Galley Hill Scout Group\, 0HJ\, 110 Church Rd\, Swanscombe DA10 0HJ\, United Kingdom\, United Kingdom
CATEGORIES:Sports & Recreation Group
ATTACH;FMTTYPE=image/jpeg:https://swanscombeandgreenhithetowncouncil.gov.uk/wp-content/uploads/2021/12/57.2021-Scouts-are-back-30-Nov.jpg
ORGANIZER;CN="Rob Weller":MAILTO:info@1stgalleyhillscouts.org.uk
END:VEVENT
BEGIN:VEVENT
DTSTART;TZID=Europe/London:20240927T183000
DTEND;TZID=Europe/London:20240927T203000
DTSTAMP:20260422T203104
CREATED:20240424T184742Z
LAST-MODIFIED:20241219T091732Z
UID:10021748-1727461800-1727469000@swanscombeandgreenhithetowncouncil.gov.uk
SUMMARY:North Kent Martial Arts Club
DESCRIPTION:Please click on the photo below for details of the North Kent Martial Arts Club operating in Swanscombe.
URL:https://swanscombeandgreenhithetowncouncil.gov.uk/event/north-kent-martial-arts-club-4-3-2/2024-09-27/
LOCATION:Swanscombe and Greenhithe Town Council and Community Hall\, 16 The Grove\, Swanscombe DA10 0AD\, United Kingdom\, United Kingdom
CATEGORIES:Sports & Recreation Group
END:VEVENT
BEGIN:VEVENT
DTSTART;TZID=Europe/London:20240927T193000
DTEND;TZID=Europe/London:20240927T213000
DTSTAMP:20260422T203104
CREATED:20211202T145121Z
LAST-MODIFIED:20240313T013914Z
UID:10019984-1727465400-1727472600@swanscombeandgreenhithetowncouncil.gov.uk
SUMMARY:Scouts are Back - Scouts on Fridays
DESCRIPTION:
URL:https://swanscombeandgreenhithetowncouncil.gov.uk/event/scouts-are-back-scouts-on-fridays-2/2024-09-27/
LOCATION:1st Galley Hill Scout Group\, 0HJ\, 110 Church Rd\, Swanscombe DA10 0HJ\, United Kingdom\, United Kingdom
CATEGORIES:Sports & Recreation Group
ATTACH;FMTTYPE=image/jpeg:https://swanscombeandgreenhithetowncouncil.gov.uk/wp-content/uploads/2021/12/57.2021-Scouts-are-back-30-Nov.jpg
ORGANIZER;CN="Rob Weller":MAILTO:info@1stgalleyhillscouts.org.uk
END:VEVENT
BEGIN:VEVENT
DTSTART;TZID=Europe/London:20240928T103000
DTEND;TZID=Europe/London:20240928T120000
DTSTAMP:20260422T203104
CREATED:20240313T013714Z
LAST-MODIFIED:20240313T013714Z
UID:10010922-1727519400-1727524800@swanscombeandgreenhithetowncouncil.gov.uk
SUMMARY:Scouts are Back - Beavers on Saturdays
DESCRIPTION:
URL:https://swanscombeandgreenhithetowncouncil.gov.uk/event/scouts-are-back-scouts-on-fridays-3/2024-09-28/
LOCATION:1st Galley Hill Scout Group\, 0HJ\, 110 Church Rd\, Swanscombe DA10 0HJ\, United Kingdom\, United Kingdom
CATEGORIES:Sports & Recreation Group
ATTACH;FMTTYPE=image/jpeg:https://swanscombeandgreenhithetowncouncil.gov.uk/wp-content/uploads/2021/12/57.2021-Scouts-are-back-30-Nov.jpg
ORGANIZER;CN="Rob Weller":MAILTO:info@1stgalleyhillscouts.org.uk
END:VEVENT
END:VCALENDAR