BEGIN:VCALENDAR
VERSION:2.0
PRODID:-//Swanscombe and Greenhithe Town Council - ECPv6.15.20//NONSGML v1.0//EN
CALSCALE:GREGORIAN
METHOD:PUBLISH
X-WR-CALNAME:Swanscombe and Greenhithe Town Council
X-ORIGINAL-URL:https://swanscombeandgreenhithetowncouncil.gov.uk
X-WR-CALDESC:Events for Swanscombe and Greenhithe Town Council
REFRESH-INTERVAL;VALUE=DURATION:PT1H
X-Robots-Tag:noindex
X-PUBLISHED-TTL:PT1H
BEGIN:VTIMEZONE
TZID:Europe/London
BEGIN:DAYLIGHT
TZOFFSETFROM:+0000
TZOFFSETTO:+0100
TZNAME:BST
DTSTART:20270328T010000
END:DAYLIGHT
BEGIN:STANDARD
TZOFFSETFROM:+0100
TZOFFSETTO:+0000
TZNAME:GMT
DTSTART:20271031T010000
END:STANDARD
BEGIN:DAYLIGHT
TZOFFSETFROM:+0000
TZOFFSETTO:+0100
TZNAME:BST
DTSTART:20280326T010000
END:DAYLIGHT
BEGIN:STANDARD
TZOFFSETFROM:+0100
TZOFFSETTO:+0000
TZNAME:GMT
DTSTART:20281029T010000
END:STANDARD
BEGIN:DAYLIGHT
TZOFFSETFROM:+0000
TZOFFSETTO:+0100
TZNAME:BST
DTSTART:20290325T010000
END:DAYLIGHT
BEGIN:STANDARD
TZOFFSETFROM:+0100
TZOFFSETTO:+0000
TZNAME:GMT
DTSTART:20291028T010000
END:STANDARD
END:VTIMEZONE
BEGIN:VEVENT
DTSTART;TZID=Europe/London:20280301T173000
DTEND;TZID=Europe/London:20280301T203000
DTSTAMP:20260423T032337
CREATED:20240424T184609Z
LAST-MODIFIED:20241219T092041Z
UID:10021667-1835544600-1835555400@swanscombeandgreenhithetowncouncil.gov.uk
SUMMARY:North Kent Martial Arts Club
DESCRIPTION:Please click on the photo below for details of the North Kent Martial Arts Club operating in Swanscombe.
URL:https://swanscombeandgreenhithetowncouncil.gov.uk/event/north-kent-martial-arts-club-4-2-2/2028-03-01/
LOCATION:Swanscombe and Greenhithe Town Council and Community Hall\, 16 The Grove\, Swanscombe DA10 0AD\, United Kingdom\, United Kingdom
CATEGORIES:Sports & Recreation Group
END:VEVENT
BEGIN:VEVENT
DTSTART;TZID=Europe/London:20280301T190000
DTEND;TZID=Europe/London:20280301T203000
DTSTAMP:20260423T032337
CREATED:20240313T013529Z
LAST-MODIFIED:20241219T090853Z
UID:10010722-1835550000-1835555400@swanscombeandgreenhithetowncouncil.gov.uk
SUMMARY:Scouts are Back - Cubs on Wednesdays
DESCRIPTION:
URL:https://swanscombeandgreenhithetowncouncil.gov.uk/event/scouts-are-back-cubs-on-wednesdays-2/2028-03-01/
LOCATION:1st Galley Hill Scout Group\, 0HJ\, 110 Church Rd\, Swanscombe DA10 0HJ\, United Kingdom\, United Kingdom
CATEGORIES:Sports & Recreation Group
ATTACH;FMTTYPE=image/jpeg:https://swanscombeandgreenhithetowncouncil.gov.uk/wp-content/uploads/2021/12/57.2021-Scouts-are-back-30-Nov.jpg
ORGANIZER;CN="Rob Weller":MAILTO:info@1stgalleyhillscouts.org.uk
END:VEVENT
BEGIN:VEVENT
DTSTART;TZID=Europe/London:20280303T183000
DTEND;TZID=Europe/London:20280303T203000
DTSTAMP:20260423T032337
CREATED:20240424T184742Z
LAST-MODIFIED:20241219T091732Z
UID:10021927-1835721000-1835728200@swanscombeandgreenhithetowncouncil.gov.uk
SUMMARY:North Kent Martial Arts Club
DESCRIPTION:Please click on the photo below for details of the North Kent Martial Arts Club operating in Swanscombe.
URL:https://swanscombeandgreenhithetowncouncil.gov.uk/event/north-kent-martial-arts-club-4-3-2/2028-03-03/
LOCATION:Swanscombe and Greenhithe Town Council and Community Hall\, 16 The Grove\, Swanscombe DA10 0AD\, United Kingdom\, United Kingdom
CATEGORIES:Sports & Recreation Group
END:VEVENT
BEGIN:VEVENT
DTSTART;TZID=Europe/London:20280303T193000
DTEND;TZID=Europe/London:20280303T213000
DTSTAMP:20260423T032337
CREATED:20211202T145121Z
LAST-MODIFIED:20240313T013914Z
UID:10020163-1835724600-1835731800@swanscombeandgreenhithetowncouncil.gov.uk
SUMMARY:Scouts are Back - Scouts on Fridays
DESCRIPTION:
URL:https://swanscombeandgreenhithetowncouncil.gov.uk/event/scouts-are-back-scouts-on-fridays-2/2028-03-03/
LOCATION:1st Galley Hill Scout Group\, 0HJ\, 110 Church Rd\, Swanscombe DA10 0HJ\, United Kingdom\, United Kingdom
CATEGORIES:Sports & Recreation Group
ATTACH;FMTTYPE=image/jpeg:https://swanscombeandgreenhithetowncouncil.gov.uk/wp-content/uploads/2021/12/57.2021-Scouts-are-back-30-Nov.jpg
ORGANIZER;CN="Rob Weller":MAILTO:info@1stgalleyhillscouts.org.uk
END:VEVENT
BEGIN:VEVENT
DTSTART;TZID=Europe/London:20280304T103000
DTEND;TZID=Europe/London:20280304T120000
DTSTAMP:20260423T032337
CREATED:20240313T013714Z
LAST-MODIFIED:20240313T013714Z
UID:10011101-1835778600-1835784000@swanscombeandgreenhithetowncouncil.gov.uk
SUMMARY:Scouts are Back - Beavers on Saturdays
DESCRIPTION:
URL:https://swanscombeandgreenhithetowncouncil.gov.uk/event/scouts-are-back-scouts-on-fridays-3/2028-03-04/
LOCATION:1st Galley Hill Scout Group\, 0HJ\, 110 Church Rd\, Swanscombe DA10 0HJ\, United Kingdom\, United Kingdom
CATEGORIES:Sports & Recreation Group
ATTACH;FMTTYPE=image/jpeg:https://swanscombeandgreenhithetowncouncil.gov.uk/wp-content/uploads/2021/12/57.2021-Scouts-are-back-30-Nov.jpg
ORGANIZER;CN="Rob Weller":MAILTO:info@1stgalleyhillscouts.org.uk
END:VEVENT
BEGIN:VEVENT
DTSTART;TZID=Europe/London:20280308T173000
DTEND;TZID=Europe/London:20280308T203000
DTSTAMP:20260423T032337
CREATED:20240424T184609Z
LAST-MODIFIED:20241219T092041Z
UID:10021668-1836149400-1836160200@swanscombeandgreenhithetowncouncil.gov.uk
SUMMARY:North Kent Martial Arts Club
DESCRIPTION:Please click on the photo below for details of the North Kent Martial Arts Club operating in Swanscombe.
URL:https://swanscombeandgreenhithetowncouncil.gov.uk/event/north-kent-martial-arts-club-4-2-2/2028-03-08/
LOCATION:Swanscombe and Greenhithe Town Council and Community Hall\, 16 The Grove\, Swanscombe DA10 0AD\, United Kingdom\, United Kingdom
CATEGORIES:Sports & Recreation Group
END:VEVENT
BEGIN:VEVENT
DTSTART;TZID=Europe/London:20280308T190000
DTEND;TZID=Europe/London:20280308T203000
DTSTAMP:20260423T032337
CREATED:20240313T013529Z
LAST-MODIFIED:20241219T090853Z
UID:10010723-1836154800-1836160200@swanscombeandgreenhithetowncouncil.gov.uk
SUMMARY:Scouts are Back - Cubs on Wednesdays
DESCRIPTION:
URL:https://swanscombeandgreenhithetowncouncil.gov.uk/event/scouts-are-back-cubs-on-wednesdays-2/2028-03-08/
LOCATION:1st Galley Hill Scout Group\, 0HJ\, 110 Church Rd\, Swanscombe DA10 0HJ\, United Kingdom\, United Kingdom
CATEGORIES:Sports & Recreation Group
ATTACH;FMTTYPE=image/jpeg:https://swanscombeandgreenhithetowncouncil.gov.uk/wp-content/uploads/2021/12/57.2021-Scouts-are-back-30-Nov.jpg
ORGANIZER;CN="Rob Weller":MAILTO:info@1stgalleyhillscouts.org.uk
END:VEVENT
BEGIN:VEVENT
DTSTART;TZID=Europe/London:20280310T183000
DTEND;TZID=Europe/London:20280310T203000
DTSTAMP:20260423T032337
CREATED:20240424T184742Z
LAST-MODIFIED:20241219T091732Z
UID:10021928-1836325800-1836333000@swanscombeandgreenhithetowncouncil.gov.uk
SUMMARY:North Kent Martial Arts Club
DESCRIPTION:Please click on the photo below for details of the North Kent Martial Arts Club operating in Swanscombe.
URL:https://swanscombeandgreenhithetowncouncil.gov.uk/event/north-kent-martial-arts-club-4-3-2/2028-03-10/
LOCATION:Swanscombe and Greenhithe Town Council and Community Hall\, 16 The Grove\, Swanscombe DA10 0AD\, United Kingdom\, United Kingdom
CATEGORIES:Sports & Recreation Group
END:VEVENT
BEGIN:VEVENT
DTSTART;TZID=Europe/London:20280310T193000
DTEND;TZID=Europe/London:20280310T213000
DTSTAMP:20260423T032337
CREATED:20211202T145121Z
LAST-MODIFIED:20240313T013914Z
UID:10020164-1836329400-1836336600@swanscombeandgreenhithetowncouncil.gov.uk
SUMMARY:Scouts are Back - Scouts on Fridays
DESCRIPTION:
URL:https://swanscombeandgreenhithetowncouncil.gov.uk/event/scouts-are-back-scouts-on-fridays-2/2028-03-10/
LOCATION:1st Galley Hill Scout Group\, 0HJ\, 110 Church Rd\, Swanscombe DA10 0HJ\, United Kingdom\, United Kingdom
CATEGORIES:Sports & Recreation Group
ATTACH;FMTTYPE=image/jpeg:https://swanscombeandgreenhithetowncouncil.gov.uk/wp-content/uploads/2021/12/57.2021-Scouts-are-back-30-Nov.jpg
ORGANIZER;CN="Rob Weller":MAILTO:info@1stgalleyhillscouts.org.uk
END:VEVENT
BEGIN:VEVENT
DTSTART;TZID=Europe/London:20280311T103000
DTEND;TZID=Europe/London:20280311T120000
DTSTAMP:20260423T032337
CREATED:20240313T013714Z
LAST-MODIFIED:20240313T013714Z
UID:10011102-1836383400-1836388800@swanscombeandgreenhithetowncouncil.gov.uk
SUMMARY:Scouts are Back - Beavers on Saturdays
DESCRIPTION:
URL:https://swanscombeandgreenhithetowncouncil.gov.uk/event/scouts-are-back-scouts-on-fridays-3/2028-03-11/
LOCATION:1st Galley Hill Scout Group\, 0HJ\, 110 Church Rd\, Swanscombe DA10 0HJ\, United Kingdom\, United Kingdom
CATEGORIES:Sports & Recreation Group
ATTACH;FMTTYPE=image/jpeg:https://swanscombeandgreenhithetowncouncil.gov.uk/wp-content/uploads/2021/12/57.2021-Scouts-are-back-30-Nov.jpg
ORGANIZER;CN="Rob Weller":MAILTO:info@1stgalleyhillscouts.org.uk
END:VEVENT
BEGIN:VEVENT
DTSTART;TZID=Europe/London:20280315T173000
DTEND;TZID=Europe/London:20280315T203000
DTSTAMP:20260423T032337
CREATED:20240424T184609Z
LAST-MODIFIED:20241219T092041Z
UID:10021669-1836754200-1836765000@swanscombeandgreenhithetowncouncil.gov.uk
SUMMARY:North Kent Martial Arts Club
DESCRIPTION:Please click on the photo below for details of the North Kent Martial Arts Club operating in Swanscombe.
URL:https://swanscombeandgreenhithetowncouncil.gov.uk/event/north-kent-martial-arts-club-4-2-2/2028-03-15/
LOCATION:Swanscombe and Greenhithe Town Council and Community Hall\, 16 The Grove\, Swanscombe DA10 0AD\, United Kingdom\, United Kingdom
CATEGORIES:Sports & Recreation Group
END:VEVENT
BEGIN:VEVENT
DTSTART;TZID=Europe/London:20280315T190000
DTEND;TZID=Europe/London:20280315T203000
DTSTAMP:20260423T032337
CREATED:20240313T013529Z
LAST-MODIFIED:20241219T090853Z
UID:10010724-1836759600-1836765000@swanscombeandgreenhithetowncouncil.gov.uk
SUMMARY:Scouts are Back - Cubs on Wednesdays
DESCRIPTION:
URL:https://swanscombeandgreenhithetowncouncil.gov.uk/event/scouts-are-back-cubs-on-wednesdays-2/2028-03-15/
LOCATION:1st Galley Hill Scout Group\, 0HJ\, 110 Church Rd\, Swanscombe DA10 0HJ\, United Kingdom\, United Kingdom
CATEGORIES:Sports & Recreation Group
ATTACH;FMTTYPE=image/jpeg:https://swanscombeandgreenhithetowncouncil.gov.uk/wp-content/uploads/2021/12/57.2021-Scouts-are-back-30-Nov.jpg
ORGANIZER;CN="Rob Weller":MAILTO:info@1stgalleyhillscouts.org.uk
END:VEVENT
BEGIN:VEVENT
DTSTART;TZID=Europe/London:20280317T183000
DTEND;TZID=Europe/London:20280317T203000
DTSTAMP:20260423T032337
CREATED:20240424T184742Z
LAST-MODIFIED:20241219T091732Z
UID:10021929-1836930600-1836937800@swanscombeandgreenhithetowncouncil.gov.uk
SUMMARY:North Kent Martial Arts Club
DESCRIPTION:Please click on the photo below for details of the North Kent Martial Arts Club operating in Swanscombe.
URL:https://swanscombeandgreenhithetowncouncil.gov.uk/event/north-kent-martial-arts-club-4-3-2/2028-03-17/
LOCATION:Swanscombe and Greenhithe Town Council and Community Hall\, 16 The Grove\, Swanscombe DA10 0AD\, United Kingdom\, United Kingdom
CATEGORIES:Sports & Recreation Group
END:VEVENT
BEGIN:VEVENT
DTSTART;TZID=Europe/London:20280317T193000
DTEND;TZID=Europe/London:20280317T213000
DTSTAMP:20260423T032337
CREATED:20211202T145121Z
LAST-MODIFIED:20240313T013914Z
UID:10020165-1836934200-1836941400@swanscombeandgreenhithetowncouncil.gov.uk
SUMMARY:Scouts are Back - Scouts on Fridays
DESCRIPTION:
URL:https://swanscombeandgreenhithetowncouncil.gov.uk/event/scouts-are-back-scouts-on-fridays-2/2028-03-17/
LOCATION:1st Galley Hill Scout Group\, 0HJ\, 110 Church Rd\, Swanscombe DA10 0HJ\, United Kingdom\, United Kingdom
CATEGORIES:Sports & Recreation Group
ATTACH;FMTTYPE=image/jpeg:https://swanscombeandgreenhithetowncouncil.gov.uk/wp-content/uploads/2021/12/57.2021-Scouts-are-back-30-Nov.jpg
ORGANIZER;CN="Rob Weller":MAILTO:info@1stgalleyhillscouts.org.uk
END:VEVENT
BEGIN:VEVENT
DTSTART;TZID=Europe/London:20280318T103000
DTEND;TZID=Europe/London:20280318T120000
DTSTAMP:20260423T032337
CREATED:20240313T013714Z
LAST-MODIFIED:20240313T013714Z
UID:10011103-1836988200-1836993600@swanscombeandgreenhithetowncouncil.gov.uk
SUMMARY:Scouts are Back - Beavers on Saturdays
DESCRIPTION:
URL:https://swanscombeandgreenhithetowncouncil.gov.uk/event/scouts-are-back-scouts-on-fridays-3/2028-03-18/
LOCATION:1st Galley Hill Scout Group\, 0HJ\, 110 Church Rd\, Swanscombe DA10 0HJ\, United Kingdom\, United Kingdom
CATEGORIES:Sports & Recreation Group
ATTACH;FMTTYPE=image/jpeg:https://swanscombeandgreenhithetowncouncil.gov.uk/wp-content/uploads/2021/12/57.2021-Scouts-are-back-30-Nov.jpg
ORGANIZER;CN="Rob Weller":MAILTO:info@1stgalleyhillscouts.org.uk
END:VEVENT
BEGIN:VEVENT
DTSTART;TZID=Europe/London:20280322T173000
DTEND;TZID=Europe/London:20280322T203000
DTSTAMP:20260423T032337
CREATED:20240424T184609Z
LAST-MODIFIED:20241219T092041Z
UID:10021670-1837359000-1837369800@swanscombeandgreenhithetowncouncil.gov.uk
SUMMARY:North Kent Martial Arts Club
DESCRIPTION:Please click on the photo below for details of the North Kent Martial Arts Club operating in Swanscombe.
URL:https://swanscombeandgreenhithetowncouncil.gov.uk/event/north-kent-martial-arts-club-4-2-2/2028-03-22/
LOCATION:Swanscombe and Greenhithe Town Council and Community Hall\, 16 The Grove\, Swanscombe DA10 0AD\, United Kingdom\, United Kingdom
CATEGORIES:Sports & Recreation Group
END:VEVENT
BEGIN:VEVENT
DTSTART;TZID=Europe/London:20280322T190000
DTEND;TZID=Europe/London:20280322T203000
DTSTAMP:20260423T032337
CREATED:20240313T013529Z
LAST-MODIFIED:20241219T090853Z
UID:10010725-1837364400-1837369800@swanscombeandgreenhithetowncouncil.gov.uk
SUMMARY:Scouts are Back - Cubs on Wednesdays
DESCRIPTION:
URL:https://swanscombeandgreenhithetowncouncil.gov.uk/event/scouts-are-back-cubs-on-wednesdays-2/2028-03-22/
LOCATION:1st Galley Hill Scout Group\, 0HJ\, 110 Church Rd\, Swanscombe DA10 0HJ\, United Kingdom\, United Kingdom
CATEGORIES:Sports & Recreation Group
ATTACH;FMTTYPE=image/jpeg:https://swanscombeandgreenhithetowncouncil.gov.uk/wp-content/uploads/2021/12/57.2021-Scouts-are-back-30-Nov.jpg
ORGANIZER;CN="Rob Weller":MAILTO:info@1stgalleyhillscouts.org.uk
END:VEVENT
BEGIN:VEVENT
DTSTART;TZID=Europe/London:20280324T183000
DTEND;TZID=Europe/London:20280324T203000
DTSTAMP:20260423T032338
CREATED:20240424T184742Z
LAST-MODIFIED:20241219T091732Z
UID:10021930-1837535400-1837542600@swanscombeandgreenhithetowncouncil.gov.uk
SUMMARY:North Kent Martial Arts Club
DESCRIPTION:Please click on the photo below for details of the North Kent Martial Arts Club operating in Swanscombe.
URL:https://swanscombeandgreenhithetowncouncil.gov.uk/event/north-kent-martial-arts-club-4-3-2/2028-03-24/
LOCATION:Swanscombe and Greenhithe Town Council and Community Hall\, 16 The Grove\, Swanscombe DA10 0AD\, United Kingdom\, United Kingdom
CATEGORIES:Sports & Recreation Group
END:VEVENT
BEGIN:VEVENT
DTSTART;TZID=Europe/London:20280324T193000
DTEND;TZID=Europe/London:20280324T213000
DTSTAMP:20260423T032338
CREATED:20211202T145121Z
LAST-MODIFIED:20240313T013914Z
UID:10020166-1837539000-1837546200@swanscombeandgreenhithetowncouncil.gov.uk
SUMMARY:Scouts are Back - Scouts on Fridays
DESCRIPTION:
URL:https://swanscombeandgreenhithetowncouncil.gov.uk/event/scouts-are-back-scouts-on-fridays-2/2028-03-24/
LOCATION:1st Galley Hill Scout Group\, 0HJ\, 110 Church Rd\, Swanscombe DA10 0HJ\, United Kingdom\, United Kingdom
CATEGORIES:Sports & Recreation Group
ATTACH;FMTTYPE=image/jpeg:https://swanscombeandgreenhithetowncouncil.gov.uk/wp-content/uploads/2021/12/57.2021-Scouts-are-back-30-Nov.jpg
ORGANIZER;CN="Rob Weller":MAILTO:info@1stgalleyhillscouts.org.uk
END:VEVENT
BEGIN:VEVENT
DTSTART;TZID=Europe/London:20280325T103000
DTEND;TZID=Europe/London:20280325T120000
DTSTAMP:20260423T032338
CREATED:20240313T013714Z
LAST-MODIFIED:20240313T013714Z
UID:10011104-1837593000-1837598400@swanscombeandgreenhithetowncouncil.gov.uk
SUMMARY:Scouts are Back - Beavers on Saturdays
DESCRIPTION:
URL:https://swanscombeandgreenhithetowncouncil.gov.uk/event/scouts-are-back-scouts-on-fridays-3/2028-03-25/
LOCATION:1st Galley Hill Scout Group\, 0HJ\, 110 Church Rd\, Swanscombe DA10 0HJ\, United Kingdom\, United Kingdom
CATEGORIES:Sports & Recreation Group
ATTACH;FMTTYPE=image/jpeg:https://swanscombeandgreenhithetowncouncil.gov.uk/wp-content/uploads/2021/12/57.2021-Scouts-are-back-30-Nov.jpg
ORGANIZER;CN="Rob Weller":MAILTO:info@1stgalleyhillscouts.org.uk
END:VEVENT
BEGIN:VEVENT
DTSTART;TZID=Europe/London:20280329T173000
DTEND;TZID=Europe/London:20280329T203000
DTSTAMP:20260423T032338
CREATED:20240424T184609Z
LAST-MODIFIED:20241219T092041Z
UID:10021671-1837963800-1837974600@swanscombeandgreenhithetowncouncil.gov.uk
SUMMARY:North Kent Martial Arts Club
DESCRIPTION:Please click on the photo below for details of the North Kent Martial Arts Club operating in Swanscombe.
URL:https://swanscombeandgreenhithetowncouncil.gov.uk/event/north-kent-martial-arts-club-4-2-2/2028-03-29/
LOCATION:Swanscombe and Greenhithe Town Council and Community Hall\, 16 The Grove\, Swanscombe DA10 0AD\, United Kingdom\, United Kingdom
CATEGORIES:Sports & Recreation Group
END:VEVENT
BEGIN:VEVENT
DTSTART;TZID=Europe/London:20280329T190000
DTEND;TZID=Europe/London:20280329T203000
DTSTAMP:20260423T032338
CREATED:20240313T013529Z
LAST-MODIFIED:20241219T090853Z
UID:10010726-1837969200-1837974600@swanscombeandgreenhithetowncouncil.gov.uk
SUMMARY:Scouts are Back - Cubs on Wednesdays
DESCRIPTION:
URL:https://swanscombeandgreenhithetowncouncil.gov.uk/event/scouts-are-back-cubs-on-wednesdays-2/2028-03-29/
LOCATION:1st Galley Hill Scout Group\, 0HJ\, 110 Church Rd\, Swanscombe DA10 0HJ\, United Kingdom\, United Kingdom
CATEGORIES:Sports & Recreation Group
ATTACH;FMTTYPE=image/jpeg:https://swanscombeandgreenhithetowncouncil.gov.uk/wp-content/uploads/2021/12/57.2021-Scouts-are-back-30-Nov.jpg
ORGANIZER;CN="Rob Weller":MAILTO:info@1stgalleyhillscouts.org.uk
END:VEVENT
BEGIN:VEVENT
DTSTART;TZID=Europe/London:20280331T183000
DTEND;TZID=Europe/London:20280331T203000
DTSTAMP:20260423T032338
CREATED:20240424T184742Z
LAST-MODIFIED:20241219T091732Z
UID:10021931-1838140200-1838147400@swanscombeandgreenhithetowncouncil.gov.uk
SUMMARY:North Kent Martial Arts Club
DESCRIPTION:Please click on the photo below for details of the North Kent Martial Arts Club operating in Swanscombe.
URL:https://swanscombeandgreenhithetowncouncil.gov.uk/event/north-kent-martial-arts-club-4-3-2/2028-03-31/
LOCATION:Swanscombe and Greenhithe Town Council and Community Hall\, 16 The Grove\, Swanscombe DA10 0AD\, United Kingdom\, United Kingdom
CATEGORIES:Sports & Recreation Group
END:VEVENT
BEGIN:VEVENT
DTSTART;TZID=Europe/London:20280331T193000
DTEND;TZID=Europe/London:20280331T213000
DTSTAMP:20260423T032338
CREATED:20211202T145121Z
LAST-MODIFIED:20240313T013914Z
UID:10020167-1838143800-1838151000@swanscombeandgreenhithetowncouncil.gov.uk
SUMMARY:Scouts are Back - Scouts on Fridays
DESCRIPTION:
URL:https://swanscombeandgreenhithetowncouncil.gov.uk/event/scouts-are-back-scouts-on-fridays-2/2028-03-31/
LOCATION:1st Galley Hill Scout Group\, 0HJ\, 110 Church Rd\, Swanscombe DA10 0HJ\, United Kingdom\, United Kingdom
CATEGORIES:Sports & Recreation Group
ATTACH;FMTTYPE=image/jpeg:https://swanscombeandgreenhithetowncouncil.gov.uk/wp-content/uploads/2021/12/57.2021-Scouts-are-back-30-Nov.jpg
ORGANIZER;CN="Rob Weller":MAILTO:info@1stgalleyhillscouts.org.uk
END:VEVENT
END:VCALENDAR