BEGIN:VCALENDAR
VERSION:2.0
PRODID:-//Swanscombe and Greenhithe Town Council - ECPv6.15.20//NONSGML v1.0//EN
CALSCALE:GREGORIAN
METHOD:PUBLISH
X-ORIGINAL-URL:https://swanscombeandgreenhithetowncouncil.gov.uk
X-WR-CALDESC:Events for Swanscombe and Greenhithe Town Council
REFRESH-INTERVAL;VALUE=DURATION:PT1H
X-Robots-Tag:noindex
X-PUBLISHED-TTL:PT1H
BEGIN:VTIMEZONE
TZID:Europe/London
BEGIN:DAYLIGHT
TZOFFSETFROM:+0000
TZOFFSETTO:+0100
TZNAME:BST
DTSTART:20230326T010000
END:DAYLIGHT
BEGIN:STANDARD
TZOFFSETFROM:+0100
TZOFFSETTO:+0000
TZNAME:GMT
DTSTART:20231029T010000
END:STANDARD
BEGIN:DAYLIGHT
TZOFFSETFROM:+0000
TZOFFSETTO:+0100
TZNAME:BST
DTSTART:20240331T010000
END:DAYLIGHT
BEGIN:STANDARD
TZOFFSETFROM:+0100
TZOFFSETTO:+0000
TZNAME:GMT
DTSTART:20241027T010000
END:STANDARD
BEGIN:DAYLIGHT
TZOFFSETFROM:+0000
TZOFFSETTO:+0100
TZNAME:BST
DTSTART:20250330T010000
END:DAYLIGHT
BEGIN:STANDARD
TZOFFSETFROM:+0100
TZOFFSETTO:+0000
TZNAME:GMT
DTSTART:20251026T010000
END:STANDARD
END:VTIMEZONE
BEGIN:VEVENT
DTSTART;TZID=Europe/London:20240710T173000
DTEND;TZID=Europe/London:20240710T203000
DTSTAMP:20260423T085717
CREATED:20240424T184609Z
LAST-MODIFIED:20241219T092041Z
UID:10021477-1720632600-1720643400@swanscombeandgreenhithetowncouncil.gov.uk
SUMMARY:North Kent Martial Arts Club
DESCRIPTION:Please click on the photo below for details of the North Kent Martial Arts Club operating in Swanscombe.
URL:https://swanscombeandgreenhithetowncouncil.gov.uk/event/north-kent-martial-arts-club-4-2-2/2024-07-10/
LOCATION:Swanscombe and Greenhithe Town Council and Community Hall\, 16 The Grove\, Swanscombe DA10 0AD\, United Kingdom\, United Kingdom
CATEGORIES:Sports & Recreation Group
END:VEVENT
BEGIN:VEVENT
DTSTART;TZID=Europe/London:20240710T190000
DTEND;TZID=Europe/London:20240710T203000
DTSTAMP:20260423T085717
CREATED:20240313T013529Z
LAST-MODIFIED:20241219T090853Z
UID:10010532-1720638000-1720643400@swanscombeandgreenhithetowncouncil.gov.uk
SUMMARY:Scouts are Back - Cubs on Wednesdays
DESCRIPTION:
URL:https://swanscombeandgreenhithetowncouncil.gov.uk/event/scouts-are-back-cubs-on-wednesdays-2/2024-07-10/
LOCATION:1st Galley Hill Scout Group\, 0HJ\, 110 Church Rd\, Swanscombe DA10 0HJ\, United Kingdom\, United Kingdom
CATEGORIES:Sports & Recreation Group
ATTACH;FMTTYPE=image/jpeg:https://swanscombeandgreenhithetowncouncil.gov.uk/wp-content/uploads/2021/12/57.2021-Scouts-are-back-30-Nov.jpg
ORGANIZER;CN="Rob Weller":MAILTO:info@1stgalleyhillscouts.org.uk
END:VEVENT
BEGIN:VEVENT
DTSTART;TZID=Europe/London:20240712T183000
DTEND;TZID=Europe/London:20240712T203000
DTSTAMP:20260423T085717
CREATED:20240424T184742Z
LAST-MODIFIED:20241219T091732Z
UID:10021737-1720809000-1720816200@swanscombeandgreenhithetowncouncil.gov.uk
SUMMARY:North Kent Martial Arts Club
DESCRIPTION:Please click on the photo below for details of the North Kent Martial Arts Club operating in Swanscombe.
URL:https://swanscombeandgreenhithetowncouncil.gov.uk/event/north-kent-martial-arts-club-4-3-2/2024-07-12/
LOCATION:Swanscombe and Greenhithe Town Council and Community Hall\, 16 The Grove\, Swanscombe DA10 0AD\, United Kingdom\, United Kingdom
CATEGORIES:Sports & Recreation Group
END:VEVENT
BEGIN:VEVENT
DTSTART;TZID=Europe/London:20240712T193000
DTEND;TZID=Europe/London:20240712T213000
DTSTAMP:20260423T085717
CREATED:20211202T145121Z
LAST-MODIFIED:20240313T013914Z
UID:10019973-1720812600-1720819800@swanscombeandgreenhithetowncouncil.gov.uk
SUMMARY:Scouts are Back - Scouts on Fridays
DESCRIPTION:
URL:https://swanscombeandgreenhithetowncouncil.gov.uk/event/scouts-are-back-scouts-on-fridays-2/2024-07-12/
LOCATION:1st Galley Hill Scout Group\, 0HJ\, 110 Church Rd\, Swanscombe DA10 0HJ\, United Kingdom\, United Kingdom
CATEGORIES:Sports & Recreation Group
ATTACH;FMTTYPE=image/jpeg:https://swanscombeandgreenhithetowncouncil.gov.uk/wp-content/uploads/2021/12/57.2021-Scouts-are-back-30-Nov.jpg
ORGANIZER;CN="Rob Weller":MAILTO:info@1stgalleyhillscouts.org.uk
END:VEVENT
BEGIN:VEVENT
DTSTART;TZID=Europe/London:20240713T103000
DTEND;TZID=Europe/London:20240713T120000
DTSTAMP:20260423T085717
CREATED:20240313T013714Z
LAST-MODIFIED:20240313T013714Z
UID:10010911-1720866600-1720872000@swanscombeandgreenhithetowncouncil.gov.uk
SUMMARY:Scouts are Back - Beavers on Saturdays
DESCRIPTION:
URL:https://swanscombeandgreenhithetowncouncil.gov.uk/event/scouts-are-back-scouts-on-fridays-3/2024-07-13/
LOCATION:1st Galley Hill Scout Group\, 0HJ\, 110 Church Rd\, Swanscombe DA10 0HJ\, United Kingdom\, United Kingdom
CATEGORIES:Sports & Recreation Group
ATTACH;FMTTYPE=image/jpeg:https://swanscombeandgreenhithetowncouncil.gov.uk/wp-content/uploads/2021/12/57.2021-Scouts-are-back-30-Nov.jpg
ORGANIZER;CN="Rob Weller":MAILTO:info@1stgalleyhillscouts.org.uk
END:VEVENT
END:VCALENDAR