BEGIN:VCALENDAR
VERSION:2.0
PRODID:-//Swanscombe and Greenhithe Town Council - ECPv6.15.20//NONSGML v1.0//EN
CALSCALE:GREGORIAN
METHOD:PUBLISH
X-WR-CALNAME:Swanscombe and Greenhithe Town Council
X-ORIGINAL-URL:https://swanscombeandgreenhithetowncouncil.gov.uk
X-WR-CALDESC:Events for Swanscombe and Greenhithe Town Council
REFRESH-INTERVAL;VALUE=DURATION:PT1H
X-Robots-Tag:noindex
X-PUBLISHED-TTL:PT1H
BEGIN:VTIMEZONE
TZID:Europe/London
BEGIN:DAYLIGHT
TZOFFSETFROM:+0000
TZOFFSETTO:+0100
TZNAME:BST
DTSTART:20260329T010000
END:DAYLIGHT
BEGIN:STANDARD
TZOFFSETFROM:+0100
TZOFFSETTO:+0000
TZNAME:GMT
DTSTART:20261025T010000
END:STANDARD
BEGIN:DAYLIGHT
TZOFFSETFROM:+0000
TZOFFSETTO:+0100
TZNAME:BST
DTSTART:20270328T010000
END:DAYLIGHT
BEGIN:STANDARD
TZOFFSETFROM:+0100
TZOFFSETTO:+0000
TZNAME:GMT
DTSTART:20271031T010000
END:STANDARD
BEGIN:DAYLIGHT
TZOFFSETFROM:+0000
TZOFFSETTO:+0100
TZNAME:BST
DTSTART:20280326T010000
END:DAYLIGHT
BEGIN:STANDARD
TZOFFSETFROM:+0100
TZOFFSETTO:+0000
TZNAME:GMT
DTSTART:20281029T010000
END:STANDARD
END:VTIMEZONE
BEGIN:VEVENT
DTSTART;TZID=Europe/London:20270104T170000
DTEND;TZID=Europe/London:20270104T173000
DTSTAMP:20260421T201055
CREATED:20250929T093455Z
LAST-MODIFIED:20250929T093455Z
UID:10023650-1799082000-1799083800@swanscombeandgreenhithetowncouncil.gov.uk
SUMMARY:Baby Ballet - CB Studio
DESCRIPTION:
URL:https://swanscombeandgreenhithetowncouncil.gov.uk/event/baby-ballet-cb-studio/2027-01-04/
LOCATION:Swanscombe and Greenhithe Town Council and Community Hall\, 16 The Grove\, Swanscombe DA10 0AD\, United Kingdom\, United Kingdom
ATTACH;FMTTYPE=image/jpeg:https://swanscombeandgreenhithetowncouncil.gov.uk/wp-content/uploads/2025/09/2025-CB-Studio-Ballet-Publicity-Poster-29-Sep.jpg
ORGANIZER;CN="CB Studio":MAILTO:cheybdance@gmail.com
END:VEVENT
BEGIN:VEVENT
DTSTART;TZID=Europe/London:20270111T170000
DTEND;TZID=Europe/London:20270111T173000
DTSTAMP:20260421T201055
CREATED:20250929T093455Z
LAST-MODIFIED:20250929T093455Z
UID:10023651-1799686800-1799688600@swanscombeandgreenhithetowncouncil.gov.uk
SUMMARY:Baby Ballet - CB Studio
DESCRIPTION:
URL:https://swanscombeandgreenhithetowncouncil.gov.uk/event/baby-ballet-cb-studio/2027-01-11/
LOCATION:Swanscombe and Greenhithe Town Council and Community Hall\, 16 The Grove\, Swanscombe DA10 0AD\, United Kingdom\, United Kingdom
ATTACH;FMTTYPE=image/jpeg:https://swanscombeandgreenhithetowncouncil.gov.uk/wp-content/uploads/2025/09/2025-CB-Studio-Ballet-Publicity-Poster-29-Sep.jpg
ORGANIZER;CN="CB Studio":MAILTO:cheybdance@gmail.com
END:VEVENT
BEGIN:VEVENT
DTSTART;TZID=Europe/London:20270118T170000
DTEND;TZID=Europe/London:20270118T173000
DTSTAMP:20260421T201055
CREATED:20250929T093455Z
LAST-MODIFIED:20250929T093455Z
UID:10023652-1800291600-1800293400@swanscombeandgreenhithetowncouncil.gov.uk
SUMMARY:Baby Ballet - CB Studio
DESCRIPTION:
URL:https://swanscombeandgreenhithetowncouncil.gov.uk/event/baby-ballet-cb-studio/2027-01-18/
LOCATION:Swanscombe and Greenhithe Town Council and Community Hall\, 16 The Grove\, Swanscombe DA10 0AD\, United Kingdom\, United Kingdom
ATTACH;FMTTYPE=image/jpeg:https://swanscombeandgreenhithetowncouncil.gov.uk/wp-content/uploads/2025/09/2025-CB-Studio-Ballet-Publicity-Poster-29-Sep.jpg
ORGANIZER;CN="CB Studio":MAILTO:cheybdance@gmail.com
END:VEVENT
BEGIN:VEVENT
DTSTART;TZID=Europe/London:20270125T170000
DTEND;TZID=Europe/London:20270125T173000
DTSTAMP:20260421T201055
CREATED:20250929T093455Z
LAST-MODIFIED:20250929T093455Z
UID:10023653-1800896400-1800898200@swanscombeandgreenhithetowncouncil.gov.uk
SUMMARY:Baby Ballet - CB Studio
DESCRIPTION:
URL:https://swanscombeandgreenhithetowncouncil.gov.uk/event/baby-ballet-cb-studio/2027-01-25/
LOCATION:Swanscombe and Greenhithe Town Council and Community Hall\, 16 The Grove\, Swanscombe DA10 0AD\, United Kingdom\, United Kingdom
ATTACH;FMTTYPE=image/jpeg:https://swanscombeandgreenhithetowncouncil.gov.uk/wp-content/uploads/2025/09/2025-CB-Studio-Ballet-Publicity-Poster-29-Sep.jpg
ORGANIZER;CN="CB Studio":MAILTO:cheybdance@gmail.com
END:VEVENT
BEGIN:VEVENT
DTSTART;TZID=Europe/London:20270201T170000
DTEND;TZID=Europe/London:20270201T173000
DTSTAMP:20260421T201055
CREATED:20250929T093455Z
LAST-MODIFIED:20250929T093455Z
UID:10023654-1801501200-1801503000@swanscombeandgreenhithetowncouncil.gov.uk
SUMMARY:Baby Ballet - CB Studio
DESCRIPTION:
URL:https://swanscombeandgreenhithetowncouncil.gov.uk/event/baby-ballet-cb-studio/2027-02-01/
LOCATION:Swanscombe and Greenhithe Town Council and Community Hall\, 16 The Grove\, Swanscombe DA10 0AD\, United Kingdom\, United Kingdom
ATTACH;FMTTYPE=image/jpeg:https://swanscombeandgreenhithetowncouncil.gov.uk/wp-content/uploads/2025/09/2025-CB-Studio-Ballet-Publicity-Poster-29-Sep.jpg
ORGANIZER;CN="CB Studio":MAILTO:cheybdance@gmail.com
END:VEVENT
BEGIN:VEVENT
DTSTART;TZID=Europe/London:20270208T170000
DTEND;TZID=Europe/London:20270208T173000
DTSTAMP:20260421T201055
CREATED:20250929T093455Z
LAST-MODIFIED:20250929T093455Z
UID:10023655-1802106000-1802107800@swanscombeandgreenhithetowncouncil.gov.uk
SUMMARY:Baby Ballet - CB Studio
DESCRIPTION:
URL:https://swanscombeandgreenhithetowncouncil.gov.uk/event/baby-ballet-cb-studio/2027-02-08/
LOCATION:Swanscombe and Greenhithe Town Council and Community Hall\, 16 The Grove\, Swanscombe DA10 0AD\, United Kingdom\, United Kingdom
ATTACH;FMTTYPE=image/jpeg:https://swanscombeandgreenhithetowncouncil.gov.uk/wp-content/uploads/2025/09/2025-CB-Studio-Ballet-Publicity-Poster-29-Sep.jpg
ORGANIZER;CN="CB Studio":MAILTO:cheybdance@gmail.com
END:VEVENT
BEGIN:VEVENT
DTSTART;TZID=Europe/London:20270215T170000
DTEND;TZID=Europe/London:20270215T173000
DTSTAMP:20260421T201055
CREATED:20250929T093455Z
LAST-MODIFIED:20250929T093455Z
UID:10023656-1802710800-1802712600@swanscombeandgreenhithetowncouncil.gov.uk
SUMMARY:Baby Ballet - CB Studio
DESCRIPTION:
URL:https://swanscombeandgreenhithetowncouncil.gov.uk/event/baby-ballet-cb-studio/2027-02-15/
LOCATION:Swanscombe and Greenhithe Town Council and Community Hall\, 16 The Grove\, Swanscombe DA10 0AD\, United Kingdom\, United Kingdom
ATTACH;FMTTYPE=image/jpeg:https://swanscombeandgreenhithetowncouncil.gov.uk/wp-content/uploads/2025/09/2025-CB-Studio-Ballet-Publicity-Poster-29-Sep.jpg
ORGANIZER;CN="CB Studio":MAILTO:cheybdance@gmail.com
END:VEVENT
BEGIN:VEVENT
DTSTART;TZID=Europe/London:20270222T170000
DTEND;TZID=Europe/London:20270222T173000
DTSTAMP:20260421T201055
CREATED:20250929T093455Z
LAST-MODIFIED:20250929T093455Z
UID:10023657-1803315600-1803317400@swanscombeandgreenhithetowncouncil.gov.uk
SUMMARY:Baby Ballet - CB Studio
DESCRIPTION:
URL:https://swanscombeandgreenhithetowncouncil.gov.uk/event/baby-ballet-cb-studio/2027-02-22/
LOCATION:Swanscombe and Greenhithe Town Council and Community Hall\, 16 The Grove\, Swanscombe DA10 0AD\, United Kingdom\, United Kingdom
ATTACH;FMTTYPE=image/jpeg:https://swanscombeandgreenhithetowncouncil.gov.uk/wp-content/uploads/2025/09/2025-CB-Studio-Ballet-Publicity-Poster-29-Sep.jpg
ORGANIZER;CN="CB Studio":MAILTO:cheybdance@gmail.com
END:VEVENT
BEGIN:VEVENT
DTSTART;TZID=Europe/London:20270301T170000
DTEND;TZID=Europe/London:20270301T173000
DTSTAMP:20260421T201055
CREATED:20250929T093455Z
LAST-MODIFIED:20250929T093455Z
UID:10023658-1803920400-1803922200@swanscombeandgreenhithetowncouncil.gov.uk
SUMMARY:Baby Ballet - CB Studio
DESCRIPTION:
URL:https://swanscombeandgreenhithetowncouncil.gov.uk/event/baby-ballet-cb-studio/2027-03-01/
LOCATION:Swanscombe and Greenhithe Town Council and Community Hall\, 16 The Grove\, Swanscombe DA10 0AD\, United Kingdom\, United Kingdom
ATTACH;FMTTYPE=image/jpeg:https://swanscombeandgreenhithetowncouncil.gov.uk/wp-content/uploads/2025/09/2025-CB-Studio-Ballet-Publicity-Poster-29-Sep.jpg
ORGANIZER;CN="CB Studio":MAILTO:cheybdance@gmail.com
END:VEVENT
BEGIN:VEVENT
DTSTART;TZID=Europe/London:20270308T170000
DTEND;TZID=Europe/London:20270308T173000
DTSTAMP:20260421T201055
CREATED:20250929T093455Z
LAST-MODIFIED:20250929T093455Z
UID:10023659-1804525200-1804527000@swanscombeandgreenhithetowncouncil.gov.uk
SUMMARY:Baby Ballet - CB Studio
DESCRIPTION:
URL:https://swanscombeandgreenhithetowncouncil.gov.uk/event/baby-ballet-cb-studio/2027-03-08/
LOCATION:Swanscombe and Greenhithe Town Council and Community Hall\, 16 The Grove\, Swanscombe DA10 0AD\, United Kingdom\, United Kingdom
ATTACH;FMTTYPE=image/jpeg:https://swanscombeandgreenhithetowncouncil.gov.uk/wp-content/uploads/2025/09/2025-CB-Studio-Ballet-Publicity-Poster-29-Sep.jpg
ORGANIZER;CN="CB Studio":MAILTO:cheybdance@gmail.com
END:VEVENT
BEGIN:VEVENT
DTSTART;TZID=Europe/London:20270315T170000
DTEND;TZID=Europe/London:20270315T173000
DTSTAMP:20260421T201055
CREATED:20250929T093455Z
LAST-MODIFIED:20250929T093455Z
UID:10023660-1805130000-1805131800@swanscombeandgreenhithetowncouncil.gov.uk
SUMMARY:Baby Ballet - CB Studio
DESCRIPTION:
URL:https://swanscombeandgreenhithetowncouncil.gov.uk/event/baby-ballet-cb-studio/2027-03-15/
LOCATION:Swanscombe and Greenhithe Town Council and Community Hall\, 16 The Grove\, Swanscombe DA10 0AD\, United Kingdom\, United Kingdom
ATTACH;FMTTYPE=image/jpeg:https://swanscombeandgreenhithetowncouncil.gov.uk/wp-content/uploads/2025/09/2025-CB-Studio-Ballet-Publicity-Poster-29-Sep.jpg
ORGANIZER;CN="CB Studio":MAILTO:cheybdance@gmail.com
END:VEVENT
BEGIN:VEVENT
DTSTART;TZID=Europe/London:20270322T170000
DTEND;TZID=Europe/London:20270322T173000
DTSTAMP:20260421T201055
CREATED:20250929T093455Z
LAST-MODIFIED:20250929T093455Z
UID:10023661-1805734800-1805736600@swanscombeandgreenhithetowncouncil.gov.uk
SUMMARY:Baby Ballet - CB Studio
DESCRIPTION:
URL:https://swanscombeandgreenhithetowncouncil.gov.uk/event/baby-ballet-cb-studio/2027-03-22/
LOCATION:Swanscombe and Greenhithe Town Council and Community Hall\, 16 The Grove\, Swanscombe DA10 0AD\, United Kingdom\, United Kingdom
ATTACH;FMTTYPE=image/jpeg:https://swanscombeandgreenhithetowncouncil.gov.uk/wp-content/uploads/2025/09/2025-CB-Studio-Ballet-Publicity-Poster-29-Sep.jpg
ORGANIZER;CN="CB Studio":MAILTO:cheybdance@gmail.com
END:VEVENT
BEGIN:VEVENT
DTSTART;TZID=Europe/London:20270329T170000
DTEND;TZID=Europe/London:20270329T173000
DTSTAMP:20260421T201055
CREATED:20250929T093455Z
LAST-MODIFIED:20250929T093455Z
UID:10023662-1806339600-1806341400@swanscombeandgreenhithetowncouncil.gov.uk
SUMMARY:Baby Ballet - CB Studio
DESCRIPTION:
URL:https://swanscombeandgreenhithetowncouncil.gov.uk/event/baby-ballet-cb-studio/2027-03-29/
LOCATION:Swanscombe and Greenhithe Town Council and Community Hall\, 16 The Grove\, Swanscombe DA10 0AD\, United Kingdom\, United Kingdom
ATTACH;FMTTYPE=image/jpeg:https://swanscombeandgreenhithetowncouncil.gov.uk/wp-content/uploads/2025/09/2025-CB-Studio-Ballet-Publicity-Poster-29-Sep.jpg
ORGANIZER;CN="CB Studio":MAILTO:cheybdance@gmail.com
END:VEVENT
BEGIN:VEVENT
DTSTART;TZID=Europe/London:20270405T170000
DTEND;TZID=Europe/London:20270405T173000
DTSTAMP:20260421T201055
CREATED:20250929T093455Z
LAST-MODIFIED:20250929T093455Z
UID:10023663-1806944400-1806946200@swanscombeandgreenhithetowncouncil.gov.uk
SUMMARY:Baby Ballet - CB Studio
DESCRIPTION:
URL:https://swanscombeandgreenhithetowncouncil.gov.uk/event/baby-ballet-cb-studio/2027-04-05/
LOCATION:Swanscombe and Greenhithe Town Council and Community Hall\, 16 The Grove\, Swanscombe DA10 0AD\, United Kingdom\, United Kingdom
ATTACH;FMTTYPE=image/jpeg:https://swanscombeandgreenhithetowncouncil.gov.uk/wp-content/uploads/2025/09/2025-CB-Studio-Ballet-Publicity-Poster-29-Sep.jpg
ORGANIZER;CN="CB Studio":MAILTO:cheybdance@gmail.com
END:VEVENT
BEGIN:VEVENT
DTSTART;TZID=Europe/London:20270412T170000
DTEND;TZID=Europe/London:20270412T173000
DTSTAMP:20260421T201055
CREATED:20250929T093455Z
LAST-MODIFIED:20250929T093455Z
UID:10023664-1807549200-1807551000@swanscombeandgreenhithetowncouncil.gov.uk
SUMMARY:Baby Ballet - CB Studio
DESCRIPTION:
URL:https://swanscombeandgreenhithetowncouncil.gov.uk/event/baby-ballet-cb-studio/2027-04-12/
LOCATION:Swanscombe and Greenhithe Town Council and Community Hall\, 16 The Grove\, Swanscombe DA10 0AD\, United Kingdom\, United Kingdom
ATTACH;FMTTYPE=image/jpeg:https://swanscombeandgreenhithetowncouncil.gov.uk/wp-content/uploads/2025/09/2025-CB-Studio-Ballet-Publicity-Poster-29-Sep.jpg
ORGANIZER;CN="CB Studio":MAILTO:cheybdance@gmail.com
END:VEVENT
BEGIN:VEVENT
DTSTART;TZID=Europe/London:20270419T170000
DTEND;TZID=Europe/London:20270419T173000
DTSTAMP:20260421T201055
CREATED:20250929T093455Z
LAST-MODIFIED:20250929T093455Z
UID:10023665-1808154000-1808155800@swanscombeandgreenhithetowncouncil.gov.uk
SUMMARY:Baby Ballet - CB Studio
DESCRIPTION:
URL:https://swanscombeandgreenhithetowncouncil.gov.uk/event/baby-ballet-cb-studio/2027-04-19/
LOCATION:Swanscombe and Greenhithe Town Council and Community Hall\, 16 The Grove\, Swanscombe DA10 0AD\, United Kingdom\, United Kingdom
ATTACH;FMTTYPE=image/jpeg:https://swanscombeandgreenhithetowncouncil.gov.uk/wp-content/uploads/2025/09/2025-CB-Studio-Ballet-Publicity-Poster-29-Sep.jpg
ORGANIZER;CN="CB Studio":MAILTO:cheybdance@gmail.com
END:VEVENT
BEGIN:VEVENT
DTSTART;TZID=Europe/London:20270426T170000
DTEND;TZID=Europe/London:20270426T173000
DTSTAMP:20260421T201055
CREATED:20250929T093455Z
LAST-MODIFIED:20250929T093455Z
UID:10023666-1808758800-1808760600@swanscombeandgreenhithetowncouncil.gov.uk
SUMMARY:Baby Ballet - CB Studio
DESCRIPTION:
URL:https://swanscombeandgreenhithetowncouncil.gov.uk/event/baby-ballet-cb-studio/2027-04-26/
LOCATION:Swanscombe and Greenhithe Town Council and Community Hall\, 16 The Grove\, Swanscombe DA10 0AD\, United Kingdom\, United Kingdom
ATTACH;FMTTYPE=image/jpeg:https://swanscombeandgreenhithetowncouncil.gov.uk/wp-content/uploads/2025/09/2025-CB-Studio-Ballet-Publicity-Poster-29-Sep.jpg
ORGANIZER;CN="CB Studio":MAILTO:cheybdance@gmail.com
END:VEVENT
BEGIN:VEVENT
DTSTART;TZID=Europe/London:20270503T170000
DTEND;TZID=Europe/London:20270503T173000
DTSTAMP:20260421T201055
CREATED:20250929T093455Z
LAST-MODIFIED:20250929T093455Z
UID:10023667-1809363600-1809365400@swanscombeandgreenhithetowncouncil.gov.uk
SUMMARY:Baby Ballet - CB Studio
DESCRIPTION:
URL:https://swanscombeandgreenhithetowncouncil.gov.uk/event/baby-ballet-cb-studio/2027-05-03/
LOCATION:Swanscombe and Greenhithe Town Council and Community Hall\, 16 The Grove\, Swanscombe DA10 0AD\, United Kingdom\, United Kingdom
ATTACH;FMTTYPE=image/jpeg:https://swanscombeandgreenhithetowncouncil.gov.uk/wp-content/uploads/2025/09/2025-CB-Studio-Ballet-Publicity-Poster-29-Sep.jpg
ORGANIZER;CN="CB Studio":MAILTO:cheybdance@gmail.com
END:VEVENT
BEGIN:VEVENT
DTSTART;TZID=Europe/London:20270510T170000
DTEND;TZID=Europe/London:20270510T173000
DTSTAMP:20260421T201055
CREATED:20250929T093455Z
LAST-MODIFIED:20250929T093455Z
UID:10023668-1809968400-1809970200@swanscombeandgreenhithetowncouncil.gov.uk
SUMMARY:Baby Ballet - CB Studio
DESCRIPTION:
URL:https://swanscombeandgreenhithetowncouncil.gov.uk/event/baby-ballet-cb-studio/2027-05-10/
LOCATION:Swanscombe and Greenhithe Town Council and Community Hall\, 16 The Grove\, Swanscombe DA10 0AD\, United Kingdom\, United Kingdom
ATTACH;FMTTYPE=image/jpeg:https://swanscombeandgreenhithetowncouncil.gov.uk/wp-content/uploads/2025/09/2025-CB-Studio-Ballet-Publicity-Poster-29-Sep.jpg
ORGANIZER;CN="CB Studio":MAILTO:cheybdance@gmail.com
END:VEVENT
BEGIN:VEVENT
DTSTART;TZID=Europe/London:20270517T170000
DTEND;TZID=Europe/London:20270517T173000
DTSTAMP:20260421T201055
CREATED:20250929T093455Z
LAST-MODIFIED:20250929T093455Z
UID:10023669-1810573200-1810575000@swanscombeandgreenhithetowncouncil.gov.uk
SUMMARY:Baby Ballet - CB Studio
DESCRIPTION:
URL:https://swanscombeandgreenhithetowncouncil.gov.uk/event/baby-ballet-cb-studio/2027-05-17/
LOCATION:Swanscombe and Greenhithe Town Council and Community Hall\, 16 The Grove\, Swanscombe DA10 0AD\, United Kingdom\, United Kingdom
ATTACH;FMTTYPE=image/jpeg:https://swanscombeandgreenhithetowncouncil.gov.uk/wp-content/uploads/2025/09/2025-CB-Studio-Ballet-Publicity-Poster-29-Sep.jpg
ORGANIZER;CN="CB Studio":MAILTO:cheybdance@gmail.com
END:VEVENT
BEGIN:VEVENT
DTSTART;TZID=Europe/London:20270524T170000
DTEND;TZID=Europe/London:20270524T173000
DTSTAMP:20260421T201055
CREATED:20250929T093455Z
LAST-MODIFIED:20250929T093455Z
UID:10023670-1811178000-1811179800@swanscombeandgreenhithetowncouncil.gov.uk
SUMMARY:Baby Ballet - CB Studio
DESCRIPTION:
URL:https://swanscombeandgreenhithetowncouncil.gov.uk/event/baby-ballet-cb-studio/2027-05-24/
LOCATION:Swanscombe and Greenhithe Town Council and Community Hall\, 16 The Grove\, Swanscombe DA10 0AD\, United Kingdom\, United Kingdom
ATTACH;FMTTYPE=image/jpeg:https://swanscombeandgreenhithetowncouncil.gov.uk/wp-content/uploads/2025/09/2025-CB-Studio-Ballet-Publicity-Poster-29-Sep.jpg
ORGANIZER;CN="CB Studio":MAILTO:cheybdance@gmail.com
END:VEVENT
BEGIN:VEVENT
DTSTART;TZID=Europe/London:20270531T170000
DTEND;TZID=Europe/London:20270531T173000
DTSTAMP:20260421T201055
CREATED:20250929T093455Z
LAST-MODIFIED:20250929T093455Z
UID:10023671-1811782800-1811784600@swanscombeandgreenhithetowncouncil.gov.uk
SUMMARY:Baby Ballet - CB Studio
DESCRIPTION:
URL:https://swanscombeandgreenhithetowncouncil.gov.uk/event/baby-ballet-cb-studio/2027-05-31/
LOCATION:Swanscombe and Greenhithe Town Council and Community Hall\, 16 The Grove\, Swanscombe DA10 0AD\, United Kingdom\, United Kingdom
ATTACH;FMTTYPE=image/jpeg:https://swanscombeandgreenhithetowncouncil.gov.uk/wp-content/uploads/2025/09/2025-CB-Studio-Ballet-Publicity-Poster-29-Sep.jpg
ORGANIZER;CN="CB Studio":MAILTO:cheybdance@gmail.com
END:VEVENT
BEGIN:VEVENT
DTSTART;TZID=Europe/London:20270607T170000
DTEND;TZID=Europe/London:20270607T173000
DTSTAMP:20260421T201055
CREATED:20250929T093455Z
LAST-MODIFIED:20250929T093455Z
UID:10023672-1812387600-1812389400@swanscombeandgreenhithetowncouncil.gov.uk
SUMMARY:Baby Ballet - CB Studio
DESCRIPTION:
URL:https://swanscombeandgreenhithetowncouncil.gov.uk/event/baby-ballet-cb-studio/2027-06-07/
LOCATION:Swanscombe and Greenhithe Town Council and Community Hall\, 16 The Grove\, Swanscombe DA10 0AD\, United Kingdom\, United Kingdom
ATTACH;FMTTYPE=image/jpeg:https://swanscombeandgreenhithetowncouncil.gov.uk/wp-content/uploads/2025/09/2025-CB-Studio-Ballet-Publicity-Poster-29-Sep.jpg
ORGANIZER;CN="CB Studio":MAILTO:cheybdance@gmail.com
END:VEVENT
BEGIN:VEVENT
DTSTART;TZID=Europe/London:20270614T170000
DTEND;TZID=Europe/London:20270614T173000
DTSTAMP:20260421T201055
CREATED:20250929T093455Z
LAST-MODIFIED:20250929T093455Z
UID:10023673-1812992400-1812994200@swanscombeandgreenhithetowncouncil.gov.uk
SUMMARY:Baby Ballet - CB Studio
DESCRIPTION:
URL:https://swanscombeandgreenhithetowncouncil.gov.uk/event/baby-ballet-cb-studio/2027-06-14/
LOCATION:Swanscombe and Greenhithe Town Council and Community Hall\, 16 The Grove\, Swanscombe DA10 0AD\, United Kingdom\, United Kingdom
ATTACH;FMTTYPE=image/jpeg:https://swanscombeandgreenhithetowncouncil.gov.uk/wp-content/uploads/2025/09/2025-CB-Studio-Ballet-Publicity-Poster-29-Sep.jpg
ORGANIZER;CN="CB Studio":MAILTO:cheybdance@gmail.com
END:VEVENT
BEGIN:VEVENT
DTSTART;TZID=Europe/London:20270621T170000
DTEND;TZID=Europe/London:20270621T173000
DTSTAMP:20260421T201055
CREATED:20250929T093455Z
LAST-MODIFIED:20250929T093455Z
UID:10023674-1813597200-1813599000@swanscombeandgreenhithetowncouncil.gov.uk
SUMMARY:Baby Ballet - CB Studio
DESCRIPTION:
URL:https://swanscombeandgreenhithetowncouncil.gov.uk/event/baby-ballet-cb-studio/2027-06-21/
LOCATION:Swanscombe and Greenhithe Town Council and Community Hall\, 16 The Grove\, Swanscombe DA10 0AD\, United Kingdom\, United Kingdom
ATTACH;FMTTYPE=image/jpeg:https://swanscombeandgreenhithetowncouncil.gov.uk/wp-content/uploads/2025/09/2025-CB-Studio-Ballet-Publicity-Poster-29-Sep.jpg
ORGANIZER;CN="CB Studio":MAILTO:cheybdance@gmail.com
END:VEVENT
BEGIN:VEVENT
DTSTART;TZID=Europe/London:20270628T170000
DTEND;TZID=Europe/London:20270628T173000
DTSTAMP:20260421T201055
CREATED:20250929T093455Z
LAST-MODIFIED:20250929T093455Z
UID:10023675-1814202000-1814203800@swanscombeandgreenhithetowncouncil.gov.uk
SUMMARY:Baby Ballet - CB Studio
DESCRIPTION:
URL:https://swanscombeandgreenhithetowncouncil.gov.uk/event/baby-ballet-cb-studio/2027-06-28/
LOCATION:Swanscombe and Greenhithe Town Council and Community Hall\, 16 The Grove\, Swanscombe DA10 0AD\, United Kingdom\, United Kingdom
ATTACH;FMTTYPE=image/jpeg:https://swanscombeandgreenhithetowncouncil.gov.uk/wp-content/uploads/2025/09/2025-CB-Studio-Ballet-Publicity-Poster-29-Sep.jpg
ORGANIZER;CN="CB Studio":MAILTO:cheybdance@gmail.com
END:VEVENT
BEGIN:VEVENT
DTSTART;TZID=Europe/London:20270705T170000
DTEND;TZID=Europe/London:20270705T173000
DTSTAMP:20260421T201055
CREATED:20250929T093455Z
LAST-MODIFIED:20250929T093455Z
UID:10023676-1814806800-1814808600@swanscombeandgreenhithetowncouncil.gov.uk
SUMMARY:Baby Ballet - CB Studio
DESCRIPTION:
URL:https://swanscombeandgreenhithetowncouncil.gov.uk/event/baby-ballet-cb-studio/2027-07-05/
LOCATION:Swanscombe and Greenhithe Town Council and Community Hall\, 16 The Grove\, Swanscombe DA10 0AD\, United Kingdom\, United Kingdom
ATTACH;FMTTYPE=image/jpeg:https://swanscombeandgreenhithetowncouncil.gov.uk/wp-content/uploads/2025/09/2025-CB-Studio-Ballet-Publicity-Poster-29-Sep.jpg
ORGANIZER;CN="CB Studio":MAILTO:cheybdance@gmail.com
END:VEVENT
BEGIN:VEVENT
DTSTART;TZID=Europe/London:20270712T170000
DTEND;TZID=Europe/London:20270712T173000
DTSTAMP:20260421T201055
CREATED:20250929T093455Z
LAST-MODIFIED:20250929T093455Z
UID:10023677-1815411600-1815413400@swanscombeandgreenhithetowncouncil.gov.uk
SUMMARY:Baby Ballet - CB Studio
DESCRIPTION:
URL:https://swanscombeandgreenhithetowncouncil.gov.uk/event/baby-ballet-cb-studio/2027-07-12/
LOCATION:Swanscombe and Greenhithe Town Council and Community Hall\, 16 The Grove\, Swanscombe DA10 0AD\, United Kingdom\, United Kingdom
ATTACH;FMTTYPE=image/jpeg:https://swanscombeandgreenhithetowncouncil.gov.uk/wp-content/uploads/2025/09/2025-CB-Studio-Ballet-Publicity-Poster-29-Sep.jpg
ORGANIZER;CN="CB Studio":MAILTO:cheybdance@gmail.com
END:VEVENT
BEGIN:VEVENT
DTSTART;TZID=Europe/London:20270719T170000
DTEND;TZID=Europe/London:20270719T173000
DTSTAMP:20260421T201055
CREATED:20250929T093455Z
LAST-MODIFIED:20250929T093455Z
UID:10023678-1816016400-1816018200@swanscombeandgreenhithetowncouncil.gov.uk
SUMMARY:Baby Ballet - CB Studio
DESCRIPTION:
URL:https://swanscombeandgreenhithetowncouncil.gov.uk/event/baby-ballet-cb-studio/2027-07-19/
LOCATION:Swanscombe and Greenhithe Town Council and Community Hall\, 16 The Grove\, Swanscombe DA10 0AD\, United Kingdom\, United Kingdom
ATTACH;FMTTYPE=image/jpeg:https://swanscombeandgreenhithetowncouncil.gov.uk/wp-content/uploads/2025/09/2025-CB-Studio-Ballet-Publicity-Poster-29-Sep.jpg
ORGANIZER;CN="CB Studio":MAILTO:cheybdance@gmail.com
END:VEVENT
BEGIN:VEVENT
DTSTART;TZID=Europe/London:20270726T170000
DTEND;TZID=Europe/London:20270726T173000
DTSTAMP:20260421T201055
CREATED:20250929T093455Z
LAST-MODIFIED:20250929T093455Z
UID:10023679-1816621200-1816623000@swanscombeandgreenhithetowncouncil.gov.uk
SUMMARY:Baby Ballet - CB Studio
DESCRIPTION:
URL:https://swanscombeandgreenhithetowncouncil.gov.uk/event/baby-ballet-cb-studio/2027-07-26/
LOCATION:Swanscombe and Greenhithe Town Council and Community Hall\, 16 The Grove\, Swanscombe DA10 0AD\, United Kingdom\, United Kingdom
ATTACH;FMTTYPE=image/jpeg:https://swanscombeandgreenhithetowncouncil.gov.uk/wp-content/uploads/2025/09/2025-CB-Studio-Ballet-Publicity-Poster-29-Sep.jpg
ORGANIZER;CN="CB Studio":MAILTO:cheybdance@gmail.com
END:VEVENT
END:VCALENDAR