BEGIN:VCALENDAR
VERSION:2.0
PRODID:-//Swanscombe and Greenhithe Town Council - ECPv6.15.20//NONSGML v1.0//EN
CALSCALE:GREGORIAN
METHOD:PUBLISH
X-WR-CALNAME:Swanscombe and Greenhithe Town Council
X-ORIGINAL-URL:https://swanscombeandgreenhithetowncouncil.gov.uk
X-WR-CALDESC:Events for Swanscombe and Greenhithe Town Council
REFRESH-INTERVAL;VALUE=DURATION:PT1H
X-Robots-Tag:noindex
X-PUBLISHED-TTL:PT1H
BEGIN:VTIMEZONE
TZID:Europe/London
BEGIN:DAYLIGHT
TZOFFSETFROM:+0000
TZOFFSETTO:+0100
TZNAME:BST
DTSTART:20260329T010000
END:DAYLIGHT
BEGIN:STANDARD
TZOFFSETFROM:+0100
TZOFFSETTO:+0000
TZNAME:GMT
DTSTART:20261025T010000
END:STANDARD
BEGIN:DAYLIGHT
TZOFFSETFROM:+0000
TZOFFSETTO:+0100
TZNAME:BST
DTSTART:20270328T010000
END:DAYLIGHT
BEGIN:STANDARD
TZOFFSETFROM:+0100
TZOFFSETTO:+0000
TZNAME:GMT
DTSTART:20271031T010000
END:STANDARD
BEGIN:DAYLIGHT
TZOFFSETFROM:+0000
TZOFFSETTO:+0100
TZNAME:BST
DTSTART:20280326T010000
END:DAYLIGHT
BEGIN:STANDARD
TZOFFSETFROM:+0100
TZOFFSETTO:+0000
TZNAME:GMT
DTSTART:20281029T010000
END:STANDARD
BEGIN:DAYLIGHT
TZOFFSETFROM:+0000
TZOFFSETTO:+0100
TZNAME:BST
DTSTART:20290325T010000
END:DAYLIGHT
BEGIN:STANDARD
TZOFFSETFROM:+0100
TZOFFSETTO:+0000
TZNAME:GMT
DTSTART:20291028T010000
END:STANDARD
END:VTIMEZONE
BEGIN:VEVENT
DTSTART;TZID=Europe/London:20270621T170000
DTEND;TZID=Europe/London:20270621T173000
DTSTAMP:20260421T233514
CREATED:20250929T093455Z
LAST-MODIFIED:20250929T093455Z
UID:10023674-1813597200-1813599000@swanscombeandgreenhithetowncouncil.gov.uk
SUMMARY:Baby Ballet - CB Studio
DESCRIPTION:
URL:https://swanscombeandgreenhithetowncouncil.gov.uk/event/baby-ballet-cb-studio/2027-06-21/
LOCATION:Swanscombe and Greenhithe Town Council and Community Hall\, 16 The Grove\, Swanscombe DA10 0AD\, United Kingdom\, United Kingdom
ATTACH;FMTTYPE=image/jpeg:https://swanscombeandgreenhithetowncouncil.gov.uk/wp-content/uploads/2025/09/2025-CB-Studio-Ballet-Publicity-Poster-29-Sep.jpg
ORGANIZER;CN="CB Studio":MAILTO:cheybdance@gmail.com
END:VEVENT
BEGIN:VEVENT
DTSTART;TZID=Europe/London:20270628T170000
DTEND;TZID=Europe/London:20270628T173000
DTSTAMP:20260421T233514
CREATED:20250929T093455Z
LAST-MODIFIED:20250929T093455Z
UID:10023675-1814202000-1814203800@swanscombeandgreenhithetowncouncil.gov.uk
SUMMARY:Baby Ballet - CB Studio
DESCRIPTION:
URL:https://swanscombeandgreenhithetowncouncil.gov.uk/event/baby-ballet-cb-studio/2027-06-28/
LOCATION:Swanscombe and Greenhithe Town Council and Community Hall\, 16 The Grove\, Swanscombe DA10 0AD\, United Kingdom\, United Kingdom
ATTACH;FMTTYPE=image/jpeg:https://swanscombeandgreenhithetowncouncil.gov.uk/wp-content/uploads/2025/09/2025-CB-Studio-Ballet-Publicity-Poster-29-Sep.jpg
ORGANIZER;CN="CB Studio":MAILTO:cheybdance@gmail.com
END:VEVENT
BEGIN:VEVENT
DTSTART;TZID=Europe/London:20270705T170000
DTEND;TZID=Europe/London:20270705T173000
DTSTAMP:20260421T233514
CREATED:20250929T093455Z
LAST-MODIFIED:20250929T093455Z
UID:10023676-1814806800-1814808600@swanscombeandgreenhithetowncouncil.gov.uk
SUMMARY:Baby Ballet - CB Studio
DESCRIPTION:
URL:https://swanscombeandgreenhithetowncouncil.gov.uk/event/baby-ballet-cb-studio/2027-07-05/
LOCATION:Swanscombe and Greenhithe Town Council and Community Hall\, 16 The Grove\, Swanscombe DA10 0AD\, United Kingdom\, United Kingdom
ATTACH;FMTTYPE=image/jpeg:https://swanscombeandgreenhithetowncouncil.gov.uk/wp-content/uploads/2025/09/2025-CB-Studio-Ballet-Publicity-Poster-29-Sep.jpg
ORGANIZER;CN="CB Studio":MAILTO:cheybdance@gmail.com
END:VEVENT
BEGIN:VEVENT
DTSTART;TZID=Europe/London:20270712T170000
DTEND;TZID=Europe/London:20270712T173000
DTSTAMP:20260421T233514
CREATED:20250929T093455Z
LAST-MODIFIED:20250929T093455Z
UID:10023677-1815411600-1815413400@swanscombeandgreenhithetowncouncil.gov.uk
SUMMARY:Baby Ballet - CB Studio
DESCRIPTION:
URL:https://swanscombeandgreenhithetowncouncil.gov.uk/event/baby-ballet-cb-studio/2027-07-12/
LOCATION:Swanscombe and Greenhithe Town Council and Community Hall\, 16 The Grove\, Swanscombe DA10 0AD\, United Kingdom\, United Kingdom
ATTACH;FMTTYPE=image/jpeg:https://swanscombeandgreenhithetowncouncil.gov.uk/wp-content/uploads/2025/09/2025-CB-Studio-Ballet-Publicity-Poster-29-Sep.jpg
ORGANIZER;CN="CB Studio":MAILTO:cheybdance@gmail.com
END:VEVENT
BEGIN:VEVENT
DTSTART;TZID=Europe/London:20270719T170000
DTEND;TZID=Europe/London:20270719T173000
DTSTAMP:20260421T233514
CREATED:20250929T093455Z
LAST-MODIFIED:20250929T093455Z
UID:10023678-1816016400-1816018200@swanscombeandgreenhithetowncouncil.gov.uk
SUMMARY:Baby Ballet - CB Studio
DESCRIPTION:
URL:https://swanscombeandgreenhithetowncouncil.gov.uk/event/baby-ballet-cb-studio/2027-07-19/
LOCATION:Swanscombe and Greenhithe Town Council and Community Hall\, 16 The Grove\, Swanscombe DA10 0AD\, United Kingdom\, United Kingdom
ATTACH;FMTTYPE=image/jpeg:https://swanscombeandgreenhithetowncouncil.gov.uk/wp-content/uploads/2025/09/2025-CB-Studio-Ballet-Publicity-Poster-29-Sep.jpg
ORGANIZER;CN="CB Studio":MAILTO:cheybdance@gmail.com
END:VEVENT
BEGIN:VEVENT
DTSTART;TZID=Europe/London:20270726T170000
DTEND;TZID=Europe/London:20270726T173000
DTSTAMP:20260421T233514
CREATED:20250929T093455Z
LAST-MODIFIED:20250929T093455Z
UID:10023679-1816621200-1816623000@swanscombeandgreenhithetowncouncil.gov.uk
SUMMARY:Baby Ballet - CB Studio
DESCRIPTION:
URL:https://swanscombeandgreenhithetowncouncil.gov.uk/event/baby-ballet-cb-studio/2027-07-26/
LOCATION:Swanscombe and Greenhithe Town Council and Community Hall\, 16 The Grove\, Swanscombe DA10 0AD\, United Kingdom\, United Kingdom
ATTACH;FMTTYPE=image/jpeg:https://swanscombeandgreenhithetowncouncil.gov.uk/wp-content/uploads/2025/09/2025-CB-Studio-Ballet-Publicity-Poster-29-Sep.jpg
ORGANIZER;CN="CB Studio":MAILTO:cheybdance@gmail.com
END:VEVENT
BEGIN:VEVENT
DTSTART;TZID=Europe/London:20270802T170000
DTEND;TZID=Europe/London:20270802T173000
DTSTAMP:20260421T233514
CREATED:20250929T093455Z
LAST-MODIFIED:20250929T093455Z
UID:10023680-1817226000-1817227800@swanscombeandgreenhithetowncouncil.gov.uk
SUMMARY:Baby Ballet - CB Studio
DESCRIPTION:
URL:https://swanscombeandgreenhithetowncouncil.gov.uk/event/baby-ballet-cb-studio/2027-08-02/
LOCATION:Swanscombe and Greenhithe Town Council and Community Hall\, 16 The Grove\, Swanscombe DA10 0AD\, United Kingdom\, United Kingdom
ATTACH;FMTTYPE=image/jpeg:https://swanscombeandgreenhithetowncouncil.gov.uk/wp-content/uploads/2025/09/2025-CB-Studio-Ballet-Publicity-Poster-29-Sep.jpg
ORGANIZER;CN="CB Studio":MAILTO:cheybdance@gmail.com
END:VEVENT
BEGIN:VEVENT
DTSTART;TZID=Europe/London:20270809T170000
DTEND;TZID=Europe/London:20270809T173000
DTSTAMP:20260421T233514
CREATED:20250929T093455Z
LAST-MODIFIED:20250929T093455Z
UID:10023681-1817830800-1817832600@swanscombeandgreenhithetowncouncil.gov.uk
SUMMARY:Baby Ballet - CB Studio
DESCRIPTION:
URL:https://swanscombeandgreenhithetowncouncil.gov.uk/event/baby-ballet-cb-studio/2027-08-09/
LOCATION:Swanscombe and Greenhithe Town Council and Community Hall\, 16 The Grove\, Swanscombe DA10 0AD\, United Kingdom\, United Kingdom
ATTACH;FMTTYPE=image/jpeg:https://swanscombeandgreenhithetowncouncil.gov.uk/wp-content/uploads/2025/09/2025-CB-Studio-Ballet-Publicity-Poster-29-Sep.jpg
ORGANIZER;CN="CB Studio":MAILTO:cheybdance@gmail.com
END:VEVENT
BEGIN:VEVENT
DTSTART;TZID=Europe/London:20270816T170000
DTEND;TZID=Europe/London:20270816T173000
DTSTAMP:20260421T233514
CREATED:20250929T093455Z
LAST-MODIFIED:20250929T093455Z
UID:10023682-1818435600-1818437400@swanscombeandgreenhithetowncouncil.gov.uk
SUMMARY:Baby Ballet - CB Studio
DESCRIPTION:
URL:https://swanscombeandgreenhithetowncouncil.gov.uk/event/baby-ballet-cb-studio/2027-08-16/
LOCATION:Swanscombe and Greenhithe Town Council and Community Hall\, 16 The Grove\, Swanscombe DA10 0AD\, United Kingdom\, United Kingdom
ATTACH;FMTTYPE=image/jpeg:https://swanscombeandgreenhithetowncouncil.gov.uk/wp-content/uploads/2025/09/2025-CB-Studio-Ballet-Publicity-Poster-29-Sep.jpg
ORGANIZER;CN="CB Studio":MAILTO:cheybdance@gmail.com
END:VEVENT
BEGIN:VEVENT
DTSTART;TZID=Europe/London:20270823T170000
DTEND;TZID=Europe/London:20270823T173000
DTSTAMP:20260421T233514
CREATED:20250929T093455Z
LAST-MODIFIED:20250929T093455Z
UID:10023683-1819040400-1819042200@swanscombeandgreenhithetowncouncil.gov.uk
SUMMARY:Baby Ballet - CB Studio
DESCRIPTION:
URL:https://swanscombeandgreenhithetowncouncil.gov.uk/event/baby-ballet-cb-studio/2027-08-23/
LOCATION:Swanscombe and Greenhithe Town Council and Community Hall\, 16 The Grove\, Swanscombe DA10 0AD\, United Kingdom\, United Kingdom
ATTACH;FMTTYPE=image/jpeg:https://swanscombeandgreenhithetowncouncil.gov.uk/wp-content/uploads/2025/09/2025-CB-Studio-Ballet-Publicity-Poster-29-Sep.jpg
ORGANIZER;CN="CB Studio":MAILTO:cheybdance@gmail.com
END:VEVENT
BEGIN:VEVENT
DTSTART;TZID=Europe/London:20270830T170000
DTEND;TZID=Europe/London:20270830T173000
DTSTAMP:20260421T233514
CREATED:20250929T093455Z
LAST-MODIFIED:20250929T093455Z
UID:10023684-1819645200-1819647000@swanscombeandgreenhithetowncouncil.gov.uk
SUMMARY:Baby Ballet - CB Studio
DESCRIPTION:
URL:https://swanscombeandgreenhithetowncouncil.gov.uk/event/baby-ballet-cb-studio/2027-08-30/
LOCATION:Swanscombe and Greenhithe Town Council and Community Hall\, 16 The Grove\, Swanscombe DA10 0AD\, United Kingdom\, United Kingdom
ATTACH;FMTTYPE=image/jpeg:https://swanscombeandgreenhithetowncouncil.gov.uk/wp-content/uploads/2025/09/2025-CB-Studio-Ballet-Publicity-Poster-29-Sep.jpg
ORGANIZER;CN="CB Studio":MAILTO:cheybdance@gmail.com
END:VEVENT
BEGIN:VEVENT
DTSTART;TZID=Europe/London:20270906T170000
DTEND;TZID=Europe/London:20270906T173000
DTSTAMP:20260421T233514
CREATED:20250929T093455Z
LAST-MODIFIED:20250929T093455Z
UID:10023685-1820250000-1820251800@swanscombeandgreenhithetowncouncil.gov.uk
SUMMARY:Baby Ballet - CB Studio
DESCRIPTION:
URL:https://swanscombeandgreenhithetowncouncil.gov.uk/event/baby-ballet-cb-studio/2027-09-06/
LOCATION:Swanscombe and Greenhithe Town Council and Community Hall\, 16 The Grove\, Swanscombe DA10 0AD\, United Kingdom\, United Kingdom
ATTACH;FMTTYPE=image/jpeg:https://swanscombeandgreenhithetowncouncil.gov.uk/wp-content/uploads/2025/09/2025-CB-Studio-Ballet-Publicity-Poster-29-Sep.jpg
ORGANIZER;CN="CB Studio":MAILTO:cheybdance@gmail.com
END:VEVENT
BEGIN:VEVENT
DTSTART;TZID=Europe/London:20270913T170000
DTEND;TZID=Europe/London:20270913T173000
DTSTAMP:20260421T233514
CREATED:20250929T093455Z
LAST-MODIFIED:20250929T093455Z
UID:10023686-1820854800-1820856600@swanscombeandgreenhithetowncouncil.gov.uk
SUMMARY:Baby Ballet - CB Studio
DESCRIPTION:
URL:https://swanscombeandgreenhithetowncouncil.gov.uk/event/baby-ballet-cb-studio/2027-09-13/
LOCATION:Swanscombe and Greenhithe Town Council and Community Hall\, 16 The Grove\, Swanscombe DA10 0AD\, United Kingdom\, United Kingdom
ATTACH;FMTTYPE=image/jpeg:https://swanscombeandgreenhithetowncouncil.gov.uk/wp-content/uploads/2025/09/2025-CB-Studio-Ballet-Publicity-Poster-29-Sep.jpg
ORGANIZER;CN="CB Studio":MAILTO:cheybdance@gmail.com
END:VEVENT
BEGIN:VEVENT
DTSTART;TZID=Europe/London:20270920T170000
DTEND;TZID=Europe/London:20270920T173000
DTSTAMP:20260421T233514
CREATED:20250929T093455Z
LAST-MODIFIED:20250929T093455Z
UID:10023687-1821459600-1821461400@swanscombeandgreenhithetowncouncil.gov.uk
SUMMARY:Baby Ballet - CB Studio
DESCRIPTION:
URL:https://swanscombeandgreenhithetowncouncil.gov.uk/event/baby-ballet-cb-studio/2027-09-20/
LOCATION:Swanscombe and Greenhithe Town Council and Community Hall\, 16 The Grove\, Swanscombe DA10 0AD\, United Kingdom\, United Kingdom
ATTACH;FMTTYPE=image/jpeg:https://swanscombeandgreenhithetowncouncil.gov.uk/wp-content/uploads/2025/09/2025-CB-Studio-Ballet-Publicity-Poster-29-Sep.jpg
ORGANIZER;CN="CB Studio":MAILTO:cheybdance@gmail.com
END:VEVENT
BEGIN:VEVENT
DTSTART;TZID=Europe/London:20270927T170000
DTEND;TZID=Europe/London:20270927T173000
DTSTAMP:20260421T233514
CREATED:20250929T093455Z
LAST-MODIFIED:20250929T093455Z
UID:10023688-1822064400-1822066200@swanscombeandgreenhithetowncouncil.gov.uk
SUMMARY:Baby Ballet - CB Studio
DESCRIPTION:
URL:https://swanscombeandgreenhithetowncouncil.gov.uk/event/baby-ballet-cb-studio/2027-09-27/
LOCATION:Swanscombe and Greenhithe Town Council and Community Hall\, 16 The Grove\, Swanscombe DA10 0AD\, United Kingdom\, United Kingdom
ATTACH;FMTTYPE=image/jpeg:https://swanscombeandgreenhithetowncouncil.gov.uk/wp-content/uploads/2025/09/2025-CB-Studio-Ballet-Publicity-Poster-29-Sep.jpg
ORGANIZER;CN="CB Studio":MAILTO:cheybdance@gmail.com
END:VEVENT
BEGIN:VEVENT
DTSTART;TZID=Europe/London:20271004T170000
DTEND;TZID=Europe/London:20271004T173000
DTSTAMP:20260421T233514
CREATED:20250929T093455Z
LAST-MODIFIED:20250929T093455Z
UID:10023689-1822669200-1822671000@swanscombeandgreenhithetowncouncil.gov.uk
SUMMARY:Baby Ballet - CB Studio
DESCRIPTION:
URL:https://swanscombeandgreenhithetowncouncil.gov.uk/event/baby-ballet-cb-studio/2027-10-04/
LOCATION:Swanscombe and Greenhithe Town Council and Community Hall\, 16 The Grove\, Swanscombe DA10 0AD\, United Kingdom\, United Kingdom
ATTACH;FMTTYPE=image/jpeg:https://swanscombeandgreenhithetowncouncil.gov.uk/wp-content/uploads/2025/09/2025-CB-Studio-Ballet-Publicity-Poster-29-Sep.jpg
ORGANIZER;CN="CB Studio":MAILTO:cheybdance@gmail.com
END:VEVENT
BEGIN:VEVENT
DTSTART;TZID=Europe/London:20271011T170000
DTEND;TZID=Europe/London:20271011T173000
DTSTAMP:20260421T233514
CREATED:20250929T093455Z
LAST-MODIFIED:20250929T093455Z
UID:10023690-1823274000-1823275800@swanscombeandgreenhithetowncouncil.gov.uk
SUMMARY:Baby Ballet - CB Studio
DESCRIPTION:
URL:https://swanscombeandgreenhithetowncouncil.gov.uk/event/baby-ballet-cb-studio/2027-10-11/
LOCATION:Swanscombe and Greenhithe Town Council and Community Hall\, 16 The Grove\, Swanscombe DA10 0AD\, United Kingdom\, United Kingdom
ATTACH;FMTTYPE=image/jpeg:https://swanscombeandgreenhithetowncouncil.gov.uk/wp-content/uploads/2025/09/2025-CB-Studio-Ballet-Publicity-Poster-29-Sep.jpg
ORGANIZER;CN="CB Studio":MAILTO:cheybdance@gmail.com
END:VEVENT
BEGIN:VEVENT
DTSTART;TZID=Europe/London:20271018T170000
DTEND;TZID=Europe/London:20271018T173000
DTSTAMP:20260421T233514
CREATED:20250929T093455Z
LAST-MODIFIED:20250929T093455Z
UID:10023691-1823878800-1823880600@swanscombeandgreenhithetowncouncil.gov.uk
SUMMARY:Baby Ballet - CB Studio
DESCRIPTION:
URL:https://swanscombeandgreenhithetowncouncil.gov.uk/event/baby-ballet-cb-studio/2027-10-18/
LOCATION:Swanscombe and Greenhithe Town Council and Community Hall\, 16 The Grove\, Swanscombe DA10 0AD\, United Kingdom\, United Kingdom
ATTACH;FMTTYPE=image/jpeg:https://swanscombeandgreenhithetowncouncil.gov.uk/wp-content/uploads/2025/09/2025-CB-Studio-Ballet-Publicity-Poster-29-Sep.jpg
ORGANIZER;CN="CB Studio":MAILTO:cheybdance@gmail.com
END:VEVENT
BEGIN:VEVENT
DTSTART;TZID=Europe/London:20271025T170000
DTEND;TZID=Europe/London:20271025T173000
DTSTAMP:20260421T233514
CREATED:20250929T093455Z
LAST-MODIFIED:20250929T093455Z
UID:10023692-1824483600-1824485400@swanscombeandgreenhithetowncouncil.gov.uk
SUMMARY:Baby Ballet - CB Studio
DESCRIPTION:
URL:https://swanscombeandgreenhithetowncouncil.gov.uk/event/baby-ballet-cb-studio/2027-10-25/
LOCATION:Swanscombe and Greenhithe Town Council and Community Hall\, 16 The Grove\, Swanscombe DA10 0AD\, United Kingdom\, United Kingdom
ATTACH;FMTTYPE=image/jpeg:https://swanscombeandgreenhithetowncouncil.gov.uk/wp-content/uploads/2025/09/2025-CB-Studio-Ballet-Publicity-Poster-29-Sep.jpg
ORGANIZER;CN="CB Studio":MAILTO:cheybdance@gmail.com
END:VEVENT
BEGIN:VEVENT
DTSTART;TZID=Europe/London:20271101T170000
DTEND;TZID=Europe/London:20271101T173000
DTSTAMP:20260421T233514
CREATED:20250929T093455Z
LAST-MODIFIED:20250929T093455Z
UID:10023693-1825088400-1825090200@swanscombeandgreenhithetowncouncil.gov.uk
SUMMARY:Baby Ballet - CB Studio
DESCRIPTION:
URL:https://swanscombeandgreenhithetowncouncil.gov.uk/event/baby-ballet-cb-studio/2027-11-01/
LOCATION:Swanscombe and Greenhithe Town Council and Community Hall\, 16 The Grove\, Swanscombe DA10 0AD\, United Kingdom\, United Kingdom
ATTACH;FMTTYPE=image/jpeg:https://swanscombeandgreenhithetowncouncil.gov.uk/wp-content/uploads/2025/09/2025-CB-Studio-Ballet-Publicity-Poster-29-Sep.jpg
ORGANIZER;CN="CB Studio":MAILTO:cheybdance@gmail.com
END:VEVENT
BEGIN:VEVENT
DTSTART;TZID=Europe/London:20271108T170000
DTEND;TZID=Europe/London:20271108T173000
DTSTAMP:20260421T233514
CREATED:20250929T093455Z
LAST-MODIFIED:20250929T093455Z
UID:10023694-1825693200-1825695000@swanscombeandgreenhithetowncouncil.gov.uk
SUMMARY:Baby Ballet - CB Studio
DESCRIPTION:
URL:https://swanscombeandgreenhithetowncouncil.gov.uk/event/baby-ballet-cb-studio/2027-11-08/
LOCATION:Swanscombe and Greenhithe Town Council and Community Hall\, 16 The Grove\, Swanscombe DA10 0AD\, United Kingdom\, United Kingdom
ATTACH;FMTTYPE=image/jpeg:https://swanscombeandgreenhithetowncouncil.gov.uk/wp-content/uploads/2025/09/2025-CB-Studio-Ballet-Publicity-Poster-29-Sep.jpg
ORGANIZER;CN="CB Studio":MAILTO:cheybdance@gmail.com
END:VEVENT
BEGIN:VEVENT
DTSTART;TZID=Europe/London:20271115T170000
DTEND;TZID=Europe/London:20271115T173000
DTSTAMP:20260421T233514
CREATED:20250929T093455Z
LAST-MODIFIED:20250929T093455Z
UID:10023695-1826298000-1826299800@swanscombeandgreenhithetowncouncil.gov.uk
SUMMARY:Baby Ballet - CB Studio
DESCRIPTION:
URL:https://swanscombeandgreenhithetowncouncil.gov.uk/event/baby-ballet-cb-studio/2027-11-15/
LOCATION:Swanscombe and Greenhithe Town Council and Community Hall\, 16 The Grove\, Swanscombe DA10 0AD\, United Kingdom\, United Kingdom
ATTACH;FMTTYPE=image/jpeg:https://swanscombeandgreenhithetowncouncil.gov.uk/wp-content/uploads/2025/09/2025-CB-Studio-Ballet-Publicity-Poster-29-Sep.jpg
ORGANIZER;CN="CB Studio":MAILTO:cheybdance@gmail.com
END:VEVENT
BEGIN:VEVENT
DTSTART;TZID=Europe/London:20271122T170000
DTEND;TZID=Europe/London:20271122T173000
DTSTAMP:20260421T233514
CREATED:20250929T093455Z
LAST-MODIFIED:20250929T093455Z
UID:10023696-1826902800-1826904600@swanscombeandgreenhithetowncouncil.gov.uk
SUMMARY:Baby Ballet - CB Studio
DESCRIPTION:
URL:https://swanscombeandgreenhithetowncouncil.gov.uk/event/baby-ballet-cb-studio/2027-11-22/
LOCATION:Swanscombe and Greenhithe Town Council and Community Hall\, 16 The Grove\, Swanscombe DA10 0AD\, United Kingdom\, United Kingdom
ATTACH;FMTTYPE=image/jpeg:https://swanscombeandgreenhithetowncouncil.gov.uk/wp-content/uploads/2025/09/2025-CB-Studio-Ballet-Publicity-Poster-29-Sep.jpg
ORGANIZER;CN="CB Studio":MAILTO:cheybdance@gmail.com
END:VEVENT
BEGIN:VEVENT
DTSTART;TZID=Europe/London:20271129T170000
DTEND;TZID=Europe/London:20271129T173000
DTSTAMP:20260421T233514
CREATED:20250929T093455Z
LAST-MODIFIED:20250929T093455Z
UID:10023697-1827507600-1827509400@swanscombeandgreenhithetowncouncil.gov.uk
SUMMARY:Baby Ballet - CB Studio
DESCRIPTION:
URL:https://swanscombeandgreenhithetowncouncil.gov.uk/event/baby-ballet-cb-studio/2027-11-29/
LOCATION:Swanscombe and Greenhithe Town Council and Community Hall\, 16 The Grove\, Swanscombe DA10 0AD\, United Kingdom\, United Kingdom
ATTACH;FMTTYPE=image/jpeg:https://swanscombeandgreenhithetowncouncil.gov.uk/wp-content/uploads/2025/09/2025-CB-Studio-Ballet-Publicity-Poster-29-Sep.jpg
ORGANIZER;CN="CB Studio":MAILTO:cheybdance@gmail.com
END:VEVENT
BEGIN:VEVENT
DTSTART;TZID=Europe/London:20271206T170000
DTEND;TZID=Europe/London:20271206T173000
DTSTAMP:20260421T233514
CREATED:20250929T093455Z
LAST-MODIFIED:20250929T093455Z
UID:10023698-1828112400-1828114200@swanscombeandgreenhithetowncouncil.gov.uk
SUMMARY:Baby Ballet - CB Studio
DESCRIPTION:
URL:https://swanscombeandgreenhithetowncouncil.gov.uk/event/baby-ballet-cb-studio/2027-12-06/
LOCATION:Swanscombe and Greenhithe Town Council and Community Hall\, 16 The Grove\, Swanscombe DA10 0AD\, United Kingdom\, United Kingdom
ATTACH;FMTTYPE=image/jpeg:https://swanscombeandgreenhithetowncouncil.gov.uk/wp-content/uploads/2025/09/2025-CB-Studio-Ballet-Publicity-Poster-29-Sep.jpg
ORGANIZER;CN="CB Studio":MAILTO:cheybdance@gmail.com
END:VEVENT
BEGIN:VEVENT
DTSTART;TZID=Europe/London:20271213T170000
DTEND;TZID=Europe/London:20271213T173000
DTSTAMP:20260421T233514
CREATED:20250929T093455Z
LAST-MODIFIED:20250929T093455Z
UID:10023699-1828717200-1828719000@swanscombeandgreenhithetowncouncil.gov.uk
SUMMARY:Baby Ballet - CB Studio
DESCRIPTION:
URL:https://swanscombeandgreenhithetowncouncil.gov.uk/event/baby-ballet-cb-studio/2027-12-13/
LOCATION:Swanscombe and Greenhithe Town Council and Community Hall\, 16 The Grove\, Swanscombe DA10 0AD\, United Kingdom\, United Kingdom
ATTACH;FMTTYPE=image/jpeg:https://swanscombeandgreenhithetowncouncil.gov.uk/wp-content/uploads/2025/09/2025-CB-Studio-Ballet-Publicity-Poster-29-Sep.jpg
ORGANIZER;CN="CB Studio":MAILTO:cheybdance@gmail.com
END:VEVENT
BEGIN:VEVENT
DTSTART;TZID=Europe/London:20271220T170000
DTEND;TZID=Europe/London:20271220T173000
DTSTAMP:20260421T233514
CREATED:20250929T093455Z
LAST-MODIFIED:20250929T093455Z
UID:10023700-1829322000-1829323800@swanscombeandgreenhithetowncouncil.gov.uk
SUMMARY:Baby Ballet - CB Studio
DESCRIPTION:
URL:https://swanscombeandgreenhithetowncouncil.gov.uk/event/baby-ballet-cb-studio/2027-12-20/
LOCATION:Swanscombe and Greenhithe Town Council and Community Hall\, 16 The Grove\, Swanscombe DA10 0AD\, United Kingdom\, United Kingdom
ATTACH;FMTTYPE=image/jpeg:https://swanscombeandgreenhithetowncouncil.gov.uk/wp-content/uploads/2025/09/2025-CB-Studio-Ballet-Publicity-Poster-29-Sep.jpg
ORGANIZER;CN="CB Studio":MAILTO:cheybdance@gmail.com
END:VEVENT
BEGIN:VEVENT
DTSTART;TZID=Europe/London:20271227T170000
DTEND;TZID=Europe/London:20271227T173000
DTSTAMP:20260421T233514
CREATED:20250929T093455Z
LAST-MODIFIED:20250929T093455Z
UID:10023701-1829926800-1829928600@swanscombeandgreenhithetowncouncil.gov.uk
SUMMARY:Baby Ballet - CB Studio
DESCRIPTION:
URL:https://swanscombeandgreenhithetowncouncil.gov.uk/event/baby-ballet-cb-studio/2027-12-27/
LOCATION:Swanscombe and Greenhithe Town Council and Community Hall\, 16 The Grove\, Swanscombe DA10 0AD\, United Kingdom\, United Kingdom
ATTACH;FMTTYPE=image/jpeg:https://swanscombeandgreenhithetowncouncil.gov.uk/wp-content/uploads/2025/09/2025-CB-Studio-Ballet-Publicity-Poster-29-Sep.jpg
ORGANIZER;CN="CB Studio":MAILTO:cheybdance@gmail.com
END:VEVENT
BEGIN:VEVENT
DTSTART;TZID=Europe/London:20280103T170000
DTEND;TZID=Europe/London:20280103T173000
DTSTAMP:20260421T233514
CREATED:20250929T093455Z
LAST-MODIFIED:20250929T093455Z
UID:10023702-1830531600-1830533400@swanscombeandgreenhithetowncouncil.gov.uk
SUMMARY:Baby Ballet - CB Studio
DESCRIPTION:
URL:https://swanscombeandgreenhithetowncouncil.gov.uk/event/baby-ballet-cb-studio/2028-01-03/
LOCATION:Swanscombe and Greenhithe Town Council and Community Hall\, 16 The Grove\, Swanscombe DA10 0AD\, United Kingdom\, United Kingdom
ATTACH;FMTTYPE=image/jpeg:https://swanscombeandgreenhithetowncouncil.gov.uk/wp-content/uploads/2025/09/2025-CB-Studio-Ballet-Publicity-Poster-29-Sep.jpg
ORGANIZER;CN="CB Studio":MAILTO:cheybdance@gmail.com
END:VEVENT
BEGIN:VEVENT
DTSTART;TZID=Europe/London:20280110T170000
DTEND;TZID=Europe/London:20280110T173000
DTSTAMP:20260421T233514
CREATED:20250929T093455Z
LAST-MODIFIED:20250929T093455Z
UID:10023703-1831136400-1831138200@swanscombeandgreenhithetowncouncil.gov.uk
SUMMARY:Baby Ballet - CB Studio
DESCRIPTION:
URL:https://swanscombeandgreenhithetowncouncil.gov.uk/event/baby-ballet-cb-studio/2028-01-10/
LOCATION:Swanscombe and Greenhithe Town Council and Community Hall\, 16 The Grove\, Swanscombe DA10 0AD\, United Kingdom\, United Kingdom
ATTACH;FMTTYPE=image/jpeg:https://swanscombeandgreenhithetowncouncil.gov.uk/wp-content/uploads/2025/09/2025-CB-Studio-Ballet-Publicity-Poster-29-Sep.jpg
ORGANIZER;CN="CB Studio":MAILTO:cheybdance@gmail.com
END:VEVENT
END:VCALENDAR