BEGIN:VCALENDAR
VERSION:2.0
PRODID:-//Swanscombe and Greenhithe Town Council - ECPv6.15.20//NONSGML v1.0//EN
CALSCALE:GREGORIAN
METHOD:PUBLISH
X-WR-CALNAME:Swanscombe and Greenhithe Town Council
X-ORIGINAL-URL:https://swanscombeandgreenhithetowncouncil.gov.uk
X-WR-CALDESC:Events for Swanscombe and Greenhithe Town Council
REFRESH-INTERVAL;VALUE=DURATION:PT1H
X-Robots-Tag:noindex
X-PUBLISHED-TTL:PT1H
BEGIN:VTIMEZONE
TZID:Europe/London
BEGIN:DAYLIGHT
TZOFFSETFROM:+0000
TZOFFSETTO:+0100
TZNAME:BST
DTSTART:20260329T010000
END:DAYLIGHT
BEGIN:STANDARD
TZOFFSETFROM:+0100
TZOFFSETTO:+0000
TZNAME:GMT
DTSTART:20261025T010000
END:STANDARD
BEGIN:DAYLIGHT
TZOFFSETFROM:+0000
TZOFFSETTO:+0100
TZNAME:BST
DTSTART:20270328T010000
END:DAYLIGHT
BEGIN:STANDARD
TZOFFSETFROM:+0100
TZOFFSETTO:+0000
TZNAME:GMT
DTSTART:20271031T010000
END:STANDARD
BEGIN:DAYLIGHT
TZOFFSETFROM:+0000
TZOFFSETTO:+0100
TZNAME:BST
DTSTART:20280326T010000
END:DAYLIGHT
BEGIN:STANDARD
TZOFFSETFROM:+0100
TZOFFSETTO:+0000
TZNAME:GMT
DTSTART:20281029T010000
END:STANDARD
END:VTIMEZONE
BEGIN:VEVENT
DTSTART;TZID=Europe/London:20270326T100000
DTEND;TZID=Europe/London:20270326T100000
DTSTAMP:20260421T215238
CREATED:20240313T170048Z
LAST-MODIFIED:20241219T091026Z
UID:10014612-1806055200-1806055200@swanscombeandgreenhithetowncouncil.gov.uk
SUMMARY:Weekly Healthy Walks - Fridays at 10.00am
DESCRIPTION:
URL:https://swanscombeandgreenhithetowncouncil.gov.uk/event/weekly-healthy-walks-fridays-at-10-00am-2/2027-03-26/
LOCATION:The Fire Station Cafe\, Church Rd\, Swanscombe DA10 0HF\, United Kingdom\, United Kingdom
CATEGORIES:Community Event
END:VEVENT
BEGIN:VEVENT
DTSTART;TZID=Europe/London:20270402T100000
DTEND;TZID=Europe/London:20270402T100000
DTSTAMP:20260421T215238
CREATED:20240313T170048Z
LAST-MODIFIED:20241219T091026Z
UID:10014613-1806660000-1806660000@swanscombeandgreenhithetowncouncil.gov.uk
SUMMARY:Weekly Healthy Walks - Fridays at 10.00am
DESCRIPTION:
URL:https://swanscombeandgreenhithetowncouncil.gov.uk/event/weekly-healthy-walks-fridays-at-10-00am-2/2027-04-02/
LOCATION:The Fire Station Cafe\, Church Rd\, Swanscombe DA10 0HF\, United Kingdom\, United Kingdom
CATEGORIES:Community Event
END:VEVENT
BEGIN:VEVENT
DTSTART;TZID=Europe/London:20270409T100000
DTEND;TZID=Europe/London:20270409T100000
DTSTAMP:20260421T215238
CREATED:20240313T170048Z
LAST-MODIFIED:20241219T091026Z
UID:10014614-1807264800-1807264800@swanscombeandgreenhithetowncouncil.gov.uk
SUMMARY:Weekly Healthy Walks - Fridays at 10.00am
DESCRIPTION:
URL:https://swanscombeandgreenhithetowncouncil.gov.uk/event/weekly-healthy-walks-fridays-at-10-00am-2/2027-04-09/
LOCATION:The Fire Station Cafe\, Church Rd\, Swanscombe DA10 0HF\, United Kingdom\, United Kingdom
CATEGORIES:Community Event
END:VEVENT
BEGIN:VEVENT
DTSTART;TZID=Europe/London:20270416T100000
DTEND;TZID=Europe/London:20270416T100000
DTSTAMP:20260421T215238
CREATED:20240313T170048Z
LAST-MODIFIED:20241219T091026Z
UID:10014615-1807869600-1807869600@swanscombeandgreenhithetowncouncil.gov.uk
SUMMARY:Weekly Healthy Walks - Fridays at 10.00am
DESCRIPTION:
URL:https://swanscombeandgreenhithetowncouncil.gov.uk/event/weekly-healthy-walks-fridays-at-10-00am-2/2027-04-16/
LOCATION:The Fire Station Cafe\, Church Rd\, Swanscombe DA10 0HF\, United Kingdom\, United Kingdom
CATEGORIES:Community Event
END:VEVENT
BEGIN:VEVENT
DTSTART;TZID=Europe/London:20270423T100000
DTEND;TZID=Europe/London:20270423T100000
DTSTAMP:20260421T215238
CREATED:20240313T170048Z
LAST-MODIFIED:20241219T091026Z
UID:10014616-1808474400-1808474400@swanscombeandgreenhithetowncouncil.gov.uk
SUMMARY:Weekly Healthy Walks - Fridays at 10.00am
DESCRIPTION:
URL:https://swanscombeandgreenhithetowncouncil.gov.uk/event/weekly-healthy-walks-fridays-at-10-00am-2/2027-04-23/
LOCATION:The Fire Station Cafe\, Church Rd\, Swanscombe DA10 0HF\, United Kingdom\, United Kingdom
CATEGORIES:Community Event
END:VEVENT
BEGIN:VEVENT
DTSTART;TZID=Europe/London:20270430T100000
DTEND;TZID=Europe/London:20270430T100000
DTSTAMP:20260421T215238
CREATED:20240313T170048Z
LAST-MODIFIED:20241219T091026Z
UID:10014617-1809079200-1809079200@swanscombeandgreenhithetowncouncil.gov.uk
SUMMARY:Weekly Healthy Walks - Fridays at 10.00am
DESCRIPTION:
URL:https://swanscombeandgreenhithetowncouncil.gov.uk/event/weekly-healthy-walks-fridays-at-10-00am-2/2027-04-30/
LOCATION:The Fire Station Cafe\, Church Rd\, Swanscombe DA10 0HF\, United Kingdom\, United Kingdom
CATEGORIES:Community Event
END:VEVENT
BEGIN:VEVENT
DTSTART;TZID=Europe/London:20270507T100000
DTEND;TZID=Europe/London:20270507T100000
DTSTAMP:20260421T215238
CREATED:20240313T170048Z
LAST-MODIFIED:20241219T091026Z
UID:10014618-1809684000-1809684000@swanscombeandgreenhithetowncouncil.gov.uk
SUMMARY:Weekly Healthy Walks - Fridays at 10.00am
DESCRIPTION:
URL:https://swanscombeandgreenhithetowncouncil.gov.uk/event/weekly-healthy-walks-fridays-at-10-00am-2/2027-05-07/
LOCATION:The Fire Station Cafe\, Church Rd\, Swanscombe DA10 0HF\, United Kingdom\, United Kingdom
CATEGORIES:Community Event
END:VEVENT
BEGIN:VEVENT
DTSTART;TZID=Europe/London:20270514T100000
DTEND;TZID=Europe/London:20270514T100000
DTSTAMP:20260421T215238
CREATED:20240313T170048Z
LAST-MODIFIED:20241219T091026Z
UID:10014619-1810288800-1810288800@swanscombeandgreenhithetowncouncil.gov.uk
SUMMARY:Weekly Healthy Walks - Fridays at 10.00am
DESCRIPTION:
URL:https://swanscombeandgreenhithetowncouncil.gov.uk/event/weekly-healthy-walks-fridays-at-10-00am-2/2027-05-14/
LOCATION:The Fire Station Cafe\, Church Rd\, Swanscombe DA10 0HF\, United Kingdom\, United Kingdom
CATEGORIES:Community Event
END:VEVENT
BEGIN:VEVENT
DTSTART;TZID=Europe/London:20270521T100000
DTEND;TZID=Europe/London:20270521T100000
DTSTAMP:20260421T215238
CREATED:20240313T170048Z
LAST-MODIFIED:20241219T091026Z
UID:10014620-1810893600-1810893600@swanscombeandgreenhithetowncouncil.gov.uk
SUMMARY:Weekly Healthy Walks - Fridays at 10.00am
DESCRIPTION:
URL:https://swanscombeandgreenhithetowncouncil.gov.uk/event/weekly-healthy-walks-fridays-at-10-00am-2/2027-05-21/
LOCATION:The Fire Station Cafe\, Church Rd\, Swanscombe DA10 0HF\, United Kingdom\, United Kingdom
CATEGORIES:Community Event
END:VEVENT
BEGIN:VEVENT
DTSTART;TZID=Europe/London:20270528T100000
DTEND;TZID=Europe/London:20270528T100000
DTSTAMP:20260421T215238
CREATED:20240313T170048Z
LAST-MODIFIED:20241219T091026Z
UID:10014621-1811498400-1811498400@swanscombeandgreenhithetowncouncil.gov.uk
SUMMARY:Weekly Healthy Walks - Fridays at 10.00am
DESCRIPTION:
URL:https://swanscombeandgreenhithetowncouncil.gov.uk/event/weekly-healthy-walks-fridays-at-10-00am-2/2027-05-28/
LOCATION:The Fire Station Cafe\, Church Rd\, Swanscombe DA10 0HF\, United Kingdom\, United Kingdom
CATEGORIES:Community Event
END:VEVENT
BEGIN:VEVENT
DTSTART;TZID=Europe/London:20270604T100000
DTEND;TZID=Europe/London:20270604T100000
DTSTAMP:20260421T215238
CREATED:20240313T170048Z
LAST-MODIFIED:20241219T091026Z
UID:10014622-1812103200-1812103200@swanscombeandgreenhithetowncouncil.gov.uk
SUMMARY:Weekly Healthy Walks - Fridays at 10.00am
DESCRIPTION:
URL:https://swanscombeandgreenhithetowncouncil.gov.uk/event/weekly-healthy-walks-fridays-at-10-00am-2/2027-06-04/
LOCATION:The Fire Station Cafe\, Church Rd\, Swanscombe DA10 0HF\, United Kingdom\, United Kingdom
CATEGORIES:Community Event
END:VEVENT
BEGIN:VEVENT
DTSTART;TZID=Europe/London:20270611T100000
DTEND;TZID=Europe/London:20270611T100000
DTSTAMP:20260421T215238
CREATED:20240313T170048Z
LAST-MODIFIED:20241219T091026Z
UID:10014623-1812708000-1812708000@swanscombeandgreenhithetowncouncil.gov.uk
SUMMARY:Weekly Healthy Walks - Fridays at 10.00am
DESCRIPTION:
URL:https://swanscombeandgreenhithetowncouncil.gov.uk/event/weekly-healthy-walks-fridays-at-10-00am-2/2027-06-11/
LOCATION:The Fire Station Cafe\, Church Rd\, Swanscombe DA10 0HF\, United Kingdom\, United Kingdom
CATEGORIES:Community Event
END:VEVENT
BEGIN:VEVENT
DTSTART;TZID=Europe/London:20270618T100000
DTEND;TZID=Europe/London:20270618T100000
DTSTAMP:20260421T215238
CREATED:20240313T170048Z
LAST-MODIFIED:20241219T091026Z
UID:10014624-1813312800-1813312800@swanscombeandgreenhithetowncouncil.gov.uk
SUMMARY:Weekly Healthy Walks - Fridays at 10.00am
DESCRIPTION:
URL:https://swanscombeandgreenhithetowncouncil.gov.uk/event/weekly-healthy-walks-fridays-at-10-00am-2/2027-06-18/
LOCATION:The Fire Station Cafe\, Church Rd\, Swanscombe DA10 0HF\, United Kingdom\, United Kingdom
CATEGORIES:Community Event
END:VEVENT
BEGIN:VEVENT
DTSTART;TZID=Europe/London:20270625T100000
DTEND;TZID=Europe/London:20270625T100000
DTSTAMP:20260421T215238
CREATED:20240313T170048Z
LAST-MODIFIED:20241219T091026Z
UID:10014625-1813917600-1813917600@swanscombeandgreenhithetowncouncil.gov.uk
SUMMARY:Weekly Healthy Walks - Fridays at 10.00am
DESCRIPTION:
URL:https://swanscombeandgreenhithetowncouncil.gov.uk/event/weekly-healthy-walks-fridays-at-10-00am-2/2027-06-25/
LOCATION:The Fire Station Cafe\, Church Rd\, Swanscombe DA10 0HF\, United Kingdom\, United Kingdom
CATEGORIES:Community Event
END:VEVENT
BEGIN:VEVENT
DTSTART;TZID=Europe/London:20270702T100000
DTEND;TZID=Europe/London:20270702T100000
DTSTAMP:20260421T215238
CREATED:20240313T170048Z
LAST-MODIFIED:20241219T091026Z
UID:10014626-1814522400-1814522400@swanscombeandgreenhithetowncouncil.gov.uk
SUMMARY:Weekly Healthy Walks - Fridays at 10.00am
DESCRIPTION:
URL:https://swanscombeandgreenhithetowncouncil.gov.uk/event/weekly-healthy-walks-fridays-at-10-00am-2/2027-07-02/
LOCATION:The Fire Station Cafe\, Church Rd\, Swanscombe DA10 0HF\, United Kingdom\, United Kingdom
CATEGORIES:Community Event
END:VEVENT
BEGIN:VEVENT
DTSTART;TZID=Europe/London:20270709T100000
DTEND;TZID=Europe/London:20270709T100000
DTSTAMP:20260421T215238
CREATED:20240313T170048Z
LAST-MODIFIED:20241219T091026Z
UID:10014627-1815127200-1815127200@swanscombeandgreenhithetowncouncil.gov.uk
SUMMARY:Weekly Healthy Walks - Fridays at 10.00am
DESCRIPTION:
URL:https://swanscombeandgreenhithetowncouncil.gov.uk/event/weekly-healthy-walks-fridays-at-10-00am-2/2027-07-09/
LOCATION:The Fire Station Cafe\, Church Rd\, Swanscombe DA10 0HF\, United Kingdom\, United Kingdom
CATEGORIES:Community Event
END:VEVENT
BEGIN:VEVENT
DTSTART;TZID=Europe/London:20270716T100000
DTEND;TZID=Europe/London:20270716T100000
DTSTAMP:20260421T215238
CREATED:20240313T170048Z
LAST-MODIFIED:20241219T091026Z
UID:10014628-1815732000-1815732000@swanscombeandgreenhithetowncouncil.gov.uk
SUMMARY:Weekly Healthy Walks - Fridays at 10.00am
DESCRIPTION:
URL:https://swanscombeandgreenhithetowncouncil.gov.uk/event/weekly-healthy-walks-fridays-at-10-00am-2/2027-07-16/
LOCATION:The Fire Station Cafe\, Church Rd\, Swanscombe DA10 0HF\, United Kingdom\, United Kingdom
CATEGORIES:Community Event
END:VEVENT
BEGIN:VEVENT
DTSTART;TZID=Europe/London:20270723T100000
DTEND;TZID=Europe/London:20270723T100000
DTSTAMP:20260421T215238
CREATED:20240313T170048Z
LAST-MODIFIED:20241219T091026Z
UID:10014629-1816336800-1816336800@swanscombeandgreenhithetowncouncil.gov.uk
SUMMARY:Weekly Healthy Walks - Fridays at 10.00am
DESCRIPTION:
URL:https://swanscombeandgreenhithetowncouncil.gov.uk/event/weekly-healthy-walks-fridays-at-10-00am-2/2027-07-23/
LOCATION:The Fire Station Cafe\, Church Rd\, Swanscombe DA10 0HF\, United Kingdom\, United Kingdom
CATEGORIES:Community Event
END:VEVENT
BEGIN:VEVENT
DTSTART;TZID=Europe/London:20270730T100000
DTEND;TZID=Europe/London:20270730T100000
DTSTAMP:20260421T215238
CREATED:20240313T170048Z
LAST-MODIFIED:20241219T091026Z
UID:10014630-1816941600-1816941600@swanscombeandgreenhithetowncouncil.gov.uk
SUMMARY:Weekly Healthy Walks - Fridays at 10.00am
DESCRIPTION:
URL:https://swanscombeandgreenhithetowncouncil.gov.uk/event/weekly-healthy-walks-fridays-at-10-00am-2/2027-07-30/
LOCATION:The Fire Station Cafe\, Church Rd\, Swanscombe DA10 0HF\, United Kingdom\, United Kingdom
CATEGORIES:Community Event
END:VEVENT
BEGIN:VEVENT
DTSTART;TZID=Europe/London:20270806T100000
DTEND;TZID=Europe/London:20270806T100000
DTSTAMP:20260421T215238
CREATED:20240313T170048Z
LAST-MODIFIED:20241219T091026Z
UID:10014631-1817546400-1817546400@swanscombeandgreenhithetowncouncil.gov.uk
SUMMARY:Weekly Healthy Walks - Fridays at 10.00am
DESCRIPTION:
URL:https://swanscombeandgreenhithetowncouncil.gov.uk/event/weekly-healthy-walks-fridays-at-10-00am-2/2027-08-06/
LOCATION:The Fire Station Cafe\, Church Rd\, Swanscombe DA10 0HF\, United Kingdom\, United Kingdom
CATEGORIES:Community Event
END:VEVENT
BEGIN:VEVENT
DTSTART;TZID=Europe/London:20270813T100000
DTEND;TZID=Europe/London:20270813T100000
DTSTAMP:20260421T215238
CREATED:20240313T170048Z
LAST-MODIFIED:20241219T091026Z
UID:10014632-1818151200-1818151200@swanscombeandgreenhithetowncouncil.gov.uk
SUMMARY:Weekly Healthy Walks - Fridays at 10.00am
DESCRIPTION:
URL:https://swanscombeandgreenhithetowncouncil.gov.uk/event/weekly-healthy-walks-fridays-at-10-00am-2/2027-08-13/
LOCATION:The Fire Station Cafe\, Church Rd\, Swanscombe DA10 0HF\, United Kingdom\, United Kingdom
CATEGORIES:Community Event
END:VEVENT
BEGIN:VEVENT
DTSTART;TZID=Europe/London:20270820T100000
DTEND;TZID=Europe/London:20270820T100000
DTSTAMP:20260421T215238
CREATED:20240313T170048Z
LAST-MODIFIED:20241219T091026Z
UID:10014633-1818756000-1818756000@swanscombeandgreenhithetowncouncil.gov.uk
SUMMARY:Weekly Healthy Walks - Fridays at 10.00am
DESCRIPTION:
URL:https://swanscombeandgreenhithetowncouncil.gov.uk/event/weekly-healthy-walks-fridays-at-10-00am-2/2027-08-20/
LOCATION:The Fire Station Cafe\, Church Rd\, Swanscombe DA10 0HF\, United Kingdom\, United Kingdom
CATEGORIES:Community Event
END:VEVENT
BEGIN:VEVENT
DTSTART;TZID=Europe/London:20270827T100000
DTEND;TZID=Europe/London:20270827T100000
DTSTAMP:20260421T215238
CREATED:20240313T170048Z
LAST-MODIFIED:20241219T091026Z
UID:10014634-1819360800-1819360800@swanscombeandgreenhithetowncouncil.gov.uk
SUMMARY:Weekly Healthy Walks - Fridays at 10.00am
DESCRIPTION:
URL:https://swanscombeandgreenhithetowncouncil.gov.uk/event/weekly-healthy-walks-fridays-at-10-00am-2/2027-08-27/
LOCATION:The Fire Station Cafe\, Church Rd\, Swanscombe DA10 0HF\, United Kingdom\, United Kingdom
CATEGORIES:Community Event
END:VEVENT
BEGIN:VEVENT
DTSTART;TZID=Europe/London:20270903T100000
DTEND;TZID=Europe/London:20270903T100000
DTSTAMP:20260421T215238
CREATED:20240313T170048Z
LAST-MODIFIED:20241219T091026Z
UID:10014635-1819965600-1819965600@swanscombeandgreenhithetowncouncil.gov.uk
SUMMARY:Weekly Healthy Walks - Fridays at 10.00am
DESCRIPTION:
URL:https://swanscombeandgreenhithetowncouncil.gov.uk/event/weekly-healthy-walks-fridays-at-10-00am-2/2027-09-03/
LOCATION:The Fire Station Cafe\, Church Rd\, Swanscombe DA10 0HF\, United Kingdom\, United Kingdom
CATEGORIES:Community Event
END:VEVENT
BEGIN:VEVENT
DTSTART;TZID=Europe/London:20270910T100000
DTEND;TZID=Europe/London:20270910T100000
DTSTAMP:20260421T215238
CREATED:20240313T170048Z
LAST-MODIFIED:20241219T091026Z
UID:10014636-1820570400-1820570400@swanscombeandgreenhithetowncouncil.gov.uk
SUMMARY:Weekly Healthy Walks - Fridays at 10.00am
DESCRIPTION:
URL:https://swanscombeandgreenhithetowncouncil.gov.uk/event/weekly-healthy-walks-fridays-at-10-00am-2/2027-09-10/
LOCATION:The Fire Station Cafe\, Church Rd\, Swanscombe DA10 0HF\, United Kingdom\, United Kingdom
CATEGORIES:Community Event
END:VEVENT
BEGIN:VEVENT
DTSTART;TZID=Europe/London:20270917T100000
DTEND;TZID=Europe/London:20270917T100000
DTSTAMP:20260421T215238
CREATED:20240313T170048Z
LAST-MODIFIED:20241219T091026Z
UID:10014637-1821175200-1821175200@swanscombeandgreenhithetowncouncil.gov.uk
SUMMARY:Weekly Healthy Walks - Fridays at 10.00am
DESCRIPTION:
URL:https://swanscombeandgreenhithetowncouncil.gov.uk/event/weekly-healthy-walks-fridays-at-10-00am-2/2027-09-17/
LOCATION:The Fire Station Cafe\, Church Rd\, Swanscombe DA10 0HF\, United Kingdom\, United Kingdom
CATEGORIES:Community Event
END:VEVENT
BEGIN:VEVENT
DTSTART;TZID=Europe/London:20270924T100000
DTEND;TZID=Europe/London:20270924T100000
DTSTAMP:20260421T215238
CREATED:20240313T170048Z
LAST-MODIFIED:20241219T091026Z
UID:10014638-1821780000-1821780000@swanscombeandgreenhithetowncouncil.gov.uk
SUMMARY:Weekly Healthy Walks - Fridays at 10.00am
DESCRIPTION:
URL:https://swanscombeandgreenhithetowncouncil.gov.uk/event/weekly-healthy-walks-fridays-at-10-00am-2/2027-09-24/
LOCATION:The Fire Station Cafe\, Church Rd\, Swanscombe DA10 0HF\, United Kingdom\, United Kingdom
CATEGORIES:Community Event
END:VEVENT
BEGIN:VEVENT
DTSTART;TZID=Europe/London:20271001T100000
DTEND;TZID=Europe/London:20271001T100000
DTSTAMP:20260421T215238
CREATED:20240313T170048Z
LAST-MODIFIED:20241219T091026Z
UID:10014639-1822384800-1822384800@swanscombeandgreenhithetowncouncil.gov.uk
SUMMARY:Weekly Healthy Walks - Fridays at 10.00am
DESCRIPTION:
URL:https://swanscombeandgreenhithetowncouncil.gov.uk/event/weekly-healthy-walks-fridays-at-10-00am-2/2027-10-01/
LOCATION:The Fire Station Cafe\, Church Rd\, Swanscombe DA10 0HF\, United Kingdom\, United Kingdom
CATEGORIES:Community Event
END:VEVENT
BEGIN:VEVENT
DTSTART;TZID=Europe/London:20271008T100000
DTEND;TZID=Europe/London:20271008T100000
DTSTAMP:20260421T215238
CREATED:20240313T170048Z
LAST-MODIFIED:20241219T091026Z
UID:10014640-1822989600-1822989600@swanscombeandgreenhithetowncouncil.gov.uk
SUMMARY:Weekly Healthy Walks - Fridays at 10.00am
DESCRIPTION:
URL:https://swanscombeandgreenhithetowncouncil.gov.uk/event/weekly-healthy-walks-fridays-at-10-00am-2/2027-10-08/
LOCATION:The Fire Station Cafe\, Church Rd\, Swanscombe DA10 0HF\, United Kingdom\, United Kingdom
CATEGORIES:Community Event
END:VEVENT
BEGIN:VEVENT
DTSTART;TZID=Europe/London:20271015T100000
DTEND;TZID=Europe/London:20271015T100000
DTSTAMP:20260421T215238
CREATED:20240313T170048Z
LAST-MODIFIED:20241219T091026Z
UID:10014641-1823594400-1823594400@swanscombeandgreenhithetowncouncil.gov.uk
SUMMARY:Weekly Healthy Walks - Fridays at 10.00am
DESCRIPTION:
URL:https://swanscombeandgreenhithetowncouncil.gov.uk/event/weekly-healthy-walks-fridays-at-10-00am-2/2027-10-15/
LOCATION:The Fire Station Cafe\, Church Rd\, Swanscombe DA10 0HF\, United Kingdom\, United Kingdom
CATEGORIES:Community Event
END:VEVENT
END:VCALENDAR