BEGIN:VCALENDAR
VERSION:2.0
PRODID:-//Swanscombe and Greenhithe Town Council - ECPv6.15.20//NONSGML v1.0//EN
CALSCALE:GREGORIAN
METHOD:PUBLISH
X-WR-CALNAME:Swanscombe and Greenhithe Town Council
X-ORIGINAL-URL:https://swanscombeandgreenhithetowncouncil.gov.uk
X-WR-CALDESC:Events for Swanscombe and Greenhithe Town Council
REFRESH-INTERVAL;VALUE=DURATION:PT1H
X-Robots-Tag:noindex
X-PUBLISHED-TTL:PT1H
BEGIN:VTIMEZONE
TZID:Europe/London
BEGIN:DAYLIGHT
TZOFFSETFROM:+0000
TZOFFSETTO:+0100
TZNAME:BST
DTSTART:20260329T010000
END:DAYLIGHT
BEGIN:STANDARD
TZOFFSETFROM:+0100
TZOFFSETTO:+0000
TZNAME:GMT
DTSTART:20261025T010000
END:STANDARD
BEGIN:DAYLIGHT
TZOFFSETFROM:+0000
TZOFFSETTO:+0100
TZNAME:BST
DTSTART:20270328T010000
END:DAYLIGHT
BEGIN:STANDARD
TZOFFSETFROM:+0100
TZOFFSETTO:+0000
TZNAME:GMT
DTSTART:20271031T010000
END:STANDARD
BEGIN:DAYLIGHT
TZOFFSETFROM:+0000
TZOFFSETTO:+0100
TZNAME:BST
DTSTART:20280326T010000
END:DAYLIGHT
BEGIN:STANDARD
TZOFFSETFROM:+0100
TZOFFSETTO:+0000
TZNAME:GMT
DTSTART:20281029T010000
END:STANDARD
BEGIN:DAYLIGHT
TZOFFSETFROM:+0000
TZOFFSETTO:+0100
TZNAME:BST
DTSTART:20290325T010000
END:DAYLIGHT
BEGIN:STANDARD
TZOFFSETFROM:+0100
TZOFFSETTO:+0000
TZNAME:GMT
DTSTART:20291028T010000
END:STANDARD
END:VTIMEZONE
BEGIN:VEVENT
DTSTART;TZID=Europe/London:20271203T100000
DTEND;TZID=Europe/London:20271203T100000
DTSTAMP:20260422T025741
CREATED:20240313T170048Z
LAST-MODIFIED:20241219T091026Z
UID:10014648-1827828000-1827828000@swanscombeandgreenhithetowncouncil.gov.uk
SUMMARY:Weekly Healthy Walks - Fridays at 10.00am
DESCRIPTION:
URL:https://swanscombeandgreenhithetowncouncil.gov.uk/event/weekly-healthy-walks-fridays-at-10-00am-2/2027-12-03/
LOCATION:The Fire Station Cafe\, Church Rd\, Swanscombe DA10 0HF\, United Kingdom\, United Kingdom
CATEGORIES:Community Event
END:VEVENT
BEGIN:VEVENT
DTSTART;TZID=Europe/London:20271210T100000
DTEND;TZID=Europe/London:20271210T100000
DTSTAMP:20260422T025741
CREATED:20240313T170048Z
LAST-MODIFIED:20241219T091026Z
UID:10014649-1828432800-1828432800@swanscombeandgreenhithetowncouncil.gov.uk
SUMMARY:Weekly Healthy Walks - Fridays at 10.00am
DESCRIPTION:
URL:https://swanscombeandgreenhithetowncouncil.gov.uk/event/weekly-healthy-walks-fridays-at-10-00am-2/2027-12-10/
LOCATION:The Fire Station Cafe\, Church Rd\, Swanscombe DA10 0HF\, United Kingdom\, United Kingdom
CATEGORIES:Community Event
END:VEVENT
BEGIN:VEVENT
DTSTART;TZID=Europe/London:20271217T100000
DTEND;TZID=Europe/London:20271217T100000
DTSTAMP:20260422T025741
CREATED:20240313T170048Z
LAST-MODIFIED:20241219T091026Z
UID:10014650-1829037600-1829037600@swanscombeandgreenhithetowncouncil.gov.uk
SUMMARY:Weekly Healthy Walks - Fridays at 10.00am
DESCRIPTION:
URL:https://swanscombeandgreenhithetowncouncil.gov.uk/event/weekly-healthy-walks-fridays-at-10-00am-2/2027-12-17/
LOCATION:The Fire Station Cafe\, Church Rd\, Swanscombe DA10 0HF\, United Kingdom\, United Kingdom
CATEGORIES:Community Event
END:VEVENT
BEGIN:VEVENT
DTSTART;TZID=Europe/London:20271224T100000
DTEND;TZID=Europe/London:20271224T100000
DTSTAMP:20260422T025741
CREATED:20240313T170048Z
LAST-MODIFIED:20241219T091026Z
UID:10014651-1829642400-1829642400@swanscombeandgreenhithetowncouncil.gov.uk
SUMMARY:Weekly Healthy Walks - Fridays at 10.00am
DESCRIPTION:
URL:https://swanscombeandgreenhithetowncouncil.gov.uk/event/weekly-healthy-walks-fridays-at-10-00am-2/2027-12-24/
LOCATION:The Fire Station Cafe\, Church Rd\, Swanscombe DA10 0HF\, United Kingdom\, United Kingdom
CATEGORIES:Community Event
END:VEVENT
BEGIN:VEVENT
DTSTART;TZID=Europe/London:20271231T100000
DTEND;TZID=Europe/London:20271231T100000
DTSTAMP:20260422T025741
CREATED:20240313T170048Z
LAST-MODIFIED:20241219T091026Z
UID:10014652-1830247200-1830247200@swanscombeandgreenhithetowncouncil.gov.uk
SUMMARY:Weekly Healthy Walks - Fridays at 10.00am
DESCRIPTION:
URL:https://swanscombeandgreenhithetowncouncil.gov.uk/event/weekly-healthy-walks-fridays-at-10-00am-2/2027-12-31/
LOCATION:The Fire Station Cafe\, Church Rd\, Swanscombe DA10 0HF\, United Kingdom\, United Kingdom
CATEGORIES:Community Event
END:VEVENT
BEGIN:VEVENT
DTSTART;TZID=Europe/London:20280107T100000
DTEND;TZID=Europe/London:20280107T100000
DTSTAMP:20260422T025741
CREATED:20240313T170048Z
LAST-MODIFIED:20241219T091026Z
UID:10014653-1830852000-1830852000@swanscombeandgreenhithetowncouncil.gov.uk
SUMMARY:Weekly Healthy Walks - Fridays at 10.00am
DESCRIPTION:
URL:https://swanscombeandgreenhithetowncouncil.gov.uk/event/weekly-healthy-walks-fridays-at-10-00am-2/2028-01-07/
LOCATION:The Fire Station Cafe\, Church Rd\, Swanscombe DA10 0HF\, United Kingdom\, United Kingdom
CATEGORIES:Community Event
END:VEVENT
BEGIN:VEVENT
DTSTART;TZID=Europe/London:20280114T100000
DTEND;TZID=Europe/London:20280114T100000
DTSTAMP:20260422T025741
CREATED:20240313T170048Z
LAST-MODIFIED:20241219T091026Z
UID:10014654-1831456800-1831456800@swanscombeandgreenhithetowncouncil.gov.uk
SUMMARY:Weekly Healthy Walks - Fridays at 10.00am
DESCRIPTION:
URL:https://swanscombeandgreenhithetowncouncil.gov.uk/event/weekly-healthy-walks-fridays-at-10-00am-2/2028-01-14/
LOCATION:The Fire Station Cafe\, Church Rd\, Swanscombe DA10 0HF\, United Kingdom\, United Kingdom
CATEGORIES:Community Event
END:VEVENT
BEGIN:VEVENT
DTSTART;TZID=Europe/London:20280121T100000
DTEND;TZID=Europe/London:20280121T100000
DTSTAMP:20260422T025741
CREATED:20240313T170048Z
LAST-MODIFIED:20241219T091026Z
UID:10014655-1832061600-1832061600@swanscombeandgreenhithetowncouncil.gov.uk
SUMMARY:Weekly Healthy Walks - Fridays at 10.00am
DESCRIPTION:
URL:https://swanscombeandgreenhithetowncouncil.gov.uk/event/weekly-healthy-walks-fridays-at-10-00am-2/2028-01-21/
LOCATION:The Fire Station Cafe\, Church Rd\, Swanscombe DA10 0HF\, United Kingdom\, United Kingdom
CATEGORIES:Community Event
END:VEVENT
BEGIN:VEVENT
DTSTART;TZID=Europe/London:20280128T100000
DTEND;TZID=Europe/London:20280128T100000
DTSTAMP:20260422T025741
CREATED:20240313T170048Z
LAST-MODIFIED:20241219T091026Z
UID:10014656-1832666400-1832666400@swanscombeandgreenhithetowncouncil.gov.uk
SUMMARY:Weekly Healthy Walks - Fridays at 10.00am
DESCRIPTION:
URL:https://swanscombeandgreenhithetowncouncil.gov.uk/event/weekly-healthy-walks-fridays-at-10-00am-2/2028-01-28/
LOCATION:The Fire Station Cafe\, Church Rd\, Swanscombe DA10 0HF\, United Kingdom\, United Kingdom
CATEGORIES:Community Event
END:VEVENT
BEGIN:VEVENT
DTSTART;TZID=Europe/London:20280204T100000
DTEND;TZID=Europe/London:20280204T100000
DTSTAMP:20260422T025741
CREATED:20240313T170048Z
LAST-MODIFIED:20241219T091026Z
UID:10014657-1833271200-1833271200@swanscombeandgreenhithetowncouncil.gov.uk
SUMMARY:Weekly Healthy Walks - Fridays at 10.00am
DESCRIPTION:
URL:https://swanscombeandgreenhithetowncouncil.gov.uk/event/weekly-healthy-walks-fridays-at-10-00am-2/2028-02-04/
LOCATION:The Fire Station Cafe\, Church Rd\, Swanscombe DA10 0HF\, United Kingdom\, United Kingdom
CATEGORIES:Community Event
END:VEVENT
BEGIN:VEVENT
DTSTART;TZID=Europe/London:20280211T100000
DTEND;TZID=Europe/London:20280211T100000
DTSTAMP:20260422T025741
CREATED:20240313T170048Z
LAST-MODIFIED:20241219T091026Z
UID:10014658-1833876000-1833876000@swanscombeandgreenhithetowncouncil.gov.uk
SUMMARY:Weekly Healthy Walks - Fridays at 10.00am
DESCRIPTION:
URL:https://swanscombeandgreenhithetowncouncil.gov.uk/event/weekly-healthy-walks-fridays-at-10-00am-2/2028-02-11/
LOCATION:The Fire Station Cafe\, Church Rd\, Swanscombe DA10 0HF\, United Kingdom\, United Kingdom
CATEGORIES:Community Event
END:VEVENT
BEGIN:VEVENT
DTSTART;TZID=Europe/London:20280218T100000
DTEND;TZID=Europe/London:20280218T100000
DTSTAMP:20260422T025741
CREATED:20240313T170048Z
LAST-MODIFIED:20241219T091026Z
UID:10014659-1834480800-1834480800@swanscombeandgreenhithetowncouncil.gov.uk
SUMMARY:Weekly Healthy Walks - Fridays at 10.00am
DESCRIPTION:
URL:https://swanscombeandgreenhithetowncouncil.gov.uk/event/weekly-healthy-walks-fridays-at-10-00am-2/2028-02-18/
LOCATION:The Fire Station Cafe\, Church Rd\, Swanscombe DA10 0HF\, United Kingdom\, United Kingdom
CATEGORIES:Community Event
END:VEVENT
BEGIN:VEVENT
DTSTART;TZID=Europe/London:20280225T100000
DTEND;TZID=Europe/London:20280225T100000
DTSTAMP:20260422T025741
CREATED:20240313T170048Z
LAST-MODIFIED:20241219T091026Z
UID:10014660-1835085600-1835085600@swanscombeandgreenhithetowncouncil.gov.uk
SUMMARY:Weekly Healthy Walks - Fridays at 10.00am
DESCRIPTION:
URL:https://swanscombeandgreenhithetowncouncil.gov.uk/event/weekly-healthy-walks-fridays-at-10-00am-2/2028-02-25/
LOCATION:The Fire Station Cafe\, Church Rd\, Swanscombe DA10 0HF\, United Kingdom\, United Kingdom
CATEGORIES:Community Event
END:VEVENT
BEGIN:VEVENT
DTSTART;TZID=Europe/London:20280303T100000
DTEND;TZID=Europe/London:20280303T100000
DTSTAMP:20260422T025741
CREATED:20240313T170048Z
LAST-MODIFIED:20241219T091026Z
UID:10014661-1835690400-1835690400@swanscombeandgreenhithetowncouncil.gov.uk
SUMMARY:Weekly Healthy Walks - Fridays at 10.00am
DESCRIPTION:
URL:https://swanscombeandgreenhithetowncouncil.gov.uk/event/weekly-healthy-walks-fridays-at-10-00am-2/2028-03-03/
LOCATION:The Fire Station Cafe\, Church Rd\, Swanscombe DA10 0HF\, United Kingdom\, United Kingdom
CATEGORIES:Community Event
END:VEVENT
BEGIN:VEVENT
DTSTART;TZID=Europe/London:20280310T100000
DTEND;TZID=Europe/London:20280310T100000
DTSTAMP:20260422T025741
CREATED:20240313T170048Z
LAST-MODIFIED:20241219T091026Z
UID:10014662-1836295200-1836295200@swanscombeandgreenhithetowncouncil.gov.uk
SUMMARY:Weekly Healthy Walks - Fridays at 10.00am
DESCRIPTION:
URL:https://swanscombeandgreenhithetowncouncil.gov.uk/event/weekly-healthy-walks-fridays-at-10-00am-2/2028-03-10/
LOCATION:The Fire Station Cafe\, Church Rd\, Swanscombe DA10 0HF\, United Kingdom\, United Kingdom
CATEGORIES:Community Event
END:VEVENT
BEGIN:VEVENT
DTSTART;TZID=Europe/London:20280317T100000
DTEND;TZID=Europe/London:20280317T100000
DTSTAMP:20260422T025741
CREATED:20240313T170048Z
LAST-MODIFIED:20241219T091026Z
UID:10014663-1836900000-1836900000@swanscombeandgreenhithetowncouncil.gov.uk
SUMMARY:Weekly Healthy Walks - Fridays at 10.00am
DESCRIPTION:
URL:https://swanscombeandgreenhithetowncouncil.gov.uk/event/weekly-healthy-walks-fridays-at-10-00am-2/2028-03-17/
LOCATION:The Fire Station Cafe\, Church Rd\, Swanscombe DA10 0HF\, United Kingdom\, United Kingdom
CATEGORIES:Community Event
END:VEVENT
BEGIN:VEVENT
DTSTART;TZID=Europe/London:20280324T100000
DTEND;TZID=Europe/London:20280324T100000
DTSTAMP:20260422T025741
CREATED:20240313T170048Z
LAST-MODIFIED:20241219T091026Z
UID:10014664-1837504800-1837504800@swanscombeandgreenhithetowncouncil.gov.uk
SUMMARY:Weekly Healthy Walks - Fridays at 10.00am
DESCRIPTION:
URL:https://swanscombeandgreenhithetowncouncil.gov.uk/event/weekly-healthy-walks-fridays-at-10-00am-2/2028-03-24/
LOCATION:The Fire Station Cafe\, Church Rd\, Swanscombe DA10 0HF\, United Kingdom\, United Kingdom
CATEGORIES:Community Event
END:VEVENT
BEGIN:VEVENT
DTSTART;TZID=Europe/London:20280331T100000
DTEND;TZID=Europe/London:20280331T100000
DTSTAMP:20260422T025741
CREATED:20240313T170048Z
LAST-MODIFIED:20241219T091026Z
UID:10014665-1838109600-1838109600@swanscombeandgreenhithetowncouncil.gov.uk
SUMMARY:Weekly Healthy Walks - Fridays at 10.00am
DESCRIPTION:
URL:https://swanscombeandgreenhithetowncouncil.gov.uk/event/weekly-healthy-walks-fridays-at-10-00am-2/2028-03-31/
LOCATION:The Fire Station Cafe\, Church Rd\, Swanscombe DA10 0HF\, United Kingdom\, United Kingdom
CATEGORIES:Community Event
END:VEVENT
BEGIN:VEVENT
DTSTART;TZID=Europe/London:20280407T100000
DTEND;TZID=Europe/London:20280407T100000
DTSTAMP:20260422T025741
CREATED:20240313T170048Z
LAST-MODIFIED:20241219T091026Z
UID:10014666-1838714400-1838714400@swanscombeandgreenhithetowncouncil.gov.uk
SUMMARY:Weekly Healthy Walks - Fridays at 10.00am
DESCRIPTION:
URL:https://swanscombeandgreenhithetowncouncil.gov.uk/event/weekly-healthy-walks-fridays-at-10-00am-2/2028-04-07/
LOCATION:The Fire Station Cafe\, Church Rd\, Swanscombe DA10 0HF\, United Kingdom\, United Kingdom
CATEGORIES:Community Event
END:VEVENT
BEGIN:VEVENT
DTSTART;TZID=Europe/London:20280414T100000
DTEND;TZID=Europe/London:20280414T100000
DTSTAMP:20260422T025741
CREATED:20240313T170048Z
LAST-MODIFIED:20241219T091026Z
UID:10014667-1839319200-1839319200@swanscombeandgreenhithetowncouncil.gov.uk
SUMMARY:Weekly Healthy Walks - Fridays at 10.00am
DESCRIPTION:
URL:https://swanscombeandgreenhithetowncouncil.gov.uk/event/weekly-healthy-walks-fridays-at-10-00am-2/2028-04-14/
LOCATION:The Fire Station Cafe\, Church Rd\, Swanscombe DA10 0HF\, United Kingdom\, United Kingdom
CATEGORIES:Community Event
END:VEVENT
BEGIN:VEVENT
DTSTART;TZID=Europe/London:20280421T100000
DTEND;TZID=Europe/London:20280421T100000
DTSTAMP:20260422T025741
CREATED:20240313T170048Z
LAST-MODIFIED:20241219T091026Z
UID:10014668-1839924000-1839924000@swanscombeandgreenhithetowncouncil.gov.uk
SUMMARY:Weekly Healthy Walks - Fridays at 10.00am
DESCRIPTION:
URL:https://swanscombeandgreenhithetowncouncil.gov.uk/event/weekly-healthy-walks-fridays-at-10-00am-2/2028-04-21/
LOCATION:The Fire Station Cafe\, Church Rd\, Swanscombe DA10 0HF\, United Kingdom\, United Kingdom
CATEGORIES:Community Event
END:VEVENT
BEGIN:VEVENT
DTSTART;TZID=Europe/London:20280428T100000
DTEND;TZID=Europe/London:20280428T100000
DTSTAMP:20260422T025741
CREATED:20240313T170048Z
LAST-MODIFIED:20241219T091026Z
UID:10014669-1840528800-1840528800@swanscombeandgreenhithetowncouncil.gov.uk
SUMMARY:Weekly Healthy Walks - Fridays at 10.00am
DESCRIPTION:
URL:https://swanscombeandgreenhithetowncouncil.gov.uk/event/weekly-healthy-walks-fridays-at-10-00am-2/2028-04-28/
LOCATION:The Fire Station Cafe\, Church Rd\, Swanscombe DA10 0HF\, United Kingdom\, United Kingdom
CATEGORIES:Community Event
END:VEVENT
BEGIN:VEVENT
DTSTART;TZID=Europe/London:20280505T100000
DTEND;TZID=Europe/London:20280505T100000
DTSTAMP:20260422T025741
CREATED:20240313T170048Z
LAST-MODIFIED:20241219T091026Z
UID:10014670-1841133600-1841133600@swanscombeandgreenhithetowncouncil.gov.uk
SUMMARY:Weekly Healthy Walks - Fridays at 10.00am
DESCRIPTION:
URL:https://swanscombeandgreenhithetowncouncil.gov.uk/event/weekly-healthy-walks-fridays-at-10-00am-2/2028-05-05/
LOCATION:The Fire Station Cafe\, Church Rd\, Swanscombe DA10 0HF\, United Kingdom\, United Kingdom
CATEGORIES:Community Event
END:VEVENT
BEGIN:VEVENT
DTSTART;TZID=Europe/London:20280512T100000
DTEND;TZID=Europe/London:20280512T100000
DTSTAMP:20260422T025741
CREATED:20240313T170048Z
LAST-MODIFIED:20241219T091026Z
UID:10014671-1841738400-1841738400@swanscombeandgreenhithetowncouncil.gov.uk
SUMMARY:Weekly Healthy Walks - Fridays at 10.00am
DESCRIPTION:
URL:https://swanscombeandgreenhithetowncouncil.gov.uk/event/weekly-healthy-walks-fridays-at-10-00am-2/2028-05-12/
LOCATION:The Fire Station Cafe\, Church Rd\, Swanscombe DA10 0HF\, United Kingdom\, United Kingdom
CATEGORIES:Community Event
END:VEVENT
BEGIN:VEVENT
DTSTART;TZID=Europe/London:20280519T100000
DTEND;TZID=Europe/London:20280519T100000
DTSTAMP:20260422T025741
CREATED:20240313T170048Z
LAST-MODIFIED:20241219T091026Z
UID:10014672-1842343200-1842343200@swanscombeandgreenhithetowncouncil.gov.uk
SUMMARY:Weekly Healthy Walks - Fridays at 10.00am
DESCRIPTION:
URL:https://swanscombeandgreenhithetowncouncil.gov.uk/event/weekly-healthy-walks-fridays-at-10-00am-2/2028-05-19/
LOCATION:The Fire Station Cafe\, Church Rd\, Swanscombe DA10 0HF\, United Kingdom\, United Kingdom
CATEGORIES:Community Event
END:VEVENT
BEGIN:VEVENT
DTSTART;TZID=Europe/London:20280526T100000
DTEND;TZID=Europe/London:20280526T100000
DTSTAMP:20260422T025741
CREATED:20240313T170048Z
LAST-MODIFIED:20241219T091026Z
UID:10014673-1842948000-1842948000@swanscombeandgreenhithetowncouncil.gov.uk
SUMMARY:Weekly Healthy Walks - Fridays at 10.00am
DESCRIPTION:
URL:https://swanscombeandgreenhithetowncouncil.gov.uk/event/weekly-healthy-walks-fridays-at-10-00am-2/2028-05-26/
LOCATION:The Fire Station Cafe\, Church Rd\, Swanscombe DA10 0HF\, United Kingdom\, United Kingdom
CATEGORIES:Community Event
END:VEVENT
BEGIN:VEVENT
DTSTART;TZID=Europe/London:20280602T100000
DTEND;TZID=Europe/London:20280602T100000
DTSTAMP:20260422T025741
CREATED:20240313T170048Z
LAST-MODIFIED:20241219T091026Z
UID:10014674-1843552800-1843552800@swanscombeandgreenhithetowncouncil.gov.uk
SUMMARY:Weekly Healthy Walks - Fridays at 10.00am
DESCRIPTION:
URL:https://swanscombeandgreenhithetowncouncil.gov.uk/event/weekly-healthy-walks-fridays-at-10-00am-2/2028-06-02/
LOCATION:The Fire Station Cafe\, Church Rd\, Swanscombe DA10 0HF\, United Kingdom\, United Kingdom
CATEGORIES:Community Event
END:VEVENT
BEGIN:VEVENT
DTSTART;TZID=Europe/London:20280609T100000
DTEND;TZID=Europe/London:20280609T100000
DTSTAMP:20260422T025741
CREATED:20240313T170048Z
LAST-MODIFIED:20241219T091026Z
UID:10014675-1844157600-1844157600@swanscombeandgreenhithetowncouncil.gov.uk
SUMMARY:Weekly Healthy Walks - Fridays at 10.00am
DESCRIPTION:
URL:https://swanscombeandgreenhithetowncouncil.gov.uk/event/weekly-healthy-walks-fridays-at-10-00am-2/2028-06-09/
LOCATION:The Fire Station Cafe\, Church Rd\, Swanscombe DA10 0HF\, United Kingdom\, United Kingdom
CATEGORIES:Community Event
END:VEVENT
BEGIN:VEVENT
DTSTART;TZID=Europe/London:20280616T100000
DTEND;TZID=Europe/London:20280616T100000
DTSTAMP:20260422T025741
CREATED:20240313T170048Z
LAST-MODIFIED:20241219T091026Z
UID:10014676-1844762400-1844762400@swanscombeandgreenhithetowncouncil.gov.uk
SUMMARY:Weekly Healthy Walks - Fridays at 10.00am
DESCRIPTION:
URL:https://swanscombeandgreenhithetowncouncil.gov.uk/event/weekly-healthy-walks-fridays-at-10-00am-2/2028-06-16/
LOCATION:The Fire Station Cafe\, Church Rd\, Swanscombe DA10 0HF\, United Kingdom\, United Kingdom
CATEGORIES:Community Event
END:VEVENT
BEGIN:VEVENT
DTSTART;TZID=Europe/London:20280623T100000
DTEND;TZID=Europe/London:20280623T100000
DTSTAMP:20260422T025741
CREATED:20240313T170048Z
LAST-MODIFIED:20241219T091026Z
UID:10014677-1845367200-1845367200@swanscombeandgreenhithetowncouncil.gov.uk
SUMMARY:Weekly Healthy Walks - Fridays at 10.00am
DESCRIPTION:
URL:https://swanscombeandgreenhithetowncouncil.gov.uk/event/weekly-healthy-walks-fridays-at-10-00am-2/2028-06-23/
LOCATION:The Fire Station Cafe\, Church Rd\, Swanscombe DA10 0HF\, United Kingdom\, United Kingdom
CATEGORIES:Community Event
END:VEVENT
END:VCALENDAR