BEGIN:VCALENDAR
VERSION:2.0
PRODID:-//Swanscombe and Greenhithe Town Council - ECPv6.15.20//NONSGML v1.0//EN
CALSCALE:GREGORIAN
METHOD:PUBLISH
X-WR-CALNAME:Swanscombe and Greenhithe Town Council
X-ORIGINAL-URL:https://swanscombeandgreenhithetowncouncil.gov.uk
X-WR-CALDESC:Events for Swanscombe and Greenhithe Town Council
REFRESH-INTERVAL;VALUE=DURATION:PT1H
X-Robots-Tag:noindex
X-PUBLISHED-TTL:PT1H
BEGIN:VTIMEZONE
TZID:Europe/London
BEGIN:DAYLIGHT
TZOFFSETFROM:+0000
TZOFFSETTO:+0100
TZNAME:BST
DTSTART:20270328T010000
END:DAYLIGHT
BEGIN:STANDARD
TZOFFSETFROM:+0100
TZOFFSETTO:+0000
TZNAME:GMT
DTSTART:20271031T010000
END:STANDARD
BEGIN:DAYLIGHT
TZOFFSETFROM:+0000
TZOFFSETTO:+0100
TZNAME:BST
DTSTART:20280326T010000
END:DAYLIGHT
BEGIN:STANDARD
TZOFFSETFROM:+0100
TZOFFSETTO:+0000
TZNAME:GMT
DTSTART:20281029T010000
END:STANDARD
BEGIN:DAYLIGHT
TZOFFSETFROM:+0000
TZOFFSETTO:+0100
TZNAME:BST
DTSTART:20290325T010000
END:DAYLIGHT
BEGIN:STANDARD
TZOFFSETFROM:+0100
TZOFFSETTO:+0000
TZNAME:GMT
DTSTART:20291028T010000
END:STANDARD
END:VTIMEZONE
BEGIN:VEVENT
DTSTART;TZID=Europe/London:20280229T103000
DTEND;TZID=Europe/London:20280229T133000
DTSTAMP:20260422T025811
CREATED:20250107T121026Z
LAST-MODIFIED:20250107T121026Z
UID:10023450-1835433000-1835443800@swanscombeandgreenhithetowncouncil.gov.uk
SUMMARY:Warm Hub Club
DESCRIPTION:
URL:https://swanscombeandgreenhithetowncouncil.gov.uk/event/warm-hub-club/2028-02-29/
LOCATION:Above Old Fire Station Cafe\, Church Road\, Swanscombe\, DA10 0HF
CATEGORIES:Community Event
ATTACH;FMTTYPE=image/jpeg:https://swanscombeandgreenhithetowncouncil.gov.uk/wp-content/uploads/2025/01/2025-Warm-Hub-Club-7-Jan.jpg
ORGANIZER;CN="Dee Ryland":MAILTO:info@swanscombe-greenhithe-community-hub.org
END:VEVENT
BEGIN:VEVENT
DTSTART;TZID=Europe/London:20280307T103000
DTEND;TZID=Europe/London:20280307T133000
DTSTAMP:20260422T025811
CREATED:20250107T121026Z
LAST-MODIFIED:20250107T121026Z
UID:10023451-1836037800-1836048600@swanscombeandgreenhithetowncouncil.gov.uk
SUMMARY:Warm Hub Club
DESCRIPTION:
URL:https://swanscombeandgreenhithetowncouncil.gov.uk/event/warm-hub-club/2028-03-07/
LOCATION:Above Old Fire Station Cafe\, Church Road\, Swanscombe\, DA10 0HF
CATEGORIES:Community Event
ATTACH;FMTTYPE=image/jpeg:https://swanscombeandgreenhithetowncouncil.gov.uk/wp-content/uploads/2025/01/2025-Warm-Hub-Club-7-Jan.jpg
ORGANIZER;CN="Dee Ryland":MAILTO:info@swanscombe-greenhithe-community-hub.org
END:VEVENT
BEGIN:VEVENT
DTSTART;TZID=Europe/London:20280314T103000
DTEND;TZID=Europe/London:20280314T133000
DTSTAMP:20260422T025811
CREATED:20250107T121026Z
LAST-MODIFIED:20250107T121026Z
UID:10023452-1836642600-1836653400@swanscombeandgreenhithetowncouncil.gov.uk
SUMMARY:Warm Hub Club
DESCRIPTION:
URL:https://swanscombeandgreenhithetowncouncil.gov.uk/event/warm-hub-club/2028-03-14/
LOCATION:Above Old Fire Station Cafe\, Church Road\, Swanscombe\, DA10 0HF
CATEGORIES:Community Event
ATTACH;FMTTYPE=image/jpeg:https://swanscombeandgreenhithetowncouncil.gov.uk/wp-content/uploads/2025/01/2025-Warm-Hub-Club-7-Jan.jpg
ORGANIZER;CN="Dee Ryland":MAILTO:info@swanscombe-greenhithe-community-hub.org
END:VEVENT
BEGIN:VEVENT
DTSTART;TZID=Europe/London:20280321T103000
DTEND;TZID=Europe/London:20280321T133000
DTSTAMP:20260422T025811
CREATED:20250107T121026Z
LAST-MODIFIED:20250107T121026Z
UID:10023453-1837247400-1837258200@swanscombeandgreenhithetowncouncil.gov.uk
SUMMARY:Warm Hub Club
DESCRIPTION:
URL:https://swanscombeandgreenhithetowncouncil.gov.uk/event/warm-hub-club/2028-03-21/
LOCATION:Above Old Fire Station Cafe\, Church Road\, Swanscombe\, DA10 0HF
CATEGORIES:Community Event
ATTACH;FMTTYPE=image/jpeg:https://swanscombeandgreenhithetowncouncil.gov.uk/wp-content/uploads/2025/01/2025-Warm-Hub-Club-7-Jan.jpg
ORGANIZER;CN="Dee Ryland":MAILTO:info@swanscombe-greenhithe-community-hub.org
END:VEVENT
BEGIN:VEVENT
DTSTART;TZID=Europe/London:20280328T103000
DTEND;TZID=Europe/London:20280328T133000
DTSTAMP:20260422T025811
CREATED:20250107T121026Z
LAST-MODIFIED:20250107T121026Z
UID:10023454-1837852200-1837863000@swanscombeandgreenhithetowncouncil.gov.uk
SUMMARY:Warm Hub Club
DESCRIPTION:
URL:https://swanscombeandgreenhithetowncouncil.gov.uk/event/warm-hub-club/2028-03-28/
LOCATION:Above Old Fire Station Cafe\, Church Road\, Swanscombe\, DA10 0HF
CATEGORIES:Community Event
ATTACH;FMTTYPE=image/jpeg:https://swanscombeandgreenhithetowncouncil.gov.uk/wp-content/uploads/2025/01/2025-Warm-Hub-Club-7-Jan.jpg
ORGANIZER;CN="Dee Ryland":MAILTO:info@swanscombe-greenhithe-community-hub.org
END:VEVENT
BEGIN:VEVENT
DTSTART;TZID=Europe/London:20280404T103000
DTEND;TZID=Europe/London:20280404T133000
DTSTAMP:20260422T025811
CREATED:20250107T121026Z
LAST-MODIFIED:20250107T121026Z
UID:10023455-1838457000-1838467800@swanscombeandgreenhithetowncouncil.gov.uk
SUMMARY:Warm Hub Club
DESCRIPTION:
URL:https://swanscombeandgreenhithetowncouncil.gov.uk/event/warm-hub-club/2028-04-04/
LOCATION:Above Old Fire Station Cafe\, Church Road\, Swanscombe\, DA10 0HF
CATEGORIES:Community Event
ATTACH;FMTTYPE=image/jpeg:https://swanscombeandgreenhithetowncouncil.gov.uk/wp-content/uploads/2025/01/2025-Warm-Hub-Club-7-Jan.jpg
ORGANIZER;CN="Dee Ryland":MAILTO:info@swanscombe-greenhithe-community-hub.org
END:VEVENT
BEGIN:VEVENT
DTSTART;TZID=Europe/London:20280411T103000
DTEND;TZID=Europe/London:20280411T133000
DTSTAMP:20260422T025811
CREATED:20250107T121026Z
LAST-MODIFIED:20250107T121026Z
UID:10023456-1839061800-1839072600@swanscombeandgreenhithetowncouncil.gov.uk
SUMMARY:Warm Hub Club
DESCRIPTION:
URL:https://swanscombeandgreenhithetowncouncil.gov.uk/event/warm-hub-club/2028-04-11/
LOCATION:Above Old Fire Station Cafe\, Church Road\, Swanscombe\, DA10 0HF
CATEGORIES:Community Event
ATTACH;FMTTYPE=image/jpeg:https://swanscombeandgreenhithetowncouncil.gov.uk/wp-content/uploads/2025/01/2025-Warm-Hub-Club-7-Jan.jpg
ORGANIZER;CN="Dee Ryland":MAILTO:info@swanscombe-greenhithe-community-hub.org
END:VEVENT
BEGIN:VEVENT
DTSTART;TZID=Europe/London:20280418T103000
DTEND;TZID=Europe/London:20280418T133000
DTSTAMP:20260422T025811
CREATED:20250107T121026Z
LAST-MODIFIED:20250107T121026Z
UID:10023457-1839666600-1839677400@swanscombeandgreenhithetowncouncil.gov.uk
SUMMARY:Warm Hub Club
DESCRIPTION:
URL:https://swanscombeandgreenhithetowncouncil.gov.uk/event/warm-hub-club/2028-04-18/
LOCATION:Above Old Fire Station Cafe\, Church Road\, Swanscombe\, DA10 0HF
CATEGORIES:Community Event
ATTACH;FMTTYPE=image/jpeg:https://swanscombeandgreenhithetowncouncil.gov.uk/wp-content/uploads/2025/01/2025-Warm-Hub-Club-7-Jan.jpg
ORGANIZER;CN="Dee Ryland":MAILTO:info@swanscombe-greenhithe-community-hub.org
END:VEVENT
BEGIN:VEVENT
DTSTART;TZID=Europe/London:20280425T103000
DTEND;TZID=Europe/London:20280425T133000
DTSTAMP:20260422T025811
CREATED:20250107T121026Z
LAST-MODIFIED:20250107T121026Z
UID:10023458-1840271400-1840282200@swanscombeandgreenhithetowncouncil.gov.uk
SUMMARY:Warm Hub Club
DESCRIPTION:
URL:https://swanscombeandgreenhithetowncouncil.gov.uk/event/warm-hub-club/2028-04-25/
LOCATION:Above Old Fire Station Cafe\, Church Road\, Swanscombe\, DA10 0HF
CATEGORIES:Community Event
ATTACH;FMTTYPE=image/jpeg:https://swanscombeandgreenhithetowncouncil.gov.uk/wp-content/uploads/2025/01/2025-Warm-Hub-Club-7-Jan.jpg
ORGANIZER;CN="Dee Ryland":MAILTO:info@swanscombe-greenhithe-community-hub.org
END:VEVENT
BEGIN:VEVENT
DTSTART;TZID=Europe/London:20280502T103000
DTEND;TZID=Europe/London:20280502T133000
DTSTAMP:20260422T025811
CREATED:20250107T121026Z
LAST-MODIFIED:20250107T121026Z
UID:10023459-1840876200-1840887000@swanscombeandgreenhithetowncouncil.gov.uk
SUMMARY:Warm Hub Club
DESCRIPTION:
URL:https://swanscombeandgreenhithetowncouncil.gov.uk/event/warm-hub-club/2028-05-02/
LOCATION:Above Old Fire Station Cafe\, Church Road\, Swanscombe\, DA10 0HF
CATEGORIES:Community Event
ATTACH;FMTTYPE=image/jpeg:https://swanscombeandgreenhithetowncouncil.gov.uk/wp-content/uploads/2025/01/2025-Warm-Hub-Club-7-Jan.jpg
ORGANIZER;CN="Dee Ryland":MAILTO:info@swanscombe-greenhithe-community-hub.org
END:VEVENT
BEGIN:VEVENT
DTSTART;TZID=Europe/London:20280509T103000
DTEND;TZID=Europe/London:20280509T133000
DTSTAMP:20260422T025811
CREATED:20250107T121026Z
LAST-MODIFIED:20250107T121026Z
UID:10023460-1841481000-1841491800@swanscombeandgreenhithetowncouncil.gov.uk
SUMMARY:Warm Hub Club
DESCRIPTION:
URL:https://swanscombeandgreenhithetowncouncil.gov.uk/event/warm-hub-club/2028-05-09/
LOCATION:Above Old Fire Station Cafe\, Church Road\, Swanscombe\, DA10 0HF
CATEGORIES:Community Event
ATTACH;FMTTYPE=image/jpeg:https://swanscombeandgreenhithetowncouncil.gov.uk/wp-content/uploads/2025/01/2025-Warm-Hub-Club-7-Jan.jpg
ORGANIZER;CN="Dee Ryland":MAILTO:info@swanscombe-greenhithe-community-hub.org
END:VEVENT
BEGIN:VEVENT
DTSTART;TZID=Europe/London:20280516T103000
DTEND;TZID=Europe/London:20280516T133000
DTSTAMP:20260422T025811
CREATED:20250107T121026Z
LAST-MODIFIED:20250107T121026Z
UID:10023461-1842085800-1842096600@swanscombeandgreenhithetowncouncil.gov.uk
SUMMARY:Warm Hub Club
DESCRIPTION:
URL:https://swanscombeandgreenhithetowncouncil.gov.uk/event/warm-hub-club/2028-05-16/
LOCATION:Above Old Fire Station Cafe\, Church Road\, Swanscombe\, DA10 0HF
CATEGORIES:Community Event
ATTACH;FMTTYPE=image/jpeg:https://swanscombeandgreenhithetowncouncil.gov.uk/wp-content/uploads/2025/01/2025-Warm-Hub-Club-7-Jan.jpg
ORGANIZER;CN="Dee Ryland":MAILTO:info@swanscombe-greenhithe-community-hub.org
END:VEVENT
BEGIN:VEVENT
DTSTART;TZID=Europe/London:20280523T103000
DTEND;TZID=Europe/London:20280523T133000
DTSTAMP:20260422T025811
CREATED:20250107T121026Z
LAST-MODIFIED:20250107T121026Z
UID:10023462-1842690600-1842701400@swanscombeandgreenhithetowncouncil.gov.uk
SUMMARY:Warm Hub Club
DESCRIPTION:
URL:https://swanscombeandgreenhithetowncouncil.gov.uk/event/warm-hub-club/2028-05-23/
LOCATION:Above Old Fire Station Cafe\, Church Road\, Swanscombe\, DA10 0HF
CATEGORIES:Community Event
ATTACH;FMTTYPE=image/jpeg:https://swanscombeandgreenhithetowncouncil.gov.uk/wp-content/uploads/2025/01/2025-Warm-Hub-Club-7-Jan.jpg
ORGANIZER;CN="Dee Ryland":MAILTO:info@swanscombe-greenhithe-community-hub.org
END:VEVENT
BEGIN:VEVENT
DTSTART;TZID=Europe/London:20280530T103000
DTEND;TZID=Europe/London:20280530T133000
DTSTAMP:20260422T025811
CREATED:20250107T121026Z
LAST-MODIFIED:20250107T121026Z
UID:10023463-1843295400-1843306200@swanscombeandgreenhithetowncouncil.gov.uk
SUMMARY:Warm Hub Club
DESCRIPTION:
URL:https://swanscombeandgreenhithetowncouncil.gov.uk/event/warm-hub-club/2028-05-30/
LOCATION:Above Old Fire Station Cafe\, Church Road\, Swanscombe\, DA10 0HF
CATEGORIES:Community Event
ATTACH;FMTTYPE=image/jpeg:https://swanscombeandgreenhithetowncouncil.gov.uk/wp-content/uploads/2025/01/2025-Warm-Hub-Club-7-Jan.jpg
ORGANIZER;CN="Dee Ryland":MAILTO:info@swanscombe-greenhithe-community-hub.org
END:VEVENT
BEGIN:VEVENT
DTSTART;TZID=Europe/London:20280606T103000
DTEND;TZID=Europe/London:20280606T133000
DTSTAMP:20260422T025811
CREATED:20250107T121026Z
LAST-MODIFIED:20250107T121026Z
UID:10023464-1843900200-1843911000@swanscombeandgreenhithetowncouncil.gov.uk
SUMMARY:Warm Hub Club
DESCRIPTION:
URL:https://swanscombeandgreenhithetowncouncil.gov.uk/event/warm-hub-club/2028-06-06/
LOCATION:Above Old Fire Station Cafe\, Church Road\, Swanscombe\, DA10 0HF
CATEGORIES:Community Event
ATTACH;FMTTYPE=image/jpeg:https://swanscombeandgreenhithetowncouncil.gov.uk/wp-content/uploads/2025/01/2025-Warm-Hub-Club-7-Jan.jpg
ORGANIZER;CN="Dee Ryland":MAILTO:info@swanscombe-greenhithe-community-hub.org
END:VEVENT
BEGIN:VEVENT
DTSTART;TZID=Europe/London:20280613T103000
DTEND;TZID=Europe/London:20280613T133000
DTSTAMP:20260422T025811
CREATED:20250107T121026Z
LAST-MODIFIED:20250107T121026Z
UID:10023465-1844505000-1844515800@swanscombeandgreenhithetowncouncil.gov.uk
SUMMARY:Warm Hub Club
DESCRIPTION:
URL:https://swanscombeandgreenhithetowncouncil.gov.uk/event/warm-hub-club/2028-06-13/
LOCATION:Above Old Fire Station Cafe\, Church Road\, Swanscombe\, DA10 0HF
CATEGORIES:Community Event
ATTACH;FMTTYPE=image/jpeg:https://swanscombeandgreenhithetowncouncil.gov.uk/wp-content/uploads/2025/01/2025-Warm-Hub-Club-7-Jan.jpg
ORGANIZER;CN="Dee Ryland":MAILTO:info@swanscombe-greenhithe-community-hub.org
END:VEVENT
BEGIN:VEVENT
DTSTART;TZID=Europe/London:20280620T103000
DTEND;TZID=Europe/London:20280620T133000
DTSTAMP:20260422T025811
CREATED:20250107T121026Z
LAST-MODIFIED:20250107T121026Z
UID:10023466-1845109800-1845120600@swanscombeandgreenhithetowncouncil.gov.uk
SUMMARY:Warm Hub Club
DESCRIPTION:
URL:https://swanscombeandgreenhithetowncouncil.gov.uk/event/warm-hub-club/2028-06-20/
LOCATION:Above Old Fire Station Cafe\, Church Road\, Swanscombe\, DA10 0HF
CATEGORIES:Community Event
ATTACH;FMTTYPE=image/jpeg:https://swanscombeandgreenhithetowncouncil.gov.uk/wp-content/uploads/2025/01/2025-Warm-Hub-Club-7-Jan.jpg
ORGANIZER;CN="Dee Ryland":MAILTO:info@swanscombe-greenhithe-community-hub.org
END:VEVENT
BEGIN:VEVENT
DTSTART;TZID=Europe/London:20280627T103000
DTEND;TZID=Europe/London:20280627T133000
DTSTAMP:20260422T025811
CREATED:20250107T121026Z
LAST-MODIFIED:20250107T121026Z
UID:10023467-1845714600-1845725400@swanscombeandgreenhithetowncouncil.gov.uk
SUMMARY:Warm Hub Club
DESCRIPTION:
URL:https://swanscombeandgreenhithetowncouncil.gov.uk/event/warm-hub-club/2028-06-27/
LOCATION:Above Old Fire Station Cafe\, Church Road\, Swanscombe\, DA10 0HF
CATEGORIES:Community Event
ATTACH;FMTTYPE=image/jpeg:https://swanscombeandgreenhithetowncouncil.gov.uk/wp-content/uploads/2025/01/2025-Warm-Hub-Club-7-Jan.jpg
ORGANIZER;CN="Dee Ryland":MAILTO:info@swanscombe-greenhithe-community-hub.org
END:VEVENT
BEGIN:VEVENT
DTSTART;TZID=Europe/London:20280704T103000
DTEND;TZID=Europe/London:20280704T133000
DTSTAMP:20260422T025811
CREATED:20250107T121026Z
LAST-MODIFIED:20250107T121026Z
UID:10023468-1846319400-1846330200@swanscombeandgreenhithetowncouncil.gov.uk
SUMMARY:Warm Hub Club
DESCRIPTION:
URL:https://swanscombeandgreenhithetowncouncil.gov.uk/event/warm-hub-club/2028-07-04/
LOCATION:Above Old Fire Station Cafe\, Church Road\, Swanscombe\, DA10 0HF
CATEGORIES:Community Event
ATTACH;FMTTYPE=image/jpeg:https://swanscombeandgreenhithetowncouncil.gov.uk/wp-content/uploads/2025/01/2025-Warm-Hub-Club-7-Jan.jpg
ORGANIZER;CN="Dee Ryland":MAILTO:info@swanscombe-greenhithe-community-hub.org
END:VEVENT
BEGIN:VEVENT
DTSTART;TZID=Europe/London:20280711T103000
DTEND;TZID=Europe/London:20280711T133000
DTSTAMP:20260422T025811
CREATED:20250107T121026Z
LAST-MODIFIED:20250107T121026Z
UID:10023469-1846924200-1846935000@swanscombeandgreenhithetowncouncil.gov.uk
SUMMARY:Warm Hub Club
DESCRIPTION:
URL:https://swanscombeandgreenhithetowncouncil.gov.uk/event/warm-hub-club/2028-07-11/
LOCATION:Above Old Fire Station Cafe\, Church Road\, Swanscombe\, DA10 0HF
CATEGORIES:Community Event
ATTACH;FMTTYPE=image/jpeg:https://swanscombeandgreenhithetowncouncil.gov.uk/wp-content/uploads/2025/01/2025-Warm-Hub-Club-7-Jan.jpg
ORGANIZER;CN="Dee Ryland":MAILTO:info@swanscombe-greenhithe-community-hub.org
END:VEVENT
BEGIN:VEVENT
DTSTART;TZID=Europe/London:20280718T103000
DTEND;TZID=Europe/London:20280718T133000
DTSTAMP:20260422T025811
CREATED:20250107T121026Z
LAST-MODIFIED:20250107T121026Z
UID:10023470-1847529000-1847539800@swanscombeandgreenhithetowncouncil.gov.uk
SUMMARY:Warm Hub Club
DESCRIPTION:
URL:https://swanscombeandgreenhithetowncouncil.gov.uk/event/warm-hub-club/2028-07-18/
LOCATION:Above Old Fire Station Cafe\, Church Road\, Swanscombe\, DA10 0HF
CATEGORIES:Community Event
ATTACH;FMTTYPE=image/jpeg:https://swanscombeandgreenhithetowncouncil.gov.uk/wp-content/uploads/2025/01/2025-Warm-Hub-Club-7-Jan.jpg
ORGANIZER;CN="Dee Ryland":MAILTO:info@swanscombe-greenhithe-community-hub.org
END:VEVENT
BEGIN:VEVENT
DTSTART;TZID=Europe/London:20280725T103000
DTEND;TZID=Europe/London:20280725T133000
DTSTAMP:20260422T025811
CREATED:20250107T121026Z
LAST-MODIFIED:20250107T121026Z
UID:10023471-1848133800-1848144600@swanscombeandgreenhithetowncouncil.gov.uk
SUMMARY:Warm Hub Club
DESCRIPTION:
URL:https://swanscombeandgreenhithetowncouncil.gov.uk/event/warm-hub-club/2028-07-25/
LOCATION:Above Old Fire Station Cafe\, Church Road\, Swanscombe\, DA10 0HF
CATEGORIES:Community Event
ATTACH;FMTTYPE=image/jpeg:https://swanscombeandgreenhithetowncouncil.gov.uk/wp-content/uploads/2025/01/2025-Warm-Hub-Club-7-Jan.jpg
ORGANIZER;CN="Dee Ryland":MAILTO:info@swanscombe-greenhithe-community-hub.org
END:VEVENT
BEGIN:VEVENT
DTSTART;TZID=Europe/London:20280801T103000
DTEND;TZID=Europe/London:20280801T133000
DTSTAMP:20260422T025811
CREATED:20250107T121026Z
LAST-MODIFIED:20250107T121026Z
UID:10023472-1848738600-1848749400@swanscombeandgreenhithetowncouncil.gov.uk
SUMMARY:Warm Hub Club
DESCRIPTION:
URL:https://swanscombeandgreenhithetowncouncil.gov.uk/event/warm-hub-club/2028-08-01/
LOCATION:Above Old Fire Station Cafe\, Church Road\, Swanscombe\, DA10 0HF
CATEGORIES:Community Event
ATTACH;FMTTYPE=image/jpeg:https://swanscombeandgreenhithetowncouncil.gov.uk/wp-content/uploads/2025/01/2025-Warm-Hub-Club-7-Jan.jpg
ORGANIZER;CN="Dee Ryland":MAILTO:info@swanscombe-greenhithe-community-hub.org
END:VEVENT
BEGIN:VEVENT
DTSTART;TZID=Europe/London:20280808T103000
DTEND;TZID=Europe/London:20280808T133000
DTSTAMP:20260422T025811
CREATED:20250107T121026Z
LAST-MODIFIED:20250107T121026Z
UID:10023473-1849343400-1849354200@swanscombeandgreenhithetowncouncil.gov.uk
SUMMARY:Warm Hub Club
DESCRIPTION:
URL:https://swanscombeandgreenhithetowncouncil.gov.uk/event/warm-hub-club/2028-08-08/
LOCATION:Above Old Fire Station Cafe\, Church Road\, Swanscombe\, DA10 0HF
CATEGORIES:Community Event
ATTACH;FMTTYPE=image/jpeg:https://swanscombeandgreenhithetowncouncil.gov.uk/wp-content/uploads/2025/01/2025-Warm-Hub-Club-7-Jan.jpg
ORGANIZER;CN="Dee Ryland":MAILTO:info@swanscombe-greenhithe-community-hub.org
END:VEVENT
BEGIN:VEVENT
DTSTART;TZID=Europe/London:20280815T103000
DTEND;TZID=Europe/London:20280815T133000
DTSTAMP:20260422T025811
CREATED:20250107T121026Z
LAST-MODIFIED:20250107T121026Z
UID:10023474-1849948200-1849959000@swanscombeandgreenhithetowncouncil.gov.uk
SUMMARY:Warm Hub Club
DESCRIPTION:
URL:https://swanscombeandgreenhithetowncouncil.gov.uk/event/warm-hub-club/2028-08-15/
LOCATION:Above Old Fire Station Cafe\, Church Road\, Swanscombe\, DA10 0HF
CATEGORIES:Community Event
ATTACH;FMTTYPE=image/jpeg:https://swanscombeandgreenhithetowncouncil.gov.uk/wp-content/uploads/2025/01/2025-Warm-Hub-Club-7-Jan.jpg
ORGANIZER;CN="Dee Ryland":MAILTO:info@swanscombe-greenhithe-community-hub.org
END:VEVENT
BEGIN:VEVENT
DTSTART;TZID=Europe/London:20280822T103000
DTEND;TZID=Europe/London:20280822T133000
DTSTAMP:20260422T025811
CREATED:20250107T121026Z
LAST-MODIFIED:20250107T121026Z
UID:10023475-1850553000-1850563800@swanscombeandgreenhithetowncouncil.gov.uk
SUMMARY:Warm Hub Club
DESCRIPTION:
URL:https://swanscombeandgreenhithetowncouncil.gov.uk/event/warm-hub-club/2028-08-22/
LOCATION:Above Old Fire Station Cafe\, Church Road\, Swanscombe\, DA10 0HF
CATEGORIES:Community Event
ATTACH;FMTTYPE=image/jpeg:https://swanscombeandgreenhithetowncouncil.gov.uk/wp-content/uploads/2025/01/2025-Warm-Hub-Club-7-Jan.jpg
ORGANIZER;CN="Dee Ryland":MAILTO:info@swanscombe-greenhithe-community-hub.org
END:VEVENT
BEGIN:VEVENT
DTSTART;TZID=Europe/London:20280829T103000
DTEND;TZID=Europe/London:20280829T133000
DTSTAMP:20260422T025811
CREATED:20250107T121026Z
LAST-MODIFIED:20250107T121026Z
UID:10023476-1851157800-1851168600@swanscombeandgreenhithetowncouncil.gov.uk
SUMMARY:Warm Hub Club
DESCRIPTION:
URL:https://swanscombeandgreenhithetowncouncil.gov.uk/event/warm-hub-club/2028-08-29/
LOCATION:Above Old Fire Station Cafe\, Church Road\, Swanscombe\, DA10 0HF
CATEGORIES:Community Event
ATTACH;FMTTYPE=image/jpeg:https://swanscombeandgreenhithetowncouncil.gov.uk/wp-content/uploads/2025/01/2025-Warm-Hub-Club-7-Jan.jpg
ORGANIZER;CN="Dee Ryland":MAILTO:info@swanscombe-greenhithe-community-hub.org
END:VEVENT
BEGIN:VEVENT
DTSTART;TZID=Europe/London:20280905T103000
DTEND;TZID=Europe/London:20280905T133000
DTSTAMP:20260422T025811
CREATED:20250107T121026Z
LAST-MODIFIED:20250107T121026Z
UID:10023477-1851762600-1851773400@swanscombeandgreenhithetowncouncil.gov.uk
SUMMARY:Warm Hub Club
DESCRIPTION:
URL:https://swanscombeandgreenhithetowncouncil.gov.uk/event/warm-hub-club/2028-09-05/
LOCATION:Above Old Fire Station Cafe\, Church Road\, Swanscombe\, DA10 0HF
CATEGORIES:Community Event
ATTACH;FMTTYPE=image/jpeg:https://swanscombeandgreenhithetowncouncil.gov.uk/wp-content/uploads/2025/01/2025-Warm-Hub-Club-7-Jan.jpg
ORGANIZER;CN="Dee Ryland":MAILTO:info@swanscombe-greenhithe-community-hub.org
END:VEVENT
BEGIN:VEVENT
DTSTART;TZID=Europe/London:20280912T103000
DTEND;TZID=Europe/London:20280912T133000
DTSTAMP:20260422T025811
CREATED:20250107T121026Z
LAST-MODIFIED:20250107T121026Z
UID:10023478-1852367400-1852378200@swanscombeandgreenhithetowncouncil.gov.uk
SUMMARY:Warm Hub Club
DESCRIPTION:
URL:https://swanscombeandgreenhithetowncouncil.gov.uk/event/warm-hub-club/2028-09-12/
LOCATION:Above Old Fire Station Cafe\, Church Road\, Swanscombe\, DA10 0HF
CATEGORIES:Community Event
ATTACH;FMTTYPE=image/jpeg:https://swanscombeandgreenhithetowncouncil.gov.uk/wp-content/uploads/2025/01/2025-Warm-Hub-Club-7-Jan.jpg
ORGANIZER;CN="Dee Ryland":MAILTO:info@swanscombe-greenhithe-community-hub.org
END:VEVENT
BEGIN:VEVENT
DTSTART;TZID=Europe/London:20280919T103000
DTEND;TZID=Europe/London:20280919T133000
DTSTAMP:20260422T025811
CREATED:20250107T121026Z
LAST-MODIFIED:20250107T121026Z
UID:10023479-1852972200-1852983000@swanscombeandgreenhithetowncouncil.gov.uk
SUMMARY:Warm Hub Club
DESCRIPTION:
URL:https://swanscombeandgreenhithetowncouncil.gov.uk/event/warm-hub-club/2028-09-19/
LOCATION:Above Old Fire Station Cafe\, Church Road\, Swanscombe\, DA10 0HF
CATEGORIES:Community Event
ATTACH;FMTTYPE=image/jpeg:https://swanscombeandgreenhithetowncouncil.gov.uk/wp-content/uploads/2025/01/2025-Warm-Hub-Club-7-Jan.jpg
ORGANIZER;CN="Dee Ryland":MAILTO:info@swanscombe-greenhithe-community-hub.org
END:VEVENT
END:VCALENDAR