BEGIN:VCALENDAR
VERSION:2.0
PRODID:-//Swanscombe and Greenhithe Town Council - ECPv6.15.20//NONSGML v1.0//EN
CALSCALE:GREGORIAN
METHOD:PUBLISH
X-WR-CALNAME:Swanscombe and Greenhithe Town Council
X-ORIGINAL-URL:https://swanscombeandgreenhithetowncouncil.gov.uk
X-WR-CALDESC:Events for Swanscombe and Greenhithe Town Council
REFRESH-INTERVAL;VALUE=DURATION:PT1H
X-Robots-Tag:noindex
X-PUBLISHED-TTL:PT1H
BEGIN:VTIMEZONE
TZID:Europe/London
BEGIN:DAYLIGHT
TZOFFSETFROM:+0000
TZOFFSETTO:+0100
TZNAME:BST
DTSTART:20260329T010000
END:DAYLIGHT
BEGIN:STANDARD
TZOFFSETFROM:+0100
TZOFFSETTO:+0000
TZNAME:GMT
DTSTART:20261025T010000
END:STANDARD
BEGIN:DAYLIGHT
TZOFFSETFROM:+0000
TZOFFSETTO:+0100
TZNAME:BST
DTSTART:20270328T010000
END:DAYLIGHT
BEGIN:STANDARD
TZOFFSETFROM:+0100
TZOFFSETTO:+0000
TZNAME:GMT
DTSTART:20271031T010000
END:STANDARD
BEGIN:DAYLIGHT
TZOFFSETFROM:+0000
TZOFFSETTO:+0100
TZNAME:BST
DTSTART:20280326T010000
END:DAYLIGHT
BEGIN:STANDARD
TZOFFSETFROM:+0100
TZOFFSETTO:+0000
TZNAME:GMT
DTSTART:20281029T010000
END:STANDARD
END:VTIMEZONE
BEGIN:VEVENT
DTSTART;TZID=Europe/London:20270616T103000
DTEND;TZID=Europe/London:20270616T113000
DTSTAMP:20260422T051347
CREATED:20240313T011712Z
LAST-MODIFIED:20241219T091954Z
UID:10019598-1813141800-1813145400@swanscombeandgreenhithetowncouncil.gov.uk
SUMMARY:Free Weekly Health Walk
DESCRIPTION:  \n 
URL:https://swanscombeandgreenhithetowncouncil.gov.uk/event/free-weekly-health-walk-3-2/2027-06-16/
LOCATION:Greenhithe Community Centre\, Alexander Rd\, Greenhithe DA9 9HH\, United Kingdom\, United Kingdom
CATEGORIES:Community Event|Sports & Recreation Group
ATTACH;FMTTYPE=image/jpeg:https://swanscombeandgreenhithetowncouncil.gov.uk/wp-content/uploads/2021/05/43.2021-Health-Walks-S-and-G.jpg
ORGANIZER;CN="One You Kent team":MAILTO:oneyou@dartford.gov.uk
END:VEVENT
BEGIN:VEVENT
DTSTART;TZID=Europe/London:20270620T090000
DTEND;TZID=Europe/London:20270620T100000
DTSTAMP:20260422T051347
CREATED:20210520T102552Z
LAST-MODIFIED:20241219T091648Z
UID:10020581-1813482000-1813485600@swanscombeandgreenhithetowncouncil.gov.uk
SUMMARY:Free Weekly Health Walk
DESCRIPTION:
URL:https://swanscombeandgreenhithetowncouncil.gov.uk/event/free-weekly-health-walk/2027-06-20/
LOCATION:Swanscombe and Greenhithe Town Council and Community Hall\, 16 The Grove\, Swanscombe DA10 0AD\, United Kingdom\, United Kingdom
CATEGORIES:Community Event|Sports & Recreation Group
ATTACH;FMTTYPE=image/jpeg:https://swanscombeandgreenhithetowncouncil.gov.uk/wp-content/uploads/2021/05/43.2021-Health-Walks-S-and-G.jpg
ORGANIZER;CN="One You Kent team":MAILTO:oneyou@dartford.gov.uk
END:VEVENT
BEGIN:VEVENT
DTSTART;TZID=Europe/London:20270623T103000
DTEND;TZID=Europe/London:20270623T113000
DTSTAMP:20260422T051347
CREATED:20240313T011712Z
LAST-MODIFIED:20241219T091954Z
UID:10019599-1813746600-1813750200@swanscombeandgreenhithetowncouncil.gov.uk
SUMMARY:Free Weekly Health Walk
DESCRIPTION:  \n 
URL:https://swanscombeandgreenhithetowncouncil.gov.uk/event/free-weekly-health-walk-3-2/2027-06-23/
LOCATION:Greenhithe Community Centre\, Alexander Rd\, Greenhithe DA9 9HH\, United Kingdom\, United Kingdom
CATEGORIES:Community Event|Sports & Recreation Group
ATTACH;FMTTYPE=image/jpeg:https://swanscombeandgreenhithetowncouncil.gov.uk/wp-content/uploads/2021/05/43.2021-Health-Walks-S-and-G.jpg
ORGANIZER;CN="One You Kent team":MAILTO:oneyou@dartford.gov.uk
END:VEVENT
BEGIN:VEVENT
DTSTART;TZID=Europe/London:20270627T090000
DTEND;TZID=Europe/London:20270627T100000
DTSTAMP:20260422T051347
CREATED:20210520T102552Z
LAST-MODIFIED:20241219T091648Z
UID:10020582-1814086800-1814090400@swanscombeandgreenhithetowncouncil.gov.uk
SUMMARY:Free Weekly Health Walk
DESCRIPTION:
URL:https://swanscombeandgreenhithetowncouncil.gov.uk/event/free-weekly-health-walk/2027-06-27/
LOCATION:Swanscombe and Greenhithe Town Council and Community Hall\, 16 The Grove\, Swanscombe DA10 0AD\, United Kingdom\, United Kingdom
CATEGORIES:Community Event|Sports & Recreation Group
ATTACH;FMTTYPE=image/jpeg:https://swanscombeandgreenhithetowncouncil.gov.uk/wp-content/uploads/2021/05/43.2021-Health-Walks-S-and-G.jpg
ORGANIZER;CN="One You Kent team":MAILTO:oneyou@dartford.gov.uk
END:VEVENT
BEGIN:VEVENT
DTSTART;TZID=Europe/London:20270630T103000
DTEND;TZID=Europe/London:20270630T113000
DTSTAMP:20260422T051347
CREATED:20240313T011712Z
LAST-MODIFIED:20241219T091954Z
UID:10019600-1814351400-1814355000@swanscombeandgreenhithetowncouncil.gov.uk
SUMMARY:Free Weekly Health Walk
DESCRIPTION:  \n 
URL:https://swanscombeandgreenhithetowncouncil.gov.uk/event/free-weekly-health-walk-3-2/2027-06-30/
LOCATION:Greenhithe Community Centre\, Alexander Rd\, Greenhithe DA9 9HH\, United Kingdom\, United Kingdom
CATEGORIES:Community Event|Sports & Recreation Group
ATTACH;FMTTYPE=image/jpeg:https://swanscombeandgreenhithetowncouncil.gov.uk/wp-content/uploads/2021/05/43.2021-Health-Walks-S-and-G.jpg
ORGANIZER;CN="One You Kent team":MAILTO:oneyou@dartford.gov.uk
END:VEVENT
BEGIN:VEVENT
DTSTART;TZID=Europe/London:20270704T090000
DTEND;TZID=Europe/London:20270704T100000
DTSTAMP:20260422T051347
CREATED:20210520T102552Z
LAST-MODIFIED:20241219T091648Z
UID:10020583-1814691600-1814695200@swanscombeandgreenhithetowncouncil.gov.uk
SUMMARY:Free Weekly Health Walk
DESCRIPTION:
URL:https://swanscombeandgreenhithetowncouncil.gov.uk/event/free-weekly-health-walk/2027-07-04/
LOCATION:Swanscombe and Greenhithe Town Council and Community Hall\, 16 The Grove\, Swanscombe DA10 0AD\, United Kingdom\, United Kingdom
CATEGORIES:Community Event|Sports & Recreation Group
ATTACH;FMTTYPE=image/jpeg:https://swanscombeandgreenhithetowncouncil.gov.uk/wp-content/uploads/2021/05/43.2021-Health-Walks-S-and-G.jpg
ORGANIZER;CN="One You Kent team":MAILTO:oneyou@dartford.gov.uk
END:VEVENT
BEGIN:VEVENT
DTSTART;TZID=Europe/London:20270707T103000
DTEND;TZID=Europe/London:20270707T113000
DTSTAMP:20260422T051347
CREATED:20240313T011712Z
LAST-MODIFIED:20241219T091954Z
UID:10019601-1814956200-1814959800@swanscombeandgreenhithetowncouncil.gov.uk
SUMMARY:Free Weekly Health Walk
DESCRIPTION:  \n 
URL:https://swanscombeandgreenhithetowncouncil.gov.uk/event/free-weekly-health-walk-3-2/2027-07-07/
LOCATION:Greenhithe Community Centre\, Alexander Rd\, Greenhithe DA9 9HH\, United Kingdom\, United Kingdom
CATEGORIES:Community Event|Sports & Recreation Group
ATTACH;FMTTYPE=image/jpeg:https://swanscombeandgreenhithetowncouncil.gov.uk/wp-content/uploads/2021/05/43.2021-Health-Walks-S-and-G.jpg
ORGANIZER;CN="One You Kent team":MAILTO:oneyou@dartford.gov.uk
END:VEVENT
BEGIN:VEVENT
DTSTART;TZID=Europe/London:20270711T090000
DTEND;TZID=Europe/London:20270711T100000
DTSTAMP:20260422T051347
CREATED:20210520T102552Z
LAST-MODIFIED:20241219T091648Z
UID:10020584-1815296400-1815300000@swanscombeandgreenhithetowncouncil.gov.uk
SUMMARY:Free Weekly Health Walk
DESCRIPTION:
URL:https://swanscombeandgreenhithetowncouncil.gov.uk/event/free-weekly-health-walk/2027-07-11/
LOCATION:Swanscombe and Greenhithe Town Council and Community Hall\, 16 The Grove\, Swanscombe DA10 0AD\, United Kingdom\, United Kingdom
CATEGORIES:Community Event|Sports & Recreation Group
ATTACH;FMTTYPE=image/jpeg:https://swanscombeandgreenhithetowncouncil.gov.uk/wp-content/uploads/2021/05/43.2021-Health-Walks-S-and-G.jpg
ORGANIZER;CN="One You Kent team":MAILTO:oneyou@dartford.gov.uk
END:VEVENT
BEGIN:VEVENT
DTSTART;TZID=Europe/London:20270714T103000
DTEND;TZID=Europe/London:20270714T113000
DTSTAMP:20260422T051347
CREATED:20240313T011712Z
LAST-MODIFIED:20241219T091954Z
UID:10019602-1815561000-1815564600@swanscombeandgreenhithetowncouncil.gov.uk
SUMMARY:Free Weekly Health Walk
DESCRIPTION:  \n 
URL:https://swanscombeandgreenhithetowncouncil.gov.uk/event/free-weekly-health-walk-3-2/2027-07-14/
LOCATION:Greenhithe Community Centre\, Alexander Rd\, Greenhithe DA9 9HH\, United Kingdom\, United Kingdom
CATEGORIES:Community Event|Sports & Recreation Group
ATTACH;FMTTYPE=image/jpeg:https://swanscombeandgreenhithetowncouncil.gov.uk/wp-content/uploads/2021/05/43.2021-Health-Walks-S-and-G.jpg
ORGANIZER;CN="One You Kent team":MAILTO:oneyou@dartford.gov.uk
END:VEVENT
BEGIN:VEVENT
DTSTART;TZID=Europe/London:20270718T090000
DTEND;TZID=Europe/London:20270718T100000
DTSTAMP:20260422T051347
CREATED:20210520T102552Z
LAST-MODIFIED:20241219T091648Z
UID:10020585-1815901200-1815904800@swanscombeandgreenhithetowncouncil.gov.uk
SUMMARY:Free Weekly Health Walk
DESCRIPTION:
URL:https://swanscombeandgreenhithetowncouncil.gov.uk/event/free-weekly-health-walk/2027-07-18/
LOCATION:Swanscombe and Greenhithe Town Council and Community Hall\, 16 The Grove\, Swanscombe DA10 0AD\, United Kingdom\, United Kingdom
CATEGORIES:Community Event|Sports & Recreation Group
ATTACH;FMTTYPE=image/jpeg:https://swanscombeandgreenhithetowncouncil.gov.uk/wp-content/uploads/2021/05/43.2021-Health-Walks-S-and-G.jpg
ORGANIZER;CN="One You Kent team":MAILTO:oneyou@dartford.gov.uk
END:VEVENT
BEGIN:VEVENT
DTSTART;TZID=Europe/London:20270721T103000
DTEND;TZID=Europe/London:20270721T113000
DTSTAMP:20260422T051347
CREATED:20240313T011712Z
LAST-MODIFIED:20241219T091954Z
UID:10019603-1816165800-1816169400@swanscombeandgreenhithetowncouncil.gov.uk
SUMMARY:Free Weekly Health Walk
DESCRIPTION:  \n 
URL:https://swanscombeandgreenhithetowncouncil.gov.uk/event/free-weekly-health-walk-3-2/2027-07-21/
LOCATION:Greenhithe Community Centre\, Alexander Rd\, Greenhithe DA9 9HH\, United Kingdom\, United Kingdom
CATEGORIES:Community Event|Sports & Recreation Group
ATTACH;FMTTYPE=image/jpeg:https://swanscombeandgreenhithetowncouncil.gov.uk/wp-content/uploads/2021/05/43.2021-Health-Walks-S-and-G.jpg
ORGANIZER;CN="One You Kent team":MAILTO:oneyou@dartford.gov.uk
END:VEVENT
BEGIN:VEVENT
DTSTART;TZID=Europe/London:20270725T090000
DTEND;TZID=Europe/London:20270725T100000
DTSTAMP:20260422T051347
CREATED:20210520T102552Z
LAST-MODIFIED:20241219T091648Z
UID:10020586-1816506000-1816509600@swanscombeandgreenhithetowncouncil.gov.uk
SUMMARY:Free Weekly Health Walk
DESCRIPTION:
URL:https://swanscombeandgreenhithetowncouncil.gov.uk/event/free-weekly-health-walk/2027-07-25/
LOCATION:Swanscombe and Greenhithe Town Council and Community Hall\, 16 The Grove\, Swanscombe DA10 0AD\, United Kingdom\, United Kingdom
CATEGORIES:Community Event|Sports & Recreation Group
ATTACH;FMTTYPE=image/jpeg:https://swanscombeandgreenhithetowncouncil.gov.uk/wp-content/uploads/2021/05/43.2021-Health-Walks-S-and-G.jpg
ORGANIZER;CN="One You Kent team":MAILTO:oneyou@dartford.gov.uk
END:VEVENT
BEGIN:VEVENT
DTSTART;TZID=Europe/London:20270728T103000
DTEND;TZID=Europe/London:20270728T113000
DTSTAMP:20260422T051347
CREATED:20240313T011712Z
LAST-MODIFIED:20241219T091954Z
UID:10019604-1816770600-1816774200@swanscombeandgreenhithetowncouncil.gov.uk
SUMMARY:Free Weekly Health Walk
DESCRIPTION:  \n 
URL:https://swanscombeandgreenhithetowncouncil.gov.uk/event/free-weekly-health-walk-3-2/2027-07-28/
LOCATION:Greenhithe Community Centre\, Alexander Rd\, Greenhithe DA9 9HH\, United Kingdom\, United Kingdom
CATEGORIES:Community Event|Sports & Recreation Group
ATTACH;FMTTYPE=image/jpeg:https://swanscombeandgreenhithetowncouncil.gov.uk/wp-content/uploads/2021/05/43.2021-Health-Walks-S-and-G.jpg
ORGANIZER;CN="One You Kent team":MAILTO:oneyou@dartford.gov.uk
END:VEVENT
BEGIN:VEVENT
DTSTART;TZID=Europe/London:20270801T090000
DTEND;TZID=Europe/London:20270801T100000
DTSTAMP:20260422T051347
CREATED:20210520T102552Z
LAST-MODIFIED:20241219T091648Z
UID:10020587-1817110800-1817114400@swanscombeandgreenhithetowncouncil.gov.uk
SUMMARY:Free Weekly Health Walk
DESCRIPTION:
URL:https://swanscombeandgreenhithetowncouncil.gov.uk/event/free-weekly-health-walk/2027-08-01/
LOCATION:Swanscombe and Greenhithe Town Council and Community Hall\, 16 The Grove\, Swanscombe DA10 0AD\, United Kingdom\, United Kingdom
CATEGORIES:Community Event|Sports & Recreation Group
ATTACH;FMTTYPE=image/jpeg:https://swanscombeandgreenhithetowncouncil.gov.uk/wp-content/uploads/2021/05/43.2021-Health-Walks-S-and-G.jpg
ORGANIZER;CN="One You Kent team":MAILTO:oneyou@dartford.gov.uk
END:VEVENT
BEGIN:VEVENT
DTSTART;TZID=Europe/London:20270804T103000
DTEND;TZID=Europe/London:20270804T113000
DTSTAMP:20260422T051347
CREATED:20240313T011712Z
LAST-MODIFIED:20241219T091954Z
UID:10019605-1817375400-1817379000@swanscombeandgreenhithetowncouncil.gov.uk
SUMMARY:Free Weekly Health Walk
DESCRIPTION:  \n 
URL:https://swanscombeandgreenhithetowncouncil.gov.uk/event/free-weekly-health-walk-3-2/2027-08-04/
LOCATION:Greenhithe Community Centre\, Alexander Rd\, Greenhithe DA9 9HH\, United Kingdom\, United Kingdom
CATEGORIES:Community Event|Sports & Recreation Group
ATTACH;FMTTYPE=image/jpeg:https://swanscombeandgreenhithetowncouncil.gov.uk/wp-content/uploads/2021/05/43.2021-Health-Walks-S-and-G.jpg
ORGANIZER;CN="One You Kent team":MAILTO:oneyou@dartford.gov.uk
END:VEVENT
BEGIN:VEVENT
DTSTART;TZID=Europe/London:20270808T090000
DTEND;TZID=Europe/London:20270808T100000
DTSTAMP:20260422T051347
CREATED:20210520T102552Z
LAST-MODIFIED:20241219T091648Z
UID:10020588-1817715600-1817719200@swanscombeandgreenhithetowncouncil.gov.uk
SUMMARY:Free Weekly Health Walk
DESCRIPTION:
URL:https://swanscombeandgreenhithetowncouncil.gov.uk/event/free-weekly-health-walk/2027-08-08/
LOCATION:Swanscombe and Greenhithe Town Council and Community Hall\, 16 The Grove\, Swanscombe DA10 0AD\, United Kingdom\, United Kingdom
CATEGORIES:Community Event|Sports & Recreation Group
ATTACH;FMTTYPE=image/jpeg:https://swanscombeandgreenhithetowncouncil.gov.uk/wp-content/uploads/2021/05/43.2021-Health-Walks-S-and-G.jpg
ORGANIZER;CN="One You Kent team":MAILTO:oneyou@dartford.gov.uk
END:VEVENT
BEGIN:VEVENT
DTSTART;TZID=Europe/London:20270811T103000
DTEND;TZID=Europe/London:20270811T113000
DTSTAMP:20260422T051347
CREATED:20240313T011712Z
LAST-MODIFIED:20241219T091954Z
UID:10019606-1817980200-1817983800@swanscombeandgreenhithetowncouncil.gov.uk
SUMMARY:Free Weekly Health Walk
DESCRIPTION:  \n 
URL:https://swanscombeandgreenhithetowncouncil.gov.uk/event/free-weekly-health-walk-3-2/2027-08-11/
LOCATION:Greenhithe Community Centre\, Alexander Rd\, Greenhithe DA9 9HH\, United Kingdom\, United Kingdom
CATEGORIES:Community Event|Sports & Recreation Group
ATTACH;FMTTYPE=image/jpeg:https://swanscombeandgreenhithetowncouncil.gov.uk/wp-content/uploads/2021/05/43.2021-Health-Walks-S-and-G.jpg
ORGANIZER;CN="One You Kent team":MAILTO:oneyou@dartford.gov.uk
END:VEVENT
BEGIN:VEVENT
DTSTART;TZID=Europe/London:20270815T090000
DTEND;TZID=Europe/London:20270815T100000
DTSTAMP:20260422T051347
CREATED:20210520T102552Z
LAST-MODIFIED:20241219T091648Z
UID:10020589-1818320400-1818324000@swanscombeandgreenhithetowncouncil.gov.uk
SUMMARY:Free Weekly Health Walk
DESCRIPTION:
URL:https://swanscombeandgreenhithetowncouncil.gov.uk/event/free-weekly-health-walk/2027-08-15/
LOCATION:Swanscombe and Greenhithe Town Council and Community Hall\, 16 The Grove\, Swanscombe DA10 0AD\, United Kingdom\, United Kingdom
CATEGORIES:Community Event|Sports & Recreation Group
ATTACH;FMTTYPE=image/jpeg:https://swanscombeandgreenhithetowncouncil.gov.uk/wp-content/uploads/2021/05/43.2021-Health-Walks-S-and-G.jpg
ORGANIZER;CN="One You Kent team":MAILTO:oneyou@dartford.gov.uk
END:VEVENT
BEGIN:VEVENT
DTSTART;TZID=Europe/London:20270818T103000
DTEND;TZID=Europe/London:20270818T113000
DTSTAMP:20260422T051347
CREATED:20240313T011712Z
LAST-MODIFIED:20241219T091954Z
UID:10019607-1818585000-1818588600@swanscombeandgreenhithetowncouncil.gov.uk
SUMMARY:Free Weekly Health Walk
DESCRIPTION:  \n 
URL:https://swanscombeandgreenhithetowncouncil.gov.uk/event/free-weekly-health-walk-3-2/2027-08-18/
LOCATION:Greenhithe Community Centre\, Alexander Rd\, Greenhithe DA9 9HH\, United Kingdom\, United Kingdom
CATEGORIES:Community Event|Sports & Recreation Group
ATTACH;FMTTYPE=image/jpeg:https://swanscombeandgreenhithetowncouncil.gov.uk/wp-content/uploads/2021/05/43.2021-Health-Walks-S-and-G.jpg
ORGANIZER;CN="One You Kent team":MAILTO:oneyou@dartford.gov.uk
END:VEVENT
BEGIN:VEVENT
DTSTART;TZID=Europe/London:20270822T090000
DTEND;TZID=Europe/London:20270822T100000
DTSTAMP:20260422T051347
CREATED:20210520T102552Z
LAST-MODIFIED:20241219T091648Z
UID:10020590-1818925200-1818928800@swanscombeandgreenhithetowncouncil.gov.uk
SUMMARY:Free Weekly Health Walk
DESCRIPTION:
URL:https://swanscombeandgreenhithetowncouncil.gov.uk/event/free-weekly-health-walk/2027-08-22/
LOCATION:Swanscombe and Greenhithe Town Council and Community Hall\, 16 The Grove\, Swanscombe DA10 0AD\, United Kingdom\, United Kingdom
CATEGORIES:Community Event|Sports & Recreation Group
ATTACH;FMTTYPE=image/jpeg:https://swanscombeandgreenhithetowncouncil.gov.uk/wp-content/uploads/2021/05/43.2021-Health-Walks-S-and-G.jpg
ORGANIZER;CN="One You Kent team":MAILTO:oneyou@dartford.gov.uk
END:VEVENT
BEGIN:VEVENT
DTSTART;TZID=Europe/London:20270825T103000
DTEND;TZID=Europe/London:20270825T113000
DTSTAMP:20260422T051347
CREATED:20240313T011712Z
LAST-MODIFIED:20241219T091954Z
UID:10019608-1819189800-1819193400@swanscombeandgreenhithetowncouncil.gov.uk
SUMMARY:Free Weekly Health Walk
DESCRIPTION:  \n 
URL:https://swanscombeandgreenhithetowncouncil.gov.uk/event/free-weekly-health-walk-3-2/2027-08-25/
LOCATION:Greenhithe Community Centre\, Alexander Rd\, Greenhithe DA9 9HH\, United Kingdom\, United Kingdom
CATEGORIES:Community Event|Sports & Recreation Group
ATTACH;FMTTYPE=image/jpeg:https://swanscombeandgreenhithetowncouncil.gov.uk/wp-content/uploads/2021/05/43.2021-Health-Walks-S-and-G.jpg
ORGANIZER;CN="One You Kent team":MAILTO:oneyou@dartford.gov.uk
END:VEVENT
BEGIN:VEVENT
DTSTART;TZID=Europe/London:20270829T090000
DTEND;TZID=Europe/London:20270829T100000
DTSTAMP:20260422T051347
CREATED:20210520T102552Z
LAST-MODIFIED:20241219T091648Z
UID:10020591-1819530000-1819533600@swanscombeandgreenhithetowncouncil.gov.uk
SUMMARY:Free Weekly Health Walk
DESCRIPTION:
URL:https://swanscombeandgreenhithetowncouncil.gov.uk/event/free-weekly-health-walk/2027-08-29/
LOCATION:Swanscombe and Greenhithe Town Council and Community Hall\, 16 The Grove\, Swanscombe DA10 0AD\, United Kingdom\, United Kingdom
CATEGORIES:Community Event|Sports & Recreation Group
ATTACH;FMTTYPE=image/jpeg:https://swanscombeandgreenhithetowncouncil.gov.uk/wp-content/uploads/2021/05/43.2021-Health-Walks-S-and-G.jpg
ORGANIZER;CN="One You Kent team":MAILTO:oneyou@dartford.gov.uk
END:VEVENT
BEGIN:VEVENT
DTSTART;TZID=Europe/London:20270901T103000
DTEND;TZID=Europe/London:20270901T113000
DTSTAMP:20260422T051347
CREATED:20240313T011712Z
LAST-MODIFIED:20241219T091954Z
UID:10019609-1819794600-1819798200@swanscombeandgreenhithetowncouncil.gov.uk
SUMMARY:Free Weekly Health Walk
DESCRIPTION:  \n 
URL:https://swanscombeandgreenhithetowncouncil.gov.uk/event/free-weekly-health-walk-3-2/2027-09-01/
LOCATION:Greenhithe Community Centre\, Alexander Rd\, Greenhithe DA9 9HH\, United Kingdom\, United Kingdom
CATEGORIES:Community Event|Sports & Recreation Group
ATTACH;FMTTYPE=image/jpeg:https://swanscombeandgreenhithetowncouncil.gov.uk/wp-content/uploads/2021/05/43.2021-Health-Walks-S-and-G.jpg
ORGANIZER;CN="One You Kent team":MAILTO:oneyou@dartford.gov.uk
END:VEVENT
BEGIN:VEVENT
DTSTART;TZID=Europe/London:20270905T090000
DTEND;TZID=Europe/London:20270905T100000
DTSTAMP:20260422T051347
CREATED:20210520T102552Z
LAST-MODIFIED:20241219T091648Z
UID:10020592-1820134800-1820138400@swanscombeandgreenhithetowncouncil.gov.uk
SUMMARY:Free Weekly Health Walk
DESCRIPTION:
URL:https://swanscombeandgreenhithetowncouncil.gov.uk/event/free-weekly-health-walk/2027-09-05/
LOCATION:Swanscombe and Greenhithe Town Council and Community Hall\, 16 The Grove\, Swanscombe DA10 0AD\, United Kingdom\, United Kingdom
CATEGORIES:Community Event|Sports & Recreation Group
ATTACH;FMTTYPE=image/jpeg:https://swanscombeandgreenhithetowncouncil.gov.uk/wp-content/uploads/2021/05/43.2021-Health-Walks-S-and-G.jpg
ORGANIZER;CN="One You Kent team":MAILTO:oneyou@dartford.gov.uk
END:VEVENT
BEGIN:VEVENT
DTSTART;TZID=Europe/London:20270908T103000
DTEND;TZID=Europe/London:20270908T113000
DTSTAMP:20260422T051347
CREATED:20240313T011712Z
LAST-MODIFIED:20241219T091954Z
UID:10019610-1820399400-1820403000@swanscombeandgreenhithetowncouncil.gov.uk
SUMMARY:Free Weekly Health Walk
DESCRIPTION:  \n 
URL:https://swanscombeandgreenhithetowncouncil.gov.uk/event/free-weekly-health-walk-3-2/2027-09-08/
LOCATION:Greenhithe Community Centre\, Alexander Rd\, Greenhithe DA9 9HH\, United Kingdom\, United Kingdom
CATEGORIES:Community Event|Sports & Recreation Group
ATTACH;FMTTYPE=image/jpeg:https://swanscombeandgreenhithetowncouncil.gov.uk/wp-content/uploads/2021/05/43.2021-Health-Walks-S-and-G.jpg
ORGANIZER;CN="One You Kent team":MAILTO:oneyou@dartford.gov.uk
END:VEVENT
BEGIN:VEVENT
DTSTART;TZID=Europe/London:20270912T090000
DTEND;TZID=Europe/London:20270912T100000
DTSTAMP:20260422T051347
CREATED:20210520T102552Z
LAST-MODIFIED:20241219T091648Z
UID:10020593-1820739600-1820743200@swanscombeandgreenhithetowncouncil.gov.uk
SUMMARY:Free Weekly Health Walk
DESCRIPTION:
URL:https://swanscombeandgreenhithetowncouncil.gov.uk/event/free-weekly-health-walk/2027-09-12/
LOCATION:Swanscombe and Greenhithe Town Council and Community Hall\, 16 The Grove\, Swanscombe DA10 0AD\, United Kingdom\, United Kingdom
CATEGORIES:Community Event|Sports & Recreation Group
ATTACH;FMTTYPE=image/jpeg:https://swanscombeandgreenhithetowncouncil.gov.uk/wp-content/uploads/2021/05/43.2021-Health-Walks-S-and-G.jpg
ORGANIZER;CN="One You Kent team":MAILTO:oneyou@dartford.gov.uk
END:VEVENT
BEGIN:VEVENT
DTSTART;TZID=Europe/London:20270915T103000
DTEND;TZID=Europe/London:20270915T113000
DTSTAMP:20260422T051347
CREATED:20240313T011712Z
LAST-MODIFIED:20241219T091954Z
UID:10019611-1821004200-1821007800@swanscombeandgreenhithetowncouncil.gov.uk
SUMMARY:Free Weekly Health Walk
DESCRIPTION:  \n 
URL:https://swanscombeandgreenhithetowncouncil.gov.uk/event/free-weekly-health-walk-3-2/2027-09-15/
LOCATION:Greenhithe Community Centre\, Alexander Rd\, Greenhithe DA9 9HH\, United Kingdom\, United Kingdom
CATEGORIES:Community Event|Sports & Recreation Group
ATTACH;FMTTYPE=image/jpeg:https://swanscombeandgreenhithetowncouncil.gov.uk/wp-content/uploads/2021/05/43.2021-Health-Walks-S-and-G.jpg
ORGANIZER;CN="One You Kent team":MAILTO:oneyou@dartford.gov.uk
END:VEVENT
BEGIN:VEVENT
DTSTART;TZID=Europe/London:20270919T090000
DTEND;TZID=Europe/London:20270919T100000
DTSTAMP:20260422T051347
CREATED:20210520T102552Z
LAST-MODIFIED:20241219T091648Z
UID:10020594-1821344400-1821348000@swanscombeandgreenhithetowncouncil.gov.uk
SUMMARY:Free Weekly Health Walk
DESCRIPTION:
URL:https://swanscombeandgreenhithetowncouncil.gov.uk/event/free-weekly-health-walk/2027-09-19/
LOCATION:Swanscombe and Greenhithe Town Council and Community Hall\, 16 The Grove\, Swanscombe DA10 0AD\, United Kingdom\, United Kingdom
CATEGORIES:Community Event|Sports & Recreation Group
ATTACH;FMTTYPE=image/jpeg:https://swanscombeandgreenhithetowncouncil.gov.uk/wp-content/uploads/2021/05/43.2021-Health-Walks-S-and-G.jpg
ORGANIZER;CN="One You Kent team":MAILTO:oneyou@dartford.gov.uk
END:VEVENT
BEGIN:VEVENT
DTSTART;TZID=Europe/London:20270922T103000
DTEND;TZID=Europe/London:20270922T113000
DTSTAMP:20260422T051347
CREATED:20240313T011712Z
LAST-MODIFIED:20241219T091954Z
UID:10019612-1821609000-1821612600@swanscombeandgreenhithetowncouncil.gov.uk
SUMMARY:Free Weekly Health Walk
DESCRIPTION:  \n 
URL:https://swanscombeandgreenhithetowncouncil.gov.uk/event/free-weekly-health-walk-3-2/2027-09-22/
LOCATION:Greenhithe Community Centre\, Alexander Rd\, Greenhithe DA9 9HH\, United Kingdom\, United Kingdom
CATEGORIES:Community Event|Sports & Recreation Group
ATTACH;FMTTYPE=image/jpeg:https://swanscombeandgreenhithetowncouncil.gov.uk/wp-content/uploads/2021/05/43.2021-Health-Walks-S-and-G.jpg
ORGANIZER;CN="One You Kent team":MAILTO:oneyou@dartford.gov.uk
END:VEVENT
BEGIN:VEVENT
DTSTART;TZID=Europe/London:20270926T090000
DTEND;TZID=Europe/London:20270926T100000
DTSTAMP:20260422T051347
CREATED:20210520T102552Z
LAST-MODIFIED:20241219T091648Z
UID:10020595-1821949200-1821952800@swanscombeandgreenhithetowncouncil.gov.uk
SUMMARY:Free Weekly Health Walk
DESCRIPTION:
URL:https://swanscombeandgreenhithetowncouncil.gov.uk/event/free-weekly-health-walk/2027-09-26/
LOCATION:Swanscombe and Greenhithe Town Council and Community Hall\, 16 The Grove\, Swanscombe DA10 0AD\, United Kingdom\, United Kingdom
CATEGORIES:Community Event|Sports & Recreation Group
ATTACH;FMTTYPE=image/jpeg:https://swanscombeandgreenhithetowncouncil.gov.uk/wp-content/uploads/2021/05/43.2021-Health-Walks-S-and-G.jpg
ORGANIZER;CN="One You Kent team":MAILTO:oneyou@dartford.gov.uk
END:VEVENT
END:VCALENDAR