BEGIN:VCALENDAR
VERSION:2.0
PRODID:-//Swanscombe and Greenhithe Town Council - ECPv6.15.20//NONSGML v1.0//EN
CALSCALE:GREGORIAN
METHOD:PUBLISH
X-WR-CALNAME:Swanscombe and Greenhithe Town Council
X-ORIGINAL-URL:https://swanscombeandgreenhithetowncouncil.gov.uk
X-WR-CALDESC:Events for Swanscombe and Greenhithe Town Council
REFRESH-INTERVAL;VALUE=DURATION:PT1H
X-Robots-Tag:noindex
X-PUBLISHED-TTL:PT1H
BEGIN:VTIMEZONE
TZID:Europe/London
BEGIN:DAYLIGHT
TZOFFSETFROM:+0000
TZOFFSETTO:+0100
TZNAME:BST
DTSTART:20270328T010000
END:DAYLIGHT
BEGIN:STANDARD
TZOFFSETFROM:+0100
TZOFFSETTO:+0000
TZNAME:GMT
DTSTART:20271031T010000
END:STANDARD
BEGIN:DAYLIGHT
TZOFFSETFROM:+0000
TZOFFSETTO:+0100
TZNAME:BST
DTSTART:20280326T010000
END:DAYLIGHT
BEGIN:STANDARD
TZOFFSETFROM:+0100
TZOFFSETTO:+0000
TZNAME:GMT
DTSTART:20281029T010000
END:STANDARD
BEGIN:DAYLIGHT
TZOFFSETFROM:+0000
TZOFFSETTO:+0100
TZNAME:BST
DTSTART:20290325T010000
END:DAYLIGHT
BEGIN:STANDARD
TZOFFSETFROM:+0100
TZOFFSETTO:+0000
TZNAME:GMT
DTSTART:20291028T010000
END:STANDARD
END:VTIMEZONE
BEGIN:VEVENT
DTSTART;TZID=Europe/London:20280813T090000
DTEND;TZID=Europe/London:20280813T100000
DTSTAMP:20260422T220639
CREATED:20210520T102552Z
LAST-MODIFIED:20241219T091648Z
UID:10020641-1849770000-1849773600@swanscombeandgreenhithetowncouncil.gov.uk
SUMMARY:Free Weekly Health Walk
DESCRIPTION:
URL:https://swanscombeandgreenhithetowncouncil.gov.uk/event/free-weekly-health-walk/2028-08-13/
LOCATION:Swanscombe and Greenhithe Town Council and Community Hall\, 16 The Grove\, Swanscombe DA10 0AD\, United Kingdom\, United Kingdom
CATEGORIES:Community Event|Sports & Recreation Group
ATTACH;FMTTYPE=image/jpeg:https://swanscombeandgreenhithetowncouncil.gov.uk/wp-content/uploads/2021/05/43.2021-Health-Walks-S-and-G.jpg
ORGANIZER;CN="One You Kent team":MAILTO:oneyou@dartford.gov.uk
END:VEVENT
BEGIN:VEVENT
DTSTART;TZID=Europe/London:20280816T103000
DTEND;TZID=Europe/London:20280816T113000
DTSTAMP:20260422T220639
CREATED:20240313T011712Z
LAST-MODIFIED:20241219T091954Z
UID:10019659-1850034600-1850038200@swanscombeandgreenhithetowncouncil.gov.uk
SUMMARY:Free Weekly Health Walk
DESCRIPTION:  \n 
URL:https://swanscombeandgreenhithetowncouncil.gov.uk/event/free-weekly-health-walk-3-2/2028-08-16/
LOCATION:Greenhithe Community Centre\, Alexander Rd\, Greenhithe DA9 9HH\, United Kingdom\, United Kingdom
CATEGORIES:Community Event|Sports & Recreation Group
ATTACH;FMTTYPE=image/jpeg:https://swanscombeandgreenhithetowncouncil.gov.uk/wp-content/uploads/2021/05/43.2021-Health-Walks-S-and-G.jpg
ORGANIZER;CN="One You Kent team":MAILTO:oneyou@dartford.gov.uk
END:VEVENT
BEGIN:VEVENT
DTSTART;TZID=Europe/London:20280820T090000
DTEND;TZID=Europe/London:20280820T100000
DTSTAMP:20260422T220639
CREATED:20210520T102552Z
LAST-MODIFIED:20241219T091648Z
UID:10020642-1850374800-1850378400@swanscombeandgreenhithetowncouncil.gov.uk
SUMMARY:Free Weekly Health Walk
DESCRIPTION:
URL:https://swanscombeandgreenhithetowncouncil.gov.uk/event/free-weekly-health-walk/2028-08-20/
LOCATION:Swanscombe and Greenhithe Town Council and Community Hall\, 16 The Grove\, Swanscombe DA10 0AD\, United Kingdom\, United Kingdom
CATEGORIES:Community Event|Sports & Recreation Group
ATTACH;FMTTYPE=image/jpeg:https://swanscombeandgreenhithetowncouncil.gov.uk/wp-content/uploads/2021/05/43.2021-Health-Walks-S-and-G.jpg
ORGANIZER;CN="One You Kent team":MAILTO:oneyou@dartford.gov.uk
END:VEVENT
BEGIN:VEVENT
DTSTART;TZID=Europe/London:20280823T103000
DTEND;TZID=Europe/London:20280823T113000
DTSTAMP:20260422T220639
CREATED:20240313T011712Z
LAST-MODIFIED:20241219T091954Z
UID:10019660-1850639400-1850643000@swanscombeandgreenhithetowncouncil.gov.uk
SUMMARY:Free Weekly Health Walk
DESCRIPTION:  \n 
URL:https://swanscombeandgreenhithetowncouncil.gov.uk/event/free-weekly-health-walk-3-2/2028-08-23/
LOCATION:Greenhithe Community Centre\, Alexander Rd\, Greenhithe DA9 9HH\, United Kingdom\, United Kingdom
CATEGORIES:Community Event|Sports & Recreation Group
ATTACH;FMTTYPE=image/jpeg:https://swanscombeandgreenhithetowncouncil.gov.uk/wp-content/uploads/2021/05/43.2021-Health-Walks-S-and-G.jpg
ORGANIZER;CN="One You Kent team":MAILTO:oneyou@dartford.gov.uk
END:VEVENT
BEGIN:VEVENT
DTSTART;TZID=Europe/London:20280827T090000
DTEND;TZID=Europe/London:20280827T100000
DTSTAMP:20260422T220639
CREATED:20210520T102552Z
LAST-MODIFIED:20241219T091648Z
UID:10020643-1850979600-1850983200@swanscombeandgreenhithetowncouncil.gov.uk
SUMMARY:Free Weekly Health Walk
DESCRIPTION:
URL:https://swanscombeandgreenhithetowncouncil.gov.uk/event/free-weekly-health-walk/2028-08-27/
LOCATION:Swanscombe and Greenhithe Town Council and Community Hall\, 16 The Grove\, Swanscombe DA10 0AD\, United Kingdom\, United Kingdom
CATEGORIES:Community Event|Sports & Recreation Group
ATTACH;FMTTYPE=image/jpeg:https://swanscombeandgreenhithetowncouncil.gov.uk/wp-content/uploads/2021/05/43.2021-Health-Walks-S-and-G.jpg
ORGANIZER;CN="One You Kent team":MAILTO:oneyou@dartford.gov.uk
END:VEVENT
BEGIN:VEVENT
DTSTART;TZID=Europe/London:20280830T103000
DTEND;TZID=Europe/London:20280830T113000
DTSTAMP:20260422T220639
CREATED:20240313T011712Z
LAST-MODIFIED:20241219T091954Z
UID:10019661-1851244200-1851247800@swanscombeandgreenhithetowncouncil.gov.uk
SUMMARY:Free Weekly Health Walk
DESCRIPTION:  \n 
URL:https://swanscombeandgreenhithetowncouncil.gov.uk/event/free-weekly-health-walk-3-2/2028-08-30/
LOCATION:Greenhithe Community Centre\, Alexander Rd\, Greenhithe DA9 9HH\, United Kingdom\, United Kingdom
CATEGORIES:Community Event|Sports & Recreation Group
ATTACH;FMTTYPE=image/jpeg:https://swanscombeandgreenhithetowncouncil.gov.uk/wp-content/uploads/2021/05/43.2021-Health-Walks-S-and-G.jpg
ORGANIZER;CN="One You Kent team":MAILTO:oneyou@dartford.gov.uk
END:VEVENT
BEGIN:VEVENT
DTSTART;TZID=Europe/London:20280903T090000
DTEND;TZID=Europe/London:20280903T100000
DTSTAMP:20260422T220639
CREATED:20210520T102552Z
LAST-MODIFIED:20241219T091648Z
UID:10020644-1851584400-1851588000@swanscombeandgreenhithetowncouncil.gov.uk
SUMMARY:Free Weekly Health Walk
DESCRIPTION:
URL:https://swanscombeandgreenhithetowncouncil.gov.uk/event/free-weekly-health-walk/2028-09-03/
LOCATION:Swanscombe and Greenhithe Town Council and Community Hall\, 16 The Grove\, Swanscombe DA10 0AD\, United Kingdom\, United Kingdom
CATEGORIES:Community Event|Sports & Recreation Group
ATTACH;FMTTYPE=image/jpeg:https://swanscombeandgreenhithetowncouncil.gov.uk/wp-content/uploads/2021/05/43.2021-Health-Walks-S-and-G.jpg
ORGANIZER;CN="One You Kent team":MAILTO:oneyou@dartford.gov.uk
END:VEVENT
BEGIN:VEVENT
DTSTART;TZID=Europe/London:20280906T103000
DTEND;TZID=Europe/London:20280906T113000
DTSTAMP:20260422T220639
CREATED:20240313T011712Z
LAST-MODIFIED:20241219T091954Z
UID:10019662-1851849000-1851852600@swanscombeandgreenhithetowncouncil.gov.uk
SUMMARY:Free Weekly Health Walk
DESCRIPTION:  \n 
URL:https://swanscombeandgreenhithetowncouncil.gov.uk/event/free-weekly-health-walk-3-2/2028-09-06/
LOCATION:Greenhithe Community Centre\, Alexander Rd\, Greenhithe DA9 9HH\, United Kingdom\, United Kingdom
CATEGORIES:Community Event|Sports & Recreation Group
ATTACH;FMTTYPE=image/jpeg:https://swanscombeandgreenhithetowncouncil.gov.uk/wp-content/uploads/2021/05/43.2021-Health-Walks-S-and-G.jpg
ORGANIZER;CN="One You Kent team":MAILTO:oneyou@dartford.gov.uk
END:VEVENT
BEGIN:VEVENT
DTSTART;TZID=Europe/London:20280910T090000
DTEND;TZID=Europe/London:20280910T100000
DTSTAMP:20260422T220639
CREATED:20210520T102552Z
LAST-MODIFIED:20241219T091648Z
UID:10020645-1852189200-1852192800@swanscombeandgreenhithetowncouncil.gov.uk
SUMMARY:Free Weekly Health Walk
DESCRIPTION:
URL:https://swanscombeandgreenhithetowncouncil.gov.uk/event/free-weekly-health-walk/2028-09-10/
LOCATION:Swanscombe and Greenhithe Town Council and Community Hall\, 16 The Grove\, Swanscombe DA10 0AD\, United Kingdom\, United Kingdom
CATEGORIES:Community Event|Sports & Recreation Group
ATTACH;FMTTYPE=image/jpeg:https://swanscombeandgreenhithetowncouncil.gov.uk/wp-content/uploads/2021/05/43.2021-Health-Walks-S-and-G.jpg
ORGANIZER;CN="One You Kent team":MAILTO:oneyou@dartford.gov.uk
END:VEVENT
BEGIN:VEVENT
DTSTART;TZID=Europe/London:20280913T103000
DTEND;TZID=Europe/London:20280913T113000
DTSTAMP:20260422T220639
CREATED:20240313T011712Z
LAST-MODIFIED:20241219T091954Z
UID:10019663-1852453800-1852457400@swanscombeandgreenhithetowncouncil.gov.uk
SUMMARY:Free Weekly Health Walk
DESCRIPTION:  \n 
URL:https://swanscombeandgreenhithetowncouncil.gov.uk/event/free-weekly-health-walk-3-2/2028-09-13/
LOCATION:Greenhithe Community Centre\, Alexander Rd\, Greenhithe DA9 9HH\, United Kingdom\, United Kingdom
CATEGORIES:Community Event|Sports & Recreation Group
ATTACH;FMTTYPE=image/jpeg:https://swanscombeandgreenhithetowncouncil.gov.uk/wp-content/uploads/2021/05/43.2021-Health-Walks-S-and-G.jpg
ORGANIZER;CN="One You Kent team":MAILTO:oneyou@dartford.gov.uk
END:VEVENT
BEGIN:VEVENT
DTSTART;TZID=Europe/London:20280917T090000
DTEND;TZID=Europe/London:20280917T100000
DTSTAMP:20260422T220639
CREATED:20210520T102552Z
LAST-MODIFIED:20241219T091648Z
UID:10020646-1852794000-1852797600@swanscombeandgreenhithetowncouncil.gov.uk
SUMMARY:Free Weekly Health Walk
DESCRIPTION:
URL:https://swanscombeandgreenhithetowncouncil.gov.uk/event/free-weekly-health-walk/2028-09-17/
LOCATION:Swanscombe and Greenhithe Town Council and Community Hall\, 16 The Grove\, Swanscombe DA10 0AD\, United Kingdom\, United Kingdom
CATEGORIES:Community Event|Sports & Recreation Group
ATTACH;FMTTYPE=image/jpeg:https://swanscombeandgreenhithetowncouncil.gov.uk/wp-content/uploads/2021/05/43.2021-Health-Walks-S-and-G.jpg
ORGANIZER;CN="One You Kent team":MAILTO:oneyou@dartford.gov.uk
END:VEVENT
BEGIN:VEVENT
DTSTART;TZID=Europe/London:20280920T103000
DTEND;TZID=Europe/London:20280920T113000
DTSTAMP:20260422T220639
CREATED:20240313T011712Z
LAST-MODIFIED:20241219T091954Z
UID:10019664-1853058600-1853062200@swanscombeandgreenhithetowncouncil.gov.uk
SUMMARY:Free Weekly Health Walk
DESCRIPTION:  \n 
URL:https://swanscombeandgreenhithetowncouncil.gov.uk/event/free-weekly-health-walk-3-2/2028-09-20/
LOCATION:Greenhithe Community Centre\, Alexander Rd\, Greenhithe DA9 9HH\, United Kingdom\, United Kingdom
CATEGORIES:Community Event|Sports & Recreation Group
ATTACH;FMTTYPE=image/jpeg:https://swanscombeandgreenhithetowncouncil.gov.uk/wp-content/uploads/2021/05/43.2021-Health-Walks-S-and-G.jpg
ORGANIZER;CN="One You Kent team":MAILTO:oneyou@dartford.gov.uk
END:VEVENT
BEGIN:VEVENT
DTSTART;TZID=Europe/London:20280924T090000
DTEND;TZID=Europe/London:20280924T100000
DTSTAMP:20260422T220639
CREATED:20210520T102552Z
LAST-MODIFIED:20241219T091648Z
UID:10020647-1853398800-1853402400@swanscombeandgreenhithetowncouncil.gov.uk
SUMMARY:Free Weekly Health Walk
DESCRIPTION:
URL:https://swanscombeandgreenhithetowncouncil.gov.uk/event/free-weekly-health-walk/2028-09-24/
LOCATION:Swanscombe and Greenhithe Town Council and Community Hall\, 16 The Grove\, Swanscombe DA10 0AD\, United Kingdom\, United Kingdom
CATEGORIES:Community Event|Sports & Recreation Group
ATTACH;FMTTYPE=image/jpeg:https://swanscombeandgreenhithetowncouncil.gov.uk/wp-content/uploads/2021/05/43.2021-Health-Walks-S-and-G.jpg
ORGANIZER;CN="One You Kent team":MAILTO:oneyou@dartford.gov.uk
END:VEVENT
BEGIN:VEVENT
DTSTART;TZID=Europe/London:20280927T103000
DTEND;TZID=Europe/London:20280927T113000
DTSTAMP:20260422T220639
CREATED:20240313T011712Z
LAST-MODIFIED:20241219T091954Z
UID:10019665-1853663400-1853667000@swanscombeandgreenhithetowncouncil.gov.uk
SUMMARY:Free Weekly Health Walk
DESCRIPTION:  \n 
URL:https://swanscombeandgreenhithetowncouncil.gov.uk/event/free-weekly-health-walk-3-2/2028-09-27/
LOCATION:Greenhithe Community Centre\, Alexander Rd\, Greenhithe DA9 9HH\, United Kingdom\, United Kingdom
CATEGORIES:Community Event|Sports & Recreation Group
ATTACH;FMTTYPE=image/jpeg:https://swanscombeandgreenhithetowncouncil.gov.uk/wp-content/uploads/2021/05/43.2021-Health-Walks-S-and-G.jpg
ORGANIZER;CN="One You Kent team":MAILTO:oneyou@dartford.gov.uk
END:VEVENT
BEGIN:VEVENT
DTSTART;TZID=Europe/London:20281001T090000
DTEND;TZID=Europe/London:20281001T100000
DTSTAMP:20260422T220639
CREATED:20210520T102552Z
LAST-MODIFIED:20241219T091648Z
UID:10020648-1854003600-1854007200@swanscombeandgreenhithetowncouncil.gov.uk
SUMMARY:Free Weekly Health Walk
DESCRIPTION:
URL:https://swanscombeandgreenhithetowncouncil.gov.uk/event/free-weekly-health-walk/2028-10-01/
LOCATION:Swanscombe and Greenhithe Town Council and Community Hall\, 16 The Grove\, Swanscombe DA10 0AD\, United Kingdom\, United Kingdom
CATEGORIES:Community Event|Sports & Recreation Group
ATTACH;FMTTYPE=image/jpeg:https://swanscombeandgreenhithetowncouncil.gov.uk/wp-content/uploads/2021/05/43.2021-Health-Walks-S-and-G.jpg
ORGANIZER;CN="One You Kent team":MAILTO:oneyou@dartford.gov.uk
END:VEVENT
BEGIN:VEVENT
DTSTART;TZID=Europe/London:20281004T103000
DTEND;TZID=Europe/London:20281004T113000
DTSTAMP:20260422T220639
CREATED:20240313T011712Z
LAST-MODIFIED:20241219T091954Z
UID:10019666-1854268200-1854271800@swanscombeandgreenhithetowncouncil.gov.uk
SUMMARY:Free Weekly Health Walk
DESCRIPTION:  \n 
URL:https://swanscombeandgreenhithetowncouncil.gov.uk/event/free-weekly-health-walk-3-2/2028-10-04/
LOCATION:Greenhithe Community Centre\, Alexander Rd\, Greenhithe DA9 9HH\, United Kingdom\, United Kingdom
CATEGORIES:Community Event|Sports & Recreation Group
ATTACH;FMTTYPE=image/jpeg:https://swanscombeandgreenhithetowncouncil.gov.uk/wp-content/uploads/2021/05/43.2021-Health-Walks-S-and-G.jpg
ORGANIZER;CN="One You Kent team":MAILTO:oneyou@dartford.gov.uk
END:VEVENT
BEGIN:VEVENT
DTSTART;TZID=Europe/London:20281008T090000
DTEND;TZID=Europe/London:20281008T100000
DTSTAMP:20260422T220639
CREATED:20210520T102552Z
LAST-MODIFIED:20241219T091648Z
UID:10020649-1854608400-1854612000@swanscombeandgreenhithetowncouncil.gov.uk
SUMMARY:Free Weekly Health Walk
DESCRIPTION:
URL:https://swanscombeandgreenhithetowncouncil.gov.uk/event/free-weekly-health-walk/2028-10-08/
LOCATION:Swanscombe and Greenhithe Town Council and Community Hall\, 16 The Grove\, Swanscombe DA10 0AD\, United Kingdom\, United Kingdom
CATEGORIES:Community Event|Sports & Recreation Group
ATTACH;FMTTYPE=image/jpeg:https://swanscombeandgreenhithetowncouncil.gov.uk/wp-content/uploads/2021/05/43.2021-Health-Walks-S-and-G.jpg
ORGANIZER;CN="One You Kent team":MAILTO:oneyou@dartford.gov.uk
END:VEVENT
BEGIN:VEVENT
DTSTART;TZID=Europe/London:20281011T103000
DTEND;TZID=Europe/London:20281011T113000
DTSTAMP:20260422T220639
CREATED:20240313T011712Z
LAST-MODIFIED:20241219T091954Z
UID:10019667-1854873000-1854876600@swanscombeandgreenhithetowncouncil.gov.uk
SUMMARY:Free Weekly Health Walk
DESCRIPTION:  \n 
URL:https://swanscombeandgreenhithetowncouncil.gov.uk/event/free-weekly-health-walk-3-2/2028-10-11/
LOCATION:Greenhithe Community Centre\, Alexander Rd\, Greenhithe DA9 9HH\, United Kingdom\, United Kingdom
CATEGORIES:Community Event|Sports & Recreation Group
ATTACH;FMTTYPE=image/jpeg:https://swanscombeandgreenhithetowncouncil.gov.uk/wp-content/uploads/2021/05/43.2021-Health-Walks-S-and-G.jpg
ORGANIZER;CN="One You Kent team":MAILTO:oneyou@dartford.gov.uk
END:VEVENT
BEGIN:VEVENT
DTSTART;TZID=Europe/London:20281015T090000
DTEND;TZID=Europe/London:20281015T100000
DTSTAMP:20260422T220639
CREATED:20210520T102552Z
LAST-MODIFIED:20241219T091648Z
UID:10020650-1855213200-1855216800@swanscombeandgreenhithetowncouncil.gov.uk
SUMMARY:Free Weekly Health Walk
DESCRIPTION:
URL:https://swanscombeandgreenhithetowncouncil.gov.uk/event/free-weekly-health-walk/2028-10-15/
LOCATION:Swanscombe and Greenhithe Town Council and Community Hall\, 16 The Grove\, Swanscombe DA10 0AD\, United Kingdom\, United Kingdom
CATEGORIES:Community Event|Sports & Recreation Group
ATTACH;FMTTYPE=image/jpeg:https://swanscombeandgreenhithetowncouncil.gov.uk/wp-content/uploads/2021/05/43.2021-Health-Walks-S-and-G.jpg
ORGANIZER;CN="One You Kent team":MAILTO:oneyou@dartford.gov.uk
END:VEVENT
BEGIN:VEVENT
DTSTART;TZID=Europe/London:20281018T103000
DTEND;TZID=Europe/London:20281018T113000
DTSTAMP:20260422T220639
CREATED:20240313T011712Z
LAST-MODIFIED:20241219T091954Z
UID:10019668-1855477800-1855481400@swanscombeandgreenhithetowncouncil.gov.uk
SUMMARY:Free Weekly Health Walk
DESCRIPTION:  \n 
URL:https://swanscombeandgreenhithetowncouncil.gov.uk/event/free-weekly-health-walk-3-2/2028-10-18/
LOCATION:Greenhithe Community Centre\, Alexander Rd\, Greenhithe DA9 9HH\, United Kingdom\, United Kingdom
CATEGORIES:Community Event|Sports & Recreation Group
ATTACH;FMTTYPE=image/jpeg:https://swanscombeandgreenhithetowncouncil.gov.uk/wp-content/uploads/2021/05/43.2021-Health-Walks-S-and-G.jpg
ORGANIZER;CN="One You Kent team":MAILTO:oneyou@dartford.gov.uk
END:VEVENT
BEGIN:VEVENT
DTSTART;TZID=Europe/London:20281022T090000
DTEND;TZID=Europe/London:20281022T100000
DTSTAMP:20260422T220639
CREATED:20210520T102552Z
LAST-MODIFIED:20241219T091648Z
UID:10020651-1855818000-1855821600@swanscombeandgreenhithetowncouncil.gov.uk
SUMMARY:Free Weekly Health Walk
DESCRIPTION:
URL:https://swanscombeandgreenhithetowncouncil.gov.uk/event/free-weekly-health-walk/2028-10-22/
LOCATION:Swanscombe and Greenhithe Town Council and Community Hall\, 16 The Grove\, Swanscombe DA10 0AD\, United Kingdom\, United Kingdom
CATEGORIES:Community Event|Sports & Recreation Group
ATTACH;FMTTYPE=image/jpeg:https://swanscombeandgreenhithetowncouncil.gov.uk/wp-content/uploads/2021/05/43.2021-Health-Walks-S-and-G.jpg
ORGANIZER;CN="One You Kent team":MAILTO:oneyou@dartford.gov.uk
END:VEVENT
BEGIN:VEVENT
DTSTART;TZID=Europe/London:20281025T103000
DTEND;TZID=Europe/London:20281025T113000
DTSTAMP:20260422T220639
CREATED:20240313T011712Z
LAST-MODIFIED:20241219T091954Z
UID:10019669-1856082600-1856086200@swanscombeandgreenhithetowncouncil.gov.uk
SUMMARY:Free Weekly Health Walk
DESCRIPTION:  \n 
URL:https://swanscombeandgreenhithetowncouncil.gov.uk/event/free-weekly-health-walk-3-2/2028-10-25/
LOCATION:Greenhithe Community Centre\, Alexander Rd\, Greenhithe DA9 9HH\, United Kingdom\, United Kingdom
CATEGORIES:Community Event|Sports & Recreation Group
ATTACH;FMTTYPE=image/jpeg:https://swanscombeandgreenhithetowncouncil.gov.uk/wp-content/uploads/2021/05/43.2021-Health-Walks-S-and-G.jpg
ORGANIZER;CN="One You Kent team":MAILTO:oneyou@dartford.gov.uk
END:VEVENT
BEGIN:VEVENT
DTSTART;TZID=Europe/London:20281029T090000
DTEND;TZID=Europe/London:20281029T100000
DTSTAMP:20260422T220639
CREATED:20210520T102552Z
LAST-MODIFIED:20241219T091648Z
UID:10020652-1856422800-1856426400@swanscombeandgreenhithetowncouncil.gov.uk
SUMMARY:Free Weekly Health Walk
DESCRIPTION:
URL:https://swanscombeandgreenhithetowncouncil.gov.uk/event/free-weekly-health-walk/2028-10-29/
LOCATION:Swanscombe and Greenhithe Town Council and Community Hall\, 16 The Grove\, Swanscombe DA10 0AD\, United Kingdom\, United Kingdom
CATEGORIES:Community Event|Sports & Recreation Group
ATTACH;FMTTYPE=image/jpeg:https://swanscombeandgreenhithetowncouncil.gov.uk/wp-content/uploads/2021/05/43.2021-Health-Walks-S-and-G.jpg
ORGANIZER;CN="One You Kent team":MAILTO:oneyou@dartford.gov.uk
END:VEVENT
BEGIN:VEVENT
DTSTART;TZID=Europe/London:20281101T103000
DTEND;TZID=Europe/London:20281101T113000
DTSTAMP:20260422T220639
CREATED:20240313T011712Z
LAST-MODIFIED:20241219T091954Z
UID:10019670-1856687400-1856691000@swanscombeandgreenhithetowncouncil.gov.uk
SUMMARY:Free Weekly Health Walk
DESCRIPTION:  \n 
URL:https://swanscombeandgreenhithetowncouncil.gov.uk/event/free-weekly-health-walk-3-2/2028-11-01/
LOCATION:Greenhithe Community Centre\, Alexander Rd\, Greenhithe DA9 9HH\, United Kingdom\, United Kingdom
CATEGORIES:Community Event|Sports & Recreation Group
ATTACH;FMTTYPE=image/jpeg:https://swanscombeandgreenhithetowncouncil.gov.uk/wp-content/uploads/2021/05/43.2021-Health-Walks-S-and-G.jpg
ORGANIZER;CN="One You Kent team":MAILTO:oneyou@dartford.gov.uk
END:VEVENT
BEGIN:VEVENT
DTSTART;TZID=Europe/London:20281105T090000
DTEND;TZID=Europe/London:20281105T100000
DTSTAMP:20260422T220639
CREATED:20210520T102552Z
LAST-MODIFIED:20241219T091648Z
UID:10020653-1857027600-1857031200@swanscombeandgreenhithetowncouncil.gov.uk
SUMMARY:Free Weekly Health Walk
DESCRIPTION:
URL:https://swanscombeandgreenhithetowncouncil.gov.uk/event/free-weekly-health-walk/2028-11-05/
LOCATION:Swanscombe and Greenhithe Town Council and Community Hall\, 16 The Grove\, Swanscombe DA10 0AD\, United Kingdom\, United Kingdom
CATEGORIES:Community Event|Sports & Recreation Group
ATTACH;FMTTYPE=image/jpeg:https://swanscombeandgreenhithetowncouncil.gov.uk/wp-content/uploads/2021/05/43.2021-Health-Walks-S-and-G.jpg
ORGANIZER;CN="One You Kent team":MAILTO:oneyou@dartford.gov.uk
END:VEVENT
BEGIN:VEVENT
DTSTART;TZID=Europe/London:20281108T103000
DTEND;TZID=Europe/London:20281108T113000
DTSTAMP:20260422T220639
CREATED:20240313T011712Z
LAST-MODIFIED:20241219T091954Z
UID:10019671-1857292200-1857295800@swanscombeandgreenhithetowncouncil.gov.uk
SUMMARY:Free Weekly Health Walk
DESCRIPTION:  \n 
URL:https://swanscombeandgreenhithetowncouncil.gov.uk/event/free-weekly-health-walk-3-2/2028-11-08/
LOCATION:Greenhithe Community Centre\, Alexander Rd\, Greenhithe DA9 9HH\, United Kingdom\, United Kingdom
CATEGORIES:Community Event|Sports & Recreation Group
ATTACH;FMTTYPE=image/jpeg:https://swanscombeandgreenhithetowncouncil.gov.uk/wp-content/uploads/2021/05/43.2021-Health-Walks-S-and-G.jpg
ORGANIZER;CN="One You Kent team":MAILTO:oneyou@dartford.gov.uk
END:VEVENT
BEGIN:VEVENT
DTSTART;TZID=Europe/London:20281112T090000
DTEND;TZID=Europe/London:20281112T100000
DTSTAMP:20260422T220639
CREATED:20210520T102552Z
LAST-MODIFIED:20241219T091648Z
UID:10020654-1857632400-1857636000@swanscombeandgreenhithetowncouncil.gov.uk
SUMMARY:Free Weekly Health Walk
DESCRIPTION:
URL:https://swanscombeandgreenhithetowncouncil.gov.uk/event/free-weekly-health-walk/2028-11-12/
LOCATION:Swanscombe and Greenhithe Town Council and Community Hall\, 16 The Grove\, Swanscombe DA10 0AD\, United Kingdom\, United Kingdom
CATEGORIES:Community Event|Sports & Recreation Group
ATTACH;FMTTYPE=image/jpeg:https://swanscombeandgreenhithetowncouncil.gov.uk/wp-content/uploads/2021/05/43.2021-Health-Walks-S-and-G.jpg
ORGANIZER;CN="One You Kent team":MAILTO:oneyou@dartford.gov.uk
END:VEVENT
BEGIN:VEVENT
DTSTART;TZID=Europe/London:20281115T103000
DTEND;TZID=Europe/London:20281115T113000
DTSTAMP:20260422T220639
CREATED:20240313T011712Z
LAST-MODIFIED:20241219T091954Z
UID:10019672-1857897000-1857900600@swanscombeandgreenhithetowncouncil.gov.uk
SUMMARY:Free Weekly Health Walk
DESCRIPTION:  \n 
URL:https://swanscombeandgreenhithetowncouncil.gov.uk/event/free-weekly-health-walk-3-2/2028-11-15/
LOCATION:Greenhithe Community Centre\, Alexander Rd\, Greenhithe DA9 9HH\, United Kingdom\, United Kingdom
CATEGORIES:Community Event|Sports & Recreation Group
ATTACH;FMTTYPE=image/jpeg:https://swanscombeandgreenhithetowncouncil.gov.uk/wp-content/uploads/2021/05/43.2021-Health-Walks-S-and-G.jpg
ORGANIZER;CN="One You Kent team":MAILTO:oneyou@dartford.gov.uk
END:VEVENT
BEGIN:VEVENT
DTSTART;TZID=Europe/London:20281119T090000
DTEND;TZID=Europe/London:20281119T100000
DTSTAMP:20260422T220639
CREATED:20210520T102552Z
LAST-MODIFIED:20241219T091648Z
UID:10020655-1858237200-1858240800@swanscombeandgreenhithetowncouncil.gov.uk
SUMMARY:Free Weekly Health Walk
DESCRIPTION:
URL:https://swanscombeandgreenhithetowncouncil.gov.uk/event/free-weekly-health-walk/2028-11-19/
LOCATION:Swanscombe and Greenhithe Town Council and Community Hall\, 16 The Grove\, Swanscombe DA10 0AD\, United Kingdom\, United Kingdom
CATEGORIES:Community Event|Sports & Recreation Group
ATTACH;FMTTYPE=image/jpeg:https://swanscombeandgreenhithetowncouncil.gov.uk/wp-content/uploads/2021/05/43.2021-Health-Walks-S-and-G.jpg
ORGANIZER;CN="One You Kent team":MAILTO:oneyou@dartford.gov.uk
END:VEVENT
BEGIN:VEVENT
DTSTART;TZID=Europe/London:20281122T103000
DTEND;TZID=Europe/London:20281122T113000
DTSTAMP:20260422T220639
CREATED:20240313T011712Z
LAST-MODIFIED:20241219T091954Z
UID:10019673-1858501800-1858505400@swanscombeandgreenhithetowncouncil.gov.uk
SUMMARY:Free Weekly Health Walk
DESCRIPTION:  \n 
URL:https://swanscombeandgreenhithetowncouncil.gov.uk/event/free-weekly-health-walk-3-2/2028-11-22/
LOCATION:Greenhithe Community Centre\, Alexander Rd\, Greenhithe DA9 9HH\, United Kingdom\, United Kingdom
CATEGORIES:Community Event|Sports & Recreation Group
ATTACH;FMTTYPE=image/jpeg:https://swanscombeandgreenhithetowncouncil.gov.uk/wp-content/uploads/2021/05/43.2021-Health-Walks-S-and-G.jpg
ORGANIZER;CN="One You Kent team":MAILTO:oneyou@dartford.gov.uk
END:VEVENT
END:VCALENDAR