BEGIN:VCALENDAR
VERSION:2.0
PRODID:-//Swanscombe and Greenhithe Town Council - ECPv6.15.20//NONSGML v1.0//EN
CALSCALE:GREGORIAN
METHOD:PUBLISH
X-ORIGINAL-URL:https://swanscombeandgreenhithetowncouncil.gov.uk
X-WR-CALDESC:Events for Swanscombe and Greenhithe Town Council
REFRESH-INTERVAL;VALUE=DURATION:PT1H
X-Robots-Tag:noindex
X-PUBLISHED-TTL:PT1H
BEGIN:VTIMEZONE
TZID:Europe/London
BEGIN:DAYLIGHT
TZOFFSETFROM:+0000
TZOFFSETTO:+0100
TZNAME:BST
DTSTART:20270328T010000
END:DAYLIGHT
BEGIN:STANDARD
TZOFFSETFROM:+0100
TZOFFSETTO:+0000
TZNAME:GMT
DTSTART:20271031T010000
END:STANDARD
BEGIN:DAYLIGHT
TZOFFSETFROM:+0000
TZOFFSETTO:+0100
TZNAME:BST
DTSTART:20280326T010000
END:DAYLIGHT
BEGIN:STANDARD
TZOFFSETFROM:+0100
TZOFFSETTO:+0000
TZNAME:GMT
DTSTART:20281029T010000
END:STANDARD
BEGIN:DAYLIGHT
TZOFFSETFROM:+0000
TZOFFSETTO:+0100
TZNAME:BST
DTSTART:20290325T010000
END:DAYLIGHT
BEGIN:STANDARD
TZOFFSETFROM:+0100
TZOFFSETTO:+0000
TZNAME:GMT
DTSTART:20291028T010000
END:STANDARD
BEGIN:DAYLIGHT
TZOFFSETFROM:+0000
TZOFFSETTO:+0100
TZNAME:BST
DTSTART:20300331T010000
END:DAYLIGHT
BEGIN:STANDARD
TZOFFSETFROM:+0100
TZOFFSETTO:+0000
TZNAME:GMT
DTSTART:20301027T010000
END:STANDARD
END:VTIMEZONE
BEGIN:VEVENT
DTSTART;TZID=Europe/London:20281217T090000
DTEND;TZID=Europe/London:20281217T100000
DTSTAMP:20260423T032500
CREATED:20210520T102552Z
LAST-MODIFIED:20241219T091648Z
UID:10020659-1860656400-1860660000@swanscombeandgreenhithetowncouncil.gov.uk
SUMMARY:Free Weekly Health Walk
DESCRIPTION:
URL:https://swanscombeandgreenhithetowncouncil.gov.uk/event/free-weekly-health-walk/2028-12-17/
LOCATION:Swanscombe and Greenhithe Town Council and Community Hall\, 16 The Grove\, Swanscombe DA10 0AD\, United Kingdom\, United Kingdom
CATEGORIES:Community Event|Sports & Recreation Group
ATTACH;FMTTYPE=image/jpeg:https://swanscombeandgreenhithetowncouncil.gov.uk/wp-content/uploads/2021/05/43.2021-Health-Walks-S-and-G.jpg
ORGANIZER;CN="One You Kent team":MAILTO:oneyou@dartford.gov.uk
END:VEVENT
BEGIN:VEVENT
DTSTART;TZID=Europe/London:20281220T103000
DTEND;TZID=Europe/London:20281220T113000
DTSTAMP:20260423T032500
CREATED:20240313T011712Z
LAST-MODIFIED:20241219T091954Z
UID:10019677-1860921000-1860924600@swanscombeandgreenhithetowncouncil.gov.uk
SUMMARY:Free Weekly Health Walk
DESCRIPTION:  \n 
URL:https://swanscombeandgreenhithetowncouncil.gov.uk/event/free-weekly-health-walk-3-2/2028-12-20/
LOCATION:Greenhithe Community Centre\, Alexander Rd\, Greenhithe DA9 9HH\, United Kingdom\, United Kingdom
CATEGORIES:Community Event|Sports & Recreation Group
ATTACH;FMTTYPE=image/jpeg:https://swanscombeandgreenhithetowncouncil.gov.uk/wp-content/uploads/2021/05/43.2021-Health-Walks-S-and-G.jpg
ORGANIZER;CN="One You Kent team":MAILTO:oneyou@dartford.gov.uk
END:VEVENT
BEGIN:VEVENT
DTSTART;TZID=Europe/London:20281224T090000
DTEND;TZID=Europe/London:20281224T100000
DTSTAMP:20260423T032500
CREATED:20210520T102552Z
LAST-MODIFIED:20241219T091648Z
UID:10020660-1861261200-1861264800@swanscombeandgreenhithetowncouncil.gov.uk
SUMMARY:Free Weekly Health Walk
DESCRIPTION:
URL:https://swanscombeandgreenhithetowncouncil.gov.uk/event/free-weekly-health-walk/2028-12-24/
LOCATION:Swanscombe and Greenhithe Town Council and Community Hall\, 16 The Grove\, Swanscombe DA10 0AD\, United Kingdom\, United Kingdom
CATEGORIES:Community Event|Sports & Recreation Group
ATTACH;FMTTYPE=image/jpeg:https://swanscombeandgreenhithetowncouncil.gov.uk/wp-content/uploads/2021/05/43.2021-Health-Walks-S-and-G.jpg
ORGANIZER;CN="One You Kent team":MAILTO:oneyou@dartford.gov.uk
END:VEVENT
BEGIN:VEVENT
DTSTART;TZID=Europe/London:20281227T103000
DTEND;TZID=Europe/London:20281227T113000
DTSTAMP:20260423T032500
CREATED:20240313T011712Z
LAST-MODIFIED:20241219T091954Z
UID:10019678-1861525800-1861529400@swanscombeandgreenhithetowncouncil.gov.uk
SUMMARY:Free Weekly Health Walk
DESCRIPTION:  \n 
URL:https://swanscombeandgreenhithetowncouncil.gov.uk/event/free-weekly-health-walk-3-2/2028-12-27/
LOCATION:Greenhithe Community Centre\, Alexander Rd\, Greenhithe DA9 9HH\, United Kingdom\, United Kingdom
CATEGORIES:Community Event|Sports & Recreation Group
ATTACH;FMTTYPE=image/jpeg:https://swanscombeandgreenhithetowncouncil.gov.uk/wp-content/uploads/2021/05/43.2021-Health-Walks-S-and-G.jpg
ORGANIZER;CN="One You Kent team":MAILTO:oneyou@dartford.gov.uk
END:VEVENT
BEGIN:VEVENT
DTSTART;TZID=Europe/London:20281231T090000
DTEND;TZID=Europe/London:20281231T100000
DTSTAMP:20260423T032500
CREATED:20210520T102552Z
LAST-MODIFIED:20241219T091648Z
UID:10020661-1861866000-1861869600@swanscombeandgreenhithetowncouncil.gov.uk
SUMMARY:Free Weekly Health Walk
DESCRIPTION:
URL:https://swanscombeandgreenhithetowncouncil.gov.uk/event/free-weekly-health-walk/2028-12-31/
LOCATION:Swanscombe and Greenhithe Town Council and Community Hall\, 16 The Grove\, Swanscombe DA10 0AD\, United Kingdom\, United Kingdom
CATEGORIES:Community Event|Sports & Recreation Group
ATTACH;FMTTYPE=image/jpeg:https://swanscombeandgreenhithetowncouncil.gov.uk/wp-content/uploads/2021/05/43.2021-Health-Walks-S-and-G.jpg
ORGANIZER;CN="One You Kent team":MAILTO:oneyou@dartford.gov.uk
END:VEVENT
BEGIN:VEVENT
DTSTART;TZID=Europe/London:20290103T103000
DTEND;TZID=Europe/London:20290103T113000
DTSTAMP:20260423T032500
CREATED:20240313T011712Z
LAST-MODIFIED:20241219T091954Z
UID:10019679-1862130600-1862134200@swanscombeandgreenhithetowncouncil.gov.uk
SUMMARY:Free Weekly Health Walk
DESCRIPTION:  \n 
URL:https://swanscombeandgreenhithetowncouncil.gov.uk/event/free-weekly-health-walk-3-2/2029-01-03/
LOCATION:Greenhithe Community Centre\, Alexander Rd\, Greenhithe DA9 9HH\, United Kingdom\, United Kingdom
CATEGORIES:Community Event|Sports & Recreation Group
ATTACH;FMTTYPE=image/jpeg:https://swanscombeandgreenhithetowncouncil.gov.uk/wp-content/uploads/2021/05/43.2021-Health-Walks-S-and-G.jpg
ORGANIZER;CN="One You Kent team":MAILTO:oneyou@dartford.gov.uk
END:VEVENT
BEGIN:VEVENT
DTSTART;TZID=Europe/London:20290107T090000
DTEND;TZID=Europe/London:20290107T100000
DTSTAMP:20260423T032500
CREATED:20210520T102552Z
LAST-MODIFIED:20241219T091648Z
UID:10020662-1862470800-1862474400@swanscombeandgreenhithetowncouncil.gov.uk
SUMMARY:Free Weekly Health Walk
DESCRIPTION:
URL:https://swanscombeandgreenhithetowncouncil.gov.uk/event/free-weekly-health-walk/2029-01-07/
LOCATION:Swanscombe and Greenhithe Town Council and Community Hall\, 16 The Grove\, Swanscombe DA10 0AD\, United Kingdom\, United Kingdom
CATEGORIES:Community Event|Sports & Recreation Group
ATTACH;FMTTYPE=image/jpeg:https://swanscombeandgreenhithetowncouncil.gov.uk/wp-content/uploads/2021/05/43.2021-Health-Walks-S-and-G.jpg
ORGANIZER;CN="One You Kent team":MAILTO:oneyou@dartford.gov.uk
END:VEVENT
BEGIN:VEVENT
DTSTART;TZID=Europe/London:20290110T103000
DTEND;TZID=Europe/London:20290110T113000
DTSTAMP:20260423T032500
CREATED:20240313T011712Z
LAST-MODIFIED:20241219T091954Z
UID:10019680-1862735400-1862739000@swanscombeandgreenhithetowncouncil.gov.uk
SUMMARY:Free Weekly Health Walk
DESCRIPTION:  \n 
URL:https://swanscombeandgreenhithetowncouncil.gov.uk/event/free-weekly-health-walk-3-2/2029-01-10/
LOCATION:Greenhithe Community Centre\, Alexander Rd\, Greenhithe DA9 9HH\, United Kingdom\, United Kingdom
CATEGORIES:Community Event|Sports & Recreation Group
ATTACH;FMTTYPE=image/jpeg:https://swanscombeandgreenhithetowncouncil.gov.uk/wp-content/uploads/2021/05/43.2021-Health-Walks-S-and-G.jpg
ORGANIZER;CN="One You Kent team":MAILTO:oneyou@dartford.gov.uk
END:VEVENT
BEGIN:VEVENT
DTSTART;TZID=Europe/London:20290114T090000
DTEND;TZID=Europe/London:20290114T100000
DTSTAMP:20260423T032500
CREATED:20210520T102552Z
LAST-MODIFIED:20241219T091648Z
UID:10020663-1863075600-1863079200@swanscombeandgreenhithetowncouncil.gov.uk
SUMMARY:Free Weekly Health Walk
DESCRIPTION:
URL:https://swanscombeandgreenhithetowncouncil.gov.uk/event/free-weekly-health-walk/2029-01-14/
LOCATION:Swanscombe and Greenhithe Town Council and Community Hall\, 16 The Grove\, Swanscombe DA10 0AD\, United Kingdom\, United Kingdom
CATEGORIES:Community Event|Sports & Recreation Group
ATTACH;FMTTYPE=image/jpeg:https://swanscombeandgreenhithetowncouncil.gov.uk/wp-content/uploads/2021/05/43.2021-Health-Walks-S-and-G.jpg
ORGANIZER;CN="One You Kent team":MAILTO:oneyou@dartford.gov.uk
END:VEVENT
BEGIN:VEVENT
DTSTART;TZID=Europe/London:20290117T103000
DTEND;TZID=Europe/London:20290117T113000
DTSTAMP:20260423T032500
CREATED:20240313T011712Z
LAST-MODIFIED:20241219T091954Z
UID:10019681-1863340200-1863343800@swanscombeandgreenhithetowncouncil.gov.uk
SUMMARY:Free Weekly Health Walk
DESCRIPTION:  \n 
URL:https://swanscombeandgreenhithetowncouncil.gov.uk/event/free-weekly-health-walk-3-2/2029-01-17/
LOCATION:Greenhithe Community Centre\, Alexander Rd\, Greenhithe DA9 9HH\, United Kingdom\, United Kingdom
CATEGORIES:Community Event|Sports & Recreation Group
ATTACH;FMTTYPE=image/jpeg:https://swanscombeandgreenhithetowncouncil.gov.uk/wp-content/uploads/2021/05/43.2021-Health-Walks-S-and-G.jpg
ORGANIZER;CN="One You Kent team":MAILTO:oneyou@dartford.gov.uk
END:VEVENT
BEGIN:VEVENT
DTSTART;TZID=Europe/London:20290121T090000
DTEND;TZID=Europe/London:20290121T100000
DTSTAMP:20260423T032500
CREATED:20210520T102552Z
LAST-MODIFIED:20241219T091648Z
UID:10020664-1863680400-1863684000@swanscombeandgreenhithetowncouncil.gov.uk
SUMMARY:Free Weekly Health Walk
DESCRIPTION:
URL:https://swanscombeandgreenhithetowncouncil.gov.uk/event/free-weekly-health-walk/2029-01-21/
LOCATION:Swanscombe and Greenhithe Town Council and Community Hall\, 16 The Grove\, Swanscombe DA10 0AD\, United Kingdom\, United Kingdom
CATEGORIES:Community Event|Sports & Recreation Group
ATTACH;FMTTYPE=image/jpeg:https://swanscombeandgreenhithetowncouncil.gov.uk/wp-content/uploads/2021/05/43.2021-Health-Walks-S-and-G.jpg
ORGANIZER;CN="One You Kent team":MAILTO:oneyou@dartford.gov.uk
END:VEVENT
BEGIN:VEVENT
DTSTART;TZID=Europe/London:20290124T103000
DTEND;TZID=Europe/London:20290124T113000
DTSTAMP:20260423T032500
CREATED:20240313T011712Z
LAST-MODIFIED:20241219T091954Z
UID:10019682-1863945000-1863948600@swanscombeandgreenhithetowncouncil.gov.uk
SUMMARY:Free Weekly Health Walk
DESCRIPTION:  \n 
URL:https://swanscombeandgreenhithetowncouncil.gov.uk/event/free-weekly-health-walk-3-2/2029-01-24/
LOCATION:Greenhithe Community Centre\, Alexander Rd\, Greenhithe DA9 9HH\, United Kingdom\, United Kingdom
CATEGORIES:Community Event|Sports & Recreation Group
ATTACH;FMTTYPE=image/jpeg:https://swanscombeandgreenhithetowncouncil.gov.uk/wp-content/uploads/2021/05/43.2021-Health-Walks-S-and-G.jpg
ORGANIZER;CN="One You Kent team":MAILTO:oneyou@dartford.gov.uk
END:VEVENT
BEGIN:VEVENT
DTSTART;TZID=Europe/London:20290128T090000
DTEND;TZID=Europe/London:20290128T100000
DTSTAMP:20260423T032500
CREATED:20210520T102552Z
LAST-MODIFIED:20241219T091648Z
UID:10020665-1864285200-1864288800@swanscombeandgreenhithetowncouncil.gov.uk
SUMMARY:Free Weekly Health Walk
DESCRIPTION:
URL:https://swanscombeandgreenhithetowncouncil.gov.uk/event/free-weekly-health-walk/2029-01-28/
LOCATION:Swanscombe and Greenhithe Town Council and Community Hall\, 16 The Grove\, Swanscombe DA10 0AD\, United Kingdom\, United Kingdom
CATEGORIES:Community Event|Sports & Recreation Group
ATTACH;FMTTYPE=image/jpeg:https://swanscombeandgreenhithetowncouncil.gov.uk/wp-content/uploads/2021/05/43.2021-Health-Walks-S-and-G.jpg
ORGANIZER;CN="One You Kent team":MAILTO:oneyou@dartford.gov.uk
END:VEVENT
BEGIN:VEVENT
DTSTART;TZID=Europe/London:20290131T103000
DTEND;TZID=Europe/London:20290131T113000
DTSTAMP:20260423T032501
CREATED:20240313T011712Z
LAST-MODIFIED:20241219T091954Z
UID:10019683-1864549800-1864553400@swanscombeandgreenhithetowncouncil.gov.uk
SUMMARY:Free Weekly Health Walk
DESCRIPTION:  \n 
URL:https://swanscombeandgreenhithetowncouncil.gov.uk/event/free-weekly-health-walk-3-2/2029-01-31/
LOCATION:Greenhithe Community Centre\, Alexander Rd\, Greenhithe DA9 9HH\, United Kingdom\, United Kingdom
CATEGORIES:Community Event|Sports & Recreation Group
ATTACH;FMTTYPE=image/jpeg:https://swanscombeandgreenhithetowncouncil.gov.uk/wp-content/uploads/2021/05/43.2021-Health-Walks-S-and-G.jpg
ORGANIZER;CN="One You Kent team":MAILTO:oneyou@dartford.gov.uk
END:VEVENT
BEGIN:VEVENT
DTSTART;TZID=Europe/London:20290204T090000
DTEND;TZID=Europe/London:20290204T100000
DTSTAMP:20260423T032501
CREATED:20210520T102552Z
LAST-MODIFIED:20241219T091648Z
UID:10020666-1864890000-1864893600@swanscombeandgreenhithetowncouncil.gov.uk
SUMMARY:Free Weekly Health Walk
DESCRIPTION:
URL:https://swanscombeandgreenhithetowncouncil.gov.uk/event/free-weekly-health-walk/2029-02-04/
LOCATION:Swanscombe and Greenhithe Town Council and Community Hall\, 16 The Grove\, Swanscombe DA10 0AD\, United Kingdom\, United Kingdom
CATEGORIES:Community Event|Sports & Recreation Group
ATTACH;FMTTYPE=image/jpeg:https://swanscombeandgreenhithetowncouncil.gov.uk/wp-content/uploads/2021/05/43.2021-Health-Walks-S-and-G.jpg
ORGANIZER;CN="One You Kent team":MAILTO:oneyou@dartford.gov.uk
END:VEVENT
BEGIN:VEVENT
DTSTART;TZID=Europe/London:20290207T103000
DTEND;TZID=Europe/London:20290207T113000
DTSTAMP:20260423T032501
CREATED:20240313T011712Z
LAST-MODIFIED:20241219T091954Z
UID:10019684-1865154600-1865158200@swanscombeandgreenhithetowncouncil.gov.uk
SUMMARY:Free Weekly Health Walk
DESCRIPTION:  \n 
URL:https://swanscombeandgreenhithetowncouncil.gov.uk/event/free-weekly-health-walk-3-2/2029-02-07/
LOCATION:Greenhithe Community Centre\, Alexander Rd\, Greenhithe DA9 9HH\, United Kingdom\, United Kingdom
CATEGORIES:Community Event|Sports & Recreation Group
ATTACH;FMTTYPE=image/jpeg:https://swanscombeandgreenhithetowncouncil.gov.uk/wp-content/uploads/2021/05/43.2021-Health-Walks-S-and-G.jpg
ORGANIZER;CN="One You Kent team":MAILTO:oneyou@dartford.gov.uk
END:VEVENT
BEGIN:VEVENT
DTSTART;TZID=Europe/London:20290211T090000
DTEND;TZID=Europe/London:20290211T100000
DTSTAMP:20260423T032501
CREATED:20210520T102552Z
LAST-MODIFIED:20241219T091648Z
UID:10020667-1865494800-1865498400@swanscombeandgreenhithetowncouncil.gov.uk
SUMMARY:Free Weekly Health Walk
DESCRIPTION:
URL:https://swanscombeandgreenhithetowncouncil.gov.uk/event/free-weekly-health-walk/2029-02-11/
LOCATION:Swanscombe and Greenhithe Town Council and Community Hall\, 16 The Grove\, Swanscombe DA10 0AD\, United Kingdom\, United Kingdom
CATEGORIES:Community Event|Sports & Recreation Group
ATTACH;FMTTYPE=image/jpeg:https://swanscombeandgreenhithetowncouncil.gov.uk/wp-content/uploads/2021/05/43.2021-Health-Walks-S-and-G.jpg
ORGANIZER;CN="One You Kent team":MAILTO:oneyou@dartford.gov.uk
END:VEVENT
BEGIN:VEVENT
DTSTART;TZID=Europe/London:20290214T103000
DTEND;TZID=Europe/London:20290214T113000
DTSTAMP:20260423T032501
CREATED:20240313T011712Z
LAST-MODIFIED:20241219T091954Z
UID:10019685-1865759400-1865763000@swanscombeandgreenhithetowncouncil.gov.uk
SUMMARY:Free Weekly Health Walk
DESCRIPTION:  \n 
URL:https://swanscombeandgreenhithetowncouncil.gov.uk/event/free-weekly-health-walk-3-2/2029-02-14/
LOCATION:Greenhithe Community Centre\, Alexander Rd\, Greenhithe DA9 9HH\, United Kingdom\, United Kingdom
CATEGORIES:Community Event|Sports & Recreation Group
ATTACH;FMTTYPE=image/jpeg:https://swanscombeandgreenhithetowncouncil.gov.uk/wp-content/uploads/2021/05/43.2021-Health-Walks-S-and-G.jpg
ORGANIZER;CN="One You Kent team":MAILTO:oneyou@dartford.gov.uk
END:VEVENT
BEGIN:VEVENT
DTSTART;TZID=Europe/London:20290218T090000
DTEND;TZID=Europe/London:20290218T100000
DTSTAMP:20260423T032501
CREATED:20210520T102552Z
LAST-MODIFIED:20241219T091648Z
UID:10020668-1866099600-1866103200@swanscombeandgreenhithetowncouncil.gov.uk
SUMMARY:Free Weekly Health Walk
DESCRIPTION:
URL:https://swanscombeandgreenhithetowncouncil.gov.uk/event/free-weekly-health-walk/2029-02-18/
LOCATION:Swanscombe and Greenhithe Town Council and Community Hall\, 16 The Grove\, Swanscombe DA10 0AD\, United Kingdom\, United Kingdom
CATEGORIES:Community Event|Sports & Recreation Group
ATTACH;FMTTYPE=image/jpeg:https://swanscombeandgreenhithetowncouncil.gov.uk/wp-content/uploads/2021/05/43.2021-Health-Walks-S-and-G.jpg
ORGANIZER;CN="One You Kent team":MAILTO:oneyou@dartford.gov.uk
END:VEVENT
BEGIN:VEVENT
DTSTART;TZID=Europe/London:20290221T103000
DTEND;TZID=Europe/London:20290221T113000
DTSTAMP:20260423T032501
CREATED:20240313T011712Z
LAST-MODIFIED:20241219T091954Z
UID:10019686-1866364200-1866367800@swanscombeandgreenhithetowncouncil.gov.uk
SUMMARY:Free Weekly Health Walk
DESCRIPTION:  \n 
URL:https://swanscombeandgreenhithetowncouncil.gov.uk/event/free-weekly-health-walk-3-2/2029-02-21/
LOCATION:Greenhithe Community Centre\, Alexander Rd\, Greenhithe DA9 9HH\, United Kingdom\, United Kingdom
CATEGORIES:Community Event|Sports & Recreation Group
ATTACH;FMTTYPE=image/jpeg:https://swanscombeandgreenhithetowncouncil.gov.uk/wp-content/uploads/2021/05/43.2021-Health-Walks-S-and-G.jpg
ORGANIZER;CN="One You Kent team":MAILTO:oneyou@dartford.gov.uk
END:VEVENT
BEGIN:VEVENT
DTSTART;TZID=Europe/London:20290225T090000
DTEND;TZID=Europe/London:20290225T100000
DTSTAMP:20260423T032501
CREATED:20210520T102552Z
LAST-MODIFIED:20241219T091648Z
UID:10020669-1866704400-1866708000@swanscombeandgreenhithetowncouncil.gov.uk
SUMMARY:Free Weekly Health Walk
DESCRIPTION:
URL:https://swanscombeandgreenhithetowncouncil.gov.uk/event/free-weekly-health-walk/2029-02-25/
LOCATION:Swanscombe and Greenhithe Town Council and Community Hall\, 16 The Grove\, Swanscombe DA10 0AD\, United Kingdom\, United Kingdom
CATEGORIES:Community Event|Sports & Recreation Group
ATTACH;FMTTYPE=image/jpeg:https://swanscombeandgreenhithetowncouncil.gov.uk/wp-content/uploads/2021/05/43.2021-Health-Walks-S-and-G.jpg
ORGANIZER;CN="One You Kent team":MAILTO:oneyou@dartford.gov.uk
END:VEVENT
BEGIN:VEVENT
DTSTART;TZID=Europe/London:20290228T103000
DTEND;TZID=Europe/London:20290228T113000
DTSTAMP:20260423T032501
CREATED:20240313T011712Z
LAST-MODIFIED:20241219T091954Z
UID:10019687-1866969000-1866972600@swanscombeandgreenhithetowncouncil.gov.uk
SUMMARY:Free Weekly Health Walk
DESCRIPTION:  \n 
URL:https://swanscombeandgreenhithetowncouncil.gov.uk/event/free-weekly-health-walk-3-2/2029-02-28/
LOCATION:Greenhithe Community Centre\, Alexander Rd\, Greenhithe DA9 9HH\, United Kingdom\, United Kingdom
CATEGORIES:Community Event|Sports & Recreation Group
ATTACH;FMTTYPE=image/jpeg:https://swanscombeandgreenhithetowncouncil.gov.uk/wp-content/uploads/2021/05/43.2021-Health-Walks-S-and-G.jpg
ORGANIZER;CN="One You Kent team":MAILTO:oneyou@dartford.gov.uk
END:VEVENT
BEGIN:VEVENT
DTSTART;TZID=Europe/London:20290304T090000
DTEND;TZID=Europe/London:20290304T100000
DTSTAMP:20260423T032501
CREATED:20210520T102552Z
LAST-MODIFIED:20241219T091648Z
UID:10020670-1867309200-1867312800@swanscombeandgreenhithetowncouncil.gov.uk
SUMMARY:Free Weekly Health Walk
DESCRIPTION:
URL:https://swanscombeandgreenhithetowncouncil.gov.uk/event/free-weekly-health-walk/2029-03-04/
LOCATION:Swanscombe and Greenhithe Town Council and Community Hall\, 16 The Grove\, Swanscombe DA10 0AD\, United Kingdom\, United Kingdom
CATEGORIES:Community Event|Sports & Recreation Group
ATTACH;FMTTYPE=image/jpeg:https://swanscombeandgreenhithetowncouncil.gov.uk/wp-content/uploads/2021/05/43.2021-Health-Walks-S-and-G.jpg
ORGANIZER;CN="One You Kent team":MAILTO:oneyou@dartford.gov.uk
END:VEVENT
BEGIN:VEVENT
DTSTART;TZID=Europe/London:20290307T103000
DTEND;TZID=Europe/London:20290307T113000
DTSTAMP:20260423T032501
CREATED:20240313T011712Z
LAST-MODIFIED:20241219T091954Z
UID:10019688-1867573800-1867577400@swanscombeandgreenhithetowncouncil.gov.uk
SUMMARY:Free Weekly Health Walk
DESCRIPTION:  \n 
URL:https://swanscombeandgreenhithetowncouncil.gov.uk/event/free-weekly-health-walk-3-2/2029-03-07/
LOCATION:Greenhithe Community Centre\, Alexander Rd\, Greenhithe DA9 9HH\, United Kingdom\, United Kingdom
CATEGORIES:Community Event|Sports & Recreation Group
ATTACH;FMTTYPE=image/jpeg:https://swanscombeandgreenhithetowncouncil.gov.uk/wp-content/uploads/2021/05/43.2021-Health-Walks-S-and-G.jpg
ORGANIZER;CN="One You Kent team":MAILTO:oneyou@dartford.gov.uk
END:VEVENT
BEGIN:VEVENT
DTSTART;TZID=Europe/London:20290311T090000
DTEND;TZID=Europe/London:20290311T100000
DTSTAMP:20260423T032501
CREATED:20210520T102552Z
LAST-MODIFIED:20241219T091648Z
UID:10020671-1867914000-1867917600@swanscombeandgreenhithetowncouncil.gov.uk
SUMMARY:Free Weekly Health Walk
DESCRIPTION:
URL:https://swanscombeandgreenhithetowncouncil.gov.uk/event/free-weekly-health-walk/2029-03-11/
LOCATION:Swanscombe and Greenhithe Town Council and Community Hall\, 16 The Grove\, Swanscombe DA10 0AD\, United Kingdom\, United Kingdom
CATEGORIES:Community Event|Sports & Recreation Group
ATTACH;FMTTYPE=image/jpeg:https://swanscombeandgreenhithetowncouncil.gov.uk/wp-content/uploads/2021/05/43.2021-Health-Walks-S-and-G.jpg
ORGANIZER;CN="One You Kent team":MAILTO:oneyou@dartford.gov.uk
END:VEVENT
BEGIN:VEVENT
DTSTART;TZID=Europe/London:20290314T103000
DTEND;TZID=Europe/London:20290314T113000
DTSTAMP:20260423T032501
CREATED:20240313T011712Z
LAST-MODIFIED:20241219T091954Z
UID:10023152-1868178600-1868182200@swanscombeandgreenhithetowncouncil.gov.uk
SUMMARY:Free Weekly Health Walk
DESCRIPTION:  \n 
URL:https://swanscombeandgreenhithetowncouncil.gov.uk/event/free-weekly-health-walk-3-2/2029-03-14/
LOCATION:Greenhithe Community Centre\, Alexander Rd\, Greenhithe DA9 9HH\, United Kingdom\, United Kingdom
CATEGORIES:Community Event|Sports & Recreation Group
ATTACH;FMTTYPE=image/jpeg:https://swanscombeandgreenhithetowncouncil.gov.uk/wp-content/uploads/2021/05/43.2021-Health-Walks-S-and-G.jpg
ORGANIZER;CN="One You Kent team":MAILTO:oneyou@dartford.gov.uk
END:VEVENT
BEGIN:VEVENT
DTSTART;TZID=Europe/London:20290318T090000
DTEND;TZID=Europe/London:20290318T100000
DTSTAMP:20260423T032501
CREATED:20210520T102552Z
LAST-MODIFIED:20241219T091648Z
UID:10023203-1868518800-1868522400@swanscombeandgreenhithetowncouncil.gov.uk
SUMMARY:Free Weekly Health Walk
DESCRIPTION:
URL:https://swanscombeandgreenhithetowncouncil.gov.uk/event/free-weekly-health-walk/2029-03-18/
LOCATION:Swanscombe and Greenhithe Town Council and Community Hall\, 16 The Grove\, Swanscombe DA10 0AD\, United Kingdom\, United Kingdom
CATEGORIES:Community Event|Sports & Recreation Group
ATTACH;FMTTYPE=image/jpeg:https://swanscombeandgreenhithetowncouncil.gov.uk/wp-content/uploads/2021/05/43.2021-Health-Walks-S-and-G.jpg
ORGANIZER;CN="One You Kent team":MAILTO:oneyou@dartford.gov.uk
END:VEVENT
BEGIN:VEVENT
DTSTART;TZID=Europe/London:20290321T103000
DTEND;TZID=Europe/London:20290321T113000
DTSTAMP:20260423T032501
CREATED:20240313T011712Z
LAST-MODIFIED:20241219T091954Z
UID:10023153-1868783400-1868787000@swanscombeandgreenhithetowncouncil.gov.uk
SUMMARY:Free Weekly Health Walk
DESCRIPTION:  \n 
URL:https://swanscombeandgreenhithetowncouncil.gov.uk/event/free-weekly-health-walk-3-2/2029-03-21/
LOCATION:Greenhithe Community Centre\, Alexander Rd\, Greenhithe DA9 9HH\, United Kingdom\, United Kingdom
CATEGORIES:Community Event|Sports & Recreation Group
ATTACH;FMTTYPE=image/jpeg:https://swanscombeandgreenhithetowncouncil.gov.uk/wp-content/uploads/2021/05/43.2021-Health-Walks-S-and-G.jpg
ORGANIZER;CN="One You Kent team":MAILTO:oneyou@dartford.gov.uk
END:VEVENT
BEGIN:VEVENT
DTSTART;TZID=Europe/London:20290325T090000
DTEND;TZID=Europe/London:20290325T100000
DTSTAMP:20260423T032501
CREATED:20210520T102552Z
LAST-MODIFIED:20241219T091648Z
UID:10023204-1869123600-1869127200@swanscombeandgreenhithetowncouncil.gov.uk
SUMMARY:Free Weekly Health Walk
DESCRIPTION:
URL:https://swanscombeandgreenhithetowncouncil.gov.uk/event/free-weekly-health-walk/2029-03-25/
LOCATION:Swanscombe and Greenhithe Town Council and Community Hall\, 16 The Grove\, Swanscombe DA10 0AD\, United Kingdom\, United Kingdom
CATEGORIES:Community Event|Sports & Recreation Group
ATTACH;FMTTYPE=image/jpeg:https://swanscombeandgreenhithetowncouncil.gov.uk/wp-content/uploads/2021/05/43.2021-Health-Walks-S-and-G.jpg
ORGANIZER;CN="One You Kent team":MAILTO:oneyou@dartford.gov.uk
END:VEVENT
BEGIN:VEVENT
DTSTART;TZID=Europe/London:20290328T103000
DTEND;TZID=Europe/London:20290328T113000
DTSTAMP:20260423T032501
CREATED:20240313T011712Z
LAST-MODIFIED:20241219T091954Z
UID:10023154-1869388200-1869391800@swanscombeandgreenhithetowncouncil.gov.uk
SUMMARY:Free Weekly Health Walk
DESCRIPTION:  \n 
URL:https://swanscombeandgreenhithetowncouncil.gov.uk/event/free-weekly-health-walk-3-2/2029-03-28/
LOCATION:Greenhithe Community Centre\, Alexander Rd\, Greenhithe DA9 9HH\, United Kingdom\, United Kingdom
CATEGORIES:Community Event|Sports & Recreation Group
ATTACH;FMTTYPE=image/jpeg:https://swanscombeandgreenhithetowncouncil.gov.uk/wp-content/uploads/2021/05/43.2021-Health-Walks-S-and-G.jpg
ORGANIZER;CN="One You Kent team":MAILTO:oneyou@dartford.gov.uk
END:VEVENT
END:VCALENDAR