BEGIN:VCALENDAR
VERSION:2.0
PRODID:-//Swanscombe and Greenhithe Town Council - ECPv6.15.20//NONSGML v1.0//EN
CALSCALE:GREGORIAN
METHOD:PUBLISH
X-WR-CALNAME:Swanscombe and Greenhithe Town Council
X-ORIGINAL-URL:https://swanscombeandgreenhithetowncouncil.gov.uk
X-WR-CALDESC:Events for Swanscombe and Greenhithe Town Council
REFRESH-INTERVAL;VALUE=DURATION:PT1H
X-Robots-Tag:noindex
X-PUBLISHED-TTL:PT1H
BEGIN:VTIMEZONE
TZID:Europe/London
BEGIN:DAYLIGHT
TZOFFSETFROM:+0000
TZOFFSETTO:+0100
TZNAME:BST
DTSTART:20260329T010000
END:DAYLIGHT
BEGIN:STANDARD
TZOFFSETFROM:+0100
TZOFFSETTO:+0000
TZNAME:GMT
DTSTART:20261025T010000
END:STANDARD
BEGIN:DAYLIGHT
TZOFFSETFROM:+0000
TZOFFSETTO:+0100
TZNAME:BST
DTSTART:20270328T010000
END:DAYLIGHT
BEGIN:STANDARD
TZOFFSETFROM:+0100
TZOFFSETTO:+0000
TZNAME:GMT
DTSTART:20271031T010000
END:STANDARD
BEGIN:DAYLIGHT
TZOFFSETFROM:+0000
TZOFFSETTO:+0100
TZNAME:BST
DTSTART:20280326T010000
END:DAYLIGHT
BEGIN:STANDARD
TZOFFSETFROM:+0100
TZOFFSETTO:+0000
TZNAME:GMT
DTSTART:20281029T010000
END:STANDARD
END:VTIMEZONE
BEGIN:VEVENT
DTSTART;TZID=Europe/London:20270102T093000
DTEND;TZID=Europe/London:20270102T143000
DTSTAMP:20260421T172545
CREATED:20240312T171726Z
LAST-MODIFIED:20240313T005116Z
UID:10008255-1798882200-1798900200@swanscombeandgreenhithetowncouncil.gov.uk
SUMMARY:Rosie's Groovy Movers - Children's Dance Groups
DESCRIPTION:
URL:https://swanscombeandgreenhithetowncouncil.gov.uk/event/rosies-groovy-movers-childrens-dance-groups-2-2-2/2027-01-02/
LOCATION:Swanscombe and Greenhithe Town Council and Community Hall\, 16 The Grove\, Swanscombe DA10 0AD\, United Kingdom\, United Kingdom
CATEGORIES:Community Event
ATTACH;FMTTYPE=image/jpeg:https://swanscombeandgreenhithetowncouncil.gov.uk/wp-content/uploads/2020/02/38.2021-Rosies-Groovy-Movers-25-Oct.jpg
ORGANIZER;CN="Rosie":MAILTO:groovymovers@yahoo.co.uk
END:VEVENT
BEGIN:VEVENT
DTSTART;TZID=Europe/London:20270109T093000
DTEND;TZID=Europe/London:20270109T143000
DTSTAMP:20260421T172545
CREATED:20240312T171726Z
LAST-MODIFIED:20240313T005116Z
UID:10008256-1799487000-1799505000@swanscombeandgreenhithetowncouncil.gov.uk
SUMMARY:Rosie's Groovy Movers - Children's Dance Groups
DESCRIPTION:
URL:https://swanscombeandgreenhithetowncouncil.gov.uk/event/rosies-groovy-movers-childrens-dance-groups-2-2-2/2027-01-09/
LOCATION:Swanscombe and Greenhithe Town Council and Community Hall\, 16 The Grove\, Swanscombe DA10 0AD\, United Kingdom\, United Kingdom
CATEGORIES:Community Event
ATTACH;FMTTYPE=image/jpeg:https://swanscombeandgreenhithetowncouncil.gov.uk/wp-content/uploads/2020/02/38.2021-Rosies-Groovy-Movers-25-Oct.jpg
ORGANIZER;CN="Rosie":MAILTO:groovymovers@yahoo.co.uk
END:VEVENT
BEGIN:VEVENT
DTSTART;TZID=Europe/London:20270116T093000
DTEND;TZID=Europe/London:20270116T143000
DTSTAMP:20260421T172545
CREATED:20240312T171726Z
LAST-MODIFIED:20240313T005116Z
UID:10008257-1800091800-1800109800@swanscombeandgreenhithetowncouncil.gov.uk
SUMMARY:Rosie's Groovy Movers - Children's Dance Groups
DESCRIPTION:
URL:https://swanscombeandgreenhithetowncouncil.gov.uk/event/rosies-groovy-movers-childrens-dance-groups-2-2-2/2027-01-16/
LOCATION:Swanscombe and Greenhithe Town Council and Community Hall\, 16 The Grove\, Swanscombe DA10 0AD\, United Kingdom\, United Kingdom
CATEGORIES:Community Event
ATTACH;FMTTYPE=image/jpeg:https://swanscombeandgreenhithetowncouncil.gov.uk/wp-content/uploads/2020/02/38.2021-Rosies-Groovy-Movers-25-Oct.jpg
ORGANIZER;CN="Rosie":MAILTO:groovymovers@yahoo.co.uk
END:VEVENT
BEGIN:VEVENT
DTSTART;TZID=Europe/London:20270123T093000
DTEND;TZID=Europe/London:20270123T143000
DTSTAMP:20260421T172545
CREATED:20240312T171726Z
LAST-MODIFIED:20240313T005116Z
UID:10008258-1800696600-1800714600@swanscombeandgreenhithetowncouncil.gov.uk
SUMMARY:Rosie's Groovy Movers - Children's Dance Groups
DESCRIPTION:
URL:https://swanscombeandgreenhithetowncouncil.gov.uk/event/rosies-groovy-movers-childrens-dance-groups-2-2-2/2027-01-23/
LOCATION:Swanscombe and Greenhithe Town Council and Community Hall\, 16 The Grove\, Swanscombe DA10 0AD\, United Kingdom\, United Kingdom
CATEGORIES:Community Event
ATTACH;FMTTYPE=image/jpeg:https://swanscombeandgreenhithetowncouncil.gov.uk/wp-content/uploads/2020/02/38.2021-Rosies-Groovy-Movers-25-Oct.jpg
ORGANIZER;CN="Rosie":MAILTO:groovymovers@yahoo.co.uk
END:VEVENT
BEGIN:VEVENT
DTSTART;TZID=Europe/London:20270130T093000
DTEND;TZID=Europe/London:20270130T143000
DTSTAMP:20260421T172545
CREATED:20240312T171726Z
LAST-MODIFIED:20240313T005116Z
UID:10008259-1801301400-1801319400@swanscombeandgreenhithetowncouncil.gov.uk
SUMMARY:Rosie's Groovy Movers - Children's Dance Groups
DESCRIPTION:
URL:https://swanscombeandgreenhithetowncouncil.gov.uk/event/rosies-groovy-movers-childrens-dance-groups-2-2-2/2027-01-30/
LOCATION:Swanscombe and Greenhithe Town Council and Community Hall\, 16 The Grove\, Swanscombe DA10 0AD\, United Kingdom\, United Kingdom
CATEGORIES:Community Event
ATTACH;FMTTYPE=image/jpeg:https://swanscombeandgreenhithetowncouncil.gov.uk/wp-content/uploads/2020/02/38.2021-Rosies-Groovy-Movers-25-Oct.jpg
ORGANIZER;CN="Rosie":MAILTO:groovymovers@yahoo.co.uk
END:VEVENT
BEGIN:VEVENT
DTSTART;TZID=Europe/London:20270206T093000
DTEND;TZID=Europe/London:20270206T143000
DTSTAMP:20260421T172545
CREATED:20240312T171726Z
LAST-MODIFIED:20240313T005116Z
UID:10008260-1801906200-1801924200@swanscombeandgreenhithetowncouncil.gov.uk
SUMMARY:Rosie's Groovy Movers - Children's Dance Groups
DESCRIPTION:
URL:https://swanscombeandgreenhithetowncouncil.gov.uk/event/rosies-groovy-movers-childrens-dance-groups-2-2-2/2027-02-06/
LOCATION:Swanscombe and Greenhithe Town Council and Community Hall\, 16 The Grove\, Swanscombe DA10 0AD\, United Kingdom\, United Kingdom
CATEGORIES:Community Event
ATTACH;FMTTYPE=image/jpeg:https://swanscombeandgreenhithetowncouncil.gov.uk/wp-content/uploads/2020/02/38.2021-Rosies-Groovy-Movers-25-Oct.jpg
ORGANIZER;CN="Rosie":MAILTO:groovymovers@yahoo.co.uk
END:VEVENT
BEGIN:VEVENT
DTSTART;TZID=Europe/London:20270213T093000
DTEND;TZID=Europe/London:20270213T143000
DTSTAMP:20260421T172545
CREATED:20240312T171726Z
LAST-MODIFIED:20240313T005116Z
UID:10008261-1802511000-1802529000@swanscombeandgreenhithetowncouncil.gov.uk
SUMMARY:Rosie's Groovy Movers - Children's Dance Groups
DESCRIPTION:
URL:https://swanscombeandgreenhithetowncouncil.gov.uk/event/rosies-groovy-movers-childrens-dance-groups-2-2-2/2027-02-13/
LOCATION:Swanscombe and Greenhithe Town Council and Community Hall\, 16 The Grove\, Swanscombe DA10 0AD\, United Kingdom\, United Kingdom
CATEGORIES:Community Event
ATTACH;FMTTYPE=image/jpeg:https://swanscombeandgreenhithetowncouncil.gov.uk/wp-content/uploads/2020/02/38.2021-Rosies-Groovy-Movers-25-Oct.jpg
ORGANIZER;CN="Rosie":MAILTO:groovymovers@yahoo.co.uk
END:VEVENT
BEGIN:VEVENT
DTSTART;TZID=Europe/London:20270220T093000
DTEND;TZID=Europe/London:20270220T143000
DTSTAMP:20260421T172545
CREATED:20240312T171726Z
LAST-MODIFIED:20240313T005116Z
UID:10008262-1803115800-1803133800@swanscombeandgreenhithetowncouncil.gov.uk
SUMMARY:Rosie's Groovy Movers - Children's Dance Groups
DESCRIPTION:
URL:https://swanscombeandgreenhithetowncouncil.gov.uk/event/rosies-groovy-movers-childrens-dance-groups-2-2-2/2027-02-20/
LOCATION:Swanscombe and Greenhithe Town Council and Community Hall\, 16 The Grove\, Swanscombe DA10 0AD\, United Kingdom\, United Kingdom
CATEGORIES:Community Event
ATTACH;FMTTYPE=image/jpeg:https://swanscombeandgreenhithetowncouncil.gov.uk/wp-content/uploads/2020/02/38.2021-Rosies-Groovy-Movers-25-Oct.jpg
ORGANIZER;CN="Rosie":MAILTO:groovymovers@yahoo.co.uk
END:VEVENT
BEGIN:VEVENT
DTSTART;TZID=Europe/London:20270227T093000
DTEND;TZID=Europe/London:20270227T143000
DTSTAMP:20260421T172545
CREATED:20240312T171726Z
LAST-MODIFIED:20240313T005116Z
UID:10008263-1803720600-1803738600@swanscombeandgreenhithetowncouncil.gov.uk
SUMMARY:Rosie's Groovy Movers - Children's Dance Groups
DESCRIPTION:
URL:https://swanscombeandgreenhithetowncouncil.gov.uk/event/rosies-groovy-movers-childrens-dance-groups-2-2-2/2027-02-27/
LOCATION:Swanscombe and Greenhithe Town Council and Community Hall\, 16 The Grove\, Swanscombe DA10 0AD\, United Kingdom\, United Kingdom
CATEGORIES:Community Event
ATTACH;FMTTYPE=image/jpeg:https://swanscombeandgreenhithetowncouncil.gov.uk/wp-content/uploads/2020/02/38.2021-Rosies-Groovy-Movers-25-Oct.jpg
ORGANIZER;CN="Rosie":MAILTO:groovymovers@yahoo.co.uk
END:VEVENT
BEGIN:VEVENT
DTSTART;TZID=Europe/London:20270306T093000
DTEND;TZID=Europe/London:20270306T143000
DTSTAMP:20260421T172545
CREATED:20240312T171726Z
LAST-MODIFIED:20240313T005116Z
UID:10008264-1804325400-1804343400@swanscombeandgreenhithetowncouncil.gov.uk
SUMMARY:Rosie's Groovy Movers - Children's Dance Groups
DESCRIPTION:
URL:https://swanscombeandgreenhithetowncouncil.gov.uk/event/rosies-groovy-movers-childrens-dance-groups-2-2-2/2027-03-06/
LOCATION:Swanscombe and Greenhithe Town Council and Community Hall\, 16 The Grove\, Swanscombe DA10 0AD\, United Kingdom\, United Kingdom
CATEGORIES:Community Event
ATTACH;FMTTYPE=image/jpeg:https://swanscombeandgreenhithetowncouncil.gov.uk/wp-content/uploads/2020/02/38.2021-Rosies-Groovy-Movers-25-Oct.jpg
ORGANIZER;CN="Rosie":MAILTO:groovymovers@yahoo.co.uk
END:VEVENT
BEGIN:VEVENT
DTSTART;TZID=Europe/London:20270313T093000
DTEND;TZID=Europe/London:20270313T143000
DTSTAMP:20260421T172545
CREATED:20240312T171726Z
LAST-MODIFIED:20240313T005116Z
UID:10008265-1804930200-1804948200@swanscombeandgreenhithetowncouncil.gov.uk
SUMMARY:Rosie's Groovy Movers - Children's Dance Groups
DESCRIPTION:
URL:https://swanscombeandgreenhithetowncouncil.gov.uk/event/rosies-groovy-movers-childrens-dance-groups-2-2-2/2027-03-13/
LOCATION:Swanscombe and Greenhithe Town Council and Community Hall\, 16 The Grove\, Swanscombe DA10 0AD\, United Kingdom\, United Kingdom
CATEGORIES:Community Event
ATTACH;FMTTYPE=image/jpeg:https://swanscombeandgreenhithetowncouncil.gov.uk/wp-content/uploads/2020/02/38.2021-Rosies-Groovy-Movers-25-Oct.jpg
ORGANIZER;CN="Rosie":MAILTO:groovymovers@yahoo.co.uk
END:VEVENT
BEGIN:VEVENT
DTSTART;TZID=Europe/London:20270320T093000
DTEND;TZID=Europe/London:20270320T143000
DTSTAMP:20260421T172545
CREATED:20240312T171726Z
LAST-MODIFIED:20240313T005116Z
UID:10008266-1805535000-1805553000@swanscombeandgreenhithetowncouncil.gov.uk
SUMMARY:Rosie's Groovy Movers - Children's Dance Groups
DESCRIPTION:
URL:https://swanscombeandgreenhithetowncouncil.gov.uk/event/rosies-groovy-movers-childrens-dance-groups-2-2-2/2027-03-20/
LOCATION:Swanscombe and Greenhithe Town Council and Community Hall\, 16 The Grove\, Swanscombe DA10 0AD\, United Kingdom\, United Kingdom
CATEGORIES:Community Event
ATTACH;FMTTYPE=image/jpeg:https://swanscombeandgreenhithetowncouncil.gov.uk/wp-content/uploads/2020/02/38.2021-Rosies-Groovy-Movers-25-Oct.jpg
ORGANIZER;CN="Rosie":MAILTO:groovymovers@yahoo.co.uk
END:VEVENT
BEGIN:VEVENT
DTSTART;TZID=Europe/London:20270327T093000
DTEND;TZID=Europe/London:20270327T143000
DTSTAMP:20260421T172545
CREATED:20240312T171726Z
LAST-MODIFIED:20240313T005116Z
UID:10008267-1806139800-1806157800@swanscombeandgreenhithetowncouncil.gov.uk
SUMMARY:Rosie's Groovy Movers - Children's Dance Groups
DESCRIPTION:
URL:https://swanscombeandgreenhithetowncouncil.gov.uk/event/rosies-groovy-movers-childrens-dance-groups-2-2-2/2027-03-27/
LOCATION:Swanscombe and Greenhithe Town Council and Community Hall\, 16 The Grove\, Swanscombe DA10 0AD\, United Kingdom\, United Kingdom
CATEGORIES:Community Event
ATTACH;FMTTYPE=image/jpeg:https://swanscombeandgreenhithetowncouncil.gov.uk/wp-content/uploads/2020/02/38.2021-Rosies-Groovy-Movers-25-Oct.jpg
ORGANIZER;CN="Rosie":MAILTO:groovymovers@yahoo.co.uk
END:VEVENT
BEGIN:VEVENT
DTSTART;TZID=Europe/London:20270403T093000
DTEND;TZID=Europe/London:20270403T143000
DTSTAMP:20260421T172545
CREATED:20240312T171726Z
LAST-MODIFIED:20240313T005116Z
UID:10008268-1806744600-1806762600@swanscombeandgreenhithetowncouncil.gov.uk
SUMMARY:Rosie's Groovy Movers - Children's Dance Groups
DESCRIPTION:
URL:https://swanscombeandgreenhithetowncouncil.gov.uk/event/rosies-groovy-movers-childrens-dance-groups-2-2-2/2027-04-03/
LOCATION:Swanscombe and Greenhithe Town Council and Community Hall\, 16 The Grove\, Swanscombe DA10 0AD\, United Kingdom\, United Kingdom
CATEGORIES:Community Event
ATTACH;FMTTYPE=image/jpeg:https://swanscombeandgreenhithetowncouncil.gov.uk/wp-content/uploads/2020/02/38.2021-Rosies-Groovy-Movers-25-Oct.jpg
ORGANIZER;CN="Rosie":MAILTO:groovymovers@yahoo.co.uk
END:VEVENT
BEGIN:VEVENT
DTSTART;TZID=Europe/London:20270410T093000
DTEND;TZID=Europe/London:20270410T143000
DTSTAMP:20260421T172545
CREATED:20240312T171726Z
LAST-MODIFIED:20240313T005116Z
UID:10008269-1807349400-1807367400@swanscombeandgreenhithetowncouncil.gov.uk
SUMMARY:Rosie's Groovy Movers - Children's Dance Groups
DESCRIPTION:
URL:https://swanscombeandgreenhithetowncouncil.gov.uk/event/rosies-groovy-movers-childrens-dance-groups-2-2-2/2027-04-10/
LOCATION:Swanscombe and Greenhithe Town Council and Community Hall\, 16 The Grove\, Swanscombe DA10 0AD\, United Kingdom\, United Kingdom
CATEGORIES:Community Event
ATTACH;FMTTYPE=image/jpeg:https://swanscombeandgreenhithetowncouncil.gov.uk/wp-content/uploads/2020/02/38.2021-Rosies-Groovy-Movers-25-Oct.jpg
ORGANIZER;CN="Rosie":MAILTO:groovymovers@yahoo.co.uk
END:VEVENT
BEGIN:VEVENT
DTSTART;TZID=Europe/London:20270417T093000
DTEND;TZID=Europe/London:20270417T143000
DTSTAMP:20260421T172545
CREATED:20240312T171726Z
LAST-MODIFIED:20240313T005116Z
UID:10008270-1807954200-1807972200@swanscombeandgreenhithetowncouncil.gov.uk
SUMMARY:Rosie's Groovy Movers - Children's Dance Groups
DESCRIPTION:
URL:https://swanscombeandgreenhithetowncouncil.gov.uk/event/rosies-groovy-movers-childrens-dance-groups-2-2-2/2027-04-17/
LOCATION:Swanscombe and Greenhithe Town Council and Community Hall\, 16 The Grove\, Swanscombe DA10 0AD\, United Kingdom\, United Kingdom
CATEGORIES:Community Event
ATTACH;FMTTYPE=image/jpeg:https://swanscombeandgreenhithetowncouncil.gov.uk/wp-content/uploads/2020/02/38.2021-Rosies-Groovy-Movers-25-Oct.jpg
ORGANIZER;CN="Rosie":MAILTO:groovymovers@yahoo.co.uk
END:VEVENT
BEGIN:VEVENT
DTSTART;TZID=Europe/London:20270424T093000
DTEND;TZID=Europe/London:20270424T143000
DTSTAMP:20260421T172545
CREATED:20240312T171726Z
LAST-MODIFIED:20240313T005116Z
UID:10008271-1808559000-1808577000@swanscombeandgreenhithetowncouncil.gov.uk
SUMMARY:Rosie's Groovy Movers - Children's Dance Groups
DESCRIPTION:
URL:https://swanscombeandgreenhithetowncouncil.gov.uk/event/rosies-groovy-movers-childrens-dance-groups-2-2-2/2027-04-24/
LOCATION:Swanscombe and Greenhithe Town Council and Community Hall\, 16 The Grove\, Swanscombe DA10 0AD\, United Kingdom\, United Kingdom
CATEGORIES:Community Event
ATTACH;FMTTYPE=image/jpeg:https://swanscombeandgreenhithetowncouncil.gov.uk/wp-content/uploads/2020/02/38.2021-Rosies-Groovy-Movers-25-Oct.jpg
ORGANIZER;CN="Rosie":MAILTO:groovymovers@yahoo.co.uk
END:VEVENT
BEGIN:VEVENT
DTSTART;TZID=Europe/London:20270501T093000
DTEND;TZID=Europe/London:20270501T143000
DTSTAMP:20260421T172545
CREATED:20240312T171726Z
LAST-MODIFIED:20240313T005116Z
UID:10008272-1809163800-1809181800@swanscombeandgreenhithetowncouncil.gov.uk
SUMMARY:Rosie's Groovy Movers - Children's Dance Groups
DESCRIPTION:
URL:https://swanscombeandgreenhithetowncouncil.gov.uk/event/rosies-groovy-movers-childrens-dance-groups-2-2-2/2027-05-01/
LOCATION:Swanscombe and Greenhithe Town Council and Community Hall\, 16 The Grove\, Swanscombe DA10 0AD\, United Kingdom\, United Kingdom
CATEGORIES:Community Event
ATTACH;FMTTYPE=image/jpeg:https://swanscombeandgreenhithetowncouncil.gov.uk/wp-content/uploads/2020/02/38.2021-Rosies-Groovy-Movers-25-Oct.jpg
ORGANIZER;CN="Rosie":MAILTO:groovymovers@yahoo.co.uk
END:VEVENT
BEGIN:VEVENT
DTSTART;TZID=Europe/London:20270508T093000
DTEND;TZID=Europe/London:20270508T143000
DTSTAMP:20260421T172545
CREATED:20240312T171726Z
LAST-MODIFIED:20240313T005116Z
UID:10008273-1809768600-1809786600@swanscombeandgreenhithetowncouncil.gov.uk
SUMMARY:Rosie's Groovy Movers - Children's Dance Groups
DESCRIPTION:
URL:https://swanscombeandgreenhithetowncouncil.gov.uk/event/rosies-groovy-movers-childrens-dance-groups-2-2-2/2027-05-08/
LOCATION:Swanscombe and Greenhithe Town Council and Community Hall\, 16 The Grove\, Swanscombe DA10 0AD\, United Kingdom\, United Kingdom
CATEGORIES:Community Event
ATTACH;FMTTYPE=image/jpeg:https://swanscombeandgreenhithetowncouncil.gov.uk/wp-content/uploads/2020/02/38.2021-Rosies-Groovy-Movers-25-Oct.jpg
ORGANIZER;CN="Rosie":MAILTO:groovymovers@yahoo.co.uk
END:VEVENT
BEGIN:VEVENT
DTSTART;TZID=Europe/London:20270515T093000
DTEND;TZID=Europe/London:20270515T143000
DTSTAMP:20260421T172545
CREATED:20240312T171726Z
LAST-MODIFIED:20240313T005116Z
UID:10008274-1810373400-1810391400@swanscombeandgreenhithetowncouncil.gov.uk
SUMMARY:Rosie's Groovy Movers - Children's Dance Groups
DESCRIPTION:
URL:https://swanscombeandgreenhithetowncouncil.gov.uk/event/rosies-groovy-movers-childrens-dance-groups-2-2-2/2027-05-15/
LOCATION:Swanscombe and Greenhithe Town Council and Community Hall\, 16 The Grove\, Swanscombe DA10 0AD\, United Kingdom\, United Kingdom
CATEGORIES:Community Event
ATTACH;FMTTYPE=image/jpeg:https://swanscombeandgreenhithetowncouncil.gov.uk/wp-content/uploads/2020/02/38.2021-Rosies-Groovy-Movers-25-Oct.jpg
ORGANIZER;CN="Rosie":MAILTO:groovymovers@yahoo.co.uk
END:VEVENT
BEGIN:VEVENT
DTSTART;TZID=Europe/London:20270522T093000
DTEND;TZID=Europe/London:20270522T143000
DTSTAMP:20260421T172545
CREATED:20240312T171726Z
LAST-MODIFIED:20240313T005116Z
UID:10008275-1810978200-1810996200@swanscombeandgreenhithetowncouncil.gov.uk
SUMMARY:Rosie's Groovy Movers - Children's Dance Groups
DESCRIPTION:
URL:https://swanscombeandgreenhithetowncouncil.gov.uk/event/rosies-groovy-movers-childrens-dance-groups-2-2-2/2027-05-22/
LOCATION:Swanscombe and Greenhithe Town Council and Community Hall\, 16 The Grove\, Swanscombe DA10 0AD\, United Kingdom\, United Kingdom
CATEGORIES:Community Event
ATTACH;FMTTYPE=image/jpeg:https://swanscombeandgreenhithetowncouncil.gov.uk/wp-content/uploads/2020/02/38.2021-Rosies-Groovy-Movers-25-Oct.jpg
ORGANIZER;CN="Rosie":MAILTO:groovymovers@yahoo.co.uk
END:VEVENT
BEGIN:VEVENT
DTSTART;TZID=Europe/London:20270529T093000
DTEND;TZID=Europe/London:20270529T143000
DTSTAMP:20260421T172545
CREATED:20240312T171726Z
LAST-MODIFIED:20240313T005116Z
UID:10008276-1811583000-1811601000@swanscombeandgreenhithetowncouncil.gov.uk
SUMMARY:Rosie's Groovy Movers - Children's Dance Groups
DESCRIPTION:
URL:https://swanscombeandgreenhithetowncouncil.gov.uk/event/rosies-groovy-movers-childrens-dance-groups-2-2-2/2027-05-29/
LOCATION:Swanscombe and Greenhithe Town Council and Community Hall\, 16 The Grove\, Swanscombe DA10 0AD\, United Kingdom\, United Kingdom
CATEGORIES:Community Event
ATTACH;FMTTYPE=image/jpeg:https://swanscombeandgreenhithetowncouncil.gov.uk/wp-content/uploads/2020/02/38.2021-Rosies-Groovy-Movers-25-Oct.jpg
ORGANIZER;CN="Rosie":MAILTO:groovymovers@yahoo.co.uk
END:VEVENT
BEGIN:VEVENT
DTSTART;TZID=Europe/London:20270605T093000
DTEND;TZID=Europe/London:20270605T143000
DTSTAMP:20260421T172545
CREATED:20240312T171726Z
LAST-MODIFIED:20240313T005116Z
UID:10008277-1812187800-1812205800@swanscombeandgreenhithetowncouncil.gov.uk
SUMMARY:Rosie's Groovy Movers - Children's Dance Groups
DESCRIPTION:
URL:https://swanscombeandgreenhithetowncouncil.gov.uk/event/rosies-groovy-movers-childrens-dance-groups-2-2-2/2027-06-05/
LOCATION:Swanscombe and Greenhithe Town Council and Community Hall\, 16 The Grove\, Swanscombe DA10 0AD\, United Kingdom\, United Kingdom
CATEGORIES:Community Event
ATTACH;FMTTYPE=image/jpeg:https://swanscombeandgreenhithetowncouncil.gov.uk/wp-content/uploads/2020/02/38.2021-Rosies-Groovy-Movers-25-Oct.jpg
ORGANIZER;CN="Rosie":MAILTO:groovymovers@yahoo.co.uk
END:VEVENT
BEGIN:VEVENT
DTSTART;TZID=Europe/London:20270612T093000
DTEND;TZID=Europe/London:20270612T143000
DTSTAMP:20260421T172545
CREATED:20240312T171726Z
LAST-MODIFIED:20240313T005116Z
UID:10008278-1812792600-1812810600@swanscombeandgreenhithetowncouncil.gov.uk
SUMMARY:Rosie's Groovy Movers - Children's Dance Groups
DESCRIPTION:
URL:https://swanscombeandgreenhithetowncouncil.gov.uk/event/rosies-groovy-movers-childrens-dance-groups-2-2-2/2027-06-12/
LOCATION:Swanscombe and Greenhithe Town Council and Community Hall\, 16 The Grove\, Swanscombe DA10 0AD\, United Kingdom\, United Kingdom
CATEGORIES:Community Event
ATTACH;FMTTYPE=image/jpeg:https://swanscombeandgreenhithetowncouncil.gov.uk/wp-content/uploads/2020/02/38.2021-Rosies-Groovy-Movers-25-Oct.jpg
ORGANIZER;CN="Rosie":MAILTO:groovymovers@yahoo.co.uk
END:VEVENT
BEGIN:VEVENT
DTSTART;TZID=Europe/London:20270619T093000
DTEND;TZID=Europe/London:20270619T143000
DTSTAMP:20260421T172545
CREATED:20240312T171726Z
LAST-MODIFIED:20240313T005116Z
UID:10008279-1813397400-1813415400@swanscombeandgreenhithetowncouncil.gov.uk
SUMMARY:Rosie's Groovy Movers - Children's Dance Groups
DESCRIPTION:
URL:https://swanscombeandgreenhithetowncouncil.gov.uk/event/rosies-groovy-movers-childrens-dance-groups-2-2-2/2027-06-19/
LOCATION:Swanscombe and Greenhithe Town Council and Community Hall\, 16 The Grove\, Swanscombe DA10 0AD\, United Kingdom\, United Kingdom
CATEGORIES:Community Event
ATTACH;FMTTYPE=image/jpeg:https://swanscombeandgreenhithetowncouncil.gov.uk/wp-content/uploads/2020/02/38.2021-Rosies-Groovy-Movers-25-Oct.jpg
ORGANIZER;CN="Rosie":MAILTO:groovymovers@yahoo.co.uk
END:VEVENT
BEGIN:VEVENT
DTSTART;TZID=Europe/London:20270626T093000
DTEND;TZID=Europe/London:20270626T143000
DTSTAMP:20260421T172545
CREATED:20240312T171726Z
LAST-MODIFIED:20240313T005116Z
UID:10008280-1814002200-1814020200@swanscombeandgreenhithetowncouncil.gov.uk
SUMMARY:Rosie's Groovy Movers - Children's Dance Groups
DESCRIPTION:
URL:https://swanscombeandgreenhithetowncouncil.gov.uk/event/rosies-groovy-movers-childrens-dance-groups-2-2-2/2027-06-26/
LOCATION:Swanscombe and Greenhithe Town Council and Community Hall\, 16 The Grove\, Swanscombe DA10 0AD\, United Kingdom\, United Kingdom
CATEGORIES:Community Event
ATTACH;FMTTYPE=image/jpeg:https://swanscombeandgreenhithetowncouncil.gov.uk/wp-content/uploads/2020/02/38.2021-Rosies-Groovy-Movers-25-Oct.jpg
ORGANIZER;CN="Rosie":MAILTO:groovymovers@yahoo.co.uk
END:VEVENT
BEGIN:VEVENT
DTSTART;TZID=Europe/London:20270703T093000
DTEND;TZID=Europe/London:20270703T143000
DTSTAMP:20260421T172545
CREATED:20240312T171726Z
LAST-MODIFIED:20240313T005116Z
UID:10008281-1814607000-1814625000@swanscombeandgreenhithetowncouncil.gov.uk
SUMMARY:Rosie's Groovy Movers - Children's Dance Groups
DESCRIPTION:
URL:https://swanscombeandgreenhithetowncouncil.gov.uk/event/rosies-groovy-movers-childrens-dance-groups-2-2-2/2027-07-03/
LOCATION:Swanscombe and Greenhithe Town Council and Community Hall\, 16 The Grove\, Swanscombe DA10 0AD\, United Kingdom\, United Kingdom
CATEGORIES:Community Event
ATTACH;FMTTYPE=image/jpeg:https://swanscombeandgreenhithetowncouncil.gov.uk/wp-content/uploads/2020/02/38.2021-Rosies-Groovy-Movers-25-Oct.jpg
ORGANIZER;CN="Rosie":MAILTO:groovymovers@yahoo.co.uk
END:VEVENT
BEGIN:VEVENT
DTSTART;TZID=Europe/London:20270710T093000
DTEND;TZID=Europe/London:20270710T143000
DTSTAMP:20260421T172545
CREATED:20240312T171726Z
LAST-MODIFIED:20240313T005116Z
UID:10008282-1815211800-1815229800@swanscombeandgreenhithetowncouncil.gov.uk
SUMMARY:Rosie's Groovy Movers - Children's Dance Groups
DESCRIPTION:
URL:https://swanscombeandgreenhithetowncouncil.gov.uk/event/rosies-groovy-movers-childrens-dance-groups-2-2-2/2027-07-10/
LOCATION:Swanscombe and Greenhithe Town Council and Community Hall\, 16 The Grove\, Swanscombe DA10 0AD\, United Kingdom\, United Kingdom
CATEGORIES:Community Event
ATTACH;FMTTYPE=image/jpeg:https://swanscombeandgreenhithetowncouncil.gov.uk/wp-content/uploads/2020/02/38.2021-Rosies-Groovy-Movers-25-Oct.jpg
ORGANIZER;CN="Rosie":MAILTO:groovymovers@yahoo.co.uk
END:VEVENT
BEGIN:VEVENT
DTSTART;TZID=Europe/London:20270717T093000
DTEND;TZID=Europe/London:20270717T143000
DTSTAMP:20260421T172545
CREATED:20240312T171726Z
LAST-MODIFIED:20240313T005116Z
UID:10008283-1815816600-1815834600@swanscombeandgreenhithetowncouncil.gov.uk
SUMMARY:Rosie's Groovy Movers - Children's Dance Groups
DESCRIPTION:
URL:https://swanscombeandgreenhithetowncouncil.gov.uk/event/rosies-groovy-movers-childrens-dance-groups-2-2-2/2027-07-17/
LOCATION:Swanscombe and Greenhithe Town Council and Community Hall\, 16 The Grove\, Swanscombe DA10 0AD\, United Kingdom\, United Kingdom
CATEGORIES:Community Event
ATTACH;FMTTYPE=image/jpeg:https://swanscombeandgreenhithetowncouncil.gov.uk/wp-content/uploads/2020/02/38.2021-Rosies-Groovy-Movers-25-Oct.jpg
ORGANIZER;CN="Rosie":MAILTO:groovymovers@yahoo.co.uk
END:VEVENT
BEGIN:VEVENT
DTSTART;TZID=Europe/London:20270724T093000
DTEND;TZID=Europe/London:20270724T143000
DTSTAMP:20260421T172545
CREATED:20240312T171726Z
LAST-MODIFIED:20240313T005116Z
UID:10008284-1816421400-1816439400@swanscombeandgreenhithetowncouncil.gov.uk
SUMMARY:Rosie's Groovy Movers - Children's Dance Groups
DESCRIPTION:
URL:https://swanscombeandgreenhithetowncouncil.gov.uk/event/rosies-groovy-movers-childrens-dance-groups-2-2-2/2027-07-24/
LOCATION:Swanscombe and Greenhithe Town Council and Community Hall\, 16 The Grove\, Swanscombe DA10 0AD\, United Kingdom\, United Kingdom
CATEGORIES:Community Event
ATTACH;FMTTYPE=image/jpeg:https://swanscombeandgreenhithetowncouncil.gov.uk/wp-content/uploads/2020/02/38.2021-Rosies-Groovy-Movers-25-Oct.jpg
ORGANIZER;CN="Rosie":MAILTO:groovymovers@yahoo.co.uk
END:VEVENT
END:VCALENDAR