BEGIN:VCALENDAR
VERSION:2.0
PRODID:-//Swanscombe and Greenhithe Town Council - ECPv6.15.20//NONSGML v1.0//EN
CALSCALE:GREGORIAN
METHOD:PUBLISH
X-ORIGINAL-URL:https://swanscombeandgreenhithetowncouncil.gov.uk
X-WR-CALDESC:Events for Swanscombe and Greenhithe Town Council
REFRESH-INTERVAL;VALUE=DURATION:PT1H
X-Robots-Tag:noindex
X-PUBLISHED-TTL:PT1H
BEGIN:VTIMEZONE
TZID:Europe/London
BEGIN:DAYLIGHT
TZOFFSETFROM:+0000
TZOFFSETTO:+0100
TZNAME:BST
DTSTART:20260329T010000
END:DAYLIGHT
BEGIN:STANDARD
TZOFFSETFROM:+0100
TZOFFSETTO:+0000
TZNAME:GMT
DTSTART:20261025T010000
END:STANDARD
BEGIN:DAYLIGHT
TZOFFSETFROM:+0000
TZOFFSETTO:+0100
TZNAME:BST
DTSTART:20270328T010000
END:DAYLIGHT
BEGIN:STANDARD
TZOFFSETFROM:+0100
TZOFFSETTO:+0000
TZNAME:GMT
DTSTART:20271031T010000
END:STANDARD
BEGIN:DAYLIGHT
TZOFFSETFROM:+0000
TZOFFSETTO:+0100
TZNAME:BST
DTSTART:20280326T010000
END:DAYLIGHT
BEGIN:STANDARD
TZOFFSETFROM:+0100
TZOFFSETTO:+0000
TZNAME:GMT
DTSTART:20281029T010000
END:STANDARD
BEGIN:DAYLIGHT
TZOFFSETFROM:+0000
TZOFFSETTO:+0100
TZNAME:BST
DTSTART:20290325T010000
END:DAYLIGHT
BEGIN:STANDARD
TZOFFSETFROM:+0100
TZOFFSETTO:+0000
TZNAME:GMT
DTSTART:20291028T010000
END:STANDARD
END:VTIMEZONE
BEGIN:VEVENT
DTSTART;TZID=Europe/London:20270911T093000
DTEND;TZID=Europe/London:20270911T143000
DTSTAMP:20260421T221600
CREATED:20240312T171726Z
LAST-MODIFIED:20240313T005116Z
UID:10008291-1820655000-1820673000@swanscombeandgreenhithetowncouncil.gov.uk
SUMMARY:Rosie's Groovy Movers - Children's Dance Groups
DESCRIPTION:
URL:https://swanscombeandgreenhithetowncouncil.gov.uk/event/rosies-groovy-movers-childrens-dance-groups-2-2-2/2027-09-11/
LOCATION:Swanscombe and Greenhithe Town Council and Community Hall\, 16 The Grove\, Swanscombe DA10 0AD\, United Kingdom\, United Kingdom
CATEGORIES:Community Event
ATTACH;FMTTYPE=image/jpeg:https://swanscombeandgreenhithetowncouncil.gov.uk/wp-content/uploads/2020/02/38.2021-Rosies-Groovy-Movers-25-Oct.jpg
ORGANIZER;CN="Rosie":MAILTO:groovymovers@yahoo.co.uk
END:VEVENT
BEGIN:VEVENT
DTSTART;TZID=Europe/London:20270918T093000
DTEND;TZID=Europe/London:20270918T143000
DTSTAMP:20260421T221600
CREATED:20240312T171726Z
LAST-MODIFIED:20240313T005116Z
UID:10008292-1821259800-1821277800@swanscombeandgreenhithetowncouncil.gov.uk
SUMMARY:Rosie's Groovy Movers - Children's Dance Groups
DESCRIPTION:
URL:https://swanscombeandgreenhithetowncouncil.gov.uk/event/rosies-groovy-movers-childrens-dance-groups-2-2-2/2027-09-18/
LOCATION:Swanscombe and Greenhithe Town Council and Community Hall\, 16 The Grove\, Swanscombe DA10 0AD\, United Kingdom\, United Kingdom
CATEGORIES:Community Event
ATTACH;FMTTYPE=image/jpeg:https://swanscombeandgreenhithetowncouncil.gov.uk/wp-content/uploads/2020/02/38.2021-Rosies-Groovy-Movers-25-Oct.jpg
ORGANIZER;CN="Rosie":MAILTO:groovymovers@yahoo.co.uk
END:VEVENT
BEGIN:VEVENT
DTSTART;TZID=Europe/London:20270925T093000
DTEND;TZID=Europe/London:20270925T143000
DTSTAMP:20260421T221600
CREATED:20240312T171726Z
LAST-MODIFIED:20240313T005116Z
UID:10008293-1821864600-1821882600@swanscombeandgreenhithetowncouncil.gov.uk
SUMMARY:Rosie's Groovy Movers - Children's Dance Groups
DESCRIPTION:
URL:https://swanscombeandgreenhithetowncouncil.gov.uk/event/rosies-groovy-movers-childrens-dance-groups-2-2-2/2027-09-25/
LOCATION:Swanscombe and Greenhithe Town Council and Community Hall\, 16 The Grove\, Swanscombe DA10 0AD\, United Kingdom\, United Kingdom
CATEGORIES:Community Event
ATTACH;FMTTYPE=image/jpeg:https://swanscombeandgreenhithetowncouncil.gov.uk/wp-content/uploads/2020/02/38.2021-Rosies-Groovy-Movers-25-Oct.jpg
ORGANIZER;CN="Rosie":MAILTO:groovymovers@yahoo.co.uk
END:VEVENT
BEGIN:VEVENT
DTSTART;TZID=Europe/London:20271002T093000
DTEND;TZID=Europe/London:20271002T143000
DTSTAMP:20260421T221600
CREATED:20240312T171726Z
LAST-MODIFIED:20240313T005116Z
UID:10008294-1822469400-1822487400@swanscombeandgreenhithetowncouncil.gov.uk
SUMMARY:Rosie's Groovy Movers - Children's Dance Groups
DESCRIPTION:
URL:https://swanscombeandgreenhithetowncouncil.gov.uk/event/rosies-groovy-movers-childrens-dance-groups-2-2-2/2027-10-02/
LOCATION:Swanscombe and Greenhithe Town Council and Community Hall\, 16 The Grove\, Swanscombe DA10 0AD\, United Kingdom\, United Kingdom
CATEGORIES:Community Event
ATTACH;FMTTYPE=image/jpeg:https://swanscombeandgreenhithetowncouncil.gov.uk/wp-content/uploads/2020/02/38.2021-Rosies-Groovy-Movers-25-Oct.jpg
ORGANIZER;CN="Rosie":MAILTO:groovymovers@yahoo.co.uk
END:VEVENT
BEGIN:VEVENT
DTSTART;TZID=Europe/London:20271009T093000
DTEND;TZID=Europe/London:20271009T143000
DTSTAMP:20260421T221600
CREATED:20240312T171726Z
LAST-MODIFIED:20240313T005116Z
UID:10008295-1823074200-1823092200@swanscombeandgreenhithetowncouncil.gov.uk
SUMMARY:Rosie's Groovy Movers - Children's Dance Groups
DESCRIPTION:
URL:https://swanscombeandgreenhithetowncouncil.gov.uk/event/rosies-groovy-movers-childrens-dance-groups-2-2-2/2027-10-09/
LOCATION:Swanscombe and Greenhithe Town Council and Community Hall\, 16 The Grove\, Swanscombe DA10 0AD\, United Kingdom\, United Kingdom
CATEGORIES:Community Event
ATTACH;FMTTYPE=image/jpeg:https://swanscombeandgreenhithetowncouncil.gov.uk/wp-content/uploads/2020/02/38.2021-Rosies-Groovy-Movers-25-Oct.jpg
ORGANIZER;CN="Rosie":MAILTO:groovymovers@yahoo.co.uk
END:VEVENT
BEGIN:VEVENT
DTSTART;TZID=Europe/London:20271016T093000
DTEND;TZID=Europe/London:20271016T143000
DTSTAMP:20260421T221600
CREATED:20240312T171726Z
LAST-MODIFIED:20240313T005116Z
UID:10008296-1823679000-1823697000@swanscombeandgreenhithetowncouncil.gov.uk
SUMMARY:Rosie's Groovy Movers - Children's Dance Groups
DESCRIPTION:
URL:https://swanscombeandgreenhithetowncouncil.gov.uk/event/rosies-groovy-movers-childrens-dance-groups-2-2-2/2027-10-16/
LOCATION:Swanscombe and Greenhithe Town Council and Community Hall\, 16 The Grove\, Swanscombe DA10 0AD\, United Kingdom\, United Kingdom
CATEGORIES:Community Event
ATTACH;FMTTYPE=image/jpeg:https://swanscombeandgreenhithetowncouncil.gov.uk/wp-content/uploads/2020/02/38.2021-Rosies-Groovy-Movers-25-Oct.jpg
ORGANIZER;CN="Rosie":MAILTO:groovymovers@yahoo.co.uk
END:VEVENT
BEGIN:VEVENT
DTSTART;TZID=Europe/London:20271023T093000
DTEND;TZID=Europe/London:20271023T143000
DTSTAMP:20260421T221600
CREATED:20240312T171726Z
LAST-MODIFIED:20240313T005116Z
UID:10008297-1824283800-1824301800@swanscombeandgreenhithetowncouncil.gov.uk
SUMMARY:Rosie's Groovy Movers - Children's Dance Groups
DESCRIPTION:
URL:https://swanscombeandgreenhithetowncouncil.gov.uk/event/rosies-groovy-movers-childrens-dance-groups-2-2-2/2027-10-23/
LOCATION:Swanscombe and Greenhithe Town Council and Community Hall\, 16 The Grove\, Swanscombe DA10 0AD\, United Kingdom\, United Kingdom
CATEGORIES:Community Event
ATTACH;FMTTYPE=image/jpeg:https://swanscombeandgreenhithetowncouncil.gov.uk/wp-content/uploads/2020/02/38.2021-Rosies-Groovy-Movers-25-Oct.jpg
ORGANIZER;CN="Rosie":MAILTO:groovymovers@yahoo.co.uk
END:VEVENT
BEGIN:VEVENT
DTSTART;TZID=Europe/London:20271030T093000
DTEND;TZID=Europe/London:20271030T143000
DTSTAMP:20260421T221600
CREATED:20240312T171726Z
LAST-MODIFIED:20240313T005116Z
UID:10008298-1824888600-1824906600@swanscombeandgreenhithetowncouncil.gov.uk
SUMMARY:Rosie's Groovy Movers - Children's Dance Groups
DESCRIPTION:
URL:https://swanscombeandgreenhithetowncouncil.gov.uk/event/rosies-groovy-movers-childrens-dance-groups-2-2-2/2027-10-30/
LOCATION:Swanscombe and Greenhithe Town Council and Community Hall\, 16 The Grove\, Swanscombe DA10 0AD\, United Kingdom\, United Kingdom
CATEGORIES:Community Event
ATTACH;FMTTYPE=image/jpeg:https://swanscombeandgreenhithetowncouncil.gov.uk/wp-content/uploads/2020/02/38.2021-Rosies-Groovy-Movers-25-Oct.jpg
ORGANIZER;CN="Rosie":MAILTO:groovymovers@yahoo.co.uk
END:VEVENT
BEGIN:VEVENT
DTSTART;TZID=Europe/London:20271106T093000
DTEND;TZID=Europe/London:20271106T143000
DTSTAMP:20260421T221600
CREATED:20240312T171726Z
LAST-MODIFIED:20240313T005116Z
UID:10008299-1825493400-1825511400@swanscombeandgreenhithetowncouncil.gov.uk
SUMMARY:Rosie's Groovy Movers - Children's Dance Groups
DESCRIPTION:
URL:https://swanscombeandgreenhithetowncouncil.gov.uk/event/rosies-groovy-movers-childrens-dance-groups-2-2-2/2027-11-06/
LOCATION:Swanscombe and Greenhithe Town Council and Community Hall\, 16 The Grove\, Swanscombe DA10 0AD\, United Kingdom\, United Kingdom
CATEGORIES:Community Event
ATTACH;FMTTYPE=image/jpeg:https://swanscombeandgreenhithetowncouncil.gov.uk/wp-content/uploads/2020/02/38.2021-Rosies-Groovy-Movers-25-Oct.jpg
ORGANIZER;CN="Rosie":MAILTO:groovymovers@yahoo.co.uk
END:VEVENT
BEGIN:VEVENT
DTSTART;TZID=Europe/London:20271113T093000
DTEND;TZID=Europe/London:20271113T143000
DTSTAMP:20260421T221600
CREATED:20240312T171726Z
LAST-MODIFIED:20240313T005116Z
UID:10008300-1826098200-1826116200@swanscombeandgreenhithetowncouncil.gov.uk
SUMMARY:Rosie's Groovy Movers - Children's Dance Groups
DESCRIPTION:
URL:https://swanscombeandgreenhithetowncouncil.gov.uk/event/rosies-groovy-movers-childrens-dance-groups-2-2-2/2027-11-13/
LOCATION:Swanscombe and Greenhithe Town Council and Community Hall\, 16 The Grove\, Swanscombe DA10 0AD\, United Kingdom\, United Kingdom
CATEGORIES:Community Event
ATTACH;FMTTYPE=image/jpeg:https://swanscombeandgreenhithetowncouncil.gov.uk/wp-content/uploads/2020/02/38.2021-Rosies-Groovy-Movers-25-Oct.jpg
ORGANIZER;CN="Rosie":MAILTO:groovymovers@yahoo.co.uk
END:VEVENT
BEGIN:VEVENT
DTSTART;TZID=Europe/London:20271120T093000
DTEND;TZID=Europe/London:20271120T143000
DTSTAMP:20260421T221600
CREATED:20240312T171726Z
LAST-MODIFIED:20240313T005116Z
UID:10008301-1826703000-1826721000@swanscombeandgreenhithetowncouncil.gov.uk
SUMMARY:Rosie's Groovy Movers - Children's Dance Groups
DESCRIPTION:
URL:https://swanscombeandgreenhithetowncouncil.gov.uk/event/rosies-groovy-movers-childrens-dance-groups-2-2-2/2027-11-20/
LOCATION:Swanscombe and Greenhithe Town Council and Community Hall\, 16 The Grove\, Swanscombe DA10 0AD\, United Kingdom\, United Kingdom
CATEGORIES:Community Event
ATTACH;FMTTYPE=image/jpeg:https://swanscombeandgreenhithetowncouncil.gov.uk/wp-content/uploads/2020/02/38.2021-Rosies-Groovy-Movers-25-Oct.jpg
ORGANIZER;CN="Rosie":MAILTO:groovymovers@yahoo.co.uk
END:VEVENT
BEGIN:VEVENT
DTSTART;TZID=Europe/London:20271127T093000
DTEND;TZID=Europe/London:20271127T143000
DTSTAMP:20260421T221600
CREATED:20240312T171726Z
LAST-MODIFIED:20240313T005116Z
UID:10008302-1827307800-1827325800@swanscombeandgreenhithetowncouncil.gov.uk
SUMMARY:Rosie's Groovy Movers - Children's Dance Groups
DESCRIPTION:
URL:https://swanscombeandgreenhithetowncouncil.gov.uk/event/rosies-groovy-movers-childrens-dance-groups-2-2-2/2027-11-27/
LOCATION:Swanscombe and Greenhithe Town Council and Community Hall\, 16 The Grove\, Swanscombe DA10 0AD\, United Kingdom\, United Kingdom
CATEGORIES:Community Event
ATTACH;FMTTYPE=image/jpeg:https://swanscombeandgreenhithetowncouncil.gov.uk/wp-content/uploads/2020/02/38.2021-Rosies-Groovy-Movers-25-Oct.jpg
ORGANIZER;CN="Rosie":MAILTO:groovymovers@yahoo.co.uk
END:VEVENT
BEGIN:VEVENT
DTSTART;TZID=Europe/London:20271204T093000
DTEND;TZID=Europe/London:20271204T143000
DTSTAMP:20260421T221600
CREATED:20240312T171726Z
LAST-MODIFIED:20240313T005116Z
UID:10008303-1827912600-1827930600@swanscombeandgreenhithetowncouncil.gov.uk
SUMMARY:Rosie's Groovy Movers - Children's Dance Groups
DESCRIPTION:
URL:https://swanscombeandgreenhithetowncouncil.gov.uk/event/rosies-groovy-movers-childrens-dance-groups-2-2-2/2027-12-04/
LOCATION:Swanscombe and Greenhithe Town Council and Community Hall\, 16 The Grove\, Swanscombe DA10 0AD\, United Kingdom\, United Kingdom
CATEGORIES:Community Event
ATTACH;FMTTYPE=image/jpeg:https://swanscombeandgreenhithetowncouncil.gov.uk/wp-content/uploads/2020/02/38.2021-Rosies-Groovy-Movers-25-Oct.jpg
ORGANIZER;CN="Rosie":MAILTO:groovymovers@yahoo.co.uk
END:VEVENT
BEGIN:VEVENT
DTSTART;TZID=Europe/London:20271211T093000
DTEND;TZID=Europe/London:20271211T143000
DTSTAMP:20260421T221600
CREATED:20240312T171726Z
LAST-MODIFIED:20240313T005116Z
UID:10008304-1828517400-1828535400@swanscombeandgreenhithetowncouncil.gov.uk
SUMMARY:Rosie's Groovy Movers - Children's Dance Groups
DESCRIPTION:
URL:https://swanscombeandgreenhithetowncouncil.gov.uk/event/rosies-groovy-movers-childrens-dance-groups-2-2-2/2027-12-11/
LOCATION:Swanscombe and Greenhithe Town Council and Community Hall\, 16 The Grove\, Swanscombe DA10 0AD\, United Kingdom\, United Kingdom
CATEGORIES:Community Event
ATTACH;FMTTYPE=image/jpeg:https://swanscombeandgreenhithetowncouncil.gov.uk/wp-content/uploads/2020/02/38.2021-Rosies-Groovy-Movers-25-Oct.jpg
ORGANIZER;CN="Rosie":MAILTO:groovymovers@yahoo.co.uk
END:VEVENT
BEGIN:VEVENT
DTSTART;TZID=Europe/London:20271218T093000
DTEND;TZID=Europe/London:20271218T143000
DTSTAMP:20260421T221600
CREATED:20240312T171726Z
LAST-MODIFIED:20240313T005116Z
UID:10008305-1829122200-1829140200@swanscombeandgreenhithetowncouncil.gov.uk
SUMMARY:Rosie's Groovy Movers - Children's Dance Groups
DESCRIPTION:
URL:https://swanscombeandgreenhithetowncouncil.gov.uk/event/rosies-groovy-movers-childrens-dance-groups-2-2-2/2027-12-18/
LOCATION:Swanscombe and Greenhithe Town Council and Community Hall\, 16 The Grove\, Swanscombe DA10 0AD\, United Kingdom\, United Kingdom
CATEGORIES:Community Event
ATTACH;FMTTYPE=image/jpeg:https://swanscombeandgreenhithetowncouncil.gov.uk/wp-content/uploads/2020/02/38.2021-Rosies-Groovy-Movers-25-Oct.jpg
ORGANIZER;CN="Rosie":MAILTO:groovymovers@yahoo.co.uk
END:VEVENT
BEGIN:VEVENT
DTSTART;TZID=Europe/London:20271225T093000
DTEND;TZID=Europe/London:20271225T143000
DTSTAMP:20260421T221600
CREATED:20240312T171726Z
LAST-MODIFIED:20240313T005116Z
UID:10008306-1829727000-1829745000@swanscombeandgreenhithetowncouncil.gov.uk
SUMMARY:Rosie's Groovy Movers - Children's Dance Groups
DESCRIPTION:
URL:https://swanscombeandgreenhithetowncouncil.gov.uk/event/rosies-groovy-movers-childrens-dance-groups-2-2-2/2027-12-25/
LOCATION:Swanscombe and Greenhithe Town Council and Community Hall\, 16 The Grove\, Swanscombe DA10 0AD\, United Kingdom\, United Kingdom
CATEGORIES:Community Event
ATTACH;FMTTYPE=image/jpeg:https://swanscombeandgreenhithetowncouncil.gov.uk/wp-content/uploads/2020/02/38.2021-Rosies-Groovy-Movers-25-Oct.jpg
ORGANIZER;CN="Rosie":MAILTO:groovymovers@yahoo.co.uk
END:VEVENT
BEGIN:VEVENT
DTSTART;TZID=Europe/London:20280101T093000
DTEND;TZID=Europe/London:20280101T143000
DTSTAMP:20260421T221600
CREATED:20240312T171726Z
LAST-MODIFIED:20240313T005116Z
UID:10008307-1830331800-1830349800@swanscombeandgreenhithetowncouncil.gov.uk
SUMMARY:Rosie's Groovy Movers - Children's Dance Groups
DESCRIPTION:
URL:https://swanscombeandgreenhithetowncouncil.gov.uk/event/rosies-groovy-movers-childrens-dance-groups-2-2-2/2028-01-01/
LOCATION:Swanscombe and Greenhithe Town Council and Community Hall\, 16 The Grove\, Swanscombe DA10 0AD\, United Kingdom\, United Kingdom
CATEGORIES:Community Event
ATTACH;FMTTYPE=image/jpeg:https://swanscombeandgreenhithetowncouncil.gov.uk/wp-content/uploads/2020/02/38.2021-Rosies-Groovy-Movers-25-Oct.jpg
ORGANIZER;CN="Rosie":MAILTO:groovymovers@yahoo.co.uk
END:VEVENT
BEGIN:VEVENT
DTSTART;TZID=Europe/London:20280108T093000
DTEND;TZID=Europe/London:20280108T143000
DTSTAMP:20260421T221600
CREATED:20240312T171726Z
LAST-MODIFIED:20240313T005116Z
UID:10008308-1830936600-1830954600@swanscombeandgreenhithetowncouncil.gov.uk
SUMMARY:Rosie's Groovy Movers - Children's Dance Groups
DESCRIPTION:
URL:https://swanscombeandgreenhithetowncouncil.gov.uk/event/rosies-groovy-movers-childrens-dance-groups-2-2-2/2028-01-08/
LOCATION:Swanscombe and Greenhithe Town Council and Community Hall\, 16 The Grove\, Swanscombe DA10 0AD\, United Kingdom\, United Kingdom
CATEGORIES:Community Event
ATTACH;FMTTYPE=image/jpeg:https://swanscombeandgreenhithetowncouncil.gov.uk/wp-content/uploads/2020/02/38.2021-Rosies-Groovy-Movers-25-Oct.jpg
ORGANIZER;CN="Rosie":MAILTO:groovymovers@yahoo.co.uk
END:VEVENT
BEGIN:VEVENT
DTSTART;TZID=Europe/London:20280115T093000
DTEND;TZID=Europe/London:20280115T143000
DTSTAMP:20260421T221600
CREATED:20240312T171726Z
LAST-MODIFIED:20240313T005116Z
UID:10008309-1831541400-1831559400@swanscombeandgreenhithetowncouncil.gov.uk
SUMMARY:Rosie's Groovy Movers - Children's Dance Groups
DESCRIPTION:
URL:https://swanscombeandgreenhithetowncouncil.gov.uk/event/rosies-groovy-movers-childrens-dance-groups-2-2-2/2028-01-15/
LOCATION:Swanscombe and Greenhithe Town Council and Community Hall\, 16 The Grove\, Swanscombe DA10 0AD\, United Kingdom\, United Kingdom
CATEGORIES:Community Event
ATTACH;FMTTYPE=image/jpeg:https://swanscombeandgreenhithetowncouncil.gov.uk/wp-content/uploads/2020/02/38.2021-Rosies-Groovy-Movers-25-Oct.jpg
ORGANIZER;CN="Rosie":MAILTO:groovymovers@yahoo.co.uk
END:VEVENT
BEGIN:VEVENT
DTSTART;TZID=Europe/London:20280122T093000
DTEND;TZID=Europe/London:20280122T143000
DTSTAMP:20260421T221600
CREATED:20240312T171726Z
LAST-MODIFIED:20240313T005116Z
UID:10008310-1832146200-1832164200@swanscombeandgreenhithetowncouncil.gov.uk
SUMMARY:Rosie's Groovy Movers - Children's Dance Groups
DESCRIPTION:
URL:https://swanscombeandgreenhithetowncouncil.gov.uk/event/rosies-groovy-movers-childrens-dance-groups-2-2-2/2028-01-22/
LOCATION:Swanscombe and Greenhithe Town Council and Community Hall\, 16 The Grove\, Swanscombe DA10 0AD\, United Kingdom\, United Kingdom
CATEGORIES:Community Event
ATTACH;FMTTYPE=image/jpeg:https://swanscombeandgreenhithetowncouncil.gov.uk/wp-content/uploads/2020/02/38.2021-Rosies-Groovy-Movers-25-Oct.jpg
ORGANIZER;CN="Rosie":MAILTO:groovymovers@yahoo.co.uk
END:VEVENT
BEGIN:VEVENT
DTSTART;TZID=Europe/London:20280129T093000
DTEND;TZID=Europe/London:20280129T143000
DTSTAMP:20260421T221600
CREATED:20240312T171726Z
LAST-MODIFIED:20240313T005116Z
UID:10008311-1832751000-1832769000@swanscombeandgreenhithetowncouncil.gov.uk
SUMMARY:Rosie's Groovy Movers - Children's Dance Groups
DESCRIPTION:
URL:https://swanscombeandgreenhithetowncouncil.gov.uk/event/rosies-groovy-movers-childrens-dance-groups-2-2-2/2028-01-29/
LOCATION:Swanscombe and Greenhithe Town Council and Community Hall\, 16 The Grove\, Swanscombe DA10 0AD\, United Kingdom\, United Kingdom
CATEGORIES:Community Event
ATTACH;FMTTYPE=image/jpeg:https://swanscombeandgreenhithetowncouncil.gov.uk/wp-content/uploads/2020/02/38.2021-Rosies-Groovy-Movers-25-Oct.jpg
ORGANIZER;CN="Rosie":MAILTO:groovymovers@yahoo.co.uk
END:VEVENT
BEGIN:VEVENT
DTSTART;TZID=Europe/London:20280205T093000
DTEND;TZID=Europe/London:20280205T143000
DTSTAMP:20260421T221600
CREATED:20240312T171726Z
LAST-MODIFIED:20240313T005116Z
UID:10008312-1833355800-1833373800@swanscombeandgreenhithetowncouncil.gov.uk
SUMMARY:Rosie's Groovy Movers - Children's Dance Groups
DESCRIPTION:
URL:https://swanscombeandgreenhithetowncouncil.gov.uk/event/rosies-groovy-movers-childrens-dance-groups-2-2-2/2028-02-05/
LOCATION:Swanscombe and Greenhithe Town Council and Community Hall\, 16 The Grove\, Swanscombe DA10 0AD\, United Kingdom\, United Kingdom
CATEGORIES:Community Event
ATTACH;FMTTYPE=image/jpeg:https://swanscombeandgreenhithetowncouncil.gov.uk/wp-content/uploads/2020/02/38.2021-Rosies-Groovy-Movers-25-Oct.jpg
ORGANIZER;CN="Rosie":MAILTO:groovymovers@yahoo.co.uk
END:VEVENT
BEGIN:VEVENT
DTSTART;TZID=Europe/London:20280212T093000
DTEND;TZID=Europe/London:20280212T143000
DTSTAMP:20260421T221600
CREATED:20240312T171726Z
LAST-MODIFIED:20240313T005116Z
UID:10008313-1833960600-1833978600@swanscombeandgreenhithetowncouncil.gov.uk
SUMMARY:Rosie's Groovy Movers - Children's Dance Groups
DESCRIPTION:
URL:https://swanscombeandgreenhithetowncouncil.gov.uk/event/rosies-groovy-movers-childrens-dance-groups-2-2-2/2028-02-12/
LOCATION:Swanscombe and Greenhithe Town Council and Community Hall\, 16 The Grove\, Swanscombe DA10 0AD\, United Kingdom\, United Kingdom
CATEGORIES:Community Event
ATTACH;FMTTYPE=image/jpeg:https://swanscombeandgreenhithetowncouncil.gov.uk/wp-content/uploads/2020/02/38.2021-Rosies-Groovy-Movers-25-Oct.jpg
ORGANIZER;CN="Rosie":MAILTO:groovymovers@yahoo.co.uk
END:VEVENT
BEGIN:VEVENT
DTSTART;TZID=Europe/London:20280219T093000
DTEND;TZID=Europe/London:20280219T143000
DTSTAMP:20260421T221600
CREATED:20240312T171726Z
LAST-MODIFIED:20240313T005116Z
UID:10008314-1834565400-1834583400@swanscombeandgreenhithetowncouncil.gov.uk
SUMMARY:Rosie's Groovy Movers - Children's Dance Groups
DESCRIPTION:
URL:https://swanscombeandgreenhithetowncouncil.gov.uk/event/rosies-groovy-movers-childrens-dance-groups-2-2-2/2028-02-19/
LOCATION:Swanscombe and Greenhithe Town Council and Community Hall\, 16 The Grove\, Swanscombe DA10 0AD\, United Kingdom\, United Kingdom
CATEGORIES:Community Event
ATTACH;FMTTYPE=image/jpeg:https://swanscombeandgreenhithetowncouncil.gov.uk/wp-content/uploads/2020/02/38.2021-Rosies-Groovy-Movers-25-Oct.jpg
ORGANIZER;CN="Rosie":MAILTO:groovymovers@yahoo.co.uk
END:VEVENT
BEGIN:VEVENT
DTSTART;TZID=Europe/London:20280226T093000
DTEND;TZID=Europe/London:20280226T143000
DTSTAMP:20260421T221600
CREATED:20240312T171726Z
LAST-MODIFIED:20240313T005116Z
UID:10008315-1835170200-1835188200@swanscombeandgreenhithetowncouncil.gov.uk
SUMMARY:Rosie's Groovy Movers - Children's Dance Groups
DESCRIPTION:
URL:https://swanscombeandgreenhithetowncouncil.gov.uk/event/rosies-groovy-movers-childrens-dance-groups-2-2-2/2028-02-26/
LOCATION:Swanscombe and Greenhithe Town Council and Community Hall\, 16 The Grove\, Swanscombe DA10 0AD\, United Kingdom\, United Kingdom
CATEGORIES:Community Event
ATTACH;FMTTYPE=image/jpeg:https://swanscombeandgreenhithetowncouncil.gov.uk/wp-content/uploads/2020/02/38.2021-Rosies-Groovy-Movers-25-Oct.jpg
ORGANIZER;CN="Rosie":MAILTO:groovymovers@yahoo.co.uk
END:VEVENT
BEGIN:VEVENT
DTSTART;TZID=Europe/London:20280304T093000
DTEND;TZID=Europe/London:20280304T143000
DTSTAMP:20260421T221600
CREATED:20240312T171726Z
LAST-MODIFIED:20240313T005116Z
UID:10008316-1835775000-1835793000@swanscombeandgreenhithetowncouncil.gov.uk
SUMMARY:Rosie's Groovy Movers - Children's Dance Groups
DESCRIPTION:
URL:https://swanscombeandgreenhithetowncouncil.gov.uk/event/rosies-groovy-movers-childrens-dance-groups-2-2-2/2028-03-04/
LOCATION:Swanscombe and Greenhithe Town Council and Community Hall\, 16 The Grove\, Swanscombe DA10 0AD\, United Kingdom\, United Kingdom
CATEGORIES:Community Event
ATTACH;FMTTYPE=image/jpeg:https://swanscombeandgreenhithetowncouncil.gov.uk/wp-content/uploads/2020/02/38.2021-Rosies-Groovy-Movers-25-Oct.jpg
ORGANIZER;CN="Rosie":MAILTO:groovymovers@yahoo.co.uk
END:VEVENT
BEGIN:VEVENT
DTSTART;TZID=Europe/London:20280311T093000
DTEND;TZID=Europe/London:20280311T143000
DTSTAMP:20260421T221600
CREATED:20240312T171726Z
LAST-MODIFIED:20240313T005116Z
UID:10008317-1836379800-1836397800@swanscombeandgreenhithetowncouncil.gov.uk
SUMMARY:Rosie's Groovy Movers - Children's Dance Groups
DESCRIPTION:
URL:https://swanscombeandgreenhithetowncouncil.gov.uk/event/rosies-groovy-movers-childrens-dance-groups-2-2-2/2028-03-11/
LOCATION:Swanscombe and Greenhithe Town Council and Community Hall\, 16 The Grove\, Swanscombe DA10 0AD\, United Kingdom\, United Kingdom
CATEGORIES:Community Event
ATTACH;FMTTYPE=image/jpeg:https://swanscombeandgreenhithetowncouncil.gov.uk/wp-content/uploads/2020/02/38.2021-Rosies-Groovy-Movers-25-Oct.jpg
ORGANIZER;CN="Rosie":MAILTO:groovymovers@yahoo.co.uk
END:VEVENT
BEGIN:VEVENT
DTSTART;TZID=Europe/London:20280318T093000
DTEND;TZID=Europe/London:20280318T143000
DTSTAMP:20260421T221600
CREATED:20240312T171726Z
LAST-MODIFIED:20240313T005116Z
UID:10008318-1836984600-1837002600@swanscombeandgreenhithetowncouncil.gov.uk
SUMMARY:Rosie's Groovy Movers - Children's Dance Groups
DESCRIPTION:
URL:https://swanscombeandgreenhithetowncouncil.gov.uk/event/rosies-groovy-movers-childrens-dance-groups-2-2-2/2028-03-18/
LOCATION:Swanscombe and Greenhithe Town Council and Community Hall\, 16 The Grove\, Swanscombe DA10 0AD\, United Kingdom\, United Kingdom
CATEGORIES:Community Event
ATTACH;FMTTYPE=image/jpeg:https://swanscombeandgreenhithetowncouncil.gov.uk/wp-content/uploads/2020/02/38.2021-Rosies-Groovy-Movers-25-Oct.jpg
ORGANIZER;CN="Rosie":MAILTO:groovymovers@yahoo.co.uk
END:VEVENT
BEGIN:VEVENT
DTSTART;TZID=Europe/London:20280325T093000
DTEND;TZID=Europe/London:20280325T143000
DTSTAMP:20260421T221600
CREATED:20240312T171726Z
LAST-MODIFIED:20240313T005116Z
UID:10008319-1837589400-1837607400@swanscombeandgreenhithetowncouncil.gov.uk
SUMMARY:Rosie's Groovy Movers - Children's Dance Groups
DESCRIPTION:
URL:https://swanscombeandgreenhithetowncouncil.gov.uk/event/rosies-groovy-movers-childrens-dance-groups-2-2-2/2028-03-25/
LOCATION:Swanscombe and Greenhithe Town Council and Community Hall\, 16 The Grove\, Swanscombe DA10 0AD\, United Kingdom\, United Kingdom
CATEGORIES:Community Event
ATTACH;FMTTYPE=image/jpeg:https://swanscombeandgreenhithetowncouncil.gov.uk/wp-content/uploads/2020/02/38.2021-Rosies-Groovy-Movers-25-Oct.jpg
ORGANIZER;CN="Rosie":MAILTO:groovymovers@yahoo.co.uk
END:VEVENT
BEGIN:VEVENT
DTSTART;TZID=Europe/London:20280401T093000
DTEND;TZID=Europe/London:20280401T143000
DTSTAMP:20260421T221600
CREATED:20240312T171726Z
LAST-MODIFIED:20240313T005116Z
UID:10008320-1838194200-1838212200@swanscombeandgreenhithetowncouncil.gov.uk
SUMMARY:Rosie's Groovy Movers - Children's Dance Groups
DESCRIPTION:
URL:https://swanscombeandgreenhithetowncouncil.gov.uk/event/rosies-groovy-movers-childrens-dance-groups-2-2-2/2028-04-01/
LOCATION:Swanscombe and Greenhithe Town Council and Community Hall\, 16 The Grove\, Swanscombe DA10 0AD\, United Kingdom\, United Kingdom
CATEGORIES:Community Event
ATTACH;FMTTYPE=image/jpeg:https://swanscombeandgreenhithetowncouncil.gov.uk/wp-content/uploads/2020/02/38.2021-Rosies-Groovy-Movers-25-Oct.jpg
ORGANIZER;CN="Rosie":MAILTO:groovymovers@yahoo.co.uk
END:VEVENT
END:VCALENDAR