BEGIN:VCALENDAR
VERSION:2.0
PRODID:-//Swanscombe and Greenhithe Town Council - ECPv6.15.20//NONSGML v1.0//EN
CALSCALE:GREGORIAN
METHOD:PUBLISH
X-ORIGINAL-URL:https://swanscombeandgreenhithetowncouncil.gov.uk
X-WR-CALDESC:Events for Swanscombe and Greenhithe Town Council
REFRESH-INTERVAL;VALUE=DURATION:PT1H
X-Robots-Tag:noindex
X-PUBLISHED-TTL:PT1H
BEGIN:VTIMEZONE
TZID:Europe/London
BEGIN:DAYLIGHT
TZOFFSETFROM:+0000
TZOFFSETTO:+0100
TZNAME:BST
DTSTART:20260329T010000
END:DAYLIGHT
BEGIN:STANDARD
TZOFFSETFROM:+0100
TZOFFSETTO:+0000
TZNAME:GMT
DTSTART:20261025T010000
END:STANDARD
BEGIN:DAYLIGHT
TZOFFSETFROM:+0000
TZOFFSETTO:+0100
TZNAME:BST
DTSTART:20270328T010000
END:DAYLIGHT
BEGIN:STANDARD
TZOFFSETFROM:+0100
TZOFFSETTO:+0000
TZNAME:GMT
DTSTART:20271031T010000
END:STANDARD
BEGIN:DAYLIGHT
TZOFFSETFROM:+0000
TZOFFSETTO:+0100
TZNAME:BST
DTSTART:20280326T010000
END:DAYLIGHT
BEGIN:STANDARD
TZOFFSETFROM:+0100
TZOFFSETTO:+0000
TZNAME:GMT
DTSTART:20281029T010000
END:STANDARD
END:VTIMEZONE
BEGIN:VEVENT
DTSTART;TZID=Europe/London:20270618T183000
DTEND;TZID=Europe/London:20270618T203000
DTSTAMP:20260424T044408
CREATED:20240424T184742Z
LAST-MODIFIED:20241219T091732Z
UID:10021890-1813343400-1813350600@swanscombeandgreenhithetowncouncil.gov.uk
SUMMARY:North Kent Martial Arts Club
DESCRIPTION:Please click on the photo below for details of the North Kent Martial Arts Club operating in Swanscombe.
URL:https://swanscombeandgreenhithetowncouncil.gov.uk/event/north-kent-martial-arts-club-4-3-2/2027-06-18/
LOCATION:Swanscombe and Greenhithe Town Council and Community Hall\, 16 The Grove\, Swanscombe DA10 0AD\, United Kingdom\, United Kingdom
CATEGORIES:Sports & Recreation Group
END:VEVENT
BEGIN:VEVENT
DTSTART;TZID=Europe/London:20270623T173000
DTEND;TZID=Europe/London:20270623T203000
DTSTAMP:20260424T044408
CREATED:20240424T184609Z
LAST-MODIFIED:20241219T092041Z
UID:10021631-1813771800-1813782600@swanscombeandgreenhithetowncouncil.gov.uk
SUMMARY:North Kent Martial Arts Club
DESCRIPTION:Please click on the photo below for details of the North Kent Martial Arts Club operating in Swanscombe.
URL:https://swanscombeandgreenhithetowncouncil.gov.uk/event/north-kent-martial-arts-club-4-2-2/2027-06-23/
LOCATION:Swanscombe and Greenhithe Town Council and Community Hall\, 16 The Grove\, Swanscombe DA10 0AD\, United Kingdom\, United Kingdom
CATEGORIES:Sports & Recreation Group
END:VEVENT
BEGIN:VEVENT
DTSTART;TZID=Europe/London:20270625T183000
DTEND;TZID=Europe/London:20270625T203000
DTSTAMP:20260424T044408
CREATED:20240424T184742Z
LAST-MODIFIED:20241219T091732Z
UID:10021891-1813948200-1813955400@swanscombeandgreenhithetowncouncil.gov.uk
SUMMARY:North Kent Martial Arts Club
DESCRIPTION:Please click on the photo below for details of the North Kent Martial Arts Club operating in Swanscombe.
URL:https://swanscombeandgreenhithetowncouncil.gov.uk/event/north-kent-martial-arts-club-4-3-2/2027-06-25/
LOCATION:Swanscombe and Greenhithe Town Council and Community Hall\, 16 The Grove\, Swanscombe DA10 0AD\, United Kingdom\, United Kingdom
CATEGORIES:Sports & Recreation Group
END:VEVENT
BEGIN:VEVENT
DTSTART;TZID=Europe/London:20270630T173000
DTEND;TZID=Europe/London:20270630T203000
DTSTAMP:20260424T044408
CREATED:20240424T184609Z
LAST-MODIFIED:20241219T092041Z
UID:10021632-1814376600-1814387400@swanscombeandgreenhithetowncouncil.gov.uk
SUMMARY:North Kent Martial Arts Club
DESCRIPTION:Please click on the photo below for details of the North Kent Martial Arts Club operating in Swanscombe.
URL:https://swanscombeandgreenhithetowncouncil.gov.uk/event/north-kent-martial-arts-club-4-2-2/2027-06-30/
LOCATION:Swanscombe and Greenhithe Town Council and Community Hall\, 16 The Grove\, Swanscombe DA10 0AD\, United Kingdom\, United Kingdom
CATEGORIES:Sports & Recreation Group
END:VEVENT
BEGIN:VEVENT
DTSTART;TZID=Europe/London:20270702T183000
DTEND;TZID=Europe/London:20270702T203000
DTSTAMP:20260424T044408
CREATED:20240424T184742Z
LAST-MODIFIED:20241219T091732Z
UID:10021892-1814553000-1814560200@swanscombeandgreenhithetowncouncil.gov.uk
SUMMARY:North Kent Martial Arts Club
DESCRIPTION:Please click on the photo below for details of the North Kent Martial Arts Club operating in Swanscombe.
URL:https://swanscombeandgreenhithetowncouncil.gov.uk/event/north-kent-martial-arts-club-4-3-2/2027-07-02/
LOCATION:Swanscombe and Greenhithe Town Council and Community Hall\, 16 The Grove\, Swanscombe DA10 0AD\, United Kingdom\, United Kingdom
CATEGORIES:Sports & Recreation Group
END:VEVENT
BEGIN:VEVENT
DTSTART;TZID=Europe/London:20270707T173000
DTEND;TZID=Europe/London:20270707T203000
DTSTAMP:20260424T044408
CREATED:20240424T184609Z
LAST-MODIFIED:20241219T092041Z
UID:10021633-1814981400-1814992200@swanscombeandgreenhithetowncouncil.gov.uk
SUMMARY:North Kent Martial Arts Club
DESCRIPTION:Please click on the photo below for details of the North Kent Martial Arts Club operating in Swanscombe.
URL:https://swanscombeandgreenhithetowncouncil.gov.uk/event/north-kent-martial-arts-club-4-2-2/2027-07-07/
LOCATION:Swanscombe and Greenhithe Town Council and Community Hall\, 16 The Grove\, Swanscombe DA10 0AD\, United Kingdom\, United Kingdom
CATEGORIES:Sports & Recreation Group
END:VEVENT
BEGIN:VEVENT
DTSTART;TZID=Europe/London:20270709T183000
DTEND;TZID=Europe/London:20270709T203000
DTSTAMP:20260424T044408
CREATED:20240424T184742Z
LAST-MODIFIED:20241219T091732Z
UID:10021893-1815157800-1815165000@swanscombeandgreenhithetowncouncil.gov.uk
SUMMARY:North Kent Martial Arts Club
DESCRIPTION:Please click on the photo below for details of the North Kent Martial Arts Club operating in Swanscombe.
URL:https://swanscombeandgreenhithetowncouncil.gov.uk/event/north-kent-martial-arts-club-4-3-2/2027-07-09/
LOCATION:Swanscombe and Greenhithe Town Council and Community Hall\, 16 The Grove\, Swanscombe DA10 0AD\, United Kingdom\, United Kingdom
CATEGORIES:Sports & Recreation Group
END:VEVENT
BEGIN:VEVENT
DTSTART;TZID=Europe/London:20270714T173000
DTEND;TZID=Europe/London:20270714T203000
DTSTAMP:20260424T044408
CREATED:20240424T184609Z
LAST-MODIFIED:20241219T092041Z
UID:10021634-1815586200-1815597000@swanscombeandgreenhithetowncouncil.gov.uk
SUMMARY:North Kent Martial Arts Club
DESCRIPTION:Please click on the photo below for details of the North Kent Martial Arts Club operating in Swanscombe.
URL:https://swanscombeandgreenhithetowncouncil.gov.uk/event/north-kent-martial-arts-club-4-2-2/2027-07-14/
LOCATION:Swanscombe and Greenhithe Town Council and Community Hall\, 16 The Grove\, Swanscombe DA10 0AD\, United Kingdom\, United Kingdom
CATEGORIES:Sports & Recreation Group
END:VEVENT
BEGIN:VEVENT
DTSTART;TZID=Europe/London:20270716T183000
DTEND;TZID=Europe/London:20270716T203000
DTSTAMP:20260424T044408
CREATED:20240424T184742Z
LAST-MODIFIED:20241219T091732Z
UID:10021894-1815762600-1815769800@swanscombeandgreenhithetowncouncil.gov.uk
SUMMARY:North Kent Martial Arts Club
DESCRIPTION:Please click on the photo below for details of the North Kent Martial Arts Club operating in Swanscombe.
URL:https://swanscombeandgreenhithetowncouncil.gov.uk/event/north-kent-martial-arts-club-4-3-2/2027-07-16/
LOCATION:Swanscombe and Greenhithe Town Council and Community Hall\, 16 The Grove\, Swanscombe DA10 0AD\, United Kingdom\, United Kingdom
CATEGORIES:Sports & Recreation Group
END:VEVENT
BEGIN:VEVENT
DTSTART;TZID=Europe/London:20270721T173000
DTEND;TZID=Europe/London:20270721T203000
DTSTAMP:20260424T044408
CREATED:20240424T184609Z
LAST-MODIFIED:20241219T092041Z
UID:10021635-1816191000-1816201800@swanscombeandgreenhithetowncouncil.gov.uk
SUMMARY:North Kent Martial Arts Club
DESCRIPTION:Please click on the photo below for details of the North Kent Martial Arts Club operating in Swanscombe.
URL:https://swanscombeandgreenhithetowncouncil.gov.uk/event/north-kent-martial-arts-club-4-2-2/2027-07-21/
LOCATION:Swanscombe and Greenhithe Town Council and Community Hall\, 16 The Grove\, Swanscombe DA10 0AD\, United Kingdom\, United Kingdom
CATEGORIES:Sports & Recreation Group
END:VEVENT
BEGIN:VEVENT
DTSTART;TZID=Europe/London:20270723T183000
DTEND;TZID=Europe/London:20270723T203000
DTSTAMP:20260424T044408
CREATED:20240424T184742Z
LAST-MODIFIED:20241219T091732Z
UID:10021895-1816367400-1816374600@swanscombeandgreenhithetowncouncil.gov.uk
SUMMARY:North Kent Martial Arts Club
DESCRIPTION:Please click on the photo below for details of the North Kent Martial Arts Club operating in Swanscombe.
URL:https://swanscombeandgreenhithetowncouncil.gov.uk/event/north-kent-martial-arts-club-4-3-2/2027-07-23/
LOCATION:Swanscombe and Greenhithe Town Council and Community Hall\, 16 The Grove\, Swanscombe DA10 0AD\, United Kingdom\, United Kingdom
CATEGORIES:Sports & Recreation Group
END:VEVENT
BEGIN:VEVENT
DTSTART;TZID=Europe/London:20270728T173000
DTEND;TZID=Europe/London:20270728T203000
DTSTAMP:20260424T044408
CREATED:20240424T184609Z
LAST-MODIFIED:20241219T092041Z
UID:10021636-1816795800-1816806600@swanscombeandgreenhithetowncouncil.gov.uk
SUMMARY:North Kent Martial Arts Club
DESCRIPTION:Please click on the photo below for details of the North Kent Martial Arts Club operating in Swanscombe.
URL:https://swanscombeandgreenhithetowncouncil.gov.uk/event/north-kent-martial-arts-club-4-2-2/2027-07-28/
LOCATION:Swanscombe and Greenhithe Town Council and Community Hall\, 16 The Grove\, Swanscombe DA10 0AD\, United Kingdom\, United Kingdom
CATEGORIES:Sports & Recreation Group
END:VEVENT
BEGIN:VEVENT
DTSTART;TZID=Europe/London:20270730T183000
DTEND;TZID=Europe/London:20270730T203000
DTSTAMP:20260424T044408
CREATED:20240424T184742Z
LAST-MODIFIED:20241219T091732Z
UID:10021896-1816972200-1816979400@swanscombeandgreenhithetowncouncil.gov.uk
SUMMARY:North Kent Martial Arts Club
DESCRIPTION:Please click on the photo below for details of the North Kent Martial Arts Club operating in Swanscombe.
URL:https://swanscombeandgreenhithetowncouncil.gov.uk/event/north-kent-martial-arts-club-4-3-2/2027-07-30/
LOCATION:Swanscombe and Greenhithe Town Council and Community Hall\, 16 The Grove\, Swanscombe DA10 0AD\, United Kingdom\, United Kingdom
CATEGORIES:Sports & Recreation Group
END:VEVENT
BEGIN:VEVENT
DTSTART;TZID=Europe/London:20270804T173000
DTEND;TZID=Europe/London:20270804T203000
DTSTAMP:20260424T044408
CREATED:20240424T184609Z
LAST-MODIFIED:20241219T092041Z
UID:10021637-1817400600-1817411400@swanscombeandgreenhithetowncouncil.gov.uk
SUMMARY:North Kent Martial Arts Club
DESCRIPTION:Please click on the photo below for details of the North Kent Martial Arts Club operating in Swanscombe.
URL:https://swanscombeandgreenhithetowncouncil.gov.uk/event/north-kent-martial-arts-club-4-2-2/2027-08-04/
LOCATION:Swanscombe and Greenhithe Town Council and Community Hall\, 16 The Grove\, Swanscombe DA10 0AD\, United Kingdom\, United Kingdom
CATEGORIES:Sports & Recreation Group
END:VEVENT
BEGIN:VEVENT
DTSTART;TZID=Europe/London:20270806T183000
DTEND;TZID=Europe/London:20270806T203000
DTSTAMP:20260424T044408
CREATED:20240424T184742Z
LAST-MODIFIED:20241219T091732Z
UID:10021897-1817577000-1817584200@swanscombeandgreenhithetowncouncil.gov.uk
SUMMARY:North Kent Martial Arts Club
DESCRIPTION:Please click on the photo below for details of the North Kent Martial Arts Club operating in Swanscombe.
URL:https://swanscombeandgreenhithetowncouncil.gov.uk/event/north-kent-martial-arts-club-4-3-2/2027-08-06/
LOCATION:Swanscombe and Greenhithe Town Council and Community Hall\, 16 The Grove\, Swanscombe DA10 0AD\, United Kingdom\, United Kingdom
CATEGORIES:Sports & Recreation Group
END:VEVENT
BEGIN:VEVENT
DTSTART;TZID=Europe/London:20270811T173000
DTEND;TZID=Europe/London:20270811T203000
DTSTAMP:20260424T044408
CREATED:20240424T184609Z
LAST-MODIFIED:20241219T092041Z
UID:10021638-1818005400-1818016200@swanscombeandgreenhithetowncouncil.gov.uk
SUMMARY:North Kent Martial Arts Club
DESCRIPTION:Please click on the photo below for details of the North Kent Martial Arts Club operating in Swanscombe.
URL:https://swanscombeandgreenhithetowncouncil.gov.uk/event/north-kent-martial-arts-club-4-2-2/2027-08-11/
LOCATION:Swanscombe and Greenhithe Town Council and Community Hall\, 16 The Grove\, Swanscombe DA10 0AD\, United Kingdom\, United Kingdom
CATEGORIES:Sports & Recreation Group
END:VEVENT
BEGIN:VEVENT
DTSTART;TZID=Europe/London:20270813T183000
DTEND;TZID=Europe/London:20270813T203000
DTSTAMP:20260424T044408
CREATED:20240424T184742Z
LAST-MODIFIED:20241219T091732Z
UID:10021898-1818181800-1818189000@swanscombeandgreenhithetowncouncil.gov.uk
SUMMARY:North Kent Martial Arts Club
DESCRIPTION:Please click on the photo below for details of the North Kent Martial Arts Club operating in Swanscombe.
URL:https://swanscombeandgreenhithetowncouncil.gov.uk/event/north-kent-martial-arts-club-4-3-2/2027-08-13/
LOCATION:Swanscombe and Greenhithe Town Council and Community Hall\, 16 The Grove\, Swanscombe DA10 0AD\, United Kingdom\, United Kingdom
CATEGORIES:Sports & Recreation Group
END:VEVENT
BEGIN:VEVENT
DTSTART;TZID=Europe/London:20270818T173000
DTEND;TZID=Europe/London:20270818T203000
DTSTAMP:20260424T044408
CREATED:20240424T184609Z
LAST-MODIFIED:20241219T092041Z
UID:10021639-1818610200-1818621000@swanscombeandgreenhithetowncouncil.gov.uk
SUMMARY:North Kent Martial Arts Club
DESCRIPTION:Please click on the photo below for details of the North Kent Martial Arts Club operating in Swanscombe.
URL:https://swanscombeandgreenhithetowncouncil.gov.uk/event/north-kent-martial-arts-club-4-2-2/2027-08-18/
LOCATION:Swanscombe and Greenhithe Town Council and Community Hall\, 16 The Grove\, Swanscombe DA10 0AD\, United Kingdom\, United Kingdom
CATEGORIES:Sports & Recreation Group
END:VEVENT
BEGIN:VEVENT
DTSTART;TZID=Europe/London:20270820T183000
DTEND;TZID=Europe/London:20270820T203000
DTSTAMP:20260424T044408
CREATED:20240424T184742Z
LAST-MODIFIED:20241219T091732Z
UID:10021899-1818786600-1818793800@swanscombeandgreenhithetowncouncil.gov.uk
SUMMARY:North Kent Martial Arts Club
DESCRIPTION:Please click on the photo below for details of the North Kent Martial Arts Club operating in Swanscombe.
URL:https://swanscombeandgreenhithetowncouncil.gov.uk/event/north-kent-martial-arts-club-4-3-2/2027-08-20/
LOCATION:Swanscombe and Greenhithe Town Council and Community Hall\, 16 The Grove\, Swanscombe DA10 0AD\, United Kingdom\, United Kingdom
CATEGORIES:Sports & Recreation Group
END:VEVENT
BEGIN:VEVENT
DTSTART;TZID=Europe/London:20270825T173000
DTEND;TZID=Europe/London:20270825T203000
DTSTAMP:20260424T044408
CREATED:20240424T184609Z
LAST-MODIFIED:20241219T092041Z
UID:10021640-1819215000-1819225800@swanscombeandgreenhithetowncouncil.gov.uk
SUMMARY:North Kent Martial Arts Club
DESCRIPTION:Please click on the photo below for details of the North Kent Martial Arts Club operating in Swanscombe.
URL:https://swanscombeandgreenhithetowncouncil.gov.uk/event/north-kent-martial-arts-club-4-2-2/2027-08-25/
LOCATION:Swanscombe and Greenhithe Town Council and Community Hall\, 16 The Grove\, Swanscombe DA10 0AD\, United Kingdom\, United Kingdom
CATEGORIES:Sports & Recreation Group
END:VEVENT
BEGIN:VEVENT
DTSTART;TZID=Europe/London:20270827T183000
DTEND;TZID=Europe/London:20270827T203000
DTSTAMP:20260424T044408
CREATED:20240424T184742Z
LAST-MODIFIED:20241219T091732Z
UID:10021900-1819391400-1819398600@swanscombeandgreenhithetowncouncil.gov.uk
SUMMARY:North Kent Martial Arts Club
DESCRIPTION:Please click on the photo below for details of the North Kent Martial Arts Club operating in Swanscombe.
URL:https://swanscombeandgreenhithetowncouncil.gov.uk/event/north-kent-martial-arts-club-4-3-2/2027-08-27/
LOCATION:Swanscombe and Greenhithe Town Council and Community Hall\, 16 The Grove\, Swanscombe DA10 0AD\, United Kingdom\, United Kingdom
CATEGORIES:Sports & Recreation Group
END:VEVENT
BEGIN:VEVENT
DTSTART;TZID=Europe/London:20270901T173000
DTEND;TZID=Europe/London:20270901T203000
DTSTAMP:20260424T044408
CREATED:20240424T184609Z
LAST-MODIFIED:20241219T092041Z
UID:10021641-1819819800-1819830600@swanscombeandgreenhithetowncouncil.gov.uk
SUMMARY:North Kent Martial Arts Club
DESCRIPTION:Please click on the photo below for details of the North Kent Martial Arts Club operating in Swanscombe.
URL:https://swanscombeandgreenhithetowncouncil.gov.uk/event/north-kent-martial-arts-club-4-2-2/2027-09-01/
LOCATION:Swanscombe and Greenhithe Town Council and Community Hall\, 16 The Grove\, Swanscombe DA10 0AD\, United Kingdom\, United Kingdom
CATEGORIES:Sports & Recreation Group
END:VEVENT
BEGIN:VEVENT
DTSTART;TZID=Europe/London:20270903T183000
DTEND;TZID=Europe/London:20270903T203000
DTSTAMP:20260424T044408
CREATED:20240424T184742Z
LAST-MODIFIED:20241219T091732Z
UID:10021901-1819996200-1820003400@swanscombeandgreenhithetowncouncil.gov.uk
SUMMARY:North Kent Martial Arts Club
DESCRIPTION:Please click on the photo below for details of the North Kent Martial Arts Club operating in Swanscombe.
URL:https://swanscombeandgreenhithetowncouncil.gov.uk/event/north-kent-martial-arts-club-4-3-2/2027-09-03/
LOCATION:Swanscombe and Greenhithe Town Council and Community Hall\, 16 The Grove\, Swanscombe DA10 0AD\, United Kingdom\, United Kingdom
CATEGORIES:Sports & Recreation Group
END:VEVENT
BEGIN:VEVENT
DTSTART;TZID=Europe/London:20270908T173000
DTEND;TZID=Europe/London:20270908T203000
DTSTAMP:20260424T044408
CREATED:20240424T184609Z
LAST-MODIFIED:20241219T092041Z
UID:10021642-1820424600-1820435400@swanscombeandgreenhithetowncouncil.gov.uk
SUMMARY:North Kent Martial Arts Club
DESCRIPTION:Please click on the photo below for details of the North Kent Martial Arts Club operating in Swanscombe.
URL:https://swanscombeandgreenhithetowncouncil.gov.uk/event/north-kent-martial-arts-club-4-2-2/2027-09-08/
LOCATION:Swanscombe and Greenhithe Town Council and Community Hall\, 16 The Grove\, Swanscombe DA10 0AD\, United Kingdom\, United Kingdom
CATEGORIES:Sports & Recreation Group
END:VEVENT
BEGIN:VEVENT
DTSTART;TZID=Europe/London:20270910T183000
DTEND;TZID=Europe/London:20270910T203000
DTSTAMP:20260424T044408
CREATED:20240424T184742Z
LAST-MODIFIED:20241219T091732Z
UID:10021902-1820601000-1820608200@swanscombeandgreenhithetowncouncil.gov.uk
SUMMARY:North Kent Martial Arts Club
DESCRIPTION:Please click on the photo below for details of the North Kent Martial Arts Club operating in Swanscombe.
URL:https://swanscombeandgreenhithetowncouncil.gov.uk/event/north-kent-martial-arts-club-4-3-2/2027-09-10/
LOCATION:Swanscombe and Greenhithe Town Council and Community Hall\, 16 The Grove\, Swanscombe DA10 0AD\, United Kingdom\, United Kingdom
CATEGORIES:Sports & Recreation Group
END:VEVENT
BEGIN:VEVENT
DTSTART;TZID=Europe/London:20270915T173000
DTEND;TZID=Europe/London:20270915T203000
DTSTAMP:20260424T044408
CREATED:20240424T184609Z
LAST-MODIFIED:20241219T092041Z
UID:10021643-1821029400-1821040200@swanscombeandgreenhithetowncouncil.gov.uk
SUMMARY:North Kent Martial Arts Club
DESCRIPTION:Please click on the photo below for details of the North Kent Martial Arts Club operating in Swanscombe.
URL:https://swanscombeandgreenhithetowncouncil.gov.uk/event/north-kent-martial-arts-club-4-2-2/2027-09-15/
LOCATION:Swanscombe and Greenhithe Town Council and Community Hall\, 16 The Grove\, Swanscombe DA10 0AD\, United Kingdom\, United Kingdom
CATEGORIES:Sports & Recreation Group
END:VEVENT
BEGIN:VEVENT
DTSTART;TZID=Europe/London:20270917T183000
DTEND;TZID=Europe/London:20270917T203000
DTSTAMP:20260424T044408
CREATED:20240424T184742Z
LAST-MODIFIED:20241219T091732Z
UID:10021903-1821205800-1821213000@swanscombeandgreenhithetowncouncil.gov.uk
SUMMARY:North Kent Martial Arts Club
DESCRIPTION:Please click on the photo below for details of the North Kent Martial Arts Club operating in Swanscombe.
URL:https://swanscombeandgreenhithetowncouncil.gov.uk/event/north-kent-martial-arts-club-4-3-2/2027-09-17/
LOCATION:Swanscombe and Greenhithe Town Council and Community Hall\, 16 The Grove\, Swanscombe DA10 0AD\, United Kingdom\, United Kingdom
CATEGORIES:Sports & Recreation Group
END:VEVENT
BEGIN:VEVENT
DTSTART;TZID=Europe/London:20270922T173000
DTEND;TZID=Europe/London:20270922T203000
DTSTAMP:20260424T044408
CREATED:20240424T184609Z
LAST-MODIFIED:20241219T092041Z
UID:10021644-1821634200-1821645000@swanscombeandgreenhithetowncouncil.gov.uk
SUMMARY:North Kent Martial Arts Club
DESCRIPTION:Please click on the photo below for details of the North Kent Martial Arts Club operating in Swanscombe.
URL:https://swanscombeandgreenhithetowncouncil.gov.uk/event/north-kent-martial-arts-club-4-2-2/2027-09-22/
LOCATION:Swanscombe and Greenhithe Town Council and Community Hall\, 16 The Grove\, Swanscombe DA10 0AD\, United Kingdom\, United Kingdom
CATEGORIES:Sports & Recreation Group
END:VEVENT
BEGIN:VEVENT
DTSTART;TZID=Europe/London:20270924T183000
DTEND;TZID=Europe/London:20270924T203000
DTSTAMP:20260424T044408
CREATED:20240424T184742Z
LAST-MODIFIED:20241219T091732Z
UID:10021904-1821810600-1821817800@swanscombeandgreenhithetowncouncil.gov.uk
SUMMARY:North Kent Martial Arts Club
DESCRIPTION:Please click on the photo below for details of the North Kent Martial Arts Club operating in Swanscombe.
URL:https://swanscombeandgreenhithetowncouncil.gov.uk/event/north-kent-martial-arts-club-4-3-2/2027-09-24/
LOCATION:Swanscombe and Greenhithe Town Council and Community Hall\, 16 The Grove\, Swanscombe DA10 0AD\, United Kingdom\, United Kingdom
CATEGORIES:Sports & Recreation Group
END:VEVENT
BEGIN:VEVENT
DTSTART;TZID=Europe/London:20270929T173000
DTEND;TZID=Europe/London:20270929T203000
DTSTAMP:20260424T044408
CREATED:20240424T184609Z
LAST-MODIFIED:20241219T092041Z
UID:10021645-1822239000-1822249800@swanscombeandgreenhithetowncouncil.gov.uk
SUMMARY:North Kent Martial Arts Club
DESCRIPTION:Please click on the photo below for details of the North Kent Martial Arts Club operating in Swanscombe.
URL:https://swanscombeandgreenhithetowncouncil.gov.uk/event/north-kent-martial-arts-club-4-2-2/2027-09-29/
LOCATION:Swanscombe and Greenhithe Town Council and Community Hall\, 16 The Grove\, Swanscombe DA10 0AD\, United Kingdom\, United Kingdom
CATEGORIES:Sports & Recreation Group
END:VEVENT
END:VCALENDAR