BEGIN:VCALENDAR
VERSION:2.0
PRODID:-//Swanscombe and Greenhithe Town Council - ECPv6.15.20//NONSGML v1.0//EN
CALSCALE:GREGORIAN
METHOD:PUBLISH
X-ORIGINAL-URL:https://swanscombeandgreenhithetowncouncil.gov.uk
X-WR-CALDESC:Events for Swanscombe and Greenhithe Town Council
REFRESH-INTERVAL;VALUE=DURATION:PT1H
X-Robots-Tag:noindex
X-PUBLISHED-TTL:PT1H
BEGIN:VTIMEZONE
TZID:Europe/London
BEGIN:DAYLIGHT
TZOFFSETFROM:+0000
TZOFFSETTO:+0100
TZNAME:BST
DTSTART:20280326T010000
END:DAYLIGHT
BEGIN:STANDARD
TZOFFSETFROM:+0100
TZOFFSETTO:+0000
TZNAME:GMT
DTSTART:20281029T010000
END:STANDARD
BEGIN:DAYLIGHT
TZOFFSETFROM:+0000
TZOFFSETTO:+0100
TZNAME:BST
DTSTART:20290325T010000
END:DAYLIGHT
BEGIN:STANDARD
TZOFFSETFROM:+0100
TZOFFSETTO:+0000
TZNAME:GMT
DTSTART:20291028T010000
END:STANDARD
BEGIN:DAYLIGHT
TZOFFSETFROM:+0000
TZOFFSETTO:+0100
TZNAME:BST
DTSTART:20300331T010000
END:DAYLIGHT
BEGIN:STANDARD
TZOFFSETFROM:+0100
TZOFFSETTO:+0000
TZNAME:GMT
DTSTART:20301027T010000
END:STANDARD
END:VTIMEZONE
BEGIN:VEVENT
DTSTART;TZID=Europe/London:20291008T163000
DTEND;TZID=Europe/London:20291008T173000
DTSTAMP:20260422T164856
CREATED:20240313T014129Z
LAST-MODIFIED:20241219T090502Z
UID:10022842-1886171400-1886175000@swanscombeandgreenhithetowncouncil.gov.uk
SUMMARY:1st Swanscombe Rainbows - Monday 4.30pm to 5.30pm
DESCRIPTION:We meet every Monday during term time for fun\, crafts\, games and badge work.\nWe also now take Rainbows from 4 years old !\nContact Sandra on 07831 898205 for more information
URL:https://swanscombeandgreenhithetowncouncil.gov.uk/event/1st-swanscombe-rainbows-monday-4-30pm-to-5-30pm-3/2029-10-08/
LOCATION:Church Road Hall\, Church Rd\, Swanscombe DA10 0HE\, United Kingdom\, United Kingdom
CATEGORIES:Community Event
ATTACH;FMTTYPE=image/jpeg:https://swanscombeandgreenhithetowncouncil.gov.uk/wp-content/uploads/2021/12/58.2021-1st-Swanscombe-Raonbows-3-Dec-scaled-1.jpg
ORGANIZER;CN="Sandra_Kelleher":MAILTO:swanscomberainbows@hotmail.com
END:VEVENT
BEGIN:VEVENT
DTSTART;TZID=Europe/London:20291015T163000
DTEND;TZID=Europe/London:20291015T173000
DTSTAMP:20260422T164856
CREATED:20240313T014129Z
LAST-MODIFIED:20241219T090502Z
UID:10022843-1886776200-1886779800@swanscombeandgreenhithetowncouncil.gov.uk
SUMMARY:1st Swanscombe Rainbows - Monday 4.30pm to 5.30pm
DESCRIPTION:We meet every Monday during term time for fun\, crafts\, games and badge work.\nWe also now take Rainbows from 4 years old !\nContact Sandra on 07831 898205 for more information
URL:https://swanscombeandgreenhithetowncouncil.gov.uk/event/1st-swanscombe-rainbows-monday-4-30pm-to-5-30pm-3/2029-10-15/
LOCATION:Church Road Hall\, Church Rd\, Swanscombe DA10 0HE\, United Kingdom\, United Kingdom
CATEGORIES:Community Event
ATTACH;FMTTYPE=image/jpeg:https://swanscombeandgreenhithetowncouncil.gov.uk/wp-content/uploads/2021/12/58.2021-1st-Swanscombe-Raonbows-3-Dec-scaled-1.jpg
ORGANIZER;CN="Sandra_Kelleher":MAILTO:swanscomberainbows@hotmail.com
END:VEVENT
BEGIN:VEVENT
DTSTART;TZID=Europe/London:20291022T163000
DTEND;TZID=Europe/London:20291022T173000
DTSTAMP:20260422T164856
CREATED:20240313T014129Z
LAST-MODIFIED:20241219T090502Z
UID:10022844-1887381000-1887384600@swanscombeandgreenhithetowncouncil.gov.uk
SUMMARY:1st Swanscombe Rainbows - Monday 4.30pm to 5.30pm
DESCRIPTION:We meet every Monday during term time for fun\, crafts\, games and badge work.\nWe also now take Rainbows from 4 years old !\nContact Sandra on 07831 898205 for more information
URL:https://swanscombeandgreenhithetowncouncil.gov.uk/event/1st-swanscombe-rainbows-monday-4-30pm-to-5-30pm-3/2029-10-22/
LOCATION:Church Road Hall\, Church Rd\, Swanscombe DA10 0HE\, United Kingdom\, United Kingdom
CATEGORIES:Community Event
ATTACH;FMTTYPE=image/jpeg:https://swanscombeandgreenhithetowncouncil.gov.uk/wp-content/uploads/2021/12/58.2021-1st-Swanscombe-Raonbows-3-Dec-scaled-1.jpg
ORGANIZER;CN="Sandra_Kelleher":MAILTO:swanscomberainbows@hotmail.com
END:VEVENT
BEGIN:VEVENT
DTSTART;TZID=Europe/London:20291029T163000
DTEND;TZID=Europe/London:20291029T173000
DTSTAMP:20260422T164856
CREATED:20240313T014129Z
LAST-MODIFIED:20241219T090502Z
UID:10022845-1887985800-1887989400@swanscombeandgreenhithetowncouncil.gov.uk
SUMMARY:1st Swanscombe Rainbows - Monday 4.30pm to 5.30pm
DESCRIPTION:We meet every Monday during term time for fun\, crafts\, games and badge work.\nWe also now take Rainbows from 4 years old !\nContact Sandra on 07831 898205 for more information
URL:https://swanscombeandgreenhithetowncouncil.gov.uk/event/1st-swanscombe-rainbows-monday-4-30pm-to-5-30pm-3/2029-10-29/
LOCATION:Church Road Hall\, Church Rd\, Swanscombe DA10 0HE\, United Kingdom\, United Kingdom
CATEGORIES:Community Event
ATTACH;FMTTYPE=image/jpeg:https://swanscombeandgreenhithetowncouncil.gov.uk/wp-content/uploads/2021/12/58.2021-1st-Swanscombe-Raonbows-3-Dec-scaled-1.jpg
ORGANIZER;CN="Sandra_Kelleher":MAILTO:swanscomberainbows@hotmail.com
END:VEVENT
BEGIN:VEVENT
DTSTART;TZID=Europe/London:20291105T163000
DTEND;TZID=Europe/London:20291105T173000
DTSTAMP:20260422T164856
CREATED:20240313T014129Z
LAST-MODIFIED:20241219T090502Z
UID:10022846-1888590600-1888594200@swanscombeandgreenhithetowncouncil.gov.uk
SUMMARY:1st Swanscombe Rainbows - Monday 4.30pm to 5.30pm
DESCRIPTION:We meet every Monday during term time for fun\, crafts\, games and badge work.\nWe also now take Rainbows from 4 years old !\nContact Sandra on 07831 898205 for more information
URL:https://swanscombeandgreenhithetowncouncil.gov.uk/event/1st-swanscombe-rainbows-monday-4-30pm-to-5-30pm-3/2029-11-05/
LOCATION:Church Road Hall\, Church Rd\, Swanscombe DA10 0HE\, United Kingdom\, United Kingdom
CATEGORIES:Community Event
ATTACH;FMTTYPE=image/jpeg:https://swanscombeandgreenhithetowncouncil.gov.uk/wp-content/uploads/2021/12/58.2021-1st-Swanscombe-Raonbows-3-Dec-scaled-1.jpg
ORGANIZER;CN="Sandra_Kelleher":MAILTO:swanscomberainbows@hotmail.com
END:VEVENT
BEGIN:VEVENT
DTSTART;TZID=Europe/London:20291112T163000
DTEND;TZID=Europe/London:20291112T173000
DTSTAMP:20260422T164856
CREATED:20240313T014129Z
LAST-MODIFIED:20241219T090502Z
UID:10022847-1889195400-1889199000@swanscombeandgreenhithetowncouncil.gov.uk
SUMMARY:1st Swanscombe Rainbows - Monday 4.30pm to 5.30pm
DESCRIPTION:We meet every Monday during term time for fun\, crafts\, games and badge work.\nWe also now take Rainbows from 4 years old !\nContact Sandra on 07831 898205 for more information
URL:https://swanscombeandgreenhithetowncouncil.gov.uk/event/1st-swanscombe-rainbows-monday-4-30pm-to-5-30pm-3/2029-11-12/
LOCATION:Church Road Hall\, Church Rd\, Swanscombe DA10 0HE\, United Kingdom\, United Kingdom
CATEGORIES:Community Event
ATTACH;FMTTYPE=image/jpeg:https://swanscombeandgreenhithetowncouncil.gov.uk/wp-content/uploads/2021/12/58.2021-1st-Swanscombe-Raonbows-3-Dec-scaled-1.jpg
ORGANIZER;CN="Sandra_Kelleher":MAILTO:swanscomberainbows@hotmail.com
END:VEVENT
BEGIN:VEVENT
DTSTART;TZID=Europe/London:20291119T163000
DTEND;TZID=Europe/London:20291119T173000
DTSTAMP:20260422T164856
CREATED:20240313T014129Z
LAST-MODIFIED:20241219T090502Z
UID:10022848-1889800200-1889803800@swanscombeandgreenhithetowncouncil.gov.uk
SUMMARY:1st Swanscombe Rainbows - Monday 4.30pm to 5.30pm
DESCRIPTION:We meet every Monday during term time for fun\, crafts\, games and badge work.\nWe also now take Rainbows from 4 years old !\nContact Sandra on 07831 898205 for more information
URL:https://swanscombeandgreenhithetowncouncil.gov.uk/event/1st-swanscombe-rainbows-monday-4-30pm-to-5-30pm-3/2029-11-19/
LOCATION:Church Road Hall\, Church Rd\, Swanscombe DA10 0HE\, United Kingdom\, United Kingdom
CATEGORIES:Community Event
ATTACH;FMTTYPE=image/jpeg:https://swanscombeandgreenhithetowncouncil.gov.uk/wp-content/uploads/2021/12/58.2021-1st-Swanscombe-Raonbows-3-Dec-scaled-1.jpg
ORGANIZER;CN="Sandra_Kelleher":MAILTO:swanscomberainbows@hotmail.com
END:VEVENT
BEGIN:VEVENT
DTSTART;TZID=Europe/London:20291126T163000
DTEND;TZID=Europe/London:20291126T173000
DTSTAMP:20260422T164856
CREATED:20240313T014129Z
LAST-MODIFIED:20241219T090502Z
UID:10022849-1890405000-1890408600@swanscombeandgreenhithetowncouncil.gov.uk
SUMMARY:1st Swanscombe Rainbows - Monday 4.30pm to 5.30pm
DESCRIPTION:We meet every Monday during term time for fun\, crafts\, games and badge work.\nWe also now take Rainbows from 4 years old !\nContact Sandra on 07831 898205 for more information
URL:https://swanscombeandgreenhithetowncouncil.gov.uk/event/1st-swanscombe-rainbows-monday-4-30pm-to-5-30pm-3/2029-11-26/
LOCATION:Church Road Hall\, Church Rd\, Swanscombe DA10 0HE\, United Kingdom\, United Kingdom
CATEGORIES:Community Event
ATTACH;FMTTYPE=image/jpeg:https://swanscombeandgreenhithetowncouncil.gov.uk/wp-content/uploads/2021/12/58.2021-1st-Swanscombe-Raonbows-3-Dec-scaled-1.jpg
ORGANIZER;CN="Sandra_Kelleher":MAILTO:swanscomberainbows@hotmail.com
END:VEVENT
BEGIN:VEVENT
DTSTART;TZID=Europe/London:20291203T163000
DTEND;TZID=Europe/London:20291203T173000
DTSTAMP:20260422T164856
CREATED:20240313T014129Z
LAST-MODIFIED:20241219T090502Z
UID:10022850-1891009800-1891013400@swanscombeandgreenhithetowncouncil.gov.uk
SUMMARY:1st Swanscombe Rainbows - Monday 4.30pm to 5.30pm
DESCRIPTION:We meet every Monday during term time for fun\, crafts\, games and badge work.\nWe also now take Rainbows from 4 years old !\nContact Sandra on 07831 898205 for more information
URL:https://swanscombeandgreenhithetowncouncil.gov.uk/event/1st-swanscombe-rainbows-monday-4-30pm-to-5-30pm-3/2029-12-03/
LOCATION:Church Road Hall\, Church Rd\, Swanscombe DA10 0HE\, United Kingdom\, United Kingdom
CATEGORIES:Community Event
ATTACH;FMTTYPE=image/jpeg:https://swanscombeandgreenhithetowncouncil.gov.uk/wp-content/uploads/2021/12/58.2021-1st-Swanscombe-Raonbows-3-Dec-scaled-1.jpg
ORGANIZER;CN="Sandra_Kelleher":MAILTO:swanscomberainbows@hotmail.com
END:VEVENT
BEGIN:VEVENT
DTSTART;TZID=Europe/London:20291210T163000
DTEND;TZID=Europe/London:20291210T173000
DTSTAMP:20260422T164856
CREATED:20240313T014129Z
LAST-MODIFIED:20241219T090502Z
UID:10022851-1891614600-1891618200@swanscombeandgreenhithetowncouncil.gov.uk
SUMMARY:1st Swanscombe Rainbows - Monday 4.30pm to 5.30pm
DESCRIPTION:We meet every Monday during term time for fun\, crafts\, games and badge work.\nWe also now take Rainbows from 4 years old !\nContact Sandra on 07831 898205 for more information
URL:https://swanscombeandgreenhithetowncouncil.gov.uk/event/1st-swanscombe-rainbows-monday-4-30pm-to-5-30pm-3/2029-12-10/
LOCATION:Church Road Hall\, Church Rd\, Swanscombe DA10 0HE\, United Kingdom\, United Kingdom
CATEGORIES:Community Event
ATTACH;FMTTYPE=image/jpeg:https://swanscombeandgreenhithetowncouncil.gov.uk/wp-content/uploads/2021/12/58.2021-1st-Swanscombe-Raonbows-3-Dec-scaled-1.jpg
ORGANIZER;CN="Sandra_Kelleher":MAILTO:swanscomberainbows@hotmail.com
END:VEVENT
BEGIN:VEVENT
DTSTART;TZID=Europe/London:20291217T163000
DTEND;TZID=Europe/London:20291217T173000
DTSTAMP:20260422T164856
CREATED:20240313T014129Z
LAST-MODIFIED:20241219T090502Z
UID:10022852-1892219400-1892223000@swanscombeandgreenhithetowncouncil.gov.uk
SUMMARY:1st Swanscombe Rainbows - Monday 4.30pm to 5.30pm
DESCRIPTION:We meet every Monday during term time for fun\, crafts\, games and badge work.\nWe also now take Rainbows from 4 years old !\nContact Sandra on 07831 898205 for more information
URL:https://swanscombeandgreenhithetowncouncil.gov.uk/event/1st-swanscombe-rainbows-monday-4-30pm-to-5-30pm-3/2029-12-17/
LOCATION:Church Road Hall\, Church Rd\, Swanscombe DA10 0HE\, United Kingdom\, United Kingdom
CATEGORIES:Community Event
ATTACH;FMTTYPE=image/jpeg:https://swanscombeandgreenhithetowncouncil.gov.uk/wp-content/uploads/2021/12/58.2021-1st-Swanscombe-Raonbows-3-Dec-scaled-1.jpg
ORGANIZER;CN="Sandra_Kelleher":MAILTO:swanscomberainbows@hotmail.com
END:VEVENT
END:VCALENDAR