BEGIN:VCALENDAR
VERSION:2.0
PRODID:-//Swanscombe and Greenhithe Town Council - ECPv6.15.20//NONSGML v1.0//EN
CALSCALE:GREGORIAN
METHOD:PUBLISH
X-WR-CALNAME:Swanscombe and Greenhithe Town Council
X-ORIGINAL-URL:https://swanscombeandgreenhithetowncouncil.gov.uk
X-WR-CALDESC:Events for Swanscombe and Greenhithe Town Council
REFRESH-INTERVAL;VALUE=DURATION:PT1H
X-Robots-Tag:noindex
X-PUBLISHED-TTL:PT1H
BEGIN:VTIMEZONE
TZID:Europe/London
BEGIN:DAYLIGHT
TZOFFSETFROM:+0000
TZOFFSETTO:+0100
TZNAME:BST
DTSTART:20230326T010000
END:DAYLIGHT
BEGIN:STANDARD
TZOFFSETFROM:+0100
TZOFFSETTO:+0000
TZNAME:GMT
DTSTART:20231029T010000
END:STANDARD
BEGIN:DAYLIGHT
TZOFFSETFROM:+0000
TZOFFSETTO:+0100
TZNAME:BST
DTSTART:20240331T010000
END:DAYLIGHT
BEGIN:STANDARD
TZOFFSETFROM:+0100
TZOFFSETTO:+0000
TZNAME:GMT
DTSTART:20241027T010000
END:STANDARD
BEGIN:DAYLIGHT
TZOFFSETFROM:+0000
TZOFFSETTO:+0100
TZNAME:BST
DTSTART:20250330T010000
END:DAYLIGHT
BEGIN:STANDARD
TZOFFSETFROM:+0100
TZOFFSETTO:+0000
TZNAME:GMT
DTSTART:20251026T010000
END:STANDARD
BEGIN:DAYLIGHT
TZOFFSETFROM:+0000
TZOFFSETTO:+0100
TZNAME:BST
DTSTART:20260329T010000
END:DAYLIGHT
BEGIN:STANDARD
TZOFFSETFROM:+0100
TZOFFSETTO:+0000
TZNAME:GMT
DTSTART:20261025T010000
END:STANDARD
END:VTIMEZONE
BEGIN:VEVENT
DTSTART;TZID=Europe/London:20250929T100000
DTEND;TZID=Europe/London:20250929T120000
DTSTAMP:20260422T051630
CREATED:20240912T114910Z
LAST-MODIFIED:20250922T135856Z
UID:10022475-1759140000-1759147200@swanscombeandgreenhithetowncouncil.gov.uk
SUMMARY:Macmillan Coffee Morning
DESCRIPTION:
URL:https://swanscombeandgreenhithetowncouncil.gov.uk/event/macmillan-coffee-morning-2/
LOCATION:Old Fire Station\, Church Road\, Swanscombe\, DA10 0HF
ATTACH;FMTTYPE=image/jpeg:https://swanscombeandgreenhithetowncouncil.gov.uk/wp-content/uploads/2024/09/2025-Macmillan-Poster-29-Sep.jpg
ORGANIZER;CN="Swanscombe & Greenhithe Town Council":MAILTO:info@swanscombeandgreenhithetowncouncil.gov.uk
END:VEVENT
BEGIN:VEVENT
DTSTART;TZID=Europe/London:20240828T140000
DTEND;TZID=Europe/London:20240828T160000
DTSTAMP:20260422T051630
CREATED:20240710T095607Z
LAST-MODIFIED:20240819T131650Z
UID:10022123-1724853600-1724860800@swanscombeandgreenhithetowncouncil.gov.uk
SUMMARY:Childrens Summer Entertainment - Laser Tag at Knockhall Park
DESCRIPTION:
URL:https://swanscombeandgreenhithetowncouncil.gov.uk/event/childrens-summer-entertainment-laser-tag-at-knockhall-park/
LOCATION:Knockhall Recreation Ground\, 38 Knockhall Rd\, Greenhithe DA9 9HJ\, United Kingdom\, United Kingdom
CATEGORIES:Community Event|Sports & Recreation Group
ORGANIZER;CN="Swanscombe & Greenhithe Town Council":MAILTO:info@swanscombeandgreenhithetowncouncil.gov.uk
END:VEVENT
BEGIN:VEVENT
DTSTART;TZID=Europe/London:20240822T140000
DTEND;TZID=Europe/London:20240822T163000
DTSTAMP:20260422T051630
CREATED:20240710T100054Z
LAST-MODIFIED:20240710T100327Z
UID:10022125-1724335200-1724344200@swanscombeandgreenhithetowncouncil.gov.uk
SUMMARY:Childrens Summer Entertainment - Graffiti Boards at Town Council Community Hall
DESCRIPTION:
URL:https://swanscombeandgreenhithetowncouncil.gov.uk/event/childrens-summer-entertainment-graffiti-boards-at-town-council-community-hall/
LOCATION:Swanscombe and Greenhithe Town Council and Community Hall\, 16 The Grove\, Swanscombe DA10 0AD\, United Kingdom\, United Kingdom
CATEGORIES:Community Event|Sports & Recreation Group
ORGANIZER;CN="Swanscombe & Greenhithe Town Council":MAILTO:info@swanscombeandgreenhithetowncouncil.gov.uk
END:VEVENT
BEGIN:VEVENT
DTSTART;TZID=Europe/London:20240821T100000
DTEND;TZID=Europe/London:20240821T120000
DTSTAMP:20260422T051630
CREATED:20240710T105059Z
LAST-MODIFIED:20240710T105115Z
UID:10022134-1724234400-1724241600@swanscombeandgreenhithetowncouncil.gov.uk
SUMMARY:Summer of Sports - Martial Arts at Town Council Community Hall
DESCRIPTION:
URL:https://swanscombeandgreenhithetowncouncil.gov.uk/event/summer-of-sports-martial-arts-at-town-council-community-hall/
LOCATION:The Town Council Community Hall The Grove Swanscombe DA10 0AD UK\, 16 The Grove\, Swanscombe DA10 0AD\, United Kingdom\, United Kingdom
CATEGORIES:Community Event|Sports & Recreation Group
ORGANIZER;CN="Swanscombe & Greenhithe Town Council":MAILTO:info@swanscombeandgreenhithetowncouncil.gov.uk
END:VEVENT
BEGIN:VEVENT
DTSTART;TZID=Europe/London:20240820T100000
DTEND;TZID=Europe/London:20240820T120000
DTSTAMP:20260422T051630
CREATED:20240710T105506Z
LAST-MODIFIED:20240710T105723Z
UID:10022137-1724148000-1724155200@swanscombeandgreenhithetowncouncil.gov.uk
SUMMARY:Summer of Sports - Cricket at Broomfield Park
DESCRIPTION:
URL:https://swanscombeandgreenhithetowncouncil.gov.uk/event/summer-of-sports-cricket-at-broomfield-park/
LOCATION:Broomfield Park\, Broomfield Rd\, Swanscombe DA10 0AD\, United Kingdom\, England\, DA10 0AD\, United Kingdom
CATEGORIES:Community Event|Sports & Recreation Group
ORGANIZER;CN="Swanscombe & Greenhithe Town Council":MAILTO:info@swanscombeandgreenhithetowncouncil.gov.uk
GEO:51.447383;0.308653
X-APPLE-STRUCTURED-LOCATION;VALUE=URI;X-ADDRESS=Broomfield Park Broomfield Rd Swanscombe DA10 0AD United Kingdom England DA10 0AD United Kingdom;X-APPLE-RADIUS=500;X-TITLE=Broomfield Rd\, Swanscombe DA10 0AD\, United Kingdom:geo:0.308653,51.447383
END:VEVENT
BEGIN:VEVENT
DTSTART;TZID=Europe/London:20240819T100000
DTEND;TZID=Europe/London:20240819T120000
DTSTAMP:20260422T051630
CREATED:20240710T105414Z
LAST-MODIFIED:20240710T105424Z
UID:10022136-1724061600-1724068800@swanscombeandgreenhithetowncouncil.gov.uk
SUMMARY:Summer of Sports - Basketball at Broomfield Park
DESCRIPTION:
URL:https://swanscombeandgreenhithetowncouncil.gov.uk/event/summer-of-sports-basketball-at-broomfield-park/
LOCATION:Broomfield Park\, Broomfield Rd\, Swanscombe DA10 0AD\, United Kingdom\, England\, DA10 0AD\, United Kingdom
CATEGORIES:Community Event|Sports & Recreation Group
ORGANIZER;CN="Swanscombe & Greenhithe Town Council":MAILTO:info@swanscombeandgreenhithetowncouncil.gov.uk
GEO:51.447383;0.308653
X-APPLE-STRUCTURED-LOCATION;VALUE=URI;X-ADDRESS=Broomfield Park Broomfield Rd Swanscombe DA10 0AD United Kingdom England DA10 0AD United Kingdom;X-APPLE-RADIUS=500;X-TITLE=Broomfield Rd\, Swanscombe DA10 0AD\, United Kingdom:geo:0.308653,51.447383
END:VEVENT
BEGIN:VEVENT
DTSTART;TZID=Europe/London:20240813T100000
DTEND;TZID=Europe/London:20240813T120000
DTSTAMP:20260422T051630
CREATED:20240710T104741Z
LAST-MODIFIED:20240710T104754Z
UID:10022132-1723543200-1723550400@swanscombeandgreenhithetowncouncil.gov.uk
SUMMARY:Summer of Sports - Pickleball at Swanscombe Leisure Centre
DESCRIPTION:
URL:https://swanscombeandgreenhithetowncouncil.gov.uk/event/summer-of-sports-pickleball-at-swanscombe-leisure-centre/
LOCATION:Knockhall Recreation Ground\, 38 Knockhall Rd\, Greenhithe DA9 9HJ\, United Kingdom\, United Kingdom
CATEGORIES:Community Event|Sports & Recreation Group
ORGANIZER;CN="Swanscombe & Greenhithe Town Council":MAILTO:info@swanscombeandgreenhithetowncouncil.gov.uk
END:VEVENT
BEGIN:VEVENT
DTSTART;TZID=Europe/London:20240812T100000
DTEND;TZID=Europe/London:20240812T120000
DTSTAMP:20260422T051630
CREATED:20240710T104437Z
LAST-MODIFIED:20240710T104440Z
UID:10022130-1723456800-1723464000@swanscombeandgreenhithetowncouncil.gov.uk
SUMMARY:Summer of Sports - Rugby at Knockhall Park
DESCRIPTION:
URL:https://swanscombeandgreenhithetowncouncil.gov.uk/event/summer-of-sports-rugby-at-knockhall-park/
LOCATION:Knockhall Recreation Ground\, 38 Knockhall Rd\, Greenhithe DA9 9HJ\, United Kingdom\, United Kingdom
CATEGORIES:Community Event|Sports & Recreation Group
ORGANIZER;CN="Swanscombe & Greenhithe Town Council":MAILTO:info@swanscombeandgreenhithetowncouncil.gov.uk
END:VEVENT
BEGIN:VEVENT
DTSTART;TZID=Europe/London:20240812T100000
DTEND;TZID=Europe/London:20240812T120000
DTSTAMP:20260422T051630
CREATED:20240710T104346Z
LAST-MODIFIED:20240710T104353Z
UID:10022129-1723456800-1723464000@swanscombeandgreenhithetowncouncil.gov.uk
SUMMARY:Summer of Sports - Dodgeball at Knockhall Park
DESCRIPTION:
URL:https://swanscombeandgreenhithetowncouncil.gov.uk/event/summer-of-sports-dodgeball-at-knockhall-park/
LOCATION:Knockhall Recreation Ground\, 38 Knockhall Rd\, Greenhithe DA9 9HJ\, United Kingdom\, United Kingdom
CATEGORIES:Community Event|Sports & Recreation Group
ORGANIZER;CN="Swanscombe & Greenhithe Town Council":MAILTO:info@swanscombeandgreenhithetowncouncil.gov.uk
END:VEVENT
BEGIN:VEVENT
DTSTART;TZID=Europe/London:20240809T100000
DTEND;TZID=Europe/London:20240809T120000
DTSTAMP:20260422T051630
CREATED:20240710T104217Z
LAST-MODIFIED:20240729T081438Z
UID:10022128-1723197600-1723204800@swanscombeandgreenhithetowncouncil.gov.uk
SUMMARY:Summer of Sports - Athletics  at Knockhall Park
DESCRIPTION:
URL:https://swanscombeandgreenhithetowncouncil.gov.uk/event/summer-of-sports-athletics-at-knockhall-park/
LOCATION:Knockhall Recreation Ground\, 38 Knockhall Rd\, Greenhithe DA9 9HJ\, United Kingdom\, United Kingdom
CATEGORIES:Community Event|Sports & Recreation Group
ORGANIZER;CN="Swanscombe & Greenhithe Town Council":MAILTO:info@swanscombeandgreenhithetowncouncil.gov.uk
END:VEVENT
BEGIN:VEVENT
DTSTART;TZID=Europe/London:20240808T140000
DTEND;TZID=Europe/London:20240808T153000
DTSTAMP:20260422T051630
CREATED:20240710T095500Z
LAST-MODIFIED:20240710T095504Z
UID:10022122-1723125600-1723131000@swanscombeandgreenhithetowncouncil.gov.uk
SUMMARY:Childrens Summer Entertainment - Mrs Roundabout at Knockhall Park
DESCRIPTION:
URL:https://swanscombeandgreenhithetowncouncil.gov.uk/event/childrens-summer-entertainment-mrs-roundabout-at-knockhall-park/
LOCATION:Knockhall Recreation Ground\, 38 Knockhall Rd\, Greenhithe DA9 9HJ\, United Kingdom\, United Kingdom
CATEGORIES:Community Event|Sports & Recreation Group
ORGANIZER;CN="Swanscombe & Greenhithe Town Council":MAILTO:info@swanscombeandgreenhithetowncouncil.gov.uk
END:VEVENT
BEGIN:VEVENT
DTSTART;TZID=Europe/London:20240806T100000
DTEND;TZID=Europe/London:20240806T120000
DTSTAMP:20260422T051630
CREATED:20240710T105312Z
LAST-MODIFIED:20240710T105315Z
UID:10022135-1722938400-1722945600@swanscombeandgreenhithetowncouncil.gov.uk
SUMMARY:Summer of Sports - Tennis at Swanscombe Park
DESCRIPTION:
URL:https://swanscombeandgreenhithetowncouncil.gov.uk/event/summer-of-sports-tennis-at-swanscombe-park/
LOCATION:Swanscombe Park\, Park Rd\, Swanscombe DA10 0JU\, United Kingdom\, United Kingdom
CATEGORIES:Community Event|Sports & Recreation Group
ORGANIZER;CN="Swanscombe & Greenhithe Town Council":MAILTO:info@swanscombeandgreenhithetowncouncil.gov.uk
END:VEVENT
BEGIN:VEVENT
DTSTART;TZID=Europe/London:20240805T100000
DTEND;TZID=Europe/London:20240805T120000
DTSTAMP:20260422T051630
CREATED:20240710T104925Z
LAST-MODIFIED:20240710T104934Z
UID:10022133-1722852000-1722859200@swanscombeandgreenhithetowncouncil.gov.uk
SUMMARY:Summer of Sports - Gymnastics at Town Council Community Hall
DESCRIPTION:
URL:https://swanscombeandgreenhithetowncouncil.gov.uk/event/summer-of-sports-gymnastics-at-town-council-community-hall/
LOCATION:The Town Council Community Hall The Grove Swanscombe DA10 0AD UK\, 16 The Grove\, Swanscombe DA10 0AD\, United Kingdom\, United Kingdom
CATEGORIES:Community Event|Sports & Recreation Group
ORGANIZER;CN="Swanscombe & Greenhithe Town Council":MAILTO:info@swanscombeandgreenhithetowncouncil.gov.uk
END:VEVENT
BEGIN:VEVENT
DTSTART;TZID=Europe/London:20240802T100000
DTEND;TZID=Europe/London:20240802T120000
DTSTAMP:20260422T051630
CREATED:20240710T104607Z
LAST-MODIFIED:20240710T104610Z
UID:10022131-1722592800-1722600000@swanscombeandgreenhithetowncouncil.gov.uk
SUMMARY:Summer of Sports - Badminton at Swanscombe Leisure Centre
DESCRIPTION:
URL:https://swanscombeandgreenhithetowncouncil.gov.uk/event/summer-of-sports-badminton-at-swanscombe-leisure-centre/
LOCATION:Knockhall Recreation Ground\, 38 Knockhall Rd\, Greenhithe DA9 9HJ\, United Kingdom\, United Kingdom
CATEGORIES:Community Event|Sports & Recreation Group
ORGANIZER;CN="Swanscombe & Greenhithe Town Council":MAILTO:info@swanscombeandgreenhithetowncouncil.gov.uk
END:VEVENT
BEGIN:VEVENT
DTSTART;TZID=Europe/London:20240801T140000
DTEND;TZID=Europe/London:20240801T160000
DTSTAMP:20260422T051630
CREATED:20240710T095718Z
LAST-MODIFIED:20240710T095922Z
UID:10022124-1722520800-1722528000@swanscombeandgreenhithetowncouncil.gov.uk
SUMMARY:Childrens Summer Entertainment - Mini Golf at Broomfield Park
DESCRIPTION:
URL:https://swanscombeandgreenhithetowncouncil.gov.uk/event/childrens-summer-entertainment-mini-golf-at-broomfield-park/
LOCATION:Broomfield Park\, Broomfield Rd\, Swanscombe DA10 0AD\, United Kingdom\, England\, DA10 0AD\, United Kingdom
CATEGORIES:Community Event|Sports & Recreation Group
ORGANIZER;CN="Swanscombe & Greenhithe Town Council":MAILTO:info@swanscombeandgreenhithetowncouncil.gov.uk
GEO:51.447383;0.308653
X-APPLE-STRUCTURED-LOCATION;VALUE=URI;X-ADDRESS=Broomfield Park Broomfield Rd Swanscombe DA10 0AD United Kingdom England DA10 0AD United Kingdom;X-APPLE-RADIUS=500;X-TITLE=Broomfield Rd\, Swanscombe DA10 0AD\, United Kingdom:geo:0.308653,51.447383
END:VEVENT
BEGIN:VEVENT
DTSTART;TZID=Europe/London:20240731T100000
DTEND;TZID=Europe/London:20240731T120000
DTSTAMP:20260422T051630
CREATED:20240710T095252Z
LAST-MODIFIED:20240710T095330Z
UID:10022121-1722420000-1722427200@swanscombeandgreenhithetowncouncil.gov.uk
SUMMARY:Childrens Summer Entertainment - Multisports at Knockhall Park
DESCRIPTION:
URL:https://swanscombeandgreenhithetowncouncil.gov.uk/event/multisports-at-knockhall-park/
LOCATION:Knockhall Recreation Ground\, 38 Knockhall Rd\, Greenhithe DA9 9HJ\, United Kingdom\, United Kingdom
CATEGORIES:Community Event|Sports & Recreation Group
ORGANIZER;CN="Swanscombe & Greenhithe Town Council":MAILTO:info@swanscombeandgreenhithetowncouncil.gov.uk
END:VEVENT
BEGIN:VEVENT
DTSTART;TZID=Europe/London:20240729T100000
DTEND;TZID=Europe/London:20240729T120000
DTSTAMP:20260422T051630
CREATED:20240710T104127Z
LAST-MODIFIED:20240710T104131Z
UID:10022127-1722247200-1722254400@swanscombeandgreenhithetowncouncil.gov.uk
SUMMARY:Summer of Sports - Football at Knockhall Park
DESCRIPTION:
URL:https://swanscombeandgreenhithetowncouncil.gov.uk/event/summer-of-sports-football-at-knockhall-park/
LOCATION:Knockhall Recreation Ground\, 38 Knockhall Rd\, Greenhithe DA9 9HJ\, United Kingdom\, United Kingdom
CATEGORIES:Community Event|Sports & Recreation Group
ORGANIZER;CN="Swanscombe & Greenhithe Town Council":MAILTO:info@swanscombeandgreenhithetowncouncil.gov.uk
END:VEVENT
BEGIN:VEVENT
DTSTART;TZID=Europe/London:20240701T100000
DTEND;TZID=Europe/London:20240701T120000
DTSTAMP:20260422T051630
CREATED:20240613T150652Z
LAST-MODIFIED:20240613T150652Z
UID:10022001-1719828000-1719835200@swanscombeandgreenhithetowncouncil.gov.uk
SUMMARY:NHS Big Tea.
DESCRIPTION:We’ve got the lovely cakes and cups of tea ready so\, why not come and meet up with friends at your Community Cafe on 1 July 2024 and help raise funds for a great cause while you are doing it?\n\n\n#NHSBigTea
URL:https://swanscombeandgreenhithetowncouncil.gov.uk/event/nhs-big-tea/
CATEGORIES:Community Event
ORGANIZER;CN="Swanscombe & Greenhithe Town Council":MAILTO:info@swanscombeandgreenhithetowncouncil.gov.uk
END:VEVENT
END:VCALENDAR