BEGIN:VCALENDAR
VERSION:2.0
PRODID:-//Swanscombe and Greenhithe Town Council - ECPv6.15.20//NONSGML v1.0//EN
CALSCALE:GREGORIAN
METHOD:PUBLISH
X-WR-CALNAME:Swanscombe and Greenhithe Town Council
X-ORIGINAL-URL:https://swanscombeandgreenhithetowncouncil.gov.uk
X-WR-CALDESC:Events for Swanscombe and Greenhithe Town Council
REFRESH-INTERVAL;VALUE=DURATION:PT1H
X-Robots-Tag:noindex
X-PUBLISHED-TTL:PT1H
BEGIN:VTIMEZONE
TZID:Europe/London
BEGIN:DAYLIGHT
TZOFFSETFROM:+0000
TZOFFSETTO:+0100
TZNAME:BST
DTSTART:20250330T010000
END:DAYLIGHT
BEGIN:STANDARD
TZOFFSETFROM:+0100
TZOFFSETTO:+0000
TZNAME:GMT
DTSTART:20251026T010000
END:STANDARD
BEGIN:DAYLIGHT
TZOFFSETFROM:+0000
TZOFFSETTO:+0100
TZNAME:BST
DTSTART:20260329T010000
END:DAYLIGHT
BEGIN:STANDARD
TZOFFSETFROM:+0100
TZOFFSETTO:+0000
TZNAME:GMT
DTSTART:20261025T010000
END:STANDARD
BEGIN:DAYLIGHT
TZOFFSETFROM:+0000
TZOFFSETTO:+0100
TZNAME:BST
DTSTART:20270328T010000
END:DAYLIGHT
BEGIN:STANDARD
TZOFFSETFROM:+0100
TZOFFSETTO:+0000
TZNAME:GMT
DTSTART:20271031T010000
END:STANDARD
BEGIN:DAYLIGHT
TZOFFSETFROM:+0000
TZOFFSETTO:+0100
TZNAME:BST
DTSTART:20280326T010000
END:DAYLIGHT
BEGIN:STANDARD
TZOFFSETFROM:+0100
TZOFFSETTO:+0000
TZNAME:GMT
DTSTART:20281029T010000
END:STANDARD
END:VTIMEZONE
BEGIN:VEVENT
DTSTART;TZID=Europe/London:20261231T163000
DTEND;TZID=Europe/London:20261231T184500
DTSTAMP:20260421T201143
CREATED:20240424T184458Z
LAST-MODIFIED:20241219T091149Z
UID:10015947-1798734600-1798742700@swanscombeandgreenhithetowncouncil.gov.uk
SUMMARY:Walk Tall - Drama Project for young people
DESCRIPTION:
URL:https://swanscombeandgreenhithetowncouncil.gov.uk/event/walk-tall-drama-project-for-young-people-2-2/2026-12-31/
LOCATION:Heritage Community Hall\, 22 Craylands Ln\, Swanscombe DA10 0LP\, United Kingdom\, United Kingdom
CATEGORIES:Community Event
ATTACH;FMTTYPE=image/jpeg:https://swanscombeandgreenhithetowncouncil.gov.uk/wp-content/uploads/2023/02/93.2023-new-project-Thursdays.jpg
ORGANIZER;CN="Walk Tall":MAILTO:arts@walk-tall.org.uk
END:VEVENT
BEGIN:VEVENT
DTSTART;TZID=Europe/London:20270107T163000
DTEND;TZID=Europe/London:20270107T184500
DTSTAMP:20260421T201143
CREATED:20240424T184458Z
LAST-MODIFIED:20241219T091149Z
UID:10015948-1799339400-1799347500@swanscombeandgreenhithetowncouncil.gov.uk
SUMMARY:Walk Tall - Drama Project for young people
DESCRIPTION:
URL:https://swanscombeandgreenhithetowncouncil.gov.uk/event/walk-tall-drama-project-for-young-people-2-2/2027-01-07/
LOCATION:Heritage Community Hall\, 22 Craylands Ln\, Swanscombe DA10 0LP\, United Kingdom\, United Kingdom
CATEGORIES:Community Event
ATTACH;FMTTYPE=image/jpeg:https://swanscombeandgreenhithetowncouncil.gov.uk/wp-content/uploads/2023/02/93.2023-new-project-Thursdays.jpg
ORGANIZER;CN="Walk Tall":MAILTO:arts@walk-tall.org.uk
END:VEVENT
BEGIN:VEVENT
DTSTART;TZID=Europe/London:20270114T163000
DTEND;TZID=Europe/London:20270114T184500
DTSTAMP:20260421T201143
CREATED:20240424T184458Z
LAST-MODIFIED:20241219T091149Z
UID:10015949-1799944200-1799952300@swanscombeandgreenhithetowncouncil.gov.uk
SUMMARY:Walk Tall - Drama Project for young people
DESCRIPTION:
URL:https://swanscombeandgreenhithetowncouncil.gov.uk/event/walk-tall-drama-project-for-young-people-2-2/2027-01-14/
LOCATION:Heritage Community Hall\, 22 Craylands Ln\, Swanscombe DA10 0LP\, United Kingdom\, United Kingdom
CATEGORIES:Community Event
ATTACH;FMTTYPE=image/jpeg:https://swanscombeandgreenhithetowncouncil.gov.uk/wp-content/uploads/2023/02/93.2023-new-project-Thursdays.jpg
ORGANIZER;CN="Walk Tall":MAILTO:arts@walk-tall.org.uk
END:VEVENT
BEGIN:VEVENT
DTSTART;TZID=Europe/London:20270121T163000
DTEND;TZID=Europe/London:20270121T184500
DTSTAMP:20260421T201143
CREATED:20240424T184458Z
LAST-MODIFIED:20241219T091149Z
UID:10015950-1800549000-1800557100@swanscombeandgreenhithetowncouncil.gov.uk
SUMMARY:Walk Tall - Drama Project for young people
DESCRIPTION:
URL:https://swanscombeandgreenhithetowncouncil.gov.uk/event/walk-tall-drama-project-for-young-people-2-2/2027-01-21/
LOCATION:Heritage Community Hall\, 22 Craylands Ln\, Swanscombe DA10 0LP\, United Kingdom\, United Kingdom
CATEGORIES:Community Event
ATTACH;FMTTYPE=image/jpeg:https://swanscombeandgreenhithetowncouncil.gov.uk/wp-content/uploads/2023/02/93.2023-new-project-Thursdays.jpg
ORGANIZER;CN="Walk Tall":MAILTO:arts@walk-tall.org.uk
END:VEVENT
BEGIN:VEVENT
DTSTART;TZID=Europe/London:20270128T163000
DTEND;TZID=Europe/London:20270128T184500
DTSTAMP:20260421T201143
CREATED:20240424T184458Z
LAST-MODIFIED:20241219T091149Z
UID:10015951-1801153800-1801161900@swanscombeandgreenhithetowncouncil.gov.uk
SUMMARY:Walk Tall - Drama Project for young people
DESCRIPTION:
URL:https://swanscombeandgreenhithetowncouncil.gov.uk/event/walk-tall-drama-project-for-young-people-2-2/2027-01-28/
LOCATION:Heritage Community Hall\, 22 Craylands Ln\, Swanscombe DA10 0LP\, United Kingdom\, United Kingdom
CATEGORIES:Community Event
ATTACH;FMTTYPE=image/jpeg:https://swanscombeandgreenhithetowncouncil.gov.uk/wp-content/uploads/2023/02/93.2023-new-project-Thursdays.jpg
ORGANIZER;CN="Walk Tall":MAILTO:arts@walk-tall.org.uk
END:VEVENT
BEGIN:VEVENT
DTSTART;TZID=Europe/London:20270204T163000
DTEND;TZID=Europe/London:20270204T184500
DTSTAMP:20260421T201143
CREATED:20240424T184458Z
LAST-MODIFIED:20241219T091149Z
UID:10015952-1801758600-1801766700@swanscombeandgreenhithetowncouncil.gov.uk
SUMMARY:Walk Tall - Drama Project for young people
DESCRIPTION:
URL:https://swanscombeandgreenhithetowncouncil.gov.uk/event/walk-tall-drama-project-for-young-people-2-2/2027-02-04/
LOCATION:Heritage Community Hall\, 22 Craylands Ln\, Swanscombe DA10 0LP\, United Kingdom\, United Kingdom
CATEGORIES:Community Event
ATTACH;FMTTYPE=image/jpeg:https://swanscombeandgreenhithetowncouncil.gov.uk/wp-content/uploads/2023/02/93.2023-new-project-Thursdays.jpg
ORGANIZER;CN="Walk Tall":MAILTO:arts@walk-tall.org.uk
END:VEVENT
BEGIN:VEVENT
DTSTART;TZID=Europe/London:20270211T163000
DTEND;TZID=Europe/London:20270211T184500
DTSTAMP:20260421T201143
CREATED:20240424T184458Z
LAST-MODIFIED:20241219T091149Z
UID:10015953-1802363400-1802371500@swanscombeandgreenhithetowncouncil.gov.uk
SUMMARY:Walk Tall - Drama Project for young people
DESCRIPTION:
URL:https://swanscombeandgreenhithetowncouncil.gov.uk/event/walk-tall-drama-project-for-young-people-2-2/2027-02-11/
LOCATION:Heritage Community Hall\, 22 Craylands Ln\, Swanscombe DA10 0LP\, United Kingdom\, United Kingdom
CATEGORIES:Community Event
ATTACH;FMTTYPE=image/jpeg:https://swanscombeandgreenhithetowncouncil.gov.uk/wp-content/uploads/2023/02/93.2023-new-project-Thursdays.jpg
ORGANIZER;CN="Walk Tall":MAILTO:arts@walk-tall.org.uk
END:VEVENT
BEGIN:VEVENT
DTSTART;TZID=Europe/London:20270218T163000
DTEND;TZID=Europe/London:20270218T184500
DTSTAMP:20260421T201143
CREATED:20240424T184458Z
LAST-MODIFIED:20241219T091149Z
UID:10015954-1802968200-1802976300@swanscombeandgreenhithetowncouncil.gov.uk
SUMMARY:Walk Tall - Drama Project for young people
DESCRIPTION:
URL:https://swanscombeandgreenhithetowncouncil.gov.uk/event/walk-tall-drama-project-for-young-people-2-2/2027-02-18/
LOCATION:Heritage Community Hall\, 22 Craylands Ln\, Swanscombe DA10 0LP\, United Kingdom\, United Kingdom
CATEGORIES:Community Event
ATTACH;FMTTYPE=image/jpeg:https://swanscombeandgreenhithetowncouncil.gov.uk/wp-content/uploads/2023/02/93.2023-new-project-Thursdays.jpg
ORGANIZER;CN="Walk Tall":MAILTO:arts@walk-tall.org.uk
END:VEVENT
BEGIN:VEVENT
DTSTART;TZID=Europe/London:20270225T163000
DTEND;TZID=Europe/London:20270225T184500
DTSTAMP:20260421T201143
CREATED:20240424T184458Z
LAST-MODIFIED:20241219T091149Z
UID:10015955-1803573000-1803581100@swanscombeandgreenhithetowncouncil.gov.uk
SUMMARY:Walk Tall - Drama Project for young people
DESCRIPTION:
URL:https://swanscombeandgreenhithetowncouncil.gov.uk/event/walk-tall-drama-project-for-young-people-2-2/2027-02-25/
LOCATION:Heritage Community Hall\, 22 Craylands Ln\, Swanscombe DA10 0LP\, United Kingdom\, United Kingdom
CATEGORIES:Community Event
ATTACH;FMTTYPE=image/jpeg:https://swanscombeandgreenhithetowncouncil.gov.uk/wp-content/uploads/2023/02/93.2023-new-project-Thursdays.jpg
ORGANIZER;CN="Walk Tall":MAILTO:arts@walk-tall.org.uk
END:VEVENT
BEGIN:VEVENT
DTSTART;TZID=Europe/London:20270304T163000
DTEND;TZID=Europe/London:20270304T184500
DTSTAMP:20260421T201143
CREATED:20240424T184458Z
LAST-MODIFIED:20241219T091149Z
UID:10015956-1804177800-1804185900@swanscombeandgreenhithetowncouncil.gov.uk
SUMMARY:Walk Tall - Drama Project for young people
DESCRIPTION:
URL:https://swanscombeandgreenhithetowncouncil.gov.uk/event/walk-tall-drama-project-for-young-people-2-2/2027-03-04/
LOCATION:Heritage Community Hall\, 22 Craylands Ln\, Swanscombe DA10 0LP\, United Kingdom\, United Kingdom
CATEGORIES:Community Event
ATTACH;FMTTYPE=image/jpeg:https://swanscombeandgreenhithetowncouncil.gov.uk/wp-content/uploads/2023/02/93.2023-new-project-Thursdays.jpg
ORGANIZER;CN="Walk Tall":MAILTO:arts@walk-tall.org.uk
END:VEVENT
BEGIN:VEVENT
DTSTART;TZID=Europe/London:20270311T163000
DTEND;TZID=Europe/London:20270311T184500
DTSTAMP:20260421T201143
CREATED:20240424T184458Z
LAST-MODIFIED:20241219T091149Z
UID:10015957-1804782600-1804790700@swanscombeandgreenhithetowncouncil.gov.uk
SUMMARY:Walk Tall - Drama Project for young people
DESCRIPTION:
URL:https://swanscombeandgreenhithetowncouncil.gov.uk/event/walk-tall-drama-project-for-young-people-2-2/2027-03-11/
LOCATION:Heritage Community Hall\, 22 Craylands Ln\, Swanscombe DA10 0LP\, United Kingdom\, United Kingdom
CATEGORIES:Community Event
ATTACH;FMTTYPE=image/jpeg:https://swanscombeandgreenhithetowncouncil.gov.uk/wp-content/uploads/2023/02/93.2023-new-project-Thursdays.jpg
ORGANIZER;CN="Walk Tall":MAILTO:arts@walk-tall.org.uk
END:VEVENT
BEGIN:VEVENT
DTSTART;TZID=Europe/London:20270318T163000
DTEND;TZID=Europe/London:20270318T184500
DTSTAMP:20260421T201143
CREATED:20240424T184458Z
LAST-MODIFIED:20241219T091149Z
UID:10015958-1805387400-1805395500@swanscombeandgreenhithetowncouncil.gov.uk
SUMMARY:Walk Tall - Drama Project for young people
DESCRIPTION:
URL:https://swanscombeandgreenhithetowncouncil.gov.uk/event/walk-tall-drama-project-for-young-people-2-2/2027-03-18/
LOCATION:Heritage Community Hall\, 22 Craylands Ln\, Swanscombe DA10 0LP\, United Kingdom\, United Kingdom
CATEGORIES:Community Event
ATTACH;FMTTYPE=image/jpeg:https://swanscombeandgreenhithetowncouncil.gov.uk/wp-content/uploads/2023/02/93.2023-new-project-Thursdays.jpg
ORGANIZER;CN="Walk Tall":MAILTO:arts@walk-tall.org.uk
END:VEVENT
BEGIN:VEVENT
DTSTART;TZID=Europe/London:20270325T163000
DTEND;TZID=Europe/London:20270325T184500
DTSTAMP:20260421T201143
CREATED:20240424T184458Z
LAST-MODIFIED:20241219T091149Z
UID:10015959-1805992200-1806000300@swanscombeandgreenhithetowncouncil.gov.uk
SUMMARY:Walk Tall - Drama Project for young people
DESCRIPTION:
URL:https://swanscombeandgreenhithetowncouncil.gov.uk/event/walk-tall-drama-project-for-young-people-2-2/2027-03-25/
LOCATION:Heritage Community Hall\, 22 Craylands Ln\, Swanscombe DA10 0LP\, United Kingdom\, United Kingdom
CATEGORIES:Community Event
ATTACH;FMTTYPE=image/jpeg:https://swanscombeandgreenhithetowncouncil.gov.uk/wp-content/uploads/2023/02/93.2023-new-project-Thursdays.jpg
ORGANIZER;CN="Walk Tall":MAILTO:arts@walk-tall.org.uk
END:VEVENT
BEGIN:VEVENT
DTSTART;TZID=Europe/London:20270401T163000
DTEND;TZID=Europe/London:20270401T184500
DTSTAMP:20260421T201143
CREATED:20240424T184458Z
LAST-MODIFIED:20241219T091149Z
UID:10015960-1806597000-1806605100@swanscombeandgreenhithetowncouncil.gov.uk
SUMMARY:Walk Tall - Drama Project for young people
DESCRIPTION:
URL:https://swanscombeandgreenhithetowncouncil.gov.uk/event/walk-tall-drama-project-for-young-people-2-2/2027-04-01/
LOCATION:Heritage Community Hall\, 22 Craylands Ln\, Swanscombe DA10 0LP\, United Kingdom\, United Kingdom
CATEGORIES:Community Event
ATTACH;FMTTYPE=image/jpeg:https://swanscombeandgreenhithetowncouncil.gov.uk/wp-content/uploads/2023/02/93.2023-new-project-Thursdays.jpg
ORGANIZER;CN="Walk Tall":MAILTO:arts@walk-tall.org.uk
END:VEVENT
BEGIN:VEVENT
DTSTART;TZID=Europe/London:20270408T163000
DTEND;TZID=Europe/London:20270408T184500
DTSTAMP:20260421T201143
CREATED:20240424T184458Z
LAST-MODIFIED:20241219T091149Z
UID:10015961-1807201800-1807209900@swanscombeandgreenhithetowncouncil.gov.uk
SUMMARY:Walk Tall - Drama Project for young people
DESCRIPTION:
URL:https://swanscombeandgreenhithetowncouncil.gov.uk/event/walk-tall-drama-project-for-young-people-2-2/2027-04-08/
LOCATION:Heritage Community Hall\, 22 Craylands Ln\, Swanscombe DA10 0LP\, United Kingdom\, United Kingdom
CATEGORIES:Community Event
ATTACH;FMTTYPE=image/jpeg:https://swanscombeandgreenhithetowncouncil.gov.uk/wp-content/uploads/2023/02/93.2023-new-project-Thursdays.jpg
ORGANIZER;CN="Walk Tall":MAILTO:arts@walk-tall.org.uk
END:VEVENT
BEGIN:VEVENT
DTSTART;TZID=Europe/London:20270415T163000
DTEND;TZID=Europe/London:20270415T184500
DTSTAMP:20260421T201143
CREATED:20240424T184458Z
LAST-MODIFIED:20241219T091149Z
UID:10015962-1807806600-1807814700@swanscombeandgreenhithetowncouncil.gov.uk
SUMMARY:Walk Tall - Drama Project for young people
DESCRIPTION:
URL:https://swanscombeandgreenhithetowncouncil.gov.uk/event/walk-tall-drama-project-for-young-people-2-2/2027-04-15/
LOCATION:Heritage Community Hall\, 22 Craylands Ln\, Swanscombe DA10 0LP\, United Kingdom\, United Kingdom
CATEGORIES:Community Event
ATTACH;FMTTYPE=image/jpeg:https://swanscombeandgreenhithetowncouncil.gov.uk/wp-content/uploads/2023/02/93.2023-new-project-Thursdays.jpg
ORGANIZER;CN="Walk Tall":MAILTO:arts@walk-tall.org.uk
END:VEVENT
BEGIN:VEVENT
DTSTART;TZID=Europe/London:20270422T163000
DTEND;TZID=Europe/London:20270422T184500
DTSTAMP:20260421T201143
CREATED:20240424T184458Z
LAST-MODIFIED:20241219T091149Z
UID:10015963-1808411400-1808419500@swanscombeandgreenhithetowncouncil.gov.uk
SUMMARY:Walk Tall - Drama Project for young people
DESCRIPTION:
URL:https://swanscombeandgreenhithetowncouncil.gov.uk/event/walk-tall-drama-project-for-young-people-2-2/2027-04-22/
LOCATION:Heritage Community Hall\, 22 Craylands Ln\, Swanscombe DA10 0LP\, United Kingdom\, United Kingdom
CATEGORIES:Community Event
ATTACH;FMTTYPE=image/jpeg:https://swanscombeandgreenhithetowncouncil.gov.uk/wp-content/uploads/2023/02/93.2023-new-project-Thursdays.jpg
ORGANIZER;CN="Walk Tall":MAILTO:arts@walk-tall.org.uk
END:VEVENT
BEGIN:VEVENT
DTSTART;TZID=Europe/London:20270429T163000
DTEND;TZID=Europe/London:20270429T184500
DTSTAMP:20260421T201143
CREATED:20240424T184458Z
LAST-MODIFIED:20241219T091149Z
UID:10015964-1809016200-1809024300@swanscombeandgreenhithetowncouncil.gov.uk
SUMMARY:Walk Tall - Drama Project for young people
DESCRIPTION:
URL:https://swanscombeandgreenhithetowncouncil.gov.uk/event/walk-tall-drama-project-for-young-people-2-2/2027-04-29/
LOCATION:Heritage Community Hall\, 22 Craylands Ln\, Swanscombe DA10 0LP\, United Kingdom\, United Kingdom
CATEGORIES:Community Event
ATTACH;FMTTYPE=image/jpeg:https://swanscombeandgreenhithetowncouncil.gov.uk/wp-content/uploads/2023/02/93.2023-new-project-Thursdays.jpg
ORGANIZER;CN="Walk Tall":MAILTO:arts@walk-tall.org.uk
END:VEVENT
BEGIN:VEVENT
DTSTART;TZID=Europe/London:20270506T163000
DTEND;TZID=Europe/London:20270506T184500
DTSTAMP:20260421T201143
CREATED:20240424T184458Z
LAST-MODIFIED:20241219T091149Z
UID:10015965-1809621000-1809629100@swanscombeandgreenhithetowncouncil.gov.uk
SUMMARY:Walk Tall - Drama Project for young people
DESCRIPTION:
URL:https://swanscombeandgreenhithetowncouncil.gov.uk/event/walk-tall-drama-project-for-young-people-2-2/2027-05-06/
LOCATION:Heritage Community Hall\, 22 Craylands Ln\, Swanscombe DA10 0LP\, United Kingdom\, United Kingdom
CATEGORIES:Community Event
ATTACH;FMTTYPE=image/jpeg:https://swanscombeandgreenhithetowncouncil.gov.uk/wp-content/uploads/2023/02/93.2023-new-project-Thursdays.jpg
ORGANIZER;CN="Walk Tall":MAILTO:arts@walk-tall.org.uk
END:VEVENT
BEGIN:VEVENT
DTSTART;TZID=Europe/London:20270513T163000
DTEND;TZID=Europe/London:20270513T184500
DTSTAMP:20260421T201143
CREATED:20240424T184458Z
LAST-MODIFIED:20241219T091149Z
UID:10015966-1810225800-1810233900@swanscombeandgreenhithetowncouncil.gov.uk
SUMMARY:Walk Tall - Drama Project for young people
DESCRIPTION:
URL:https://swanscombeandgreenhithetowncouncil.gov.uk/event/walk-tall-drama-project-for-young-people-2-2/2027-05-13/
LOCATION:Heritage Community Hall\, 22 Craylands Ln\, Swanscombe DA10 0LP\, United Kingdom\, United Kingdom
CATEGORIES:Community Event
ATTACH;FMTTYPE=image/jpeg:https://swanscombeandgreenhithetowncouncil.gov.uk/wp-content/uploads/2023/02/93.2023-new-project-Thursdays.jpg
ORGANIZER;CN="Walk Tall":MAILTO:arts@walk-tall.org.uk
END:VEVENT
BEGIN:VEVENT
DTSTART;TZID=Europe/London:20270520T163000
DTEND;TZID=Europe/London:20270520T184500
DTSTAMP:20260421T201143
CREATED:20240424T184458Z
LAST-MODIFIED:20241219T091149Z
UID:10015967-1810830600-1810838700@swanscombeandgreenhithetowncouncil.gov.uk
SUMMARY:Walk Tall - Drama Project for young people
DESCRIPTION:
URL:https://swanscombeandgreenhithetowncouncil.gov.uk/event/walk-tall-drama-project-for-young-people-2-2/2027-05-20/
LOCATION:Heritage Community Hall\, 22 Craylands Ln\, Swanscombe DA10 0LP\, United Kingdom\, United Kingdom
CATEGORIES:Community Event
ATTACH;FMTTYPE=image/jpeg:https://swanscombeandgreenhithetowncouncil.gov.uk/wp-content/uploads/2023/02/93.2023-new-project-Thursdays.jpg
ORGANIZER;CN="Walk Tall":MAILTO:arts@walk-tall.org.uk
END:VEVENT
BEGIN:VEVENT
DTSTART;TZID=Europe/London:20270527T163000
DTEND;TZID=Europe/London:20270527T184500
DTSTAMP:20260421T201143
CREATED:20240424T184458Z
LAST-MODIFIED:20241219T091149Z
UID:10015968-1811435400-1811443500@swanscombeandgreenhithetowncouncil.gov.uk
SUMMARY:Walk Tall - Drama Project for young people
DESCRIPTION:
URL:https://swanscombeandgreenhithetowncouncil.gov.uk/event/walk-tall-drama-project-for-young-people-2-2/2027-05-27/
LOCATION:Heritage Community Hall\, 22 Craylands Ln\, Swanscombe DA10 0LP\, United Kingdom\, United Kingdom
CATEGORIES:Community Event
ATTACH;FMTTYPE=image/jpeg:https://swanscombeandgreenhithetowncouncil.gov.uk/wp-content/uploads/2023/02/93.2023-new-project-Thursdays.jpg
ORGANIZER;CN="Walk Tall":MAILTO:arts@walk-tall.org.uk
END:VEVENT
BEGIN:VEVENT
DTSTART;TZID=Europe/London:20270603T163000
DTEND;TZID=Europe/London:20270603T184500
DTSTAMP:20260421T201143
CREATED:20240424T184458Z
LAST-MODIFIED:20241219T091149Z
UID:10015969-1812040200-1812048300@swanscombeandgreenhithetowncouncil.gov.uk
SUMMARY:Walk Tall - Drama Project for young people
DESCRIPTION:
URL:https://swanscombeandgreenhithetowncouncil.gov.uk/event/walk-tall-drama-project-for-young-people-2-2/2027-06-03/
LOCATION:Heritage Community Hall\, 22 Craylands Ln\, Swanscombe DA10 0LP\, United Kingdom\, United Kingdom
CATEGORIES:Community Event
ATTACH;FMTTYPE=image/jpeg:https://swanscombeandgreenhithetowncouncil.gov.uk/wp-content/uploads/2023/02/93.2023-new-project-Thursdays.jpg
ORGANIZER;CN="Walk Tall":MAILTO:arts@walk-tall.org.uk
END:VEVENT
BEGIN:VEVENT
DTSTART;TZID=Europe/London:20270610T163000
DTEND;TZID=Europe/London:20270610T184500
DTSTAMP:20260421T201143
CREATED:20240424T184458Z
LAST-MODIFIED:20241219T091149Z
UID:10015970-1812645000-1812653100@swanscombeandgreenhithetowncouncil.gov.uk
SUMMARY:Walk Tall - Drama Project for young people
DESCRIPTION:
URL:https://swanscombeandgreenhithetowncouncil.gov.uk/event/walk-tall-drama-project-for-young-people-2-2/2027-06-10/
LOCATION:Heritage Community Hall\, 22 Craylands Ln\, Swanscombe DA10 0LP\, United Kingdom\, United Kingdom
CATEGORIES:Community Event
ATTACH;FMTTYPE=image/jpeg:https://swanscombeandgreenhithetowncouncil.gov.uk/wp-content/uploads/2023/02/93.2023-new-project-Thursdays.jpg
ORGANIZER;CN="Walk Tall":MAILTO:arts@walk-tall.org.uk
END:VEVENT
BEGIN:VEVENT
DTSTART;TZID=Europe/London:20270617T163000
DTEND;TZID=Europe/London:20270617T184500
DTSTAMP:20260421T201143
CREATED:20240424T184458Z
LAST-MODIFIED:20241219T091149Z
UID:10015971-1813249800-1813257900@swanscombeandgreenhithetowncouncil.gov.uk
SUMMARY:Walk Tall - Drama Project for young people
DESCRIPTION:
URL:https://swanscombeandgreenhithetowncouncil.gov.uk/event/walk-tall-drama-project-for-young-people-2-2/2027-06-17/
LOCATION:Heritage Community Hall\, 22 Craylands Ln\, Swanscombe DA10 0LP\, United Kingdom\, United Kingdom
CATEGORIES:Community Event
ATTACH;FMTTYPE=image/jpeg:https://swanscombeandgreenhithetowncouncil.gov.uk/wp-content/uploads/2023/02/93.2023-new-project-Thursdays.jpg
ORGANIZER;CN="Walk Tall":MAILTO:arts@walk-tall.org.uk
END:VEVENT
BEGIN:VEVENT
DTSTART;TZID=Europe/London:20270624T163000
DTEND;TZID=Europe/London:20270624T184500
DTSTAMP:20260421T201143
CREATED:20240424T184458Z
LAST-MODIFIED:20241219T091149Z
UID:10015972-1813854600-1813862700@swanscombeandgreenhithetowncouncil.gov.uk
SUMMARY:Walk Tall - Drama Project for young people
DESCRIPTION:
URL:https://swanscombeandgreenhithetowncouncil.gov.uk/event/walk-tall-drama-project-for-young-people-2-2/2027-06-24/
LOCATION:Heritage Community Hall\, 22 Craylands Ln\, Swanscombe DA10 0LP\, United Kingdom\, United Kingdom
CATEGORIES:Community Event
ATTACH;FMTTYPE=image/jpeg:https://swanscombeandgreenhithetowncouncil.gov.uk/wp-content/uploads/2023/02/93.2023-new-project-Thursdays.jpg
ORGANIZER;CN="Walk Tall":MAILTO:arts@walk-tall.org.uk
END:VEVENT
BEGIN:VEVENT
DTSTART;TZID=Europe/London:20270701T163000
DTEND;TZID=Europe/London:20270701T184500
DTSTAMP:20260421T201143
CREATED:20240424T184458Z
LAST-MODIFIED:20241219T091149Z
UID:10015973-1814459400-1814467500@swanscombeandgreenhithetowncouncil.gov.uk
SUMMARY:Walk Tall - Drama Project for young people
DESCRIPTION:
URL:https://swanscombeandgreenhithetowncouncil.gov.uk/event/walk-tall-drama-project-for-young-people-2-2/2027-07-01/
LOCATION:Heritage Community Hall\, 22 Craylands Ln\, Swanscombe DA10 0LP\, United Kingdom\, United Kingdom
CATEGORIES:Community Event
ATTACH;FMTTYPE=image/jpeg:https://swanscombeandgreenhithetowncouncil.gov.uk/wp-content/uploads/2023/02/93.2023-new-project-Thursdays.jpg
ORGANIZER;CN="Walk Tall":MAILTO:arts@walk-tall.org.uk
END:VEVENT
BEGIN:VEVENT
DTSTART;TZID=Europe/London:20270708T163000
DTEND;TZID=Europe/London:20270708T184500
DTSTAMP:20260421T201143
CREATED:20240424T184458Z
LAST-MODIFIED:20241219T091149Z
UID:10015974-1815064200-1815072300@swanscombeandgreenhithetowncouncil.gov.uk
SUMMARY:Walk Tall - Drama Project for young people
DESCRIPTION:
URL:https://swanscombeandgreenhithetowncouncil.gov.uk/event/walk-tall-drama-project-for-young-people-2-2/2027-07-08/
LOCATION:Heritage Community Hall\, 22 Craylands Ln\, Swanscombe DA10 0LP\, United Kingdom\, United Kingdom
CATEGORIES:Community Event
ATTACH;FMTTYPE=image/jpeg:https://swanscombeandgreenhithetowncouncil.gov.uk/wp-content/uploads/2023/02/93.2023-new-project-Thursdays.jpg
ORGANIZER;CN="Walk Tall":MAILTO:arts@walk-tall.org.uk
END:VEVENT
BEGIN:VEVENT
DTSTART;TZID=Europe/London:20270715T163000
DTEND;TZID=Europe/London:20270715T184500
DTSTAMP:20260421T201143
CREATED:20240424T184458Z
LAST-MODIFIED:20241219T091149Z
UID:10015975-1815669000-1815677100@swanscombeandgreenhithetowncouncil.gov.uk
SUMMARY:Walk Tall - Drama Project for young people
DESCRIPTION:
URL:https://swanscombeandgreenhithetowncouncil.gov.uk/event/walk-tall-drama-project-for-young-people-2-2/2027-07-15/
LOCATION:Heritage Community Hall\, 22 Craylands Ln\, Swanscombe DA10 0LP\, United Kingdom\, United Kingdom
CATEGORIES:Community Event
ATTACH;FMTTYPE=image/jpeg:https://swanscombeandgreenhithetowncouncil.gov.uk/wp-content/uploads/2023/02/93.2023-new-project-Thursdays.jpg
ORGANIZER;CN="Walk Tall":MAILTO:arts@walk-tall.org.uk
END:VEVENT
BEGIN:VEVENT
DTSTART;TZID=Europe/London:20270722T163000
DTEND;TZID=Europe/London:20270722T184500
DTSTAMP:20260421T201143
CREATED:20240424T184458Z
LAST-MODIFIED:20241219T091149Z
UID:10015976-1816273800-1816281900@swanscombeandgreenhithetowncouncil.gov.uk
SUMMARY:Walk Tall - Drama Project for young people
DESCRIPTION:
URL:https://swanscombeandgreenhithetowncouncil.gov.uk/event/walk-tall-drama-project-for-young-people-2-2/2027-07-22/
LOCATION:Heritage Community Hall\, 22 Craylands Ln\, Swanscombe DA10 0LP\, United Kingdom\, United Kingdom
CATEGORIES:Community Event
ATTACH;FMTTYPE=image/jpeg:https://swanscombeandgreenhithetowncouncil.gov.uk/wp-content/uploads/2023/02/93.2023-new-project-Thursdays.jpg
ORGANIZER;CN="Walk Tall":MAILTO:arts@walk-tall.org.uk
END:VEVENT
END:VCALENDAR