BEGIN:VCALENDAR
VERSION:2.0
PRODID:-//Swanscombe and Greenhithe Town Council - ECPv6.15.20//NONSGML v1.0//EN
CALSCALE:GREGORIAN
METHOD:PUBLISH
X-ORIGINAL-URL:https://swanscombeandgreenhithetowncouncil.gov.uk
X-WR-CALDESC:Events for Swanscombe and Greenhithe Town Council
REFRESH-INTERVAL;VALUE=DURATION:PT1H
X-Robots-Tag:noindex
X-PUBLISHED-TTL:PT1H
BEGIN:VTIMEZONE
TZID:Europe/London
BEGIN:DAYLIGHT
TZOFFSETFROM:+0000
TZOFFSETTO:+0100
TZNAME:BST
DTSTART:20260329T010000
END:DAYLIGHT
BEGIN:STANDARD
TZOFFSETFROM:+0100
TZOFFSETTO:+0000
TZNAME:GMT
DTSTART:20261025T010000
END:STANDARD
BEGIN:DAYLIGHT
TZOFFSETFROM:+0000
TZOFFSETTO:+0100
TZNAME:BST
DTSTART:20270328T010000
END:DAYLIGHT
BEGIN:STANDARD
TZOFFSETFROM:+0100
TZOFFSETTO:+0000
TZNAME:GMT
DTSTART:20271031T010000
END:STANDARD
BEGIN:DAYLIGHT
TZOFFSETFROM:+0000
TZOFFSETTO:+0100
TZNAME:BST
DTSTART:20280326T010000
END:DAYLIGHT
BEGIN:STANDARD
TZOFFSETFROM:+0100
TZOFFSETTO:+0000
TZNAME:GMT
DTSTART:20281029T010000
END:STANDARD
BEGIN:DAYLIGHT
TZOFFSETFROM:+0000
TZOFFSETTO:+0100
TZNAME:BST
DTSTART:20290325T010000
END:DAYLIGHT
BEGIN:STANDARD
TZOFFSETFROM:+0100
TZOFFSETTO:+0000
TZNAME:GMT
DTSTART:20291028T010000
END:STANDARD
END:VTIMEZONE
BEGIN:VEVENT
DTSTART;TZID=Europe/London:20270617T163000
DTEND;TZID=Europe/London:20270617T184500
DTSTAMP:20260421T233630
CREATED:20240424T184458Z
LAST-MODIFIED:20241219T091149Z
UID:10015971-1813249800-1813257900@swanscombeandgreenhithetowncouncil.gov.uk
SUMMARY:Walk Tall - Drama Project for young people
DESCRIPTION:
URL:https://swanscombeandgreenhithetowncouncil.gov.uk/event/walk-tall-drama-project-for-young-people-2-2/2027-06-17/
LOCATION:Heritage Community Hall\, 22 Craylands Ln\, Swanscombe DA10 0LP\, United Kingdom\, United Kingdom
CATEGORIES:Community Event
ATTACH;FMTTYPE=image/jpeg:https://swanscombeandgreenhithetowncouncil.gov.uk/wp-content/uploads/2023/02/93.2023-new-project-Thursdays.jpg
ORGANIZER;CN="Walk Tall":MAILTO:arts@walk-tall.org.uk
END:VEVENT
BEGIN:VEVENT
DTSTART;TZID=Europe/London:20270624T163000
DTEND;TZID=Europe/London:20270624T184500
DTSTAMP:20260421T233630
CREATED:20240424T184458Z
LAST-MODIFIED:20241219T091149Z
UID:10015972-1813854600-1813862700@swanscombeandgreenhithetowncouncil.gov.uk
SUMMARY:Walk Tall - Drama Project for young people
DESCRIPTION:
URL:https://swanscombeandgreenhithetowncouncil.gov.uk/event/walk-tall-drama-project-for-young-people-2-2/2027-06-24/
LOCATION:Heritage Community Hall\, 22 Craylands Ln\, Swanscombe DA10 0LP\, United Kingdom\, United Kingdom
CATEGORIES:Community Event
ATTACH;FMTTYPE=image/jpeg:https://swanscombeandgreenhithetowncouncil.gov.uk/wp-content/uploads/2023/02/93.2023-new-project-Thursdays.jpg
ORGANIZER;CN="Walk Tall":MAILTO:arts@walk-tall.org.uk
END:VEVENT
BEGIN:VEVENT
DTSTART;TZID=Europe/London:20270701T163000
DTEND;TZID=Europe/London:20270701T184500
DTSTAMP:20260421T233630
CREATED:20240424T184458Z
LAST-MODIFIED:20241219T091149Z
UID:10015973-1814459400-1814467500@swanscombeandgreenhithetowncouncil.gov.uk
SUMMARY:Walk Tall - Drama Project for young people
DESCRIPTION:
URL:https://swanscombeandgreenhithetowncouncil.gov.uk/event/walk-tall-drama-project-for-young-people-2-2/2027-07-01/
LOCATION:Heritage Community Hall\, 22 Craylands Ln\, Swanscombe DA10 0LP\, United Kingdom\, United Kingdom
CATEGORIES:Community Event
ATTACH;FMTTYPE=image/jpeg:https://swanscombeandgreenhithetowncouncil.gov.uk/wp-content/uploads/2023/02/93.2023-new-project-Thursdays.jpg
ORGANIZER;CN="Walk Tall":MAILTO:arts@walk-tall.org.uk
END:VEVENT
BEGIN:VEVENT
DTSTART;TZID=Europe/London:20270708T163000
DTEND;TZID=Europe/London:20270708T184500
DTSTAMP:20260421T233630
CREATED:20240424T184458Z
LAST-MODIFIED:20241219T091149Z
UID:10015974-1815064200-1815072300@swanscombeandgreenhithetowncouncil.gov.uk
SUMMARY:Walk Tall - Drama Project for young people
DESCRIPTION:
URL:https://swanscombeandgreenhithetowncouncil.gov.uk/event/walk-tall-drama-project-for-young-people-2-2/2027-07-08/
LOCATION:Heritage Community Hall\, 22 Craylands Ln\, Swanscombe DA10 0LP\, United Kingdom\, United Kingdom
CATEGORIES:Community Event
ATTACH;FMTTYPE=image/jpeg:https://swanscombeandgreenhithetowncouncil.gov.uk/wp-content/uploads/2023/02/93.2023-new-project-Thursdays.jpg
ORGANIZER;CN="Walk Tall":MAILTO:arts@walk-tall.org.uk
END:VEVENT
BEGIN:VEVENT
DTSTART;TZID=Europe/London:20270715T163000
DTEND;TZID=Europe/London:20270715T184500
DTSTAMP:20260421T233630
CREATED:20240424T184458Z
LAST-MODIFIED:20241219T091149Z
UID:10015975-1815669000-1815677100@swanscombeandgreenhithetowncouncil.gov.uk
SUMMARY:Walk Tall - Drama Project for young people
DESCRIPTION:
URL:https://swanscombeandgreenhithetowncouncil.gov.uk/event/walk-tall-drama-project-for-young-people-2-2/2027-07-15/
LOCATION:Heritage Community Hall\, 22 Craylands Ln\, Swanscombe DA10 0LP\, United Kingdom\, United Kingdom
CATEGORIES:Community Event
ATTACH;FMTTYPE=image/jpeg:https://swanscombeandgreenhithetowncouncil.gov.uk/wp-content/uploads/2023/02/93.2023-new-project-Thursdays.jpg
ORGANIZER;CN="Walk Tall":MAILTO:arts@walk-tall.org.uk
END:VEVENT
BEGIN:VEVENT
DTSTART;TZID=Europe/London:20270722T163000
DTEND;TZID=Europe/London:20270722T184500
DTSTAMP:20260421T233630
CREATED:20240424T184458Z
LAST-MODIFIED:20241219T091149Z
UID:10015976-1816273800-1816281900@swanscombeandgreenhithetowncouncil.gov.uk
SUMMARY:Walk Tall - Drama Project for young people
DESCRIPTION:
URL:https://swanscombeandgreenhithetowncouncil.gov.uk/event/walk-tall-drama-project-for-young-people-2-2/2027-07-22/
LOCATION:Heritage Community Hall\, 22 Craylands Ln\, Swanscombe DA10 0LP\, United Kingdom\, United Kingdom
CATEGORIES:Community Event
ATTACH;FMTTYPE=image/jpeg:https://swanscombeandgreenhithetowncouncil.gov.uk/wp-content/uploads/2023/02/93.2023-new-project-Thursdays.jpg
ORGANIZER;CN="Walk Tall":MAILTO:arts@walk-tall.org.uk
END:VEVENT
BEGIN:VEVENT
DTSTART;TZID=Europe/London:20270729T163000
DTEND;TZID=Europe/London:20270729T184500
DTSTAMP:20260421T233630
CREATED:20240424T184458Z
LAST-MODIFIED:20241219T091149Z
UID:10015977-1816878600-1816886700@swanscombeandgreenhithetowncouncil.gov.uk
SUMMARY:Walk Tall - Drama Project for young people
DESCRIPTION:
URL:https://swanscombeandgreenhithetowncouncil.gov.uk/event/walk-tall-drama-project-for-young-people-2-2/2027-07-29/
LOCATION:Heritage Community Hall\, 22 Craylands Ln\, Swanscombe DA10 0LP\, United Kingdom\, United Kingdom
CATEGORIES:Community Event
ATTACH;FMTTYPE=image/jpeg:https://swanscombeandgreenhithetowncouncil.gov.uk/wp-content/uploads/2023/02/93.2023-new-project-Thursdays.jpg
ORGANIZER;CN="Walk Tall":MAILTO:arts@walk-tall.org.uk
END:VEVENT
BEGIN:VEVENT
DTSTART;TZID=Europe/London:20270805T163000
DTEND;TZID=Europe/London:20270805T184500
DTSTAMP:20260421T233630
CREATED:20240424T184458Z
LAST-MODIFIED:20241219T091149Z
UID:10015978-1817483400-1817491500@swanscombeandgreenhithetowncouncil.gov.uk
SUMMARY:Walk Tall - Drama Project for young people
DESCRIPTION:
URL:https://swanscombeandgreenhithetowncouncil.gov.uk/event/walk-tall-drama-project-for-young-people-2-2/2027-08-05/
LOCATION:Heritage Community Hall\, 22 Craylands Ln\, Swanscombe DA10 0LP\, United Kingdom\, United Kingdom
CATEGORIES:Community Event
ATTACH;FMTTYPE=image/jpeg:https://swanscombeandgreenhithetowncouncil.gov.uk/wp-content/uploads/2023/02/93.2023-new-project-Thursdays.jpg
ORGANIZER;CN="Walk Tall":MAILTO:arts@walk-tall.org.uk
END:VEVENT
BEGIN:VEVENT
DTSTART;TZID=Europe/London:20270812T163000
DTEND;TZID=Europe/London:20270812T184500
DTSTAMP:20260421T233630
CREATED:20240424T184458Z
LAST-MODIFIED:20241219T091149Z
UID:10015979-1818088200-1818096300@swanscombeandgreenhithetowncouncil.gov.uk
SUMMARY:Walk Tall - Drama Project for young people
DESCRIPTION:
URL:https://swanscombeandgreenhithetowncouncil.gov.uk/event/walk-tall-drama-project-for-young-people-2-2/2027-08-12/
LOCATION:Heritage Community Hall\, 22 Craylands Ln\, Swanscombe DA10 0LP\, United Kingdom\, United Kingdom
CATEGORIES:Community Event
ATTACH;FMTTYPE=image/jpeg:https://swanscombeandgreenhithetowncouncil.gov.uk/wp-content/uploads/2023/02/93.2023-new-project-Thursdays.jpg
ORGANIZER;CN="Walk Tall":MAILTO:arts@walk-tall.org.uk
END:VEVENT
BEGIN:VEVENT
DTSTART;TZID=Europe/London:20270819T163000
DTEND;TZID=Europe/London:20270819T184500
DTSTAMP:20260421T233630
CREATED:20240424T184458Z
LAST-MODIFIED:20241219T091149Z
UID:10015980-1818693000-1818701100@swanscombeandgreenhithetowncouncil.gov.uk
SUMMARY:Walk Tall - Drama Project for young people
DESCRIPTION:
URL:https://swanscombeandgreenhithetowncouncil.gov.uk/event/walk-tall-drama-project-for-young-people-2-2/2027-08-19/
LOCATION:Heritage Community Hall\, 22 Craylands Ln\, Swanscombe DA10 0LP\, United Kingdom\, United Kingdom
CATEGORIES:Community Event
ATTACH;FMTTYPE=image/jpeg:https://swanscombeandgreenhithetowncouncil.gov.uk/wp-content/uploads/2023/02/93.2023-new-project-Thursdays.jpg
ORGANIZER;CN="Walk Tall":MAILTO:arts@walk-tall.org.uk
END:VEVENT
BEGIN:VEVENT
DTSTART;TZID=Europe/London:20270826T163000
DTEND;TZID=Europe/London:20270826T184500
DTSTAMP:20260421T233630
CREATED:20240424T184458Z
LAST-MODIFIED:20241219T091149Z
UID:10015981-1819297800-1819305900@swanscombeandgreenhithetowncouncil.gov.uk
SUMMARY:Walk Tall - Drama Project for young people
DESCRIPTION:
URL:https://swanscombeandgreenhithetowncouncil.gov.uk/event/walk-tall-drama-project-for-young-people-2-2/2027-08-26/
LOCATION:Heritage Community Hall\, 22 Craylands Ln\, Swanscombe DA10 0LP\, United Kingdom\, United Kingdom
CATEGORIES:Community Event
ATTACH;FMTTYPE=image/jpeg:https://swanscombeandgreenhithetowncouncil.gov.uk/wp-content/uploads/2023/02/93.2023-new-project-Thursdays.jpg
ORGANIZER;CN="Walk Tall":MAILTO:arts@walk-tall.org.uk
END:VEVENT
BEGIN:VEVENT
DTSTART;TZID=Europe/London:20270902T163000
DTEND;TZID=Europe/London:20270902T184500
DTSTAMP:20260421T233630
CREATED:20240424T184458Z
LAST-MODIFIED:20241219T091149Z
UID:10015982-1819902600-1819910700@swanscombeandgreenhithetowncouncil.gov.uk
SUMMARY:Walk Tall - Drama Project for young people
DESCRIPTION:
URL:https://swanscombeandgreenhithetowncouncil.gov.uk/event/walk-tall-drama-project-for-young-people-2-2/2027-09-02/
LOCATION:Heritage Community Hall\, 22 Craylands Ln\, Swanscombe DA10 0LP\, United Kingdom\, United Kingdom
CATEGORIES:Community Event
ATTACH;FMTTYPE=image/jpeg:https://swanscombeandgreenhithetowncouncil.gov.uk/wp-content/uploads/2023/02/93.2023-new-project-Thursdays.jpg
ORGANIZER;CN="Walk Tall":MAILTO:arts@walk-tall.org.uk
END:VEVENT
BEGIN:VEVENT
DTSTART;TZID=Europe/London:20270909T163000
DTEND;TZID=Europe/London:20270909T184500
DTSTAMP:20260421T233630
CREATED:20240424T184458Z
LAST-MODIFIED:20241219T091149Z
UID:10015983-1820507400-1820515500@swanscombeandgreenhithetowncouncil.gov.uk
SUMMARY:Walk Tall - Drama Project for young people
DESCRIPTION:
URL:https://swanscombeandgreenhithetowncouncil.gov.uk/event/walk-tall-drama-project-for-young-people-2-2/2027-09-09/
LOCATION:Heritage Community Hall\, 22 Craylands Ln\, Swanscombe DA10 0LP\, United Kingdom\, United Kingdom
CATEGORIES:Community Event
ATTACH;FMTTYPE=image/jpeg:https://swanscombeandgreenhithetowncouncil.gov.uk/wp-content/uploads/2023/02/93.2023-new-project-Thursdays.jpg
ORGANIZER;CN="Walk Tall":MAILTO:arts@walk-tall.org.uk
END:VEVENT
BEGIN:VEVENT
DTSTART;TZID=Europe/London:20270916T163000
DTEND;TZID=Europe/London:20270916T184500
DTSTAMP:20260421T233630
CREATED:20240424T184458Z
LAST-MODIFIED:20241219T091149Z
UID:10015984-1821112200-1821120300@swanscombeandgreenhithetowncouncil.gov.uk
SUMMARY:Walk Tall - Drama Project for young people
DESCRIPTION:
URL:https://swanscombeandgreenhithetowncouncil.gov.uk/event/walk-tall-drama-project-for-young-people-2-2/2027-09-16/
LOCATION:Heritage Community Hall\, 22 Craylands Ln\, Swanscombe DA10 0LP\, United Kingdom\, United Kingdom
CATEGORIES:Community Event
ATTACH;FMTTYPE=image/jpeg:https://swanscombeandgreenhithetowncouncil.gov.uk/wp-content/uploads/2023/02/93.2023-new-project-Thursdays.jpg
ORGANIZER;CN="Walk Tall":MAILTO:arts@walk-tall.org.uk
END:VEVENT
BEGIN:VEVENT
DTSTART;TZID=Europe/London:20270923T163000
DTEND;TZID=Europe/London:20270923T184500
DTSTAMP:20260421T233630
CREATED:20240424T184458Z
LAST-MODIFIED:20241219T091149Z
UID:10015985-1821717000-1821725100@swanscombeandgreenhithetowncouncil.gov.uk
SUMMARY:Walk Tall - Drama Project for young people
DESCRIPTION:
URL:https://swanscombeandgreenhithetowncouncil.gov.uk/event/walk-tall-drama-project-for-young-people-2-2/2027-09-23/
LOCATION:Heritage Community Hall\, 22 Craylands Ln\, Swanscombe DA10 0LP\, United Kingdom\, United Kingdom
CATEGORIES:Community Event
ATTACH;FMTTYPE=image/jpeg:https://swanscombeandgreenhithetowncouncil.gov.uk/wp-content/uploads/2023/02/93.2023-new-project-Thursdays.jpg
ORGANIZER;CN="Walk Tall":MAILTO:arts@walk-tall.org.uk
END:VEVENT
BEGIN:VEVENT
DTSTART;TZID=Europe/London:20270930T163000
DTEND;TZID=Europe/London:20270930T184500
DTSTAMP:20260421T233630
CREATED:20240424T184458Z
LAST-MODIFIED:20241219T091149Z
UID:10015986-1822321800-1822329900@swanscombeandgreenhithetowncouncil.gov.uk
SUMMARY:Walk Tall - Drama Project for young people
DESCRIPTION:
URL:https://swanscombeandgreenhithetowncouncil.gov.uk/event/walk-tall-drama-project-for-young-people-2-2/2027-09-30/
LOCATION:Heritage Community Hall\, 22 Craylands Ln\, Swanscombe DA10 0LP\, United Kingdom\, United Kingdom
CATEGORIES:Community Event
ATTACH;FMTTYPE=image/jpeg:https://swanscombeandgreenhithetowncouncil.gov.uk/wp-content/uploads/2023/02/93.2023-new-project-Thursdays.jpg
ORGANIZER;CN="Walk Tall":MAILTO:arts@walk-tall.org.uk
END:VEVENT
BEGIN:VEVENT
DTSTART;TZID=Europe/London:20271007T163000
DTEND;TZID=Europe/London:20271007T184500
DTSTAMP:20260421T233630
CREATED:20240424T184458Z
LAST-MODIFIED:20241219T091149Z
UID:10015987-1822926600-1822934700@swanscombeandgreenhithetowncouncil.gov.uk
SUMMARY:Walk Tall - Drama Project for young people
DESCRIPTION:
URL:https://swanscombeandgreenhithetowncouncil.gov.uk/event/walk-tall-drama-project-for-young-people-2-2/2027-10-07/
LOCATION:Heritage Community Hall\, 22 Craylands Ln\, Swanscombe DA10 0LP\, United Kingdom\, United Kingdom
CATEGORIES:Community Event
ATTACH;FMTTYPE=image/jpeg:https://swanscombeandgreenhithetowncouncil.gov.uk/wp-content/uploads/2023/02/93.2023-new-project-Thursdays.jpg
ORGANIZER;CN="Walk Tall":MAILTO:arts@walk-tall.org.uk
END:VEVENT
BEGIN:VEVENT
DTSTART;TZID=Europe/London:20271014T163000
DTEND;TZID=Europe/London:20271014T184500
DTSTAMP:20260421T233630
CREATED:20240424T184458Z
LAST-MODIFIED:20241219T091149Z
UID:10015988-1823531400-1823539500@swanscombeandgreenhithetowncouncil.gov.uk
SUMMARY:Walk Tall - Drama Project for young people
DESCRIPTION:
URL:https://swanscombeandgreenhithetowncouncil.gov.uk/event/walk-tall-drama-project-for-young-people-2-2/2027-10-14/
LOCATION:Heritage Community Hall\, 22 Craylands Ln\, Swanscombe DA10 0LP\, United Kingdom\, United Kingdom
CATEGORIES:Community Event
ATTACH;FMTTYPE=image/jpeg:https://swanscombeandgreenhithetowncouncil.gov.uk/wp-content/uploads/2023/02/93.2023-new-project-Thursdays.jpg
ORGANIZER;CN="Walk Tall":MAILTO:arts@walk-tall.org.uk
END:VEVENT
BEGIN:VEVENT
DTSTART;TZID=Europe/London:20271021T163000
DTEND;TZID=Europe/London:20271021T184500
DTSTAMP:20260421T233630
CREATED:20240424T184458Z
LAST-MODIFIED:20241219T091149Z
UID:10015989-1824136200-1824144300@swanscombeandgreenhithetowncouncil.gov.uk
SUMMARY:Walk Tall - Drama Project for young people
DESCRIPTION:
URL:https://swanscombeandgreenhithetowncouncil.gov.uk/event/walk-tall-drama-project-for-young-people-2-2/2027-10-21/
LOCATION:Heritage Community Hall\, 22 Craylands Ln\, Swanscombe DA10 0LP\, United Kingdom\, United Kingdom
CATEGORIES:Community Event
ATTACH;FMTTYPE=image/jpeg:https://swanscombeandgreenhithetowncouncil.gov.uk/wp-content/uploads/2023/02/93.2023-new-project-Thursdays.jpg
ORGANIZER;CN="Walk Tall":MAILTO:arts@walk-tall.org.uk
END:VEVENT
BEGIN:VEVENT
DTSTART;TZID=Europe/London:20271028T163000
DTEND;TZID=Europe/London:20271028T184500
DTSTAMP:20260421T233630
CREATED:20240424T184458Z
LAST-MODIFIED:20241219T091149Z
UID:10015990-1824741000-1824749100@swanscombeandgreenhithetowncouncil.gov.uk
SUMMARY:Walk Tall - Drama Project for young people
DESCRIPTION:
URL:https://swanscombeandgreenhithetowncouncil.gov.uk/event/walk-tall-drama-project-for-young-people-2-2/2027-10-28/
LOCATION:Heritage Community Hall\, 22 Craylands Ln\, Swanscombe DA10 0LP\, United Kingdom\, United Kingdom
CATEGORIES:Community Event
ATTACH;FMTTYPE=image/jpeg:https://swanscombeandgreenhithetowncouncil.gov.uk/wp-content/uploads/2023/02/93.2023-new-project-Thursdays.jpg
ORGANIZER;CN="Walk Tall":MAILTO:arts@walk-tall.org.uk
END:VEVENT
BEGIN:VEVENT
DTSTART;TZID=Europe/London:20271104T163000
DTEND;TZID=Europe/London:20271104T184500
DTSTAMP:20260421T233630
CREATED:20240424T184458Z
LAST-MODIFIED:20241219T091149Z
UID:10015991-1825345800-1825353900@swanscombeandgreenhithetowncouncil.gov.uk
SUMMARY:Walk Tall - Drama Project for young people
DESCRIPTION:
URL:https://swanscombeandgreenhithetowncouncil.gov.uk/event/walk-tall-drama-project-for-young-people-2-2/2027-11-04/
LOCATION:Heritage Community Hall\, 22 Craylands Ln\, Swanscombe DA10 0LP\, United Kingdom\, United Kingdom
CATEGORIES:Community Event
ATTACH;FMTTYPE=image/jpeg:https://swanscombeandgreenhithetowncouncil.gov.uk/wp-content/uploads/2023/02/93.2023-new-project-Thursdays.jpg
ORGANIZER;CN="Walk Tall":MAILTO:arts@walk-tall.org.uk
END:VEVENT
BEGIN:VEVENT
DTSTART;TZID=Europe/London:20271111T163000
DTEND;TZID=Europe/London:20271111T184500
DTSTAMP:20260421T233631
CREATED:20240424T184458Z
LAST-MODIFIED:20241219T091149Z
UID:10015992-1825950600-1825958700@swanscombeandgreenhithetowncouncil.gov.uk
SUMMARY:Walk Tall - Drama Project for young people
DESCRIPTION:
URL:https://swanscombeandgreenhithetowncouncil.gov.uk/event/walk-tall-drama-project-for-young-people-2-2/2027-11-11/
LOCATION:Heritage Community Hall\, 22 Craylands Ln\, Swanscombe DA10 0LP\, United Kingdom\, United Kingdom
CATEGORIES:Community Event
ATTACH;FMTTYPE=image/jpeg:https://swanscombeandgreenhithetowncouncil.gov.uk/wp-content/uploads/2023/02/93.2023-new-project-Thursdays.jpg
ORGANIZER;CN="Walk Tall":MAILTO:arts@walk-tall.org.uk
END:VEVENT
BEGIN:VEVENT
DTSTART;TZID=Europe/London:20271118T163000
DTEND;TZID=Europe/London:20271118T184500
DTSTAMP:20260421T233631
CREATED:20240424T184458Z
LAST-MODIFIED:20241219T091149Z
UID:10015993-1826555400-1826563500@swanscombeandgreenhithetowncouncil.gov.uk
SUMMARY:Walk Tall - Drama Project for young people
DESCRIPTION:
URL:https://swanscombeandgreenhithetowncouncil.gov.uk/event/walk-tall-drama-project-for-young-people-2-2/2027-11-18/
LOCATION:Heritage Community Hall\, 22 Craylands Ln\, Swanscombe DA10 0LP\, United Kingdom\, United Kingdom
CATEGORIES:Community Event
ATTACH;FMTTYPE=image/jpeg:https://swanscombeandgreenhithetowncouncil.gov.uk/wp-content/uploads/2023/02/93.2023-new-project-Thursdays.jpg
ORGANIZER;CN="Walk Tall":MAILTO:arts@walk-tall.org.uk
END:VEVENT
BEGIN:VEVENT
DTSTART;TZID=Europe/London:20271125T163000
DTEND;TZID=Europe/London:20271125T184500
DTSTAMP:20260421T233631
CREATED:20240424T184458Z
LAST-MODIFIED:20241219T091149Z
UID:10015994-1827160200-1827168300@swanscombeandgreenhithetowncouncil.gov.uk
SUMMARY:Walk Tall - Drama Project for young people
DESCRIPTION:
URL:https://swanscombeandgreenhithetowncouncil.gov.uk/event/walk-tall-drama-project-for-young-people-2-2/2027-11-25/
LOCATION:Heritage Community Hall\, 22 Craylands Ln\, Swanscombe DA10 0LP\, United Kingdom\, United Kingdom
CATEGORIES:Community Event
ATTACH;FMTTYPE=image/jpeg:https://swanscombeandgreenhithetowncouncil.gov.uk/wp-content/uploads/2023/02/93.2023-new-project-Thursdays.jpg
ORGANIZER;CN="Walk Tall":MAILTO:arts@walk-tall.org.uk
END:VEVENT
BEGIN:VEVENT
DTSTART;TZID=Europe/London:20271202T163000
DTEND;TZID=Europe/London:20271202T184500
DTSTAMP:20260421T233631
CREATED:20240424T184458Z
LAST-MODIFIED:20241219T091149Z
UID:10015995-1827765000-1827773100@swanscombeandgreenhithetowncouncil.gov.uk
SUMMARY:Walk Tall - Drama Project for young people
DESCRIPTION:
URL:https://swanscombeandgreenhithetowncouncil.gov.uk/event/walk-tall-drama-project-for-young-people-2-2/2027-12-02/
LOCATION:Heritage Community Hall\, 22 Craylands Ln\, Swanscombe DA10 0LP\, United Kingdom\, United Kingdom
CATEGORIES:Community Event
ATTACH;FMTTYPE=image/jpeg:https://swanscombeandgreenhithetowncouncil.gov.uk/wp-content/uploads/2023/02/93.2023-new-project-Thursdays.jpg
ORGANIZER;CN="Walk Tall":MAILTO:arts@walk-tall.org.uk
END:VEVENT
BEGIN:VEVENT
DTSTART;TZID=Europe/London:20271209T163000
DTEND;TZID=Europe/London:20271209T184500
DTSTAMP:20260421T233631
CREATED:20240424T184458Z
LAST-MODIFIED:20241219T091149Z
UID:10015996-1828369800-1828377900@swanscombeandgreenhithetowncouncil.gov.uk
SUMMARY:Walk Tall - Drama Project for young people
DESCRIPTION:
URL:https://swanscombeandgreenhithetowncouncil.gov.uk/event/walk-tall-drama-project-for-young-people-2-2/2027-12-09/
LOCATION:Heritage Community Hall\, 22 Craylands Ln\, Swanscombe DA10 0LP\, United Kingdom\, United Kingdom
CATEGORIES:Community Event
ATTACH;FMTTYPE=image/jpeg:https://swanscombeandgreenhithetowncouncil.gov.uk/wp-content/uploads/2023/02/93.2023-new-project-Thursdays.jpg
ORGANIZER;CN="Walk Tall":MAILTO:arts@walk-tall.org.uk
END:VEVENT
BEGIN:VEVENT
DTSTART;TZID=Europe/London:20271216T163000
DTEND;TZID=Europe/London:20271216T184500
DTSTAMP:20260421T233631
CREATED:20240424T184458Z
LAST-MODIFIED:20241219T091149Z
UID:10015997-1828974600-1828982700@swanscombeandgreenhithetowncouncil.gov.uk
SUMMARY:Walk Tall - Drama Project for young people
DESCRIPTION:
URL:https://swanscombeandgreenhithetowncouncil.gov.uk/event/walk-tall-drama-project-for-young-people-2-2/2027-12-16/
LOCATION:Heritage Community Hall\, 22 Craylands Ln\, Swanscombe DA10 0LP\, United Kingdom\, United Kingdom
CATEGORIES:Community Event
ATTACH;FMTTYPE=image/jpeg:https://swanscombeandgreenhithetowncouncil.gov.uk/wp-content/uploads/2023/02/93.2023-new-project-Thursdays.jpg
ORGANIZER;CN="Walk Tall":MAILTO:arts@walk-tall.org.uk
END:VEVENT
BEGIN:VEVENT
DTSTART;TZID=Europe/London:20271223T163000
DTEND;TZID=Europe/London:20271223T184500
DTSTAMP:20260421T233631
CREATED:20240424T184458Z
LAST-MODIFIED:20241219T091149Z
UID:10015998-1829579400-1829587500@swanscombeandgreenhithetowncouncil.gov.uk
SUMMARY:Walk Tall - Drama Project for young people
DESCRIPTION:
URL:https://swanscombeandgreenhithetowncouncil.gov.uk/event/walk-tall-drama-project-for-young-people-2-2/2027-12-23/
LOCATION:Heritage Community Hall\, 22 Craylands Ln\, Swanscombe DA10 0LP\, United Kingdom\, United Kingdom
CATEGORIES:Community Event
ATTACH;FMTTYPE=image/jpeg:https://swanscombeandgreenhithetowncouncil.gov.uk/wp-content/uploads/2023/02/93.2023-new-project-Thursdays.jpg
ORGANIZER;CN="Walk Tall":MAILTO:arts@walk-tall.org.uk
END:VEVENT
BEGIN:VEVENT
DTSTART;TZID=Europe/London:20271230T163000
DTEND;TZID=Europe/London:20271230T184500
DTSTAMP:20260421T233631
CREATED:20240424T184458Z
LAST-MODIFIED:20241219T091149Z
UID:10015999-1830184200-1830192300@swanscombeandgreenhithetowncouncil.gov.uk
SUMMARY:Walk Tall - Drama Project for young people
DESCRIPTION:
URL:https://swanscombeandgreenhithetowncouncil.gov.uk/event/walk-tall-drama-project-for-young-people-2-2/2027-12-30/
LOCATION:Heritage Community Hall\, 22 Craylands Ln\, Swanscombe DA10 0LP\, United Kingdom\, United Kingdom
CATEGORIES:Community Event
ATTACH;FMTTYPE=image/jpeg:https://swanscombeandgreenhithetowncouncil.gov.uk/wp-content/uploads/2023/02/93.2023-new-project-Thursdays.jpg
ORGANIZER;CN="Walk Tall":MAILTO:arts@walk-tall.org.uk
END:VEVENT
BEGIN:VEVENT
DTSTART;TZID=Europe/London:20280106T163000
DTEND;TZID=Europe/London:20280106T184500
DTSTAMP:20260421T233631
CREATED:20240424T184458Z
LAST-MODIFIED:20241219T091149Z
UID:10016000-1830789000-1830797100@swanscombeandgreenhithetowncouncil.gov.uk
SUMMARY:Walk Tall - Drama Project for young people
DESCRIPTION:
URL:https://swanscombeandgreenhithetowncouncil.gov.uk/event/walk-tall-drama-project-for-young-people-2-2/2028-01-06/
LOCATION:Heritage Community Hall\, 22 Craylands Ln\, Swanscombe DA10 0LP\, United Kingdom\, United Kingdom
CATEGORIES:Community Event
ATTACH;FMTTYPE=image/jpeg:https://swanscombeandgreenhithetowncouncil.gov.uk/wp-content/uploads/2023/02/93.2023-new-project-Thursdays.jpg
ORGANIZER;CN="Walk Tall":MAILTO:arts@walk-tall.org.uk
END:VEVENT
END:VCALENDAR