BEGIN:VCALENDAR
VERSION:2.0
PRODID:-//Swanscombe and Greenhithe Town Council - ECPv6.15.20//NONSGML v1.0//EN
CALSCALE:GREGORIAN
METHOD:PUBLISH
X-WR-CALNAME:Swanscombe and Greenhithe Town Council
X-ORIGINAL-URL:https://swanscombeandgreenhithetowncouncil.gov.uk
X-WR-CALDESC:Events for Swanscombe and Greenhithe Town Council
REFRESH-INTERVAL;VALUE=DURATION:PT1H
X-Robots-Tag:noindex
X-PUBLISHED-TTL:PT1H
BEGIN:VTIMEZONE
TZID:Europe/London
BEGIN:DAYLIGHT
TZOFFSETFROM:+0000
TZOFFSETTO:+0100
TZNAME:BST
DTSTART:20260329T010000
END:DAYLIGHT
BEGIN:STANDARD
TZOFFSETFROM:+0100
TZOFFSETTO:+0000
TZNAME:GMT
DTSTART:20261025T010000
END:STANDARD
BEGIN:DAYLIGHT
TZOFFSETFROM:+0000
TZOFFSETTO:+0100
TZNAME:BST
DTSTART:20270328T010000
END:DAYLIGHT
BEGIN:STANDARD
TZOFFSETFROM:+0100
TZOFFSETTO:+0000
TZNAME:GMT
DTSTART:20271031T010000
END:STANDARD
BEGIN:DAYLIGHT
TZOFFSETFROM:+0000
TZOFFSETTO:+0100
TZNAME:BST
DTSTART:20280326T010000
END:DAYLIGHT
BEGIN:STANDARD
TZOFFSETFROM:+0100
TZOFFSETTO:+0000
TZNAME:GMT
DTSTART:20281029T010000
END:STANDARD
END:VTIMEZONE
BEGIN:VEVENT
DTSTART;TZID=Europe/London:20270224T190000
DTEND;TZID=Europe/London:20270224T203000
DTSTAMP:20260422T070707
CREATED:20240313T013529Z
LAST-MODIFIED:20241219T090853Z
UID:10010669-1803495600-1803501000@swanscombeandgreenhithetowncouncil.gov.uk
SUMMARY:Scouts are Back - Cubs on Wednesdays
DESCRIPTION:
URL:https://swanscombeandgreenhithetowncouncil.gov.uk/event/scouts-are-back-cubs-on-wednesdays-2/2027-02-24/
LOCATION:1st Galley Hill Scout Group\, 0HJ\, 110 Church Rd\, Swanscombe DA10 0HJ\, United Kingdom\, United Kingdom
CATEGORIES:Sports & Recreation Group
ATTACH;FMTTYPE=image/jpeg:https://swanscombeandgreenhithetowncouncil.gov.uk/wp-content/uploads/2021/12/57.2021-Scouts-are-back-30-Nov.jpg
ORGANIZER;CN="Rob Weller":MAILTO:info@1stgalleyhillscouts.org.uk
END:VEVENT
BEGIN:VEVENT
DTSTART;TZID=Europe/London:20270226T193000
DTEND;TZID=Europe/London:20270226T213000
DTSTAMP:20260422T070707
CREATED:20211202T145121Z
LAST-MODIFIED:20240313T013914Z
UID:10020110-1803670200-1803677400@swanscombeandgreenhithetowncouncil.gov.uk
SUMMARY:Scouts are Back - Scouts on Fridays
DESCRIPTION:
URL:https://swanscombeandgreenhithetowncouncil.gov.uk/event/scouts-are-back-scouts-on-fridays-2/2027-02-26/
LOCATION:1st Galley Hill Scout Group\, 0HJ\, 110 Church Rd\, Swanscombe DA10 0HJ\, United Kingdom\, United Kingdom
CATEGORIES:Sports & Recreation Group
ATTACH;FMTTYPE=image/jpeg:https://swanscombeandgreenhithetowncouncil.gov.uk/wp-content/uploads/2021/12/57.2021-Scouts-are-back-30-Nov.jpg
ORGANIZER;CN="Rob Weller":MAILTO:info@1stgalleyhillscouts.org.uk
END:VEVENT
BEGIN:VEVENT
DTSTART;TZID=Europe/London:20270227T103000
DTEND;TZID=Europe/London:20270227T120000
DTSTAMP:20260422T070707
CREATED:20240313T013714Z
LAST-MODIFIED:20240313T013714Z
UID:10011048-1803724200-1803729600@swanscombeandgreenhithetowncouncil.gov.uk
SUMMARY:Scouts are Back - Beavers on Saturdays
DESCRIPTION:
URL:https://swanscombeandgreenhithetowncouncil.gov.uk/event/scouts-are-back-scouts-on-fridays-3/2027-02-27/
LOCATION:1st Galley Hill Scout Group\, 0HJ\, 110 Church Rd\, Swanscombe DA10 0HJ\, United Kingdom\, United Kingdom
CATEGORIES:Sports & Recreation Group
ATTACH;FMTTYPE=image/jpeg:https://swanscombeandgreenhithetowncouncil.gov.uk/wp-content/uploads/2021/12/57.2021-Scouts-are-back-30-Nov.jpg
ORGANIZER;CN="Rob Weller":MAILTO:info@1stgalleyhillscouts.org.uk
END:VEVENT
BEGIN:VEVENT
DTSTART;TZID=Europe/London:20270303T190000
DTEND;TZID=Europe/London:20270303T203000
DTSTAMP:20260422T070707
CREATED:20240313T013529Z
LAST-MODIFIED:20241219T090853Z
UID:10010670-1804100400-1804105800@swanscombeandgreenhithetowncouncil.gov.uk
SUMMARY:Scouts are Back - Cubs on Wednesdays
DESCRIPTION:
URL:https://swanscombeandgreenhithetowncouncil.gov.uk/event/scouts-are-back-cubs-on-wednesdays-2/2027-03-03/
LOCATION:1st Galley Hill Scout Group\, 0HJ\, 110 Church Rd\, Swanscombe DA10 0HJ\, United Kingdom\, United Kingdom
CATEGORIES:Sports & Recreation Group
ATTACH;FMTTYPE=image/jpeg:https://swanscombeandgreenhithetowncouncil.gov.uk/wp-content/uploads/2021/12/57.2021-Scouts-are-back-30-Nov.jpg
ORGANIZER;CN="Rob Weller":MAILTO:info@1stgalleyhillscouts.org.uk
END:VEVENT
BEGIN:VEVENT
DTSTART;TZID=Europe/London:20270305T193000
DTEND;TZID=Europe/London:20270305T213000
DTSTAMP:20260422T070707
CREATED:20211202T145121Z
LAST-MODIFIED:20240313T013914Z
UID:10020111-1804275000-1804282200@swanscombeandgreenhithetowncouncil.gov.uk
SUMMARY:Scouts are Back - Scouts on Fridays
DESCRIPTION:
URL:https://swanscombeandgreenhithetowncouncil.gov.uk/event/scouts-are-back-scouts-on-fridays-2/2027-03-05/
LOCATION:1st Galley Hill Scout Group\, 0HJ\, 110 Church Rd\, Swanscombe DA10 0HJ\, United Kingdom\, United Kingdom
CATEGORIES:Sports & Recreation Group
ATTACH;FMTTYPE=image/jpeg:https://swanscombeandgreenhithetowncouncil.gov.uk/wp-content/uploads/2021/12/57.2021-Scouts-are-back-30-Nov.jpg
ORGANIZER;CN="Rob Weller":MAILTO:info@1stgalleyhillscouts.org.uk
END:VEVENT
BEGIN:VEVENT
DTSTART;TZID=Europe/London:20270306T103000
DTEND;TZID=Europe/London:20270306T120000
DTSTAMP:20260422T070707
CREATED:20240313T013714Z
LAST-MODIFIED:20240313T013714Z
UID:10011049-1804329000-1804334400@swanscombeandgreenhithetowncouncil.gov.uk
SUMMARY:Scouts are Back - Beavers on Saturdays
DESCRIPTION:
URL:https://swanscombeandgreenhithetowncouncil.gov.uk/event/scouts-are-back-scouts-on-fridays-3/2027-03-06/
LOCATION:1st Galley Hill Scout Group\, 0HJ\, 110 Church Rd\, Swanscombe DA10 0HJ\, United Kingdom\, United Kingdom
CATEGORIES:Sports & Recreation Group
ATTACH;FMTTYPE=image/jpeg:https://swanscombeandgreenhithetowncouncil.gov.uk/wp-content/uploads/2021/12/57.2021-Scouts-are-back-30-Nov.jpg
ORGANIZER;CN="Rob Weller":MAILTO:info@1stgalleyhillscouts.org.uk
END:VEVENT
BEGIN:VEVENT
DTSTART;TZID=Europe/London:20270310T190000
DTEND;TZID=Europe/London:20270310T203000
DTSTAMP:20260422T070707
CREATED:20240313T013529Z
LAST-MODIFIED:20241219T090853Z
UID:10010671-1804705200-1804710600@swanscombeandgreenhithetowncouncil.gov.uk
SUMMARY:Scouts are Back - Cubs on Wednesdays
DESCRIPTION:
URL:https://swanscombeandgreenhithetowncouncil.gov.uk/event/scouts-are-back-cubs-on-wednesdays-2/2027-03-10/
LOCATION:1st Galley Hill Scout Group\, 0HJ\, 110 Church Rd\, Swanscombe DA10 0HJ\, United Kingdom\, United Kingdom
CATEGORIES:Sports & Recreation Group
ATTACH;FMTTYPE=image/jpeg:https://swanscombeandgreenhithetowncouncil.gov.uk/wp-content/uploads/2021/12/57.2021-Scouts-are-back-30-Nov.jpg
ORGANIZER;CN="Rob Weller":MAILTO:info@1stgalleyhillscouts.org.uk
END:VEVENT
BEGIN:VEVENT
DTSTART;TZID=Europe/London:20270312T193000
DTEND;TZID=Europe/London:20270312T213000
DTSTAMP:20260422T070707
CREATED:20211202T145121Z
LAST-MODIFIED:20240313T013914Z
UID:10020112-1804879800-1804887000@swanscombeandgreenhithetowncouncil.gov.uk
SUMMARY:Scouts are Back - Scouts on Fridays
DESCRIPTION:
URL:https://swanscombeandgreenhithetowncouncil.gov.uk/event/scouts-are-back-scouts-on-fridays-2/2027-03-12/
LOCATION:1st Galley Hill Scout Group\, 0HJ\, 110 Church Rd\, Swanscombe DA10 0HJ\, United Kingdom\, United Kingdom
CATEGORIES:Sports & Recreation Group
ATTACH;FMTTYPE=image/jpeg:https://swanscombeandgreenhithetowncouncil.gov.uk/wp-content/uploads/2021/12/57.2021-Scouts-are-back-30-Nov.jpg
ORGANIZER;CN="Rob Weller":MAILTO:info@1stgalleyhillscouts.org.uk
END:VEVENT
BEGIN:VEVENT
DTSTART;TZID=Europe/London:20270313T103000
DTEND;TZID=Europe/London:20270313T120000
DTSTAMP:20260422T070707
CREATED:20240313T013714Z
LAST-MODIFIED:20240313T013714Z
UID:10011050-1804933800-1804939200@swanscombeandgreenhithetowncouncil.gov.uk
SUMMARY:Scouts are Back - Beavers on Saturdays
DESCRIPTION:
URL:https://swanscombeandgreenhithetowncouncil.gov.uk/event/scouts-are-back-scouts-on-fridays-3/2027-03-13/
LOCATION:1st Galley Hill Scout Group\, 0HJ\, 110 Church Rd\, Swanscombe DA10 0HJ\, United Kingdom\, United Kingdom
CATEGORIES:Sports & Recreation Group
ATTACH;FMTTYPE=image/jpeg:https://swanscombeandgreenhithetowncouncil.gov.uk/wp-content/uploads/2021/12/57.2021-Scouts-are-back-30-Nov.jpg
ORGANIZER;CN="Rob Weller":MAILTO:info@1stgalleyhillscouts.org.uk
END:VEVENT
BEGIN:VEVENT
DTSTART;TZID=Europe/London:20270317T190000
DTEND;TZID=Europe/London:20270317T203000
DTSTAMP:20260422T070707
CREATED:20240313T013529Z
LAST-MODIFIED:20241219T090853Z
UID:10010672-1805310000-1805315400@swanscombeandgreenhithetowncouncil.gov.uk
SUMMARY:Scouts are Back - Cubs on Wednesdays
DESCRIPTION:
URL:https://swanscombeandgreenhithetowncouncil.gov.uk/event/scouts-are-back-cubs-on-wednesdays-2/2027-03-17/
LOCATION:1st Galley Hill Scout Group\, 0HJ\, 110 Church Rd\, Swanscombe DA10 0HJ\, United Kingdom\, United Kingdom
CATEGORIES:Sports & Recreation Group
ATTACH;FMTTYPE=image/jpeg:https://swanscombeandgreenhithetowncouncil.gov.uk/wp-content/uploads/2021/12/57.2021-Scouts-are-back-30-Nov.jpg
ORGANIZER;CN="Rob Weller":MAILTO:info@1stgalleyhillscouts.org.uk
END:VEVENT
BEGIN:VEVENT
DTSTART;TZID=Europe/London:20270319T193000
DTEND;TZID=Europe/London:20270319T213000
DTSTAMP:20260422T070707
CREATED:20211202T145121Z
LAST-MODIFIED:20240313T013914Z
UID:10020113-1805484600-1805491800@swanscombeandgreenhithetowncouncil.gov.uk
SUMMARY:Scouts are Back - Scouts on Fridays
DESCRIPTION:
URL:https://swanscombeandgreenhithetowncouncil.gov.uk/event/scouts-are-back-scouts-on-fridays-2/2027-03-19/
LOCATION:1st Galley Hill Scout Group\, 0HJ\, 110 Church Rd\, Swanscombe DA10 0HJ\, United Kingdom\, United Kingdom
CATEGORIES:Sports & Recreation Group
ATTACH;FMTTYPE=image/jpeg:https://swanscombeandgreenhithetowncouncil.gov.uk/wp-content/uploads/2021/12/57.2021-Scouts-are-back-30-Nov.jpg
ORGANIZER;CN="Rob Weller":MAILTO:info@1stgalleyhillscouts.org.uk
END:VEVENT
BEGIN:VEVENT
DTSTART;TZID=Europe/London:20270320T103000
DTEND;TZID=Europe/London:20270320T120000
DTSTAMP:20260422T070707
CREATED:20240313T013714Z
LAST-MODIFIED:20240313T013714Z
UID:10011051-1805538600-1805544000@swanscombeandgreenhithetowncouncil.gov.uk
SUMMARY:Scouts are Back - Beavers on Saturdays
DESCRIPTION:
URL:https://swanscombeandgreenhithetowncouncil.gov.uk/event/scouts-are-back-scouts-on-fridays-3/2027-03-20/
LOCATION:1st Galley Hill Scout Group\, 0HJ\, 110 Church Rd\, Swanscombe DA10 0HJ\, United Kingdom\, United Kingdom
CATEGORIES:Sports & Recreation Group
ATTACH;FMTTYPE=image/jpeg:https://swanscombeandgreenhithetowncouncil.gov.uk/wp-content/uploads/2021/12/57.2021-Scouts-are-back-30-Nov.jpg
ORGANIZER;CN="Rob Weller":MAILTO:info@1stgalleyhillscouts.org.uk
END:VEVENT
BEGIN:VEVENT
DTSTART;TZID=Europe/London:20270324T190000
DTEND;TZID=Europe/London:20270324T203000
DTSTAMP:20260422T070707
CREATED:20240313T013529Z
LAST-MODIFIED:20241219T090853Z
UID:10010673-1805914800-1805920200@swanscombeandgreenhithetowncouncil.gov.uk
SUMMARY:Scouts are Back - Cubs on Wednesdays
DESCRIPTION:
URL:https://swanscombeandgreenhithetowncouncil.gov.uk/event/scouts-are-back-cubs-on-wednesdays-2/2027-03-24/
LOCATION:1st Galley Hill Scout Group\, 0HJ\, 110 Church Rd\, Swanscombe DA10 0HJ\, United Kingdom\, United Kingdom
CATEGORIES:Sports & Recreation Group
ATTACH;FMTTYPE=image/jpeg:https://swanscombeandgreenhithetowncouncil.gov.uk/wp-content/uploads/2021/12/57.2021-Scouts-are-back-30-Nov.jpg
ORGANIZER;CN="Rob Weller":MAILTO:info@1stgalleyhillscouts.org.uk
END:VEVENT
BEGIN:VEVENT
DTSTART;TZID=Europe/London:20270326T193000
DTEND;TZID=Europe/London:20270326T213000
DTSTAMP:20260422T070707
CREATED:20211202T145121Z
LAST-MODIFIED:20240313T013914Z
UID:10020114-1806089400-1806096600@swanscombeandgreenhithetowncouncil.gov.uk
SUMMARY:Scouts are Back - Scouts on Fridays
DESCRIPTION:
URL:https://swanscombeandgreenhithetowncouncil.gov.uk/event/scouts-are-back-scouts-on-fridays-2/2027-03-26/
LOCATION:1st Galley Hill Scout Group\, 0HJ\, 110 Church Rd\, Swanscombe DA10 0HJ\, United Kingdom\, United Kingdom
CATEGORIES:Sports & Recreation Group
ATTACH;FMTTYPE=image/jpeg:https://swanscombeandgreenhithetowncouncil.gov.uk/wp-content/uploads/2021/12/57.2021-Scouts-are-back-30-Nov.jpg
ORGANIZER;CN="Rob Weller":MAILTO:info@1stgalleyhillscouts.org.uk
END:VEVENT
BEGIN:VEVENT
DTSTART;TZID=Europe/London:20270327T103000
DTEND;TZID=Europe/London:20270327T120000
DTSTAMP:20260422T070707
CREATED:20240313T013714Z
LAST-MODIFIED:20240313T013714Z
UID:10011052-1806143400-1806148800@swanscombeandgreenhithetowncouncil.gov.uk
SUMMARY:Scouts are Back - Beavers on Saturdays
DESCRIPTION:
URL:https://swanscombeandgreenhithetowncouncil.gov.uk/event/scouts-are-back-scouts-on-fridays-3/2027-03-27/
LOCATION:1st Galley Hill Scout Group\, 0HJ\, 110 Church Rd\, Swanscombe DA10 0HJ\, United Kingdom\, United Kingdom
CATEGORIES:Sports & Recreation Group
ATTACH;FMTTYPE=image/jpeg:https://swanscombeandgreenhithetowncouncil.gov.uk/wp-content/uploads/2021/12/57.2021-Scouts-are-back-30-Nov.jpg
ORGANIZER;CN="Rob Weller":MAILTO:info@1stgalleyhillscouts.org.uk
END:VEVENT
BEGIN:VEVENT
DTSTART;TZID=Europe/London:20270331T190000
DTEND;TZID=Europe/London:20270331T203000
DTSTAMP:20260422T070707
CREATED:20240313T013529Z
LAST-MODIFIED:20241219T090853Z
UID:10010674-1806519600-1806525000@swanscombeandgreenhithetowncouncil.gov.uk
SUMMARY:Scouts are Back - Cubs on Wednesdays
DESCRIPTION:
URL:https://swanscombeandgreenhithetowncouncil.gov.uk/event/scouts-are-back-cubs-on-wednesdays-2/2027-03-31/
LOCATION:1st Galley Hill Scout Group\, 0HJ\, 110 Church Rd\, Swanscombe DA10 0HJ\, United Kingdom\, United Kingdom
CATEGORIES:Sports & Recreation Group
ATTACH;FMTTYPE=image/jpeg:https://swanscombeandgreenhithetowncouncil.gov.uk/wp-content/uploads/2021/12/57.2021-Scouts-are-back-30-Nov.jpg
ORGANIZER;CN="Rob Weller":MAILTO:info@1stgalleyhillscouts.org.uk
END:VEVENT
BEGIN:VEVENT
DTSTART;TZID=Europe/London:20270402T193000
DTEND;TZID=Europe/London:20270402T213000
DTSTAMP:20260422T070707
CREATED:20211202T145121Z
LAST-MODIFIED:20240313T013914Z
UID:10020115-1806694200-1806701400@swanscombeandgreenhithetowncouncil.gov.uk
SUMMARY:Scouts are Back - Scouts on Fridays
DESCRIPTION:
URL:https://swanscombeandgreenhithetowncouncil.gov.uk/event/scouts-are-back-scouts-on-fridays-2/2027-04-02/
LOCATION:1st Galley Hill Scout Group\, 0HJ\, 110 Church Rd\, Swanscombe DA10 0HJ\, United Kingdom\, United Kingdom
CATEGORIES:Sports & Recreation Group
ATTACH;FMTTYPE=image/jpeg:https://swanscombeandgreenhithetowncouncil.gov.uk/wp-content/uploads/2021/12/57.2021-Scouts-are-back-30-Nov.jpg
ORGANIZER;CN="Rob Weller":MAILTO:info@1stgalleyhillscouts.org.uk
END:VEVENT
BEGIN:VEVENT
DTSTART;TZID=Europe/London:20270403T103000
DTEND;TZID=Europe/London:20270403T120000
DTSTAMP:20260422T070707
CREATED:20240313T013714Z
LAST-MODIFIED:20240313T013714Z
UID:10011053-1806748200-1806753600@swanscombeandgreenhithetowncouncil.gov.uk
SUMMARY:Scouts are Back - Beavers on Saturdays
DESCRIPTION:
URL:https://swanscombeandgreenhithetowncouncil.gov.uk/event/scouts-are-back-scouts-on-fridays-3/2027-04-03/
LOCATION:1st Galley Hill Scout Group\, 0HJ\, 110 Church Rd\, Swanscombe DA10 0HJ\, United Kingdom\, United Kingdom
CATEGORIES:Sports & Recreation Group
ATTACH;FMTTYPE=image/jpeg:https://swanscombeandgreenhithetowncouncil.gov.uk/wp-content/uploads/2021/12/57.2021-Scouts-are-back-30-Nov.jpg
ORGANIZER;CN="Rob Weller":MAILTO:info@1stgalleyhillscouts.org.uk
END:VEVENT
BEGIN:VEVENT
DTSTART;TZID=Europe/London:20270407T190000
DTEND;TZID=Europe/London:20270407T203000
DTSTAMP:20260422T070707
CREATED:20240313T013529Z
LAST-MODIFIED:20241219T090853Z
UID:10010675-1807124400-1807129800@swanscombeandgreenhithetowncouncil.gov.uk
SUMMARY:Scouts are Back - Cubs on Wednesdays
DESCRIPTION:
URL:https://swanscombeandgreenhithetowncouncil.gov.uk/event/scouts-are-back-cubs-on-wednesdays-2/2027-04-07/
LOCATION:1st Galley Hill Scout Group\, 0HJ\, 110 Church Rd\, Swanscombe DA10 0HJ\, United Kingdom\, United Kingdom
CATEGORIES:Sports & Recreation Group
ATTACH;FMTTYPE=image/jpeg:https://swanscombeandgreenhithetowncouncil.gov.uk/wp-content/uploads/2021/12/57.2021-Scouts-are-back-30-Nov.jpg
ORGANIZER;CN="Rob Weller":MAILTO:info@1stgalleyhillscouts.org.uk
END:VEVENT
BEGIN:VEVENT
DTSTART;TZID=Europe/London:20270409T193000
DTEND;TZID=Europe/London:20270409T213000
DTSTAMP:20260422T070707
CREATED:20211202T145121Z
LAST-MODIFIED:20240313T013914Z
UID:10020116-1807299000-1807306200@swanscombeandgreenhithetowncouncil.gov.uk
SUMMARY:Scouts are Back - Scouts on Fridays
DESCRIPTION:
URL:https://swanscombeandgreenhithetowncouncil.gov.uk/event/scouts-are-back-scouts-on-fridays-2/2027-04-09/
LOCATION:1st Galley Hill Scout Group\, 0HJ\, 110 Church Rd\, Swanscombe DA10 0HJ\, United Kingdom\, United Kingdom
CATEGORIES:Sports & Recreation Group
ATTACH;FMTTYPE=image/jpeg:https://swanscombeandgreenhithetowncouncil.gov.uk/wp-content/uploads/2021/12/57.2021-Scouts-are-back-30-Nov.jpg
ORGANIZER;CN="Rob Weller":MAILTO:info@1stgalleyhillscouts.org.uk
END:VEVENT
BEGIN:VEVENT
DTSTART;TZID=Europe/London:20270410T103000
DTEND;TZID=Europe/London:20270410T120000
DTSTAMP:20260422T070707
CREATED:20240313T013714Z
LAST-MODIFIED:20240313T013714Z
UID:10011054-1807353000-1807358400@swanscombeandgreenhithetowncouncil.gov.uk
SUMMARY:Scouts are Back - Beavers on Saturdays
DESCRIPTION:
URL:https://swanscombeandgreenhithetowncouncil.gov.uk/event/scouts-are-back-scouts-on-fridays-3/2027-04-10/
LOCATION:1st Galley Hill Scout Group\, 0HJ\, 110 Church Rd\, Swanscombe DA10 0HJ\, United Kingdom\, United Kingdom
CATEGORIES:Sports & Recreation Group
ATTACH;FMTTYPE=image/jpeg:https://swanscombeandgreenhithetowncouncil.gov.uk/wp-content/uploads/2021/12/57.2021-Scouts-are-back-30-Nov.jpg
ORGANIZER;CN="Rob Weller":MAILTO:info@1stgalleyhillscouts.org.uk
END:VEVENT
BEGIN:VEVENT
DTSTART;TZID=Europe/London:20270414T190000
DTEND;TZID=Europe/London:20270414T203000
DTSTAMP:20260422T070707
CREATED:20240313T013529Z
LAST-MODIFIED:20241219T090853Z
UID:10010676-1807729200-1807734600@swanscombeandgreenhithetowncouncil.gov.uk
SUMMARY:Scouts are Back - Cubs on Wednesdays
DESCRIPTION:
URL:https://swanscombeandgreenhithetowncouncil.gov.uk/event/scouts-are-back-cubs-on-wednesdays-2/2027-04-14/
LOCATION:1st Galley Hill Scout Group\, 0HJ\, 110 Church Rd\, Swanscombe DA10 0HJ\, United Kingdom\, United Kingdom
CATEGORIES:Sports & Recreation Group
ATTACH;FMTTYPE=image/jpeg:https://swanscombeandgreenhithetowncouncil.gov.uk/wp-content/uploads/2021/12/57.2021-Scouts-are-back-30-Nov.jpg
ORGANIZER;CN="Rob Weller":MAILTO:info@1stgalleyhillscouts.org.uk
END:VEVENT
BEGIN:VEVENT
DTSTART;TZID=Europe/London:20270416T193000
DTEND;TZID=Europe/London:20270416T213000
DTSTAMP:20260422T070707
CREATED:20211202T145121Z
LAST-MODIFIED:20240313T013914Z
UID:10020117-1807903800-1807911000@swanscombeandgreenhithetowncouncil.gov.uk
SUMMARY:Scouts are Back - Scouts on Fridays
DESCRIPTION:
URL:https://swanscombeandgreenhithetowncouncil.gov.uk/event/scouts-are-back-scouts-on-fridays-2/2027-04-16/
LOCATION:1st Galley Hill Scout Group\, 0HJ\, 110 Church Rd\, Swanscombe DA10 0HJ\, United Kingdom\, United Kingdom
CATEGORIES:Sports & Recreation Group
ATTACH;FMTTYPE=image/jpeg:https://swanscombeandgreenhithetowncouncil.gov.uk/wp-content/uploads/2021/12/57.2021-Scouts-are-back-30-Nov.jpg
ORGANIZER;CN="Rob Weller":MAILTO:info@1stgalleyhillscouts.org.uk
END:VEVENT
BEGIN:VEVENT
DTSTART;TZID=Europe/London:20270417T103000
DTEND;TZID=Europe/London:20270417T120000
DTSTAMP:20260422T070707
CREATED:20240313T013714Z
LAST-MODIFIED:20240313T013714Z
UID:10011055-1807957800-1807963200@swanscombeandgreenhithetowncouncil.gov.uk
SUMMARY:Scouts are Back - Beavers on Saturdays
DESCRIPTION:
URL:https://swanscombeandgreenhithetowncouncil.gov.uk/event/scouts-are-back-scouts-on-fridays-3/2027-04-17/
LOCATION:1st Galley Hill Scout Group\, 0HJ\, 110 Church Rd\, Swanscombe DA10 0HJ\, United Kingdom\, United Kingdom
CATEGORIES:Sports & Recreation Group
ATTACH;FMTTYPE=image/jpeg:https://swanscombeandgreenhithetowncouncil.gov.uk/wp-content/uploads/2021/12/57.2021-Scouts-are-back-30-Nov.jpg
ORGANIZER;CN="Rob Weller":MAILTO:info@1stgalleyhillscouts.org.uk
END:VEVENT
BEGIN:VEVENT
DTSTART;TZID=Europe/London:20270421T190000
DTEND;TZID=Europe/London:20270421T203000
DTSTAMP:20260422T070707
CREATED:20240313T013529Z
LAST-MODIFIED:20241219T090853Z
UID:10010677-1808334000-1808339400@swanscombeandgreenhithetowncouncil.gov.uk
SUMMARY:Scouts are Back - Cubs on Wednesdays
DESCRIPTION:
URL:https://swanscombeandgreenhithetowncouncil.gov.uk/event/scouts-are-back-cubs-on-wednesdays-2/2027-04-21/
LOCATION:1st Galley Hill Scout Group\, 0HJ\, 110 Church Rd\, Swanscombe DA10 0HJ\, United Kingdom\, United Kingdom
CATEGORIES:Sports & Recreation Group
ATTACH;FMTTYPE=image/jpeg:https://swanscombeandgreenhithetowncouncil.gov.uk/wp-content/uploads/2021/12/57.2021-Scouts-are-back-30-Nov.jpg
ORGANIZER;CN="Rob Weller":MAILTO:info@1stgalleyhillscouts.org.uk
END:VEVENT
BEGIN:VEVENT
DTSTART;TZID=Europe/London:20270423T193000
DTEND;TZID=Europe/London:20270423T213000
DTSTAMP:20260422T070707
CREATED:20211202T145121Z
LAST-MODIFIED:20240313T013914Z
UID:10020118-1808508600-1808515800@swanscombeandgreenhithetowncouncil.gov.uk
SUMMARY:Scouts are Back - Scouts on Fridays
DESCRIPTION:
URL:https://swanscombeandgreenhithetowncouncil.gov.uk/event/scouts-are-back-scouts-on-fridays-2/2027-04-23/
LOCATION:1st Galley Hill Scout Group\, 0HJ\, 110 Church Rd\, Swanscombe DA10 0HJ\, United Kingdom\, United Kingdom
CATEGORIES:Sports & Recreation Group
ATTACH;FMTTYPE=image/jpeg:https://swanscombeandgreenhithetowncouncil.gov.uk/wp-content/uploads/2021/12/57.2021-Scouts-are-back-30-Nov.jpg
ORGANIZER;CN="Rob Weller":MAILTO:info@1stgalleyhillscouts.org.uk
END:VEVENT
BEGIN:VEVENT
DTSTART;TZID=Europe/London:20270424T103000
DTEND;TZID=Europe/London:20270424T120000
DTSTAMP:20260422T070707
CREATED:20240313T013714Z
LAST-MODIFIED:20240313T013714Z
UID:10011056-1808562600-1808568000@swanscombeandgreenhithetowncouncil.gov.uk
SUMMARY:Scouts are Back - Beavers on Saturdays
DESCRIPTION:
URL:https://swanscombeandgreenhithetowncouncil.gov.uk/event/scouts-are-back-scouts-on-fridays-3/2027-04-24/
LOCATION:1st Galley Hill Scout Group\, 0HJ\, 110 Church Rd\, Swanscombe DA10 0HJ\, United Kingdom\, United Kingdom
CATEGORIES:Sports & Recreation Group
ATTACH;FMTTYPE=image/jpeg:https://swanscombeandgreenhithetowncouncil.gov.uk/wp-content/uploads/2021/12/57.2021-Scouts-are-back-30-Nov.jpg
ORGANIZER;CN="Rob Weller":MAILTO:info@1stgalleyhillscouts.org.uk
END:VEVENT
BEGIN:VEVENT
DTSTART;TZID=Europe/London:20270428T190000
DTEND;TZID=Europe/London:20270428T203000
DTSTAMP:20260422T070707
CREATED:20240313T013529Z
LAST-MODIFIED:20241219T090853Z
UID:10010678-1808938800-1808944200@swanscombeandgreenhithetowncouncil.gov.uk
SUMMARY:Scouts are Back - Cubs on Wednesdays
DESCRIPTION:
URL:https://swanscombeandgreenhithetowncouncil.gov.uk/event/scouts-are-back-cubs-on-wednesdays-2/2027-04-28/
LOCATION:1st Galley Hill Scout Group\, 0HJ\, 110 Church Rd\, Swanscombe DA10 0HJ\, United Kingdom\, United Kingdom
CATEGORIES:Sports & Recreation Group
ATTACH;FMTTYPE=image/jpeg:https://swanscombeandgreenhithetowncouncil.gov.uk/wp-content/uploads/2021/12/57.2021-Scouts-are-back-30-Nov.jpg
ORGANIZER;CN="Rob Weller":MAILTO:info@1stgalleyhillscouts.org.uk
END:VEVENT
BEGIN:VEVENT
DTSTART;TZID=Europe/London:20270430T193000
DTEND;TZID=Europe/London:20270430T213000
DTSTAMP:20260422T070707
CREATED:20211202T145121Z
LAST-MODIFIED:20240313T013914Z
UID:10020119-1809113400-1809120600@swanscombeandgreenhithetowncouncil.gov.uk
SUMMARY:Scouts are Back - Scouts on Fridays
DESCRIPTION:
URL:https://swanscombeandgreenhithetowncouncil.gov.uk/event/scouts-are-back-scouts-on-fridays-2/2027-04-30/
LOCATION:1st Galley Hill Scout Group\, 0HJ\, 110 Church Rd\, Swanscombe DA10 0HJ\, United Kingdom\, United Kingdom
CATEGORIES:Sports & Recreation Group
ATTACH;FMTTYPE=image/jpeg:https://swanscombeandgreenhithetowncouncil.gov.uk/wp-content/uploads/2021/12/57.2021-Scouts-are-back-30-Nov.jpg
ORGANIZER;CN="Rob Weller":MAILTO:info@1stgalleyhillscouts.org.uk
END:VEVENT
BEGIN:VEVENT
DTSTART;TZID=Europe/London:20270501T103000
DTEND;TZID=Europe/London:20270501T120000
DTSTAMP:20260422T070707
CREATED:20240313T013714Z
LAST-MODIFIED:20240313T013714Z
UID:10011057-1809167400-1809172800@swanscombeandgreenhithetowncouncil.gov.uk
SUMMARY:Scouts are Back - Beavers on Saturdays
DESCRIPTION:
URL:https://swanscombeandgreenhithetowncouncil.gov.uk/event/scouts-are-back-scouts-on-fridays-3/2027-05-01/
LOCATION:1st Galley Hill Scout Group\, 0HJ\, 110 Church Rd\, Swanscombe DA10 0HJ\, United Kingdom\, United Kingdom
CATEGORIES:Sports & Recreation Group
ATTACH;FMTTYPE=image/jpeg:https://swanscombeandgreenhithetowncouncil.gov.uk/wp-content/uploads/2021/12/57.2021-Scouts-are-back-30-Nov.jpg
ORGANIZER;CN="Rob Weller":MAILTO:info@1stgalleyhillscouts.org.uk
END:VEVENT
END:VCALENDAR