BEGIN:VCALENDAR
VERSION:2.0
PRODID:-//Swanscombe and Greenhithe Town Council - ECPv6.15.20//NONSGML v1.0//EN
CALSCALE:GREGORIAN
METHOD:PUBLISH
X-ORIGINAL-URL:https://swanscombeandgreenhithetowncouncil.gov.uk
X-WR-CALDESC:Events for Swanscombe and Greenhithe Town Council
REFRESH-INTERVAL;VALUE=DURATION:PT1H
X-Robots-Tag:noindex
X-PUBLISHED-TTL:PT1H
BEGIN:VTIMEZONE
TZID:Europe/London
BEGIN:DAYLIGHT
TZOFFSETFROM:+0000
TZOFFSETTO:+0100
TZNAME:BST
DTSTART:20270328T010000
END:DAYLIGHT
BEGIN:STANDARD
TZOFFSETFROM:+0100
TZOFFSETTO:+0000
TZNAME:GMT
DTSTART:20271031T010000
END:STANDARD
BEGIN:DAYLIGHT
TZOFFSETFROM:+0000
TZOFFSETTO:+0100
TZNAME:BST
DTSTART:20280326T010000
END:DAYLIGHT
BEGIN:STANDARD
TZOFFSETFROM:+0100
TZOFFSETTO:+0000
TZNAME:GMT
DTSTART:20281029T010000
END:STANDARD
BEGIN:DAYLIGHT
TZOFFSETFROM:+0000
TZOFFSETTO:+0100
TZNAME:BST
DTSTART:20290325T010000
END:DAYLIGHT
BEGIN:STANDARD
TZOFFSETFROM:+0100
TZOFFSETTO:+0000
TZNAME:GMT
DTSTART:20291028T010000
END:STANDARD
END:VTIMEZONE
BEGIN:VEVENT
DTSTART;TZID=Europe/London:20280616T193000
DTEND;TZID=Europe/London:20280616T213000
DTSTAMP:20260423T115418
CREATED:20211202T145121Z
LAST-MODIFIED:20240313T013914Z
UID:10020178-1844796600-1844803800@swanscombeandgreenhithetowncouncil.gov.uk
SUMMARY:Scouts are Back - Scouts on Fridays
DESCRIPTION:
URL:https://swanscombeandgreenhithetowncouncil.gov.uk/event/scouts-are-back-scouts-on-fridays-2/2028-06-16/
LOCATION:1st Galley Hill Scout Group\, 0HJ\, 110 Church Rd\, Swanscombe DA10 0HJ\, United Kingdom\, United Kingdom
CATEGORIES:Sports & Recreation Group
ATTACH;FMTTYPE=image/jpeg:https://swanscombeandgreenhithetowncouncil.gov.uk/wp-content/uploads/2021/12/57.2021-Scouts-are-back-30-Nov.jpg
ORGANIZER;CN="Rob Weller":MAILTO:info@1stgalleyhillscouts.org.uk
END:VEVENT
BEGIN:VEVENT
DTSTART;TZID=Europe/London:20280617T103000
DTEND;TZID=Europe/London:20280617T120000
DTSTAMP:20260423T115418
CREATED:20240313T013714Z
LAST-MODIFIED:20240313T013714Z
UID:10011116-1844850600-1844856000@swanscombeandgreenhithetowncouncil.gov.uk
SUMMARY:Scouts are Back - Beavers on Saturdays
DESCRIPTION:
URL:https://swanscombeandgreenhithetowncouncil.gov.uk/event/scouts-are-back-scouts-on-fridays-3/2028-06-17/
LOCATION:1st Galley Hill Scout Group\, 0HJ\, 110 Church Rd\, Swanscombe DA10 0HJ\, United Kingdom\, United Kingdom
CATEGORIES:Sports & Recreation Group
ATTACH;FMTTYPE=image/jpeg:https://swanscombeandgreenhithetowncouncil.gov.uk/wp-content/uploads/2021/12/57.2021-Scouts-are-back-30-Nov.jpg
ORGANIZER;CN="Rob Weller":MAILTO:info@1stgalleyhillscouts.org.uk
END:VEVENT
BEGIN:VEVENT
DTSTART;TZID=Europe/London:20280621T190000
DTEND;TZID=Europe/London:20280621T203000
DTSTAMP:20260423T115418
CREATED:20240313T013529Z
LAST-MODIFIED:20241219T090853Z
UID:10010738-1845226800-1845232200@swanscombeandgreenhithetowncouncil.gov.uk
SUMMARY:Scouts are Back - Cubs on Wednesdays
DESCRIPTION:
URL:https://swanscombeandgreenhithetowncouncil.gov.uk/event/scouts-are-back-cubs-on-wednesdays-2/2028-06-21/
LOCATION:1st Galley Hill Scout Group\, 0HJ\, 110 Church Rd\, Swanscombe DA10 0HJ\, United Kingdom\, United Kingdom
CATEGORIES:Sports & Recreation Group
ATTACH;FMTTYPE=image/jpeg:https://swanscombeandgreenhithetowncouncil.gov.uk/wp-content/uploads/2021/12/57.2021-Scouts-are-back-30-Nov.jpg
ORGANIZER;CN="Rob Weller":MAILTO:info@1stgalleyhillscouts.org.uk
END:VEVENT
BEGIN:VEVENT
DTSTART;TZID=Europe/London:20280623T193000
DTEND;TZID=Europe/London:20280623T213000
DTSTAMP:20260423T115418
CREATED:20211202T145121Z
LAST-MODIFIED:20240313T013914Z
UID:10020179-1845401400-1845408600@swanscombeandgreenhithetowncouncil.gov.uk
SUMMARY:Scouts are Back - Scouts on Fridays
DESCRIPTION:
URL:https://swanscombeandgreenhithetowncouncil.gov.uk/event/scouts-are-back-scouts-on-fridays-2/2028-06-23/
LOCATION:1st Galley Hill Scout Group\, 0HJ\, 110 Church Rd\, Swanscombe DA10 0HJ\, United Kingdom\, United Kingdom
CATEGORIES:Sports & Recreation Group
ATTACH;FMTTYPE=image/jpeg:https://swanscombeandgreenhithetowncouncil.gov.uk/wp-content/uploads/2021/12/57.2021-Scouts-are-back-30-Nov.jpg
ORGANIZER;CN="Rob Weller":MAILTO:info@1stgalleyhillscouts.org.uk
END:VEVENT
BEGIN:VEVENT
DTSTART;TZID=Europe/London:20280624T103000
DTEND;TZID=Europe/London:20280624T120000
DTSTAMP:20260423T115418
CREATED:20240313T013714Z
LAST-MODIFIED:20240313T013714Z
UID:10011117-1845455400-1845460800@swanscombeandgreenhithetowncouncil.gov.uk
SUMMARY:Scouts are Back - Beavers on Saturdays
DESCRIPTION:
URL:https://swanscombeandgreenhithetowncouncil.gov.uk/event/scouts-are-back-scouts-on-fridays-3/2028-06-24/
LOCATION:1st Galley Hill Scout Group\, 0HJ\, 110 Church Rd\, Swanscombe DA10 0HJ\, United Kingdom\, United Kingdom
CATEGORIES:Sports & Recreation Group
ATTACH;FMTTYPE=image/jpeg:https://swanscombeandgreenhithetowncouncil.gov.uk/wp-content/uploads/2021/12/57.2021-Scouts-are-back-30-Nov.jpg
ORGANIZER;CN="Rob Weller":MAILTO:info@1stgalleyhillscouts.org.uk
END:VEVENT
BEGIN:VEVENT
DTSTART;TZID=Europe/London:20280628T190000
DTEND;TZID=Europe/London:20280628T203000
DTSTAMP:20260423T115418
CREATED:20240313T013529Z
LAST-MODIFIED:20241219T090853Z
UID:10010739-1845831600-1845837000@swanscombeandgreenhithetowncouncil.gov.uk
SUMMARY:Scouts are Back - Cubs on Wednesdays
DESCRIPTION:
URL:https://swanscombeandgreenhithetowncouncil.gov.uk/event/scouts-are-back-cubs-on-wednesdays-2/2028-06-28/
LOCATION:1st Galley Hill Scout Group\, 0HJ\, 110 Church Rd\, Swanscombe DA10 0HJ\, United Kingdom\, United Kingdom
CATEGORIES:Sports & Recreation Group
ATTACH;FMTTYPE=image/jpeg:https://swanscombeandgreenhithetowncouncil.gov.uk/wp-content/uploads/2021/12/57.2021-Scouts-are-back-30-Nov.jpg
ORGANIZER;CN="Rob Weller":MAILTO:info@1stgalleyhillscouts.org.uk
END:VEVENT
BEGIN:VEVENT
DTSTART;TZID=Europe/London:20280630T193000
DTEND;TZID=Europe/London:20280630T213000
DTSTAMP:20260423T115418
CREATED:20211202T145121Z
LAST-MODIFIED:20240313T013914Z
UID:10020180-1846006200-1846013400@swanscombeandgreenhithetowncouncil.gov.uk
SUMMARY:Scouts are Back - Scouts on Fridays
DESCRIPTION:
URL:https://swanscombeandgreenhithetowncouncil.gov.uk/event/scouts-are-back-scouts-on-fridays-2/2028-06-30/
LOCATION:1st Galley Hill Scout Group\, 0HJ\, 110 Church Rd\, Swanscombe DA10 0HJ\, United Kingdom\, United Kingdom
CATEGORIES:Sports & Recreation Group
ATTACH;FMTTYPE=image/jpeg:https://swanscombeandgreenhithetowncouncil.gov.uk/wp-content/uploads/2021/12/57.2021-Scouts-are-back-30-Nov.jpg
ORGANIZER;CN="Rob Weller":MAILTO:info@1stgalleyhillscouts.org.uk
END:VEVENT
BEGIN:VEVENT
DTSTART;TZID=Europe/London:20280701T103000
DTEND;TZID=Europe/London:20280701T120000
DTSTAMP:20260423T115418
CREATED:20240313T013714Z
LAST-MODIFIED:20240313T013714Z
UID:10011118-1846060200-1846065600@swanscombeandgreenhithetowncouncil.gov.uk
SUMMARY:Scouts are Back - Beavers on Saturdays
DESCRIPTION:
URL:https://swanscombeandgreenhithetowncouncil.gov.uk/event/scouts-are-back-scouts-on-fridays-3/2028-07-01/
LOCATION:1st Galley Hill Scout Group\, 0HJ\, 110 Church Rd\, Swanscombe DA10 0HJ\, United Kingdom\, United Kingdom
CATEGORIES:Sports & Recreation Group
ATTACH;FMTTYPE=image/jpeg:https://swanscombeandgreenhithetowncouncil.gov.uk/wp-content/uploads/2021/12/57.2021-Scouts-are-back-30-Nov.jpg
ORGANIZER;CN="Rob Weller":MAILTO:info@1stgalleyhillscouts.org.uk
END:VEVENT
BEGIN:VEVENT
DTSTART;TZID=Europe/London:20280705T190000
DTEND;TZID=Europe/London:20280705T203000
DTSTAMP:20260423T115418
CREATED:20240313T013529Z
LAST-MODIFIED:20241219T090853Z
UID:10010740-1846436400-1846441800@swanscombeandgreenhithetowncouncil.gov.uk
SUMMARY:Scouts are Back - Cubs on Wednesdays
DESCRIPTION:
URL:https://swanscombeandgreenhithetowncouncil.gov.uk/event/scouts-are-back-cubs-on-wednesdays-2/2028-07-05/
LOCATION:1st Galley Hill Scout Group\, 0HJ\, 110 Church Rd\, Swanscombe DA10 0HJ\, United Kingdom\, United Kingdom
CATEGORIES:Sports & Recreation Group
ATTACH;FMTTYPE=image/jpeg:https://swanscombeandgreenhithetowncouncil.gov.uk/wp-content/uploads/2021/12/57.2021-Scouts-are-back-30-Nov.jpg
ORGANIZER;CN="Rob Weller":MAILTO:info@1stgalleyhillscouts.org.uk
END:VEVENT
BEGIN:VEVENT
DTSTART;TZID=Europe/London:20280707T193000
DTEND;TZID=Europe/London:20280707T213000
DTSTAMP:20260423T115418
CREATED:20211202T145121Z
LAST-MODIFIED:20240313T013914Z
UID:10020181-1846611000-1846618200@swanscombeandgreenhithetowncouncil.gov.uk
SUMMARY:Scouts are Back - Scouts on Fridays
DESCRIPTION:
URL:https://swanscombeandgreenhithetowncouncil.gov.uk/event/scouts-are-back-scouts-on-fridays-2/2028-07-07/
LOCATION:1st Galley Hill Scout Group\, 0HJ\, 110 Church Rd\, Swanscombe DA10 0HJ\, United Kingdom\, United Kingdom
CATEGORIES:Sports & Recreation Group
ATTACH;FMTTYPE=image/jpeg:https://swanscombeandgreenhithetowncouncil.gov.uk/wp-content/uploads/2021/12/57.2021-Scouts-are-back-30-Nov.jpg
ORGANIZER;CN="Rob Weller":MAILTO:info@1stgalleyhillscouts.org.uk
END:VEVENT
BEGIN:VEVENT
DTSTART;TZID=Europe/London:20280708T103000
DTEND;TZID=Europe/London:20280708T120000
DTSTAMP:20260423T115418
CREATED:20240313T013714Z
LAST-MODIFIED:20240313T013714Z
UID:10011119-1846665000-1846670400@swanscombeandgreenhithetowncouncil.gov.uk
SUMMARY:Scouts are Back - Beavers on Saturdays
DESCRIPTION:
URL:https://swanscombeandgreenhithetowncouncil.gov.uk/event/scouts-are-back-scouts-on-fridays-3/2028-07-08/
LOCATION:1st Galley Hill Scout Group\, 0HJ\, 110 Church Rd\, Swanscombe DA10 0HJ\, United Kingdom\, United Kingdom
CATEGORIES:Sports & Recreation Group
ATTACH;FMTTYPE=image/jpeg:https://swanscombeandgreenhithetowncouncil.gov.uk/wp-content/uploads/2021/12/57.2021-Scouts-are-back-30-Nov.jpg
ORGANIZER;CN="Rob Weller":MAILTO:info@1stgalleyhillscouts.org.uk
END:VEVENT
BEGIN:VEVENT
DTSTART;TZID=Europe/London:20280712T190000
DTEND;TZID=Europe/London:20280712T203000
DTSTAMP:20260423T115418
CREATED:20240313T013529Z
LAST-MODIFIED:20241219T090853Z
UID:10010741-1847041200-1847046600@swanscombeandgreenhithetowncouncil.gov.uk
SUMMARY:Scouts are Back - Cubs on Wednesdays
DESCRIPTION:
URL:https://swanscombeandgreenhithetowncouncil.gov.uk/event/scouts-are-back-cubs-on-wednesdays-2/2028-07-12/
LOCATION:1st Galley Hill Scout Group\, 0HJ\, 110 Church Rd\, Swanscombe DA10 0HJ\, United Kingdom\, United Kingdom
CATEGORIES:Sports & Recreation Group
ATTACH;FMTTYPE=image/jpeg:https://swanscombeandgreenhithetowncouncil.gov.uk/wp-content/uploads/2021/12/57.2021-Scouts-are-back-30-Nov.jpg
ORGANIZER;CN="Rob Weller":MAILTO:info@1stgalleyhillscouts.org.uk
END:VEVENT
BEGIN:VEVENT
DTSTART;TZID=Europe/London:20280714T193000
DTEND;TZID=Europe/London:20280714T213000
DTSTAMP:20260423T115418
CREATED:20211202T145121Z
LAST-MODIFIED:20240313T013914Z
UID:10020182-1847215800-1847223000@swanscombeandgreenhithetowncouncil.gov.uk
SUMMARY:Scouts are Back - Scouts on Fridays
DESCRIPTION:
URL:https://swanscombeandgreenhithetowncouncil.gov.uk/event/scouts-are-back-scouts-on-fridays-2/2028-07-14/
LOCATION:1st Galley Hill Scout Group\, 0HJ\, 110 Church Rd\, Swanscombe DA10 0HJ\, United Kingdom\, United Kingdom
CATEGORIES:Sports & Recreation Group
ATTACH;FMTTYPE=image/jpeg:https://swanscombeandgreenhithetowncouncil.gov.uk/wp-content/uploads/2021/12/57.2021-Scouts-are-back-30-Nov.jpg
ORGANIZER;CN="Rob Weller":MAILTO:info@1stgalleyhillscouts.org.uk
END:VEVENT
BEGIN:VEVENT
DTSTART;TZID=Europe/London:20280715T103000
DTEND;TZID=Europe/London:20280715T120000
DTSTAMP:20260423T115418
CREATED:20240313T013714Z
LAST-MODIFIED:20240313T013714Z
UID:10011120-1847269800-1847275200@swanscombeandgreenhithetowncouncil.gov.uk
SUMMARY:Scouts are Back - Beavers on Saturdays
DESCRIPTION:
URL:https://swanscombeandgreenhithetowncouncil.gov.uk/event/scouts-are-back-scouts-on-fridays-3/2028-07-15/
LOCATION:1st Galley Hill Scout Group\, 0HJ\, 110 Church Rd\, Swanscombe DA10 0HJ\, United Kingdom\, United Kingdom
CATEGORIES:Sports & Recreation Group
ATTACH;FMTTYPE=image/jpeg:https://swanscombeandgreenhithetowncouncil.gov.uk/wp-content/uploads/2021/12/57.2021-Scouts-are-back-30-Nov.jpg
ORGANIZER;CN="Rob Weller":MAILTO:info@1stgalleyhillscouts.org.uk
END:VEVENT
BEGIN:VEVENT
DTSTART;TZID=Europe/London:20280719T190000
DTEND;TZID=Europe/London:20280719T203000
DTSTAMP:20260423T115418
CREATED:20240313T013529Z
LAST-MODIFIED:20241219T090853Z
UID:10010742-1847646000-1847651400@swanscombeandgreenhithetowncouncil.gov.uk
SUMMARY:Scouts are Back - Cubs on Wednesdays
DESCRIPTION:
URL:https://swanscombeandgreenhithetowncouncil.gov.uk/event/scouts-are-back-cubs-on-wednesdays-2/2028-07-19/
LOCATION:1st Galley Hill Scout Group\, 0HJ\, 110 Church Rd\, Swanscombe DA10 0HJ\, United Kingdom\, United Kingdom
CATEGORIES:Sports & Recreation Group
ATTACH;FMTTYPE=image/jpeg:https://swanscombeandgreenhithetowncouncil.gov.uk/wp-content/uploads/2021/12/57.2021-Scouts-are-back-30-Nov.jpg
ORGANIZER;CN="Rob Weller":MAILTO:info@1stgalleyhillscouts.org.uk
END:VEVENT
BEGIN:VEVENT
DTSTART;TZID=Europe/London:20280721T193000
DTEND;TZID=Europe/London:20280721T213000
DTSTAMP:20260423T115418
CREATED:20211202T145121Z
LAST-MODIFIED:20240313T013914Z
UID:10020183-1847820600-1847827800@swanscombeandgreenhithetowncouncil.gov.uk
SUMMARY:Scouts are Back - Scouts on Fridays
DESCRIPTION:
URL:https://swanscombeandgreenhithetowncouncil.gov.uk/event/scouts-are-back-scouts-on-fridays-2/2028-07-21/
LOCATION:1st Galley Hill Scout Group\, 0HJ\, 110 Church Rd\, Swanscombe DA10 0HJ\, United Kingdom\, United Kingdom
CATEGORIES:Sports & Recreation Group
ATTACH;FMTTYPE=image/jpeg:https://swanscombeandgreenhithetowncouncil.gov.uk/wp-content/uploads/2021/12/57.2021-Scouts-are-back-30-Nov.jpg
ORGANIZER;CN="Rob Weller":MAILTO:info@1stgalleyhillscouts.org.uk
END:VEVENT
BEGIN:VEVENT
DTSTART;TZID=Europe/London:20280722T103000
DTEND;TZID=Europe/London:20280722T120000
DTSTAMP:20260423T115418
CREATED:20240313T013714Z
LAST-MODIFIED:20240313T013714Z
UID:10011121-1847874600-1847880000@swanscombeandgreenhithetowncouncil.gov.uk
SUMMARY:Scouts are Back - Beavers on Saturdays
DESCRIPTION:
URL:https://swanscombeandgreenhithetowncouncil.gov.uk/event/scouts-are-back-scouts-on-fridays-3/2028-07-22/
LOCATION:1st Galley Hill Scout Group\, 0HJ\, 110 Church Rd\, Swanscombe DA10 0HJ\, United Kingdom\, United Kingdom
CATEGORIES:Sports & Recreation Group
ATTACH;FMTTYPE=image/jpeg:https://swanscombeandgreenhithetowncouncil.gov.uk/wp-content/uploads/2021/12/57.2021-Scouts-are-back-30-Nov.jpg
ORGANIZER;CN="Rob Weller":MAILTO:info@1stgalleyhillscouts.org.uk
END:VEVENT
BEGIN:VEVENT
DTSTART;TZID=Europe/London:20280726T190000
DTEND;TZID=Europe/London:20280726T203000
DTSTAMP:20260423T115418
CREATED:20240313T013529Z
LAST-MODIFIED:20241219T090853Z
UID:10010743-1848250800-1848256200@swanscombeandgreenhithetowncouncil.gov.uk
SUMMARY:Scouts are Back - Cubs on Wednesdays
DESCRIPTION:
URL:https://swanscombeandgreenhithetowncouncil.gov.uk/event/scouts-are-back-cubs-on-wednesdays-2/2028-07-26/
LOCATION:1st Galley Hill Scout Group\, 0HJ\, 110 Church Rd\, Swanscombe DA10 0HJ\, United Kingdom\, United Kingdom
CATEGORIES:Sports & Recreation Group
ATTACH;FMTTYPE=image/jpeg:https://swanscombeandgreenhithetowncouncil.gov.uk/wp-content/uploads/2021/12/57.2021-Scouts-are-back-30-Nov.jpg
ORGANIZER;CN="Rob Weller":MAILTO:info@1stgalleyhillscouts.org.uk
END:VEVENT
BEGIN:VEVENT
DTSTART;TZID=Europe/London:20280728T193000
DTEND;TZID=Europe/London:20280728T213000
DTSTAMP:20260423T115418
CREATED:20211202T145121Z
LAST-MODIFIED:20240313T013914Z
UID:10020184-1848425400-1848432600@swanscombeandgreenhithetowncouncil.gov.uk
SUMMARY:Scouts are Back - Scouts on Fridays
DESCRIPTION:
URL:https://swanscombeandgreenhithetowncouncil.gov.uk/event/scouts-are-back-scouts-on-fridays-2/2028-07-28/
LOCATION:1st Galley Hill Scout Group\, 0HJ\, 110 Church Rd\, Swanscombe DA10 0HJ\, United Kingdom\, United Kingdom
CATEGORIES:Sports & Recreation Group
ATTACH;FMTTYPE=image/jpeg:https://swanscombeandgreenhithetowncouncil.gov.uk/wp-content/uploads/2021/12/57.2021-Scouts-are-back-30-Nov.jpg
ORGANIZER;CN="Rob Weller":MAILTO:info@1stgalleyhillscouts.org.uk
END:VEVENT
BEGIN:VEVENT
DTSTART;TZID=Europe/London:20280729T103000
DTEND;TZID=Europe/London:20280729T120000
DTSTAMP:20260423T115418
CREATED:20240313T013714Z
LAST-MODIFIED:20240313T013714Z
UID:10011122-1848479400-1848484800@swanscombeandgreenhithetowncouncil.gov.uk
SUMMARY:Scouts are Back - Beavers on Saturdays
DESCRIPTION:
URL:https://swanscombeandgreenhithetowncouncil.gov.uk/event/scouts-are-back-scouts-on-fridays-3/2028-07-29/
LOCATION:1st Galley Hill Scout Group\, 0HJ\, 110 Church Rd\, Swanscombe DA10 0HJ\, United Kingdom\, United Kingdom
CATEGORIES:Sports & Recreation Group
ATTACH;FMTTYPE=image/jpeg:https://swanscombeandgreenhithetowncouncil.gov.uk/wp-content/uploads/2021/12/57.2021-Scouts-are-back-30-Nov.jpg
ORGANIZER;CN="Rob Weller":MAILTO:info@1stgalleyhillscouts.org.uk
END:VEVENT
BEGIN:VEVENT
DTSTART;TZID=Europe/London:20280802T190000
DTEND;TZID=Europe/London:20280802T203000
DTSTAMP:20260423T115418
CREATED:20240313T013529Z
LAST-MODIFIED:20241219T090853Z
UID:10010744-1848855600-1848861000@swanscombeandgreenhithetowncouncil.gov.uk
SUMMARY:Scouts are Back - Cubs on Wednesdays
DESCRIPTION:
URL:https://swanscombeandgreenhithetowncouncil.gov.uk/event/scouts-are-back-cubs-on-wednesdays-2/2028-08-02/
LOCATION:1st Galley Hill Scout Group\, 0HJ\, 110 Church Rd\, Swanscombe DA10 0HJ\, United Kingdom\, United Kingdom
CATEGORIES:Sports & Recreation Group
ATTACH;FMTTYPE=image/jpeg:https://swanscombeandgreenhithetowncouncil.gov.uk/wp-content/uploads/2021/12/57.2021-Scouts-are-back-30-Nov.jpg
ORGANIZER;CN="Rob Weller":MAILTO:info@1stgalleyhillscouts.org.uk
END:VEVENT
BEGIN:VEVENT
DTSTART;TZID=Europe/London:20280804T193000
DTEND;TZID=Europe/London:20280804T213000
DTSTAMP:20260423T115418
CREATED:20211202T145121Z
LAST-MODIFIED:20240313T013914Z
UID:10020185-1849030200-1849037400@swanscombeandgreenhithetowncouncil.gov.uk
SUMMARY:Scouts are Back - Scouts on Fridays
DESCRIPTION:
URL:https://swanscombeandgreenhithetowncouncil.gov.uk/event/scouts-are-back-scouts-on-fridays-2/2028-08-04/
LOCATION:1st Galley Hill Scout Group\, 0HJ\, 110 Church Rd\, Swanscombe DA10 0HJ\, United Kingdom\, United Kingdom
CATEGORIES:Sports & Recreation Group
ATTACH;FMTTYPE=image/jpeg:https://swanscombeandgreenhithetowncouncil.gov.uk/wp-content/uploads/2021/12/57.2021-Scouts-are-back-30-Nov.jpg
ORGANIZER;CN="Rob Weller":MAILTO:info@1stgalleyhillscouts.org.uk
END:VEVENT
BEGIN:VEVENT
DTSTART;TZID=Europe/London:20280805T103000
DTEND;TZID=Europe/London:20280805T120000
DTSTAMP:20260423T115418
CREATED:20240313T013714Z
LAST-MODIFIED:20240313T013714Z
UID:10011123-1849084200-1849089600@swanscombeandgreenhithetowncouncil.gov.uk
SUMMARY:Scouts are Back - Beavers on Saturdays
DESCRIPTION:
URL:https://swanscombeandgreenhithetowncouncil.gov.uk/event/scouts-are-back-scouts-on-fridays-3/2028-08-05/
LOCATION:1st Galley Hill Scout Group\, 0HJ\, 110 Church Rd\, Swanscombe DA10 0HJ\, United Kingdom\, United Kingdom
CATEGORIES:Sports & Recreation Group
ATTACH;FMTTYPE=image/jpeg:https://swanscombeandgreenhithetowncouncil.gov.uk/wp-content/uploads/2021/12/57.2021-Scouts-are-back-30-Nov.jpg
ORGANIZER;CN="Rob Weller":MAILTO:info@1stgalleyhillscouts.org.uk
END:VEVENT
BEGIN:VEVENT
DTSTART;TZID=Europe/London:20280809T190000
DTEND;TZID=Europe/London:20280809T203000
DTSTAMP:20260423T115418
CREATED:20240313T013529Z
LAST-MODIFIED:20241219T090853Z
UID:10010745-1849460400-1849465800@swanscombeandgreenhithetowncouncil.gov.uk
SUMMARY:Scouts are Back - Cubs on Wednesdays
DESCRIPTION:
URL:https://swanscombeandgreenhithetowncouncil.gov.uk/event/scouts-are-back-cubs-on-wednesdays-2/2028-08-09/
LOCATION:1st Galley Hill Scout Group\, 0HJ\, 110 Church Rd\, Swanscombe DA10 0HJ\, United Kingdom\, United Kingdom
CATEGORIES:Sports & Recreation Group
ATTACH;FMTTYPE=image/jpeg:https://swanscombeandgreenhithetowncouncil.gov.uk/wp-content/uploads/2021/12/57.2021-Scouts-are-back-30-Nov.jpg
ORGANIZER;CN="Rob Weller":MAILTO:info@1stgalleyhillscouts.org.uk
END:VEVENT
BEGIN:VEVENT
DTSTART;TZID=Europe/London:20280811T193000
DTEND;TZID=Europe/London:20280811T213000
DTSTAMP:20260423T115418
CREATED:20211202T145121Z
LAST-MODIFIED:20240313T013914Z
UID:10020186-1849635000-1849642200@swanscombeandgreenhithetowncouncil.gov.uk
SUMMARY:Scouts are Back - Scouts on Fridays
DESCRIPTION:
URL:https://swanscombeandgreenhithetowncouncil.gov.uk/event/scouts-are-back-scouts-on-fridays-2/2028-08-11/
LOCATION:1st Galley Hill Scout Group\, 0HJ\, 110 Church Rd\, Swanscombe DA10 0HJ\, United Kingdom\, United Kingdom
CATEGORIES:Sports & Recreation Group
ATTACH;FMTTYPE=image/jpeg:https://swanscombeandgreenhithetowncouncil.gov.uk/wp-content/uploads/2021/12/57.2021-Scouts-are-back-30-Nov.jpg
ORGANIZER;CN="Rob Weller":MAILTO:info@1stgalleyhillscouts.org.uk
END:VEVENT
BEGIN:VEVENT
DTSTART;TZID=Europe/London:20280812T103000
DTEND;TZID=Europe/London:20280812T120000
DTSTAMP:20260423T115418
CREATED:20240313T013714Z
LAST-MODIFIED:20240313T013714Z
UID:10011124-1849689000-1849694400@swanscombeandgreenhithetowncouncil.gov.uk
SUMMARY:Scouts are Back - Beavers on Saturdays
DESCRIPTION:
URL:https://swanscombeandgreenhithetowncouncil.gov.uk/event/scouts-are-back-scouts-on-fridays-3/2028-08-12/
LOCATION:1st Galley Hill Scout Group\, 0HJ\, 110 Church Rd\, Swanscombe DA10 0HJ\, United Kingdom\, United Kingdom
CATEGORIES:Sports & Recreation Group
ATTACH;FMTTYPE=image/jpeg:https://swanscombeandgreenhithetowncouncil.gov.uk/wp-content/uploads/2021/12/57.2021-Scouts-are-back-30-Nov.jpg
ORGANIZER;CN="Rob Weller":MAILTO:info@1stgalleyhillscouts.org.uk
END:VEVENT
BEGIN:VEVENT
DTSTART;TZID=Europe/London:20280816T190000
DTEND;TZID=Europe/London:20280816T203000
DTSTAMP:20260423T115418
CREATED:20240313T013529Z
LAST-MODIFIED:20241219T090853Z
UID:10010746-1850065200-1850070600@swanscombeandgreenhithetowncouncil.gov.uk
SUMMARY:Scouts are Back - Cubs on Wednesdays
DESCRIPTION:
URL:https://swanscombeandgreenhithetowncouncil.gov.uk/event/scouts-are-back-cubs-on-wednesdays-2/2028-08-16/
LOCATION:1st Galley Hill Scout Group\, 0HJ\, 110 Church Rd\, Swanscombe DA10 0HJ\, United Kingdom\, United Kingdom
CATEGORIES:Sports & Recreation Group
ATTACH;FMTTYPE=image/jpeg:https://swanscombeandgreenhithetowncouncil.gov.uk/wp-content/uploads/2021/12/57.2021-Scouts-are-back-30-Nov.jpg
ORGANIZER;CN="Rob Weller":MAILTO:info@1stgalleyhillscouts.org.uk
END:VEVENT
BEGIN:VEVENT
DTSTART;TZID=Europe/London:20280818T193000
DTEND;TZID=Europe/London:20280818T213000
DTSTAMP:20260423T115418
CREATED:20211202T145121Z
LAST-MODIFIED:20240313T013914Z
UID:10020187-1850239800-1850247000@swanscombeandgreenhithetowncouncil.gov.uk
SUMMARY:Scouts are Back - Scouts on Fridays
DESCRIPTION:
URL:https://swanscombeandgreenhithetowncouncil.gov.uk/event/scouts-are-back-scouts-on-fridays-2/2028-08-18/
LOCATION:1st Galley Hill Scout Group\, 0HJ\, 110 Church Rd\, Swanscombe DA10 0HJ\, United Kingdom\, United Kingdom
CATEGORIES:Sports & Recreation Group
ATTACH;FMTTYPE=image/jpeg:https://swanscombeandgreenhithetowncouncil.gov.uk/wp-content/uploads/2021/12/57.2021-Scouts-are-back-30-Nov.jpg
ORGANIZER;CN="Rob Weller":MAILTO:info@1stgalleyhillscouts.org.uk
END:VEVENT
BEGIN:VEVENT
DTSTART;TZID=Europe/London:20280819T103000
DTEND;TZID=Europe/London:20280819T120000
DTSTAMP:20260423T115418
CREATED:20240313T013714Z
LAST-MODIFIED:20240313T013714Z
UID:10011125-1850293800-1850299200@swanscombeandgreenhithetowncouncil.gov.uk
SUMMARY:Scouts are Back - Beavers on Saturdays
DESCRIPTION:
URL:https://swanscombeandgreenhithetowncouncil.gov.uk/event/scouts-are-back-scouts-on-fridays-3/2028-08-19/
LOCATION:1st Galley Hill Scout Group\, 0HJ\, 110 Church Rd\, Swanscombe DA10 0HJ\, United Kingdom\, United Kingdom
CATEGORIES:Sports & Recreation Group
ATTACH;FMTTYPE=image/jpeg:https://swanscombeandgreenhithetowncouncil.gov.uk/wp-content/uploads/2021/12/57.2021-Scouts-are-back-30-Nov.jpg
ORGANIZER;CN="Rob Weller":MAILTO:info@1stgalleyhillscouts.org.uk
END:VEVENT
BEGIN:VEVENT
DTSTART;TZID=Europe/London:20280823T190000
DTEND;TZID=Europe/London:20280823T203000
DTSTAMP:20260423T115418
CREATED:20240313T013529Z
LAST-MODIFIED:20241219T090853Z
UID:10010747-1850670000-1850675400@swanscombeandgreenhithetowncouncil.gov.uk
SUMMARY:Scouts are Back - Cubs on Wednesdays
DESCRIPTION:
URL:https://swanscombeandgreenhithetowncouncil.gov.uk/event/scouts-are-back-cubs-on-wednesdays-2/2028-08-23/
LOCATION:1st Galley Hill Scout Group\, 0HJ\, 110 Church Rd\, Swanscombe DA10 0HJ\, United Kingdom\, United Kingdom
CATEGORIES:Sports & Recreation Group
ATTACH;FMTTYPE=image/jpeg:https://swanscombeandgreenhithetowncouncil.gov.uk/wp-content/uploads/2021/12/57.2021-Scouts-are-back-30-Nov.jpg
ORGANIZER;CN="Rob Weller":MAILTO:info@1stgalleyhillscouts.org.uk
END:VEVENT
END:VCALENDAR