BEGIN:VCALENDAR
VERSION:2.0
PRODID:-//Swanscombe and Greenhithe Town Council - ECPv6.15.20//NONSGML v1.0//EN
CALSCALE:GREGORIAN
METHOD:PUBLISH
X-ORIGINAL-URL:https://swanscombeandgreenhithetowncouncil.gov.uk
X-WR-CALDESC:Events for Swanscombe and Greenhithe Town Council
REFRESH-INTERVAL;VALUE=DURATION:PT1H
X-Robots-Tag:noindex
X-PUBLISHED-TTL:PT1H
BEGIN:VTIMEZONE
TZID:Europe/London
BEGIN:DAYLIGHT
TZOFFSETFROM:+0000
TZOFFSETTO:+0100
TZNAME:BST
DTSTART:20260329T010000
END:DAYLIGHT
BEGIN:STANDARD
TZOFFSETFROM:+0100
TZOFFSETTO:+0000
TZNAME:GMT
DTSTART:20261025T010000
END:STANDARD
BEGIN:DAYLIGHT
TZOFFSETFROM:+0000
TZOFFSETTO:+0100
TZNAME:BST
DTSTART:20270328T010000
END:DAYLIGHT
BEGIN:STANDARD
TZOFFSETFROM:+0100
TZOFFSETTO:+0000
TZNAME:GMT
DTSTART:20271031T010000
END:STANDARD
BEGIN:DAYLIGHT
TZOFFSETFROM:+0000
TZOFFSETTO:+0100
TZNAME:BST
DTSTART:20280326T010000
END:DAYLIGHT
BEGIN:STANDARD
TZOFFSETFROM:+0100
TZOFFSETTO:+0000
TZNAME:GMT
DTSTART:20281029T010000
END:STANDARD
BEGIN:DAYLIGHT
TZOFFSETFROM:+0000
TZOFFSETTO:+0100
TZNAME:BST
DTSTART:20290325T010000
END:DAYLIGHT
BEGIN:STANDARD
TZOFFSETFROM:+0100
TZOFFSETTO:+0000
TZNAME:GMT
DTSTART:20291028T010000
END:STANDARD
END:VTIMEZONE
BEGIN:VEVENT
DTSTART;TZID=Europe/London:20270914T103000
DTEND;TZID=Europe/London:20270914T133000
DTSTAMP:20260421T233925
CREATED:20250107T121026Z
LAST-MODIFIED:20250107T121026Z
UID:10023426-1820917800-1820928600@swanscombeandgreenhithetowncouncil.gov.uk
SUMMARY:Warm Hub Club
DESCRIPTION:
URL:https://swanscombeandgreenhithetowncouncil.gov.uk/event/warm-hub-club/2027-09-14/
LOCATION:Above Old Fire Station Cafe\, Church Road\, Swanscombe\, DA10 0HF
CATEGORIES:Community Event
ATTACH;FMTTYPE=image/jpeg:https://swanscombeandgreenhithetowncouncil.gov.uk/wp-content/uploads/2025/01/2025-Warm-Hub-Club-7-Jan.jpg
ORGANIZER;CN="Dee Ryland":MAILTO:info@swanscombe-greenhithe-community-hub.org
END:VEVENT
BEGIN:VEVENT
DTSTART;TZID=Europe/London:20270921T103000
DTEND;TZID=Europe/London:20270921T133000
DTSTAMP:20260421T233925
CREATED:20250107T121026Z
LAST-MODIFIED:20250107T121026Z
UID:10023427-1821522600-1821533400@swanscombeandgreenhithetowncouncil.gov.uk
SUMMARY:Warm Hub Club
DESCRIPTION:
URL:https://swanscombeandgreenhithetowncouncil.gov.uk/event/warm-hub-club/2027-09-21/
LOCATION:Above Old Fire Station Cafe\, Church Road\, Swanscombe\, DA10 0HF
CATEGORIES:Community Event
ATTACH;FMTTYPE=image/jpeg:https://swanscombeandgreenhithetowncouncil.gov.uk/wp-content/uploads/2025/01/2025-Warm-Hub-Club-7-Jan.jpg
ORGANIZER;CN="Dee Ryland":MAILTO:info@swanscombe-greenhithe-community-hub.org
END:VEVENT
BEGIN:VEVENT
DTSTART;TZID=Europe/London:20270928T103000
DTEND;TZID=Europe/London:20270928T133000
DTSTAMP:20260421T233925
CREATED:20250107T121026Z
LAST-MODIFIED:20250107T121026Z
UID:10023428-1822127400-1822138200@swanscombeandgreenhithetowncouncil.gov.uk
SUMMARY:Warm Hub Club
DESCRIPTION:
URL:https://swanscombeandgreenhithetowncouncil.gov.uk/event/warm-hub-club/2027-09-28/
LOCATION:Above Old Fire Station Cafe\, Church Road\, Swanscombe\, DA10 0HF
CATEGORIES:Community Event
ATTACH;FMTTYPE=image/jpeg:https://swanscombeandgreenhithetowncouncil.gov.uk/wp-content/uploads/2025/01/2025-Warm-Hub-Club-7-Jan.jpg
ORGANIZER;CN="Dee Ryland":MAILTO:info@swanscombe-greenhithe-community-hub.org
END:VEVENT
BEGIN:VEVENT
DTSTART;TZID=Europe/London:20271005T103000
DTEND;TZID=Europe/London:20271005T133000
DTSTAMP:20260421T233925
CREATED:20250107T121026Z
LAST-MODIFIED:20250107T121026Z
UID:10023429-1822732200-1822743000@swanscombeandgreenhithetowncouncil.gov.uk
SUMMARY:Warm Hub Club
DESCRIPTION:
URL:https://swanscombeandgreenhithetowncouncil.gov.uk/event/warm-hub-club/2027-10-05/
LOCATION:Above Old Fire Station Cafe\, Church Road\, Swanscombe\, DA10 0HF
CATEGORIES:Community Event
ATTACH;FMTTYPE=image/jpeg:https://swanscombeandgreenhithetowncouncil.gov.uk/wp-content/uploads/2025/01/2025-Warm-Hub-Club-7-Jan.jpg
ORGANIZER;CN="Dee Ryland":MAILTO:info@swanscombe-greenhithe-community-hub.org
END:VEVENT
BEGIN:VEVENT
DTSTART;TZID=Europe/London:20271012T103000
DTEND;TZID=Europe/London:20271012T133000
DTSTAMP:20260421T233925
CREATED:20250107T121026Z
LAST-MODIFIED:20250107T121026Z
UID:10023430-1823337000-1823347800@swanscombeandgreenhithetowncouncil.gov.uk
SUMMARY:Warm Hub Club
DESCRIPTION:
URL:https://swanscombeandgreenhithetowncouncil.gov.uk/event/warm-hub-club/2027-10-12/
LOCATION:Above Old Fire Station Cafe\, Church Road\, Swanscombe\, DA10 0HF
CATEGORIES:Community Event
ATTACH;FMTTYPE=image/jpeg:https://swanscombeandgreenhithetowncouncil.gov.uk/wp-content/uploads/2025/01/2025-Warm-Hub-Club-7-Jan.jpg
ORGANIZER;CN="Dee Ryland":MAILTO:info@swanscombe-greenhithe-community-hub.org
END:VEVENT
BEGIN:VEVENT
DTSTART;TZID=Europe/London:20271019T103000
DTEND;TZID=Europe/London:20271019T133000
DTSTAMP:20260421T233925
CREATED:20250107T121026Z
LAST-MODIFIED:20250107T121026Z
UID:10023431-1823941800-1823952600@swanscombeandgreenhithetowncouncil.gov.uk
SUMMARY:Warm Hub Club
DESCRIPTION:
URL:https://swanscombeandgreenhithetowncouncil.gov.uk/event/warm-hub-club/2027-10-19/
LOCATION:Above Old Fire Station Cafe\, Church Road\, Swanscombe\, DA10 0HF
CATEGORIES:Community Event
ATTACH;FMTTYPE=image/jpeg:https://swanscombeandgreenhithetowncouncil.gov.uk/wp-content/uploads/2025/01/2025-Warm-Hub-Club-7-Jan.jpg
ORGANIZER;CN="Dee Ryland":MAILTO:info@swanscombe-greenhithe-community-hub.org
END:VEVENT
BEGIN:VEVENT
DTSTART;TZID=Europe/London:20271026T103000
DTEND;TZID=Europe/London:20271026T133000
DTSTAMP:20260421T233925
CREATED:20250107T121026Z
LAST-MODIFIED:20250107T121026Z
UID:10023432-1824546600-1824557400@swanscombeandgreenhithetowncouncil.gov.uk
SUMMARY:Warm Hub Club
DESCRIPTION:
URL:https://swanscombeandgreenhithetowncouncil.gov.uk/event/warm-hub-club/2027-10-26/
LOCATION:Above Old Fire Station Cafe\, Church Road\, Swanscombe\, DA10 0HF
CATEGORIES:Community Event
ATTACH;FMTTYPE=image/jpeg:https://swanscombeandgreenhithetowncouncil.gov.uk/wp-content/uploads/2025/01/2025-Warm-Hub-Club-7-Jan.jpg
ORGANIZER;CN="Dee Ryland":MAILTO:info@swanscombe-greenhithe-community-hub.org
END:VEVENT
BEGIN:VEVENT
DTSTART;TZID=Europe/London:20271102T103000
DTEND;TZID=Europe/London:20271102T133000
DTSTAMP:20260421T233925
CREATED:20250107T121026Z
LAST-MODIFIED:20250107T121026Z
UID:10023433-1825151400-1825162200@swanscombeandgreenhithetowncouncil.gov.uk
SUMMARY:Warm Hub Club
DESCRIPTION:
URL:https://swanscombeandgreenhithetowncouncil.gov.uk/event/warm-hub-club/2027-11-02/
LOCATION:Above Old Fire Station Cafe\, Church Road\, Swanscombe\, DA10 0HF
CATEGORIES:Community Event
ATTACH;FMTTYPE=image/jpeg:https://swanscombeandgreenhithetowncouncil.gov.uk/wp-content/uploads/2025/01/2025-Warm-Hub-Club-7-Jan.jpg
ORGANIZER;CN="Dee Ryland":MAILTO:info@swanscombe-greenhithe-community-hub.org
END:VEVENT
BEGIN:VEVENT
DTSTART;TZID=Europe/London:20271109T103000
DTEND;TZID=Europe/London:20271109T133000
DTSTAMP:20260421T233925
CREATED:20250107T121026Z
LAST-MODIFIED:20250107T121026Z
UID:10023434-1825756200-1825767000@swanscombeandgreenhithetowncouncil.gov.uk
SUMMARY:Warm Hub Club
DESCRIPTION:
URL:https://swanscombeandgreenhithetowncouncil.gov.uk/event/warm-hub-club/2027-11-09/
LOCATION:Above Old Fire Station Cafe\, Church Road\, Swanscombe\, DA10 0HF
CATEGORIES:Community Event
ATTACH;FMTTYPE=image/jpeg:https://swanscombeandgreenhithetowncouncil.gov.uk/wp-content/uploads/2025/01/2025-Warm-Hub-Club-7-Jan.jpg
ORGANIZER;CN="Dee Ryland":MAILTO:info@swanscombe-greenhithe-community-hub.org
END:VEVENT
BEGIN:VEVENT
DTSTART;TZID=Europe/London:20271116T103000
DTEND;TZID=Europe/London:20271116T133000
DTSTAMP:20260421T233925
CREATED:20250107T121026Z
LAST-MODIFIED:20250107T121026Z
UID:10023435-1826361000-1826371800@swanscombeandgreenhithetowncouncil.gov.uk
SUMMARY:Warm Hub Club
DESCRIPTION:
URL:https://swanscombeandgreenhithetowncouncil.gov.uk/event/warm-hub-club/2027-11-16/
LOCATION:Above Old Fire Station Cafe\, Church Road\, Swanscombe\, DA10 0HF
CATEGORIES:Community Event
ATTACH;FMTTYPE=image/jpeg:https://swanscombeandgreenhithetowncouncil.gov.uk/wp-content/uploads/2025/01/2025-Warm-Hub-Club-7-Jan.jpg
ORGANIZER;CN="Dee Ryland":MAILTO:info@swanscombe-greenhithe-community-hub.org
END:VEVENT
BEGIN:VEVENT
DTSTART;TZID=Europe/London:20271123T103000
DTEND;TZID=Europe/London:20271123T133000
DTSTAMP:20260421T233925
CREATED:20250107T121026Z
LAST-MODIFIED:20250107T121026Z
UID:10023436-1826965800-1826976600@swanscombeandgreenhithetowncouncil.gov.uk
SUMMARY:Warm Hub Club
DESCRIPTION:
URL:https://swanscombeandgreenhithetowncouncil.gov.uk/event/warm-hub-club/2027-11-23/
LOCATION:Above Old Fire Station Cafe\, Church Road\, Swanscombe\, DA10 0HF
CATEGORIES:Community Event
ATTACH;FMTTYPE=image/jpeg:https://swanscombeandgreenhithetowncouncil.gov.uk/wp-content/uploads/2025/01/2025-Warm-Hub-Club-7-Jan.jpg
ORGANIZER;CN="Dee Ryland":MAILTO:info@swanscombe-greenhithe-community-hub.org
END:VEVENT
BEGIN:VEVENT
DTSTART;TZID=Europe/London:20271130T103000
DTEND;TZID=Europe/London:20271130T133000
DTSTAMP:20260421T233925
CREATED:20250107T121026Z
LAST-MODIFIED:20250107T121026Z
UID:10023437-1827570600-1827581400@swanscombeandgreenhithetowncouncil.gov.uk
SUMMARY:Warm Hub Club
DESCRIPTION:
URL:https://swanscombeandgreenhithetowncouncil.gov.uk/event/warm-hub-club/2027-11-30/
LOCATION:Above Old Fire Station Cafe\, Church Road\, Swanscombe\, DA10 0HF
CATEGORIES:Community Event
ATTACH;FMTTYPE=image/jpeg:https://swanscombeandgreenhithetowncouncil.gov.uk/wp-content/uploads/2025/01/2025-Warm-Hub-Club-7-Jan.jpg
ORGANIZER;CN="Dee Ryland":MAILTO:info@swanscombe-greenhithe-community-hub.org
END:VEVENT
BEGIN:VEVENT
DTSTART;TZID=Europe/London:20271207T103000
DTEND;TZID=Europe/London:20271207T133000
DTSTAMP:20260421T233925
CREATED:20250107T121026Z
LAST-MODIFIED:20250107T121026Z
UID:10023438-1828175400-1828186200@swanscombeandgreenhithetowncouncil.gov.uk
SUMMARY:Warm Hub Club
DESCRIPTION:
URL:https://swanscombeandgreenhithetowncouncil.gov.uk/event/warm-hub-club/2027-12-07/
LOCATION:Above Old Fire Station Cafe\, Church Road\, Swanscombe\, DA10 0HF
CATEGORIES:Community Event
ATTACH;FMTTYPE=image/jpeg:https://swanscombeandgreenhithetowncouncil.gov.uk/wp-content/uploads/2025/01/2025-Warm-Hub-Club-7-Jan.jpg
ORGANIZER;CN="Dee Ryland":MAILTO:info@swanscombe-greenhithe-community-hub.org
END:VEVENT
BEGIN:VEVENT
DTSTART;TZID=Europe/London:20271214T103000
DTEND;TZID=Europe/London:20271214T133000
DTSTAMP:20260421T233925
CREATED:20250107T121026Z
LAST-MODIFIED:20250107T121026Z
UID:10023439-1828780200-1828791000@swanscombeandgreenhithetowncouncil.gov.uk
SUMMARY:Warm Hub Club
DESCRIPTION:
URL:https://swanscombeandgreenhithetowncouncil.gov.uk/event/warm-hub-club/2027-12-14/
LOCATION:Above Old Fire Station Cafe\, Church Road\, Swanscombe\, DA10 0HF
CATEGORIES:Community Event
ATTACH;FMTTYPE=image/jpeg:https://swanscombeandgreenhithetowncouncil.gov.uk/wp-content/uploads/2025/01/2025-Warm-Hub-Club-7-Jan.jpg
ORGANIZER;CN="Dee Ryland":MAILTO:info@swanscombe-greenhithe-community-hub.org
END:VEVENT
BEGIN:VEVENT
DTSTART;TZID=Europe/London:20271221T103000
DTEND;TZID=Europe/London:20271221T133000
DTSTAMP:20260421T233925
CREATED:20250107T121026Z
LAST-MODIFIED:20250107T121026Z
UID:10023440-1829385000-1829395800@swanscombeandgreenhithetowncouncil.gov.uk
SUMMARY:Warm Hub Club
DESCRIPTION:
URL:https://swanscombeandgreenhithetowncouncil.gov.uk/event/warm-hub-club/2027-12-21/
LOCATION:Above Old Fire Station Cafe\, Church Road\, Swanscombe\, DA10 0HF
CATEGORIES:Community Event
ATTACH;FMTTYPE=image/jpeg:https://swanscombeandgreenhithetowncouncil.gov.uk/wp-content/uploads/2025/01/2025-Warm-Hub-Club-7-Jan.jpg
ORGANIZER;CN="Dee Ryland":MAILTO:info@swanscombe-greenhithe-community-hub.org
END:VEVENT
BEGIN:VEVENT
DTSTART;TZID=Europe/London:20271228T103000
DTEND;TZID=Europe/London:20271228T133000
DTSTAMP:20260421T233925
CREATED:20250107T121026Z
LAST-MODIFIED:20250107T121026Z
UID:10023441-1829989800-1830000600@swanscombeandgreenhithetowncouncil.gov.uk
SUMMARY:Warm Hub Club
DESCRIPTION:
URL:https://swanscombeandgreenhithetowncouncil.gov.uk/event/warm-hub-club/2027-12-28/
LOCATION:Above Old Fire Station Cafe\, Church Road\, Swanscombe\, DA10 0HF
CATEGORIES:Community Event
ATTACH;FMTTYPE=image/jpeg:https://swanscombeandgreenhithetowncouncil.gov.uk/wp-content/uploads/2025/01/2025-Warm-Hub-Club-7-Jan.jpg
ORGANIZER;CN="Dee Ryland":MAILTO:info@swanscombe-greenhithe-community-hub.org
END:VEVENT
BEGIN:VEVENT
DTSTART;TZID=Europe/London:20280104T103000
DTEND;TZID=Europe/London:20280104T133000
DTSTAMP:20260421T233925
CREATED:20250107T121026Z
LAST-MODIFIED:20250107T121026Z
UID:10023442-1830594600-1830605400@swanscombeandgreenhithetowncouncil.gov.uk
SUMMARY:Warm Hub Club
DESCRIPTION:
URL:https://swanscombeandgreenhithetowncouncil.gov.uk/event/warm-hub-club/2028-01-04/
LOCATION:Above Old Fire Station Cafe\, Church Road\, Swanscombe\, DA10 0HF
CATEGORIES:Community Event
ATTACH;FMTTYPE=image/jpeg:https://swanscombeandgreenhithetowncouncil.gov.uk/wp-content/uploads/2025/01/2025-Warm-Hub-Club-7-Jan.jpg
ORGANIZER;CN="Dee Ryland":MAILTO:info@swanscombe-greenhithe-community-hub.org
END:VEVENT
BEGIN:VEVENT
DTSTART;TZID=Europe/London:20280111T103000
DTEND;TZID=Europe/London:20280111T133000
DTSTAMP:20260421T233925
CREATED:20250107T121026Z
LAST-MODIFIED:20250107T121026Z
UID:10023443-1831199400-1831210200@swanscombeandgreenhithetowncouncil.gov.uk
SUMMARY:Warm Hub Club
DESCRIPTION:
URL:https://swanscombeandgreenhithetowncouncil.gov.uk/event/warm-hub-club/2028-01-11/
LOCATION:Above Old Fire Station Cafe\, Church Road\, Swanscombe\, DA10 0HF
CATEGORIES:Community Event
ATTACH;FMTTYPE=image/jpeg:https://swanscombeandgreenhithetowncouncil.gov.uk/wp-content/uploads/2025/01/2025-Warm-Hub-Club-7-Jan.jpg
ORGANIZER;CN="Dee Ryland":MAILTO:info@swanscombe-greenhithe-community-hub.org
END:VEVENT
BEGIN:VEVENT
DTSTART;TZID=Europe/London:20280118T103000
DTEND;TZID=Europe/London:20280118T133000
DTSTAMP:20260421T233925
CREATED:20250107T121026Z
LAST-MODIFIED:20250107T121026Z
UID:10023444-1831804200-1831815000@swanscombeandgreenhithetowncouncil.gov.uk
SUMMARY:Warm Hub Club
DESCRIPTION:
URL:https://swanscombeandgreenhithetowncouncil.gov.uk/event/warm-hub-club/2028-01-18/
LOCATION:Above Old Fire Station Cafe\, Church Road\, Swanscombe\, DA10 0HF
CATEGORIES:Community Event
ATTACH;FMTTYPE=image/jpeg:https://swanscombeandgreenhithetowncouncil.gov.uk/wp-content/uploads/2025/01/2025-Warm-Hub-Club-7-Jan.jpg
ORGANIZER;CN="Dee Ryland":MAILTO:info@swanscombe-greenhithe-community-hub.org
END:VEVENT
BEGIN:VEVENT
DTSTART;TZID=Europe/London:20280125T103000
DTEND;TZID=Europe/London:20280125T133000
DTSTAMP:20260421T233925
CREATED:20250107T121026Z
LAST-MODIFIED:20250107T121026Z
UID:10023445-1832409000-1832419800@swanscombeandgreenhithetowncouncil.gov.uk
SUMMARY:Warm Hub Club
DESCRIPTION:
URL:https://swanscombeandgreenhithetowncouncil.gov.uk/event/warm-hub-club/2028-01-25/
LOCATION:Above Old Fire Station Cafe\, Church Road\, Swanscombe\, DA10 0HF
CATEGORIES:Community Event
ATTACH;FMTTYPE=image/jpeg:https://swanscombeandgreenhithetowncouncil.gov.uk/wp-content/uploads/2025/01/2025-Warm-Hub-Club-7-Jan.jpg
ORGANIZER;CN="Dee Ryland":MAILTO:info@swanscombe-greenhithe-community-hub.org
END:VEVENT
BEGIN:VEVENT
DTSTART;TZID=Europe/London:20280201T103000
DTEND;TZID=Europe/London:20280201T133000
DTSTAMP:20260421T233925
CREATED:20250107T121026Z
LAST-MODIFIED:20250107T121026Z
UID:10023446-1833013800-1833024600@swanscombeandgreenhithetowncouncil.gov.uk
SUMMARY:Warm Hub Club
DESCRIPTION:
URL:https://swanscombeandgreenhithetowncouncil.gov.uk/event/warm-hub-club/2028-02-01/
LOCATION:Above Old Fire Station Cafe\, Church Road\, Swanscombe\, DA10 0HF
CATEGORIES:Community Event
ATTACH;FMTTYPE=image/jpeg:https://swanscombeandgreenhithetowncouncil.gov.uk/wp-content/uploads/2025/01/2025-Warm-Hub-Club-7-Jan.jpg
ORGANIZER;CN="Dee Ryland":MAILTO:info@swanscombe-greenhithe-community-hub.org
END:VEVENT
BEGIN:VEVENT
DTSTART;TZID=Europe/London:20280208T103000
DTEND;TZID=Europe/London:20280208T133000
DTSTAMP:20260421T233925
CREATED:20250107T121026Z
LAST-MODIFIED:20250107T121026Z
UID:10023447-1833618600-1833629400@swanscombeandgreenhithetowncouncil.gov.uk
SUMMARY:Warm Hub Club
DESCRIPTION:
URL:https://swanscombeandgreenhithetowncouncil.gov.uk/event/warm-hub-club/2028-02-08/
LOCATION:Above Old Fire Station Cafe\, Church Road\, Swanscombe\, DA10 0HF
CATEGORIES:Community Event
ATTACH;FMTTYPE=image/jpeg:https://swanscombeandgreenhithetowncouncil.gov.uk/wp-content/uploads/2025/01/2025-Warm-Hub-Club-7-Jan.jpg
ORGANIZER;CN="Dee Ryland":MAILTO:info@swanscombe-greenhithe-community-hub.org
END:VEVENT
BEGIN:VEVENT
DTSTART;TZID=Europe/London:20280215T103000
DTEND;TZID=Europe/London:20280215T133000
DTSTAMP:20260421T233925
CREATED:20250107T121026Z
LAST-MODIFIED:20250107T121026Z
UID:10023448-1834223400-1834234200@swanscombeandgreenhithetowncouncil.gov.uk
SUMMARY:Warm Hub Club
DESCRIPTION:
URL:https://swanscombeandgreenhithetowncouncil.gov.uk/event/warm-hub-club/2028-02-15/
LOCATION:Above Old Fire Station Cafe\, Church Road\, Swanscombe\, DA10 0HF
CATEGORIES:Community Event
ATTACH;FMTTYPE=image/jpeg:https://swanscombeandgreenhithetowncouncil.gov.uk/wp-content/uploads/2025/01/2025-Warm-Hub-Club-7-Jan.jpg
ORGANIZER;CN="Dee Ryland":MAILTO:info@swanscombe-greenhithe-community-hub.org
END:VEVENT
BEGIN:VEVENT
DTSTART;TZID=Europe/London:20280222T103000
DTEND;TZID=Europe/London:20280222T133000
DTSTAMP:20260421T233925
CREATED:20250107T121026Z
LAST-MODIFIED:20250107T121026Z
UID:10023449-1834828200-1834839000@swanscombeandgreenhithetowncouncil.gov.uk
SUMMARY:Warm Hub Club
DESCRIPTION:
URL:https://swanscombeandgreenhithetowncouncil.gov.uk/event/warm-hub-club/2028-02-22/
LOCATION:Above Old Fire Station Cafe\, Church Road\, Swanscombe\, DA10 0HF
CATEGORIES:Community Event
ATTACH;FMTTYPE=image/jpeg:https://swanscombeandgreenhithetowncouncil.gov.uk/wp-content/uploads/2025/01/2025-Warm-Hub-Club-7-Jan.jpg
ORGANIZER;CN="Dee Ryland":MAILTO:info@swanscombe-greenhithe-community-hub.org
END:VEVENT
BEGIN:VEVENT
DTSTART;TZID=Europe/London:20280229T103000
DTEND;TZID=Europe/London:20280229T133000
DTSTAMP:20260421T233925
CREATED:20250107T121026Z
LAST-MODIFIED:20250107T121026Z
UID:10023450-1835433000-1835443800@swanscombeandgreenhithetowncouncil.gov.uk
SUMMARY:Warm Hub Club
DESCRIPTION:
URL:https://swanscombeandgreenhithetowncouncil.gov.uk/event/warm-hub-club/2028-02-29/
LOCATION:Above Old Fire Station Cafe\, Church Road\, Swanscombe\, DA10 0HF
CATEGORIES:Community Event
ATTACH;FMTTYPE=image/jpeg:https://swanscombeandgreenhithetowncouncil.gov.uk/wp-content/uploads/2025/01/2025-Warm-Hub-Club-7-Jan.jpg
ORGANIZER;CN="Dee Ryland":MAILTO:info@swanscombe-greenhithe-community-hub.org
END:VEVENT
BEGIN:VEVENT
DTSTART;TZID=Europe/London:20280307T103000
DTEND;TZID=Europe/London:20280307T133000
DTSTAMP:20260421T233925
CREATED:20250107T121026Z
LAST-MODIFIED:20250107T121026Z
UID:10023451-1836037800-1836048600@swanscombeandgreenhithetowncouncil.gov.uk
SUMMARY:Warm Hub Club
DESCRIPTION:
URL:https://swanscombeandgreenhithetowncouncil.gov.uk/event/warm-hub-club/2028-03-07/
LOCATION:Above Old Fire Station Cafe\, Church Road\, Swanscombe\, DA10 0HF
CATEGORIES:Community Event
ATTACH;FMTTYPE=image/jpeg:https://swanscombeandgreenhithetowncouncil.gov.uk/wp-content/uploads/2025/01/2025-Warm-Hub-Club-7-Jan.jpg
ORGANIZER;CN="Dee Ryland":MAILTO:info@swanscombe-greenhithe-community-hub.org
END:VEVENT
BEGIN:VEVENT
DTSTART;TZID=Europe/London:20280314T103000
DTEND;TZID=Europe/London:20280314T133000
DTSTAMP:20260421T233925
CREATED:20250107T121026Z
LAST-MODIFIED:20250107T121026Z
UID:10023452-1836642600-1836653400@swanscombeandgreenhithetowncouncil.gov.uk
SUMMARY:Warm Hub Club
DESCRIPTION:
URL:https://swanscombeandgreenhithetowncouncil.gov.uk/event/warm-hub-club/2028-03-14/
LOCATION:Above Old Fire Station Cafe\, Church Road\, Swanscombe\, DA10 0HF
CATEGORIES:Community Event
ATTACH;FMTTYPE=image/jpeg:https://swanscombeandgreenhithetowncouncil.gov.uk/wp-content/uploads/2025/01/2025-Warm-Hub-Club-7-Jan.jpg
ORGANIZER;CN="Dee Ryland":MAILTO:info@swanscombe-greenhithe-community-hub.org
END:VEVENT
BEGIN:VEVENT
DTSTART;TZID=Europe/London:20280321T103000
DTEND;TZID=Europe/London:20280321T133000
DTSTAMP:20260421T233925
CREATED:20250107T121026Z
LAST-MODIFIED:20250107T121026Z
UID:10023453-1837247400-1837258200@swanscombeandgreenhithetowncouncil.gov.uk
SUMMARY:Warm Hub Club
DESCRIPTION:
URL:https://swanscombeandgreenhithetowncouncil.gov.uk/event/warm-hub-club/2028-03-21/
LOCATION:Above Old Fire Station Cafe\, Church Road\, Swanscombe\, DA10 0HF
CATEGORIES:Community Event
ATTACH;FMTTYPE=image/jpeg:https://swanscombeandgreenhithetowncouncil.gov.uk/wp-content/uploads/2025/01/2025-Warm-Hub-Club-7-Jan.jpg
ORGANIZER;CN="Dee Ryland":MAILTO:info@swanscombe-greenhithe-community-hub.org
END:VEVENT
BEGIN:VEVENT
DTSTART;TZID=Europe/London:20280328T103000
DTEND;TZID=Europe/London:20280328T133000
DTSTAMP:20260421T233925
CREATED:20250107T121026Z
LAST-MODIFIED:20250107T121026Z
UID:10023454-1837852200-1837863000@swanscombeandgreenhithetowncouncil.gov.uk
SUMMARY:Warm Hub Club
DESCRIPTION:
URL:https://swanscombeandgreenhithetowncouncil.gov.uk/event/warm-hub-club/2028-03-28/
LOCATION:Above Old Fire Station Cafe\, Church Road\, Swanscombe\, DA10 0HF
CATEGORIES:Community Event
ATTACH;FMTTYPE=image/jpeg:https://swanscombeandgreenhithetowncouncil.gov.uk/wp-content/uploads/2025/01/2025-Warm-Hub-Club-7-Jan.jpg
ORGANIZER;CN="Dee Ryland":MAILTO:info@swanscombe-greenhithe-community-hub.org
END:VEVENT
BEGIN:VEVENT
DTSTART;TZID=Europe/London:20280404T103000
DTEND;TZID=Europe/London:20280404T133000
DTSTAMP:20260421T233925
CREATED:20250107T121026Z
LAST-MODIFIED:20250107T121026Z
UID:10023455-1838457000-1838467800@swanscombeandgreenhithetowncouncil.gov.uk
SUMMARY:Warm Hub Club
DESCRIPTION:
URL:https://swanscombeandgreenhithetowncouncil.gov.uk/event/warm-hub-club/2028-04-04/
LOCATION:Above Old Fire Station Cafe\, Church Road\, Swanscombe\, DA10 0HF
CATEGORIES:Community Event
ATTACH;FMTTYPE=image/jpeg:https://swanscombeandgreenhithetowncouncil.gov.uk/wp-content/uploads/2025/01/2025-Warm-Hub-Club-7-Jan.jpg
ORGANIZER;CN="Dee Ryland":MAILTO:info@swanscombe-greenhithe-community-hub.org
END:VEVENT
END:VCALENDAR