BEGIN:VCALENDAR
VERSION:2.0
PRODID:-//Swanscombe and Greenhithe Town Council - ECPv6.15.20//NONSGML v1.0//EN
CALSCALE:GREGORIAN
METHOD:PUBLISH
X-ORIGINAL-URL:https://swanscombeandgreenhithetowncouncil.gov.uk
X-WR-CALDESC:Events for Swanscombe and Greenhithe Town Council
REFRESH-INTERVAL;VALUE=DURATION:PT1H
X-Robots-Tag:noindex
X-PUBLISHED-TTL:PT1H
BEGIN:VTIMEZONE
TZID:Europe/London
BEGIN:DAYLIGHT
TZOFFSETFROM:+0000
TZOFFSETTO:+0100
TZNAME:BST
DTSTART:20280326T010000
END:DAYLIGHT
BEGIN:STANDARD
TZOFFSETFROM:+0100
TZOFFSETTO:+0000
TZNAME:GMT
DTSTART:20281029T010000
END:STANDARD
BEGIN:DAYLIGHT
TZOFFSETFROM:+0000
TZOFFSETTO:+0100
TZNAME:BST
DTSTART:20290325T010000
END:DAYLIGHT
BEGIN:STANDARD
TZOFFSETFROM:+0100
TZOFFSETTO:+0000
TZNAME:GMT
DTSTART:20291028T010000
END:STANDARD
BEGIN:DAYLIGHT
TZOFFSETFROM:+0000
TZOFFSETTO:+0100
TZNAME:BST
DTSTART:20300331T010000
END:DAYLIGHT
BEGIN:STANDARD
TZOFFSETFROM:+0100
TZOFFSETTO:+0000
TZNAME:GMT
DTSTART:20301027T010000
END:STANDARD
END:VTIMEZONE
BEGIN:VEVENT
DTSTART;TZID=Europe/London:20290130T180000
DTEND;TZID=Europe/London:20290130T200000
DTSTAMP:20260422T082349
CREATED:20240313T013214Z
LAST-MODIFIED:20240313T013214Z
UID:10009597-1864490400-1864497600@swanscombeandgreenhithetowncouncil.gov.uk
SUMMARY:Youth Konnect in Broomfield Park - Swanscombe
DESCRIPTION:For more information please call 01689 – 867366
URL:https://swanscombeandgreenhithetowncouncil.gov.uk/event/10542-2/2029-01-30/
LOCATION:Broomfield Park\, Broomfield Rd\, Swanscombe DA10 0AD\, United Kingdom\, England\, DA10 0AD\, United Kingdom
CATEGORIES:Community Event
ATTACH;FMTTYPE=image/png:https://swanscombeandgreenhithetowncouncil.gov.uk/wp-content/uploads/2021/07/46.2022-BField-Tuesdays-Sept.png
ORGANIZER;CN="Youth Konnect":MAILTO:info@playplace.org
GEO:51.447383;0.308653
X-APPLE-STRUCTURED-LOCATION;VALUE=URI;X-ADDRESS=Broomfield Park Broomfield Rd Swanscombe DA10 0AD United Kingdom England DA10 0AD United Kingdom;X-APPLE-RADIUS=500;X-TITLE=Broomfield Rd\, Swanscombe DA10 0AD\, United Kingdom:geo:0.308653,51.447383
END:VEVENT
BEGIN:VEVENT
DTSTART;TZID=Europe/London:20290206T180000
DTEND;TZID=Europe/London:20290206T200000
DTSTAMP:20260422T082349
CREATED:20240313T013214Z
LAST-MODIFIED:20240313T013214Z
UID:10009598-1865095200-1865102400@swanscombeandgreenhithetowncouncil.gov.uk
SUMMARY:Youth Konnect in Broomfield Park - Swanscombe
DESCRIPTION:For more information please call 01689 – 867366
URL:https://swanscombeandgreenhithetowncouncil.gov.uk/event/10542-2/2029-02-06/
LOCATION:Broomfield Park\, Broomfield Rd\, Swanscombe DA10 0AD\, United Kingdom\, England\, DA10 0AD\, United Kingdom
CATEGORIES:Community Event
ATTACH;FMTTYPE=image/png:https://swanscombeandgreenhithetowncouncil.gov.uk/wp-content/uploads/2021/07/46.2022-BField-Tuesdays-Sept.png
ORGANIZER;CN="Youth Konnect":MAILTO:info@playplace.org
GEO:51.447383;0.308653
X-APPLE-STRUCTURED-LOCATION;VALUE=URI;X-ADDRESS=Broomfield Park Broomfield Rd Swanscombe DA10 0AD United Kingdom England DA10 0AD United Kingdom;X-APPLE-RADIUS=500;X-TITLE=Broomfield Rd\, Swanscombe DA10 0AD\, United Kingdom:geo:0.308653,51.447383
END:VEVENT
BEGIN:VEVENT
DTSTART;TZID=Europe/London:20290213T180000
DTEND;TZID=Europe/London:20290213T200000
DTSTAMP:20260422T082349
CREATED:20240313T013214Z
LAST-MODIFIED:20240313T013214Z
UID:10009599-1865700000-1865707200@swanscombeandgreenhithetowncouncil.gov.uk
SUMMARY:Youth Konnect in Broomfield Park - Swanscombe
DESCRIPTION:For more information please call 01689 – 867366
URL:https://swanscombeandgreenhithetowncouncil.gov.uk/event/10542-2/2029-02-13/
LOCATION:Broomfield Park\, Broomfield Rd\, Swanscombe DA10 0AD\, United Kingdom\, England\, DA10 0AD\, United Kingdom
CATEGORIES:Community Event
ATTACH;FMTTYPE=image/png:https://swanscombeandgreenhithetowncouncil.gov.uk/wp-content/uploads/2021/07/46.2022-BField-Tuesdays-Sept.png
ORGANIZER;CN="Youth Konnect":MAILTO:info@playplace.org
GEO:51.447383;0.308653
X-APPLE-STRUCTURED-LOCATION;VALUE=URI;X-ADDRESS=Broomfield Park Broomfield Rd Swanscombe DA10 0AD United Kingdom England DA10 0AD United Kingdom;X-APPLE-RADIUS=500;X-TITLE=Broomfield Rd\, Swanscombe DA10 0AD\, United Kingdom:geo:0.308653,51.447383
END:VEVENT
BEGIN:VEVENT
DTSTART;TZID=Europe/London:20290220T180000
DTEND;TZID=Europe/London:20290220T200000
DTSTAMP:20260422T082349
CREATED:20240313T013214Z
LAST-MODIFIED:20240313T013214Z
UID:10009600-1866304800-1866312000@swanscombeandgreenhithetowncouncil.gov.uk
SUMMARY:Youth Konnect in Broomfield Park - Swanscombe
DESCRIPTION:For more information please call 01689 – 867366
URL:https://swanscombeandgreenhithetowncouncil.gov.uk/event/10542-2/2029-02-20/
LOCATION:Broomfield Park\, Broomfield Rd\, Swanscombe DA10 0AD\, United Kingdom\, England\, DA10 0AD\, United Kingdom
CATEGORIES:Community Event
ATTACH;FMTTYPE=image/png:https://swanscombeandgreenhithetowncouncil.gov.uk/wp-content/uploads/2021/07/46.2022-BField-Tuesdays-Sept.png
ORGANIZER;CN="Youth Konnect":MAILTO:info@playplace.org
GEO:51.447383;0.308653
X-APPLE-STRUCTURED-LOCATION;VALUE=URI;X-ADDRESS=Broomfield Park Broomfield Rd Swanscombe DA10 0AD United Kingdom England DA10 0AD United Kingdom;X-APPLE-RADIUS=500;X-TITLE=Broomfield Rd\, Swanscombe DA10 0AD\, United Kingdom:geo:0.308653,51.447383
END:VEVENT
BEGIN:VEVENT
DTSTART;TZID=Europe/London:20290227T180000
DTEND;TZID=Europe/London:20290227T200000
DTSTAMP:20260422T082349
CREATED:20240313T013214Z
LAST-MODIFIED:20240313T013214Z
UID:10009601-1866909600-1866916800@swanscombeandgreenhithetowncouncil.gov.uk
SUMMARY:Youth Konnect in Broomfield Park - Swanscombe
DESCRIPTION:For more information please call 01689 – 867366
URL:https://swanscombeandgreenhithetowncouncil.gov.uk/event/10542-2/2029-02-27/
LOCATION:Broomfield Park\, Broomfield Rd\, Swanscombe DA10 0AD\, United Kingdom\, England\, DA10 0AD\, United Kingdom
CATEGORIES:Community Event
ATTACH;FMTTYPE=image/png:https://swanscombeandgreenhithetowncouncil.gov.uk/wp-content/uploads/2021/07/46.2022-BField-Tuesdays-Sept.png
ORGANIZER;CN="Youth Konnect":MAILTO:info@playplace.org
GEO:51.447383;0.308653
X-APPLE-STRUCTURED-LOCATION;VALUE=URI;X-ADDRESS=Broomfield Park Broomfield Rd Swanscombe DA10 0AD United Kingdom England DA10 0AD United Kingdom;X-APPLE-RADIUS=500;X-TITLE=Broomfield Rd\, Swanscombe DA10 0AD\, United Kingdom:geo:0.308653,51.447383
END:VEVENT
BEGIN:VEVENT
DTSTART;TZID=Europe/London:20290306T180000
DTEND;TZID=Europe/London:20290306T200000
DTSTAMP:20260422T082349
CREATED:20240313T013214Z
LAST-MODIFIED:20240313T013214Z
UID:10019950-1867514400-1867521600@swanscombeandgreenhithetowncouncil.gov.uk
SUMMARY:Youth Konnect in Broomfield Park - Swanscombe
DESCRIPTION:For more information please call 01689 – 867366
URL:https://swanscombeandgreenhithetowncouncil.gov.uk/event/10542-2/2029-03-06/
LOCATION:Broomfield Park\, Broomfield Rd\, Swanscombe DA10 0AD\, United Kingdom\, England\, DA10 0AD\, United Kingdom
CATEGORIES:Community Event
ATTACH;FMTTYPE=image/png:https://swanscombeandgreenhithetowncouncil.gov.uk/wp-content/uploads/2021/07/46.2022-BField-Tuesdays-Sept.png
ORGANIZER;CN="Youth Konnect":MAILTO:info@playplace.org
GEO:51.447383;0.308653
X-APPLE-STRUCTURED-LOCATION;VALUE=URI;X-ADDRESS=Broomfield Park Broomfield Rd Swanscombe DA10 0AD United Kingdom England DA10 0AD United Kingdom;X-APPLE-RADIUS=500;X-TITLE=Broomfield Rd\, Swanscombe DA10 0AD\, United Kingdom:geo:0.308653,51.447383
END:VEVENT
BEGIN:VEVENT
DTSTART;TZID=Europe/London:20290313T180000
DTEND;TZID=Europe/London:20290313T200000
DTSTAMP:20260422T082349
CREATED:20240313T013214Z
LAST-MODIFIED:20240313T013214Z
UID:10019951-1868119200-1868126400@swanscombeandgreenhithetowncouncil.gov.uk
SUMMARY:Youth Konnect in Broomfield Park - Swanscombe
DESCRIPTION:For more information please call 01689 – 867366
URL:https://swanscombeandgreenhithetowncouncil.gov.uk/event/10542-2/2029-03-13/
LOCATION:Broomfield Park\, Broomfield Rd\, Swanscombe DA10 0AD\, United Kingdom\, England\, DA10 0AD\, United Kingdom
CATEGORIES:Community Event
ATTACH;FMTTYPE=image/png:https://swanscombeandgreenhithetowncouncil.gov.uk/wp-content/uploads/2021/07/46.2022-BField-Tuesdays-Sept.png
ORGANIZER;CN="Youth Konnect":MAILTO:info@playplace.org
GEO:51.447383;0.308653
X-APPLE-STRUCTURED-LOCATION;VALUE=URI;X-ADDRESS=Broomfield Park Broomfield Rd Swanscombe DA10 0AD United Kingdom England DA10 0AD United Kingdom;X-APPLE-RADIUS=500;X-TITLE=Broomfield Rd\, Swanscombe DA10 0AD\, United Kingdom:geo:0.308653,51.447383
END:VEVENT
END:VCALENDAR