BEGIN:VCALENDAR
VERSION:2.0
PRODID:-//Swanscombe and Greenhithe Town Council - ECPv6.15.20//NONSGML v1.0//EN
CALSCALE:GREGORIAN
METHOD:PUBLISH
X-ORIGINAL-URL:https://swanscombeandgreenhithetowncouncil.gov.uk
X-WR-CALDESC:Events for Swanscombe and Greenhithe Town Council
REFRESH-INTERVAL;VALUE=DURATION:PT1H
X-Robots-Tag:noindex
X-PUBLISHED-TTL:PT1H
BEGIN:VTIMEZONE
TZID:Europe/London
BEGIN:DAYLIGHT
TZOFFSETFROM:+0000
TZOFFSETTO:+0100
TZNAME:BST
DTSTART:20230326T010000
END:DAYLIGHT
BEGIN:STANDARD
TZOFFSETFROM:+0100
TZOFFSETTO:+0000
TZNAME:GMT
DTSTART:20231029T010000
END:STANDARD
BEGIN:DAYLIGHT
TZOFFSETFROM:+0000
TZOFFSETTO:+0100
TZNAME:BST
DTSTART:20240331T010000
END:DAYLIGHT
BEGIN:STANDARD
TZOFFSETFROM:+0100
TZOFFSETTO:+0000
TZNAME:GMT
DTSTART:20241027T010000
END:STANDARD
BEGIN:DAYLIGHT
TZOFFSETFROM:+0000
TZOFFSETTO:+0100
TZNAME:BST
DTSTART:20250330T010000
END:DAYLIGHT
BEGIN:STANDARD
TZOFFSETFROM:+0100
TZOFFSETTO:+0000
TZNAME:GMT
DTSTART:20251026T010000
END:STANDARD
END:VTIMEZONE
BEGIN:VEVENT
DTSTART;TZID=Europe/London:20240829T100000
DTEND;TZID=Europe/London:20240829T120000
DTSTAMP:20260422T121348
CREATED:20240313T013348Z
LAST-MODIFIED:20240313T013348Z
UID:10010122-1724925600-1724932800@swanscombeandgreenhithetowncouncil.gov.uk
SUMMARY:Job Club & Digital Skills - Thursdays 10am - 12pm
DESCRIPTION:Free support every Thursday from 10am to 12pm at our\nJob Club and Digital Skills drop in.
URL:https://swanscombeandgreenhithetowncouncil.gov.uk/event/job-club-digital-skills-thursdays-10am-12pm-2/2024-08-29/
LOCATION:CAS Community Solutions – A Community Interest Company\, The Old Fire Station\, Church Rd\, Swanscombe DA10 0HF\, United Kingdom\, United Kingdom
CATEGORIES:Community Event
ATTACH;FMTTYPE=image/jpeg:https://swanscombeandgreenhithetowncouncil.gov.uk/wp-content/uploads/2021/11/50.2021-Digital-Skills-Nov.jpg
ORGANIZER;CN="CAS Community Solutions":MAILTO:info@cas-community.co.uk
END:VEVENT
BEGIN:VEVENT
DTSTART;TZID=Europe/London:20240822T100000
DTEND;TZID=Europe/London:20240822T120000
DTSTAMP:20260422T121348
CREATED:20240313T013348Z
LAST-MODIFIED:20240313T013348Z
UID:10010121-1724320800-1724328000@swanscombeandgreenhithetowncouncil.gov.uk
SUMMARY:Job Club & Digital Skills - Thursdays 10am - 12pm
DESCRIPTION:Free support every Thursday from 10am to 12pm at our\nJob Club and Digital Skills drop in.
URL:https://swanscombeandgreenhithetowncouncil.gov.uk/event/job-club-digital-skills-thursdays-10am-12pm-2/2024-08-22/
LOCATION:CAS Community Solutions – A Community Interest Company\, The Old Fire Station\, Church Rd\, Swanscombe DA10 0HF\, United Kingdom\, United Kingdom
CATEGORIES:Community Event
ATTACH;FMTTYPE=image/jpeg:https://swanscombeandgreenhithetowncouncil.gov.uk/wp-content/uploads/2021/11/50.2021-Digital-Skills-Nov.jpg
ORGANIZER;CN="CAS Community Solutions":MAILTO:info@cas-community.co.uk
END:VEVENT
BEGIN:VEVENT
DTSTART;TZID=Europe/London:20240821T093000
DTEND;TZID=Europe/London:20240821T113000
DTSTAMP:20260422T121349
CREATED:20240703T143330Z
LAST-MODIFIED:20240703T143927Z
UID:10022109-1724232600-1724239800@swanscombeandgreenhithetowncouncil.gov.uk
SUMMARY:Managing Your Money
DESCRIPTION:
URL:https://swanscombeandgreenhithetowncouncil.gov.uk/event/managing-your-money-2/2024-08-21/
LOCATION:CAS Community Solutions – A Community Interest Company\, The Old Fire Station\, Church Rd\, Swanscombe DA10 0HF\, United Kingdom\, United Kingdom
CATEGORIES:Community Event
END:VEVENT
BEGIN:VEVENT
DTSTART;TZID=Europe/London:20240815T100000
DTEND;TZID=Europe/London:20240815T120000
DTSTAMP:20260422T121349
CREATED:20240313T013348Z
LAST-MODIFIED:20240313T013348Z
UID:10010120-1723716000-1723723200@swanscombeandgreenhithetowncouncil.gov.uk
SUMMARY:Job Club & Digital Skills - Thursdays 10am - 12pm
DESCRIPTION:Free support every Thursday from 10am to 12pm at our\nJob Club and Digital Skills drop in.
URL:https://swanscombeandgreenhithetowncouncil.gov.uk/event/job-club-digital-skills-thursdays-10am-12pm-2/2024-08-15/
LOCATION:CAS Community Solutions – A Community Interest Company\, The Old Fire Station\, Church Rd\, Swanscombe DA10 0HF\, United Kingdom\, United Kingdom
CATEGORIES:Community Event
ATTACH;FMTTYPE=image/jpeg:https://swanscombeandgreenhithetowncouncil.gov.uk/wp-content/uploads/2021/11/50.2021-Digital-Skills-Nov.jpg
ORGANIZER;CN="CAS Community Solutions":MAILTO:info@cas-community.co.uk
END:VEVENT
BEGIN:VEVENT
DTSTART;TZID=Europe/London:20240814T093000
DTEND;TZID=Europe/London:20240814T113000
DTSTAMP:20260422T121349
CREATED:20240703T143330Z
LAST-MODIFIED:20240703T143927Z
UID:10022108-1723627800-1723635000@swanscombeandgreenhithetowncouncil.gov.uk
SUMMARY:Managing Your Money
DESCRIPTION:
URL:https://swanscombeandgreenhithetowncouncil.gov.uk/event/managing-your-money-2/2024-08-14/
LOCATION:CAS Community Solutions – A Community Interest Company\, The Old Fire Station\, Church Rd\, Swanscombe DA10 0HF\, United Kingdom\, United Kingdom
CATEGORIES:Community Event
END:VEVENT
BEGIN:VEVENT
DTSTART;TZID=Europe/London:20240808T100000
DTEND;TZID=Europe/London:20240808T120000
DTSTAMP:20260422T121349
CREATED:20240313T013348Z
LAST-MODIFIED:20240313T013348Z
UID:10010119-1723111200-1723118400@swanscombeandgreenhithetowncouncil.gov.uk
SUMMARY:Job Club & Digital Skills - Thursdays 10am - 12pm
DESCRIPTION:Free support every Thursday from 10am to 12pm at our\nJob Club and Digital Skills drop in.
URL:https://swanscombeandgreenhithetowncouncil.gov.uk/event/job-club-digital-skills-thursdays-10am-12pm-2/2024-08-08/
LOCATION:CAS Community Solutions – A Community Interest Company\, The Old Fire Station\, Church Rd\, Swanscombe DA10 0HF\, United Kingdom\, United Kingdom
CATEGORIES:Community Event
ATTACH;FMTTYPE=image/jpeg:https://swanscombeandgreenhithetowncouncil.gov.uk/wp-content/uploads/2021/11/50.2021-Digital-Skills-Nov.jpg
ORGANIZER;CN="CAS Community Solutions":MAILTO:info@cas-community.co.uk
END:VEVENT
BEGIN:VEVENT
DTSTART;TZID=Europe/London:20240807T093000
DTEND;TZID=Europe/London:20240807T113000
DTSTAMP:20260422T121349
CREATED:20240703T143330Z
LAST-MODIFIED:20240703T143927Z
UID:10022107-1723023000-1723030200@swanscombeandgreenhithetowncouncil.gov.uk
SUMMARY:Managing Your Money
DESCRIPTION:
URL:https://swanscombeandgreenhithetowncouncil.gov.uk/event/managing-your-money-2/2024-08-07/
LOCATION:CAS Community Solutions – A Community Interest Company\, The Old Fire Station\, Church Rd\, Swanscombe DA10 0HF\, United Kingdom\, United Kingdom
CATEGORIES:Community Event
END:VEVENT
BEGIN:VEVENT
DTSTART;TZID=Europe/London:20240801T100000
DTEND;TZID=Europe/London:20240801T120000
DTSTAMP:20260422T121349
CREATED:20240313T013348Z
LAST-MODIFIED:20240313T013348Z
UID:10010118-1722506400-1722513600@swanscombeandgreenhithetowncouncil.gov.uk
SUMMARY:Job Club & Digital Skills - Thursdays 10am - 12pm
DESCRIPTION:Free support every Thursday from 10am to 12pm at our\nJob Club and Digital Skills drop in.
URL:https://swanscombeandgreenhithetowncouncil.gov.uk/event/job-club-digital-skills-thursdays-10am-12pm-2/2024-08-01/
LOCATION:CAS Community Solutions – A Community Interest Company\, The Old Fire Station\, Church Rd\, Swanscombe DA10 0HF\, United Kingdom\, United Kingdom
CATEGORIES:Community Event
ATTACH;FMTTYPE=image/jpeg:https://swanscombeandgreenhithetowncouncil.gov.uk/wp-content/uploads/2021/11/50.2021-Digital-Skills-Nov.jpg
ORGANIZER;CN="CAS Community Solutions":MAILTO:info@cas-community.co.uk
END:VEVENT
BEGIN:VEVENT
DTSTART;TZID=Europe/London:20240731T093000
DTEND;TZID=Europe/London:20240731T113000
DTSTAMP:20260422T121349
CREATED:20240703T143330Z
LAST-MODIFIED:20240703T143927Z
UID:10022106-1722418200-1722425400@swanscombeandgreenhithetowncouncil.gov.uk
SUMMARY:Managing Your Money
DESCRIPTION:
URL:https://swanscombeandgreenhithetowncouncil.gov.uk/event/managing-your-money-2/2024-07-31/
LOCATION:CAS Community Solutions – A Community Interest Company\, The Old Fire Station\, Church Rd\, Swanscombe DA10 0HF\, United Kingdom\, United Kingdom
CATEGORIES:Community Event
END:VEVENT
BEGIN:VEVENT
DTSTART;TZID=Europe/London:20240725T100000
DTEND;TZID=Europe/London:20240725T120000
DTSTAMP:20260422T121349
CREATED:20240313T013348Z
LAST-MODIFIED:20240313T013348Z
UID:10010117-1721901600-1721908800@swanscombeandgreenhithetowncouncil.gov.uk
SUMMARY:Job Club & Digital Skills - Thursdays 10am - 12pm
DESCRIPTION:Free support every Thursday from 10am to 12pm at our\nJob Club and Digital Skills drop in.
URL:https://swanscombeandgreenhithetowncouncil.gov.uk/event/job-club-digital-skills-thursdays-10am-12pm-2/2024-07-25/
LOCATION:CAS Community Solutions – A Community Interest Company\, The Old Fire Station\, Church Rd\, Swanscombe DA10 0HF\, United Kingdom\, United Kingdom
CATEGORIES:Community Event
ATTACH;FMTTYPE=image/jpeg:https://swanscombeandgreenhithetowncouncil.gov.uk/wp-content/uploads/2021/11/50.2021-Digital-Skills-Nov.jpg
ORGANIZER;CN="CAS Community Solutions":MAILTO:info@cas-community.co.uk
END:VEVENT
BEGIN:VEVENT
DTSTART;TZID=Europe/London:20240724T093000
DTEND;TZID=Europe/London:20240724T113000
DTSTAMP:20260422T121349
CREATED:20240703T143330Z
LAST-MODIFIED:20240703T143927Z
UID:10022105-1721813400-1721820600@swanscombeandgreenhithetowncouncil.gov.uk
SUMMARY:Managing Your Money
DESCRIPTION:
URL:https://swanscombeandgreenhithetowncouncil.gov.uk/event/managing-your-money-2/2024-07-24/
LOCATION:CAS Community Solutions – A Community Interest Company\, The Old Fire Station\, Church Rd\, Swanscombe DA10 0HF\, United Kingdom\, United Kingdom
CATEGORIES:Community Event
END:VEVENT
BEGIN:VEVENT
DTSTART;TZID=Europe/London:20240718T100000
DTEND;TZID=Europe/London:20240718T120000
DTSTAMP:20260422T121349
CREATED:20240313T013348Z
LAST-MODIFIED:20240313T013348Z
UID:10010116-1721296800-1721304000@swanscombeandgreenhithetowncouncil.gov.uk
SUMMARY:Job Club & Digital Skills - Thursdays 10am - 12pm
DESCRIPTION:Free support every Thursday from 10am to 12pm at our\nJob Club and Digital Skills drop in.
URL:https://swanscombeandgreenhithetowncouncil.gov.uk/event/job-club-digital-skills-thursdays-10am-12pm-2/2024-07-18/
LOCATION:CAS Community Solutions – A Community Interest Company\, The Old Fire Station\, Church Rd\, Swanscombe DA10 0HF\, United Kingdom\, United Kingdom
CATEGORIES:Community Event
ATTACH;FMTTYPE=image/jpeg:https://swanscombeandgreenhithetowncouncil.gov.uk/wp-content/uploads/2021/11/50.2021-Digital-Skills-Nov.jpg
ORGANIZER;CN="CAS Community Solutions":MAILTO:info@cas-community.co.uk
END:VEVENT
BEGIN:VEVENT
DTSTART;TZID=Europe/London:20240717T093000
DTEND;TZID=Europe/London:20240717T113000
DTSTAMP:20260422T121349
CREATED:20240703T143330Z
LAST-MODIFIED:20240703T143927Z
UID:10022104-1721208600-1721215800@swanscombeandgreenhithetowncouncil.gov.uk
SUMMARY:Managing Your Money
DESCRIPTION:
URL:https://swanscombeandgreenhithetowncouncil.gov.uk/event/managing-your-money-2/2024-07-17/
LOCATION:CAS Community Solutions – A Community Interest Company\, The Old Fire Station\, Church Rd\, Swanscombe DA10 0HF\, United Kingdom\, United Kingdom
CATEGORIES:Community Event
END:VEVENT
BEGIN:VEVENT
DTSTART;TZID=Europe/London:20240711T100000
DTEND;TZID=Europe/London:20240711T120000
DTSTAMP:20260422T121349
CREATED:20240313T013348Z
LAST-MODIFIED:20240313T013348Z
UID:10010115-1720692000-1720699200@swanscombeandgreenhithetowncouncil.gov.uk
SUMMARY:Job Club & Digital Skills - Thursdays 10am - 12pm
DESCRIPTION:Free support every Thursday from 10am to 12pm at our\nJob Club and Digital Skills drop in.
URL:https://swanscombeandgreenhithetowncouncil.gov.uk/event/job-club-digital-skills-thursdays-10am-12pm-2/2024-07-11/
LOCATION:CAS Community Solutions – A Community Interest Company\, The Old Fire Station\, Church Rd\, Swanscombe DA10 0HF\, United Kingdom\, United Kingdom
CATEGORIES:Community Event
ATTACH;FMTTYPE=image/jpeg:https://swanscombeandgreenhithetowncouncil.gov.uk/wp-content/uploads/2021/11/50.2021-Digital-Skills-Nov.jpg
ORGANIZER;CN="CAS Community Solutions":MAILTO:info@cas-community.co.uk
END:VEVENT
BEGIN:VEVENT
DTSTART;TZID=Europe/London:20240704T100000
DTEND;TZID=Europe/London:20240704T120000
DTSTAMP:20260422T121349
CREATED:20240313T013348Z
LAST-MODIFIED:20240313T013348Z
UID:10010114-1720087200-1720094400@swanscombeandgreenhithetowncouncil.gov.uk
SUMMARY:Job Club & Digital Skills - Thursdays 10am - 12pm
DESCRIPTION:Free support every Thursday from 10am to 12pm at our\nJob Club and Digital Skills drop in.
URL:https://swanscombeandgreenhithetowncouncil.gov.uk/event/job-club-digital-skills-thursdays-10am-12pm-2/2024-07-04/
LOCATION:CAS Community Solutions – A Community Interest Company\, The Old Fire Station\, Church Rd\, Swanscombe DA10 0HF\, United Kingdom\, United Kingdom
CATEGORIES:Community Event
ATTACH;FMTTYPE=image/jpeg:https://swanscombeandgreenhithetowncouncil.gov.uk/wp-content/uploads/2021/11/50.2021-Digital-Skills-Nov.jpg
ORGANIZER;CN="CAS Community Solutions":MAILTO:info@cas-community.co.uk
END:VEVENT
BEGIN:VEVENT
DTSTART;TZID=Europe/London:20240627T100000
DTEND;TZID=Europe/London:20240627T120000
DTSTAMP:20260422T121349
CREATED:20240313T013348Z
LAST-MODIFIED:20240313T013348Z
UID:10010113-1719482400-1719489600@swanscombeandgreenhithetowncouncil.gov.uk
SUMMARY:Job Club & Digital Skills - Thursdays 10am - 12pm
DESCRIPTION:Free support every Thursday from 10am to 12pm at our\nJob Club and Digital Skills drop in.
URL:https://swanscombeandgreenhithetowncouncil.gov.uk/event/job-club-digital-skills-thursdays-10am-12pm-2/2024-06-27/
LOCATION:CAS Community Solutions – A Community Interest Company\, The Old Fire Station\, Church Rd\, Swanscombe DA10 0HF\, United Kingdom\, United Kingdom
CATEGORIES:Community Event
ATTACH;FMTTYPE=image/jpeg:https://swanscombeandgreenhithetowncouncil.gov.uk/wp-content/uploads/2021/11/50.2021-Digital-Skills-Nov.jpg
ORGANIZER;CN="CAS Community Solutions":MAILTO:info@cas-community.co.uk
END:VEVENT
BEGIN:VEVENT
DTSTART;TZID=Europe/London:20240620T100000
DTEND;TZID=Europe/London:20240620T120000
DTSTAMP:20260422T121349
CREATED:20240313T013348Z
LAST-MODIFIED:20240313T013348Z
UID:10010112-1718877600-1718884800@swanscombeandgreenhithetowncouncil.gov.uk
SUMMARY:Job Club & Digital Skills - Thursdays 10am - 12pm
DESCRIPTION:Free support every Thursday from 10am to 12pm at our\nJob Club and Digital Skills drop in.
URL:https://swanscombeandgreenhithetowncouncil.gov.uk/event/job-club-digital-skills-thursdays-10am-12pm-2/2024-06-20/
LOCATION:CAS Community Solutions – A Community Interest Company\, The Old Fire Station\, Church Rd\, Swanscombe DA10 0HF\, United Kingdom\, United Kingdom
CATEGORIES:Community Event
ATTACH;FMTTYPE=image/jpeg:https://swanscombeandgreenhithetowncouncil.gov.uk/wp-content/uploads/2021/11/50.2021-Digital-Skills-Nov.jpg
ORGANIZER;CN="CAS Community Solutions":MAILTO:info@cas-community.co.uk
END:VEVENT
BEGIN:VEVENT
DTSTART;TZID=Europe/London:20240613T100000
DTEND;TZID=Europe/London:20240613T120000
DTSTAMP:20260422T121349
CREATED:20240313T013348Z
LAST-MODIFIED:20240313T013348Z
UID:10010111-1718272800-1718280000@swanscombeandgreenhithetowncouncil.gov.uk
SUMMARY:Job Club & Digital Skills - Thursdays 10am - 12pm
DESCRIPTION:Free support every Thursday from 10am to 12pm at our\nJob Club and Digital Skills drop in.
URL:https://swanscombeandgreenhithetowncouncil.gov.uk/event/job-club-digital-skills-thursdays-10am-12pm-2/2024-06-13/
LOCATION:CAS Community Solutions – A Community Interest Company\, The Old Fire Station\, Church Rd\, Swanscombe DA10 0HF\, United Kingdom\, United Kingdom
CATEGORIES:Community Event
ATTACH;FMTTYPE=image/jpeg:https://swanscombeandgreenhithetowncouncil.gov.uk/wp-content/uploads/2021/11/50.2021-Digital-Skills-Nov.jpg
ORGANIZER;CN="CAS Community Solutions":MAILTO:info@cas-community.co.uk
END:VEVENT
BEGIN:VEVENT
DTSTART;TZID=Europe/London:20240606T100000
DTEND;TZID=Europe/London:20240606T120000
DTSTAMP:20260422T121349
CREATED:20240313T013348Z
LAST-MODIFIED:20240313T013348Z
UID:10010110-1717668000-1717675200@swanscombeandgreenhithetowncouncil.gov.uk
SUMMARY:Job Club & Digital Skills - Thursdays 10am - 12pm
DESCRIPTION:Free support every Thursday from 10am to 12pm at our\nJob Club and Digital Skills drop in.
URL:https://swanscombeandgreenhithetowncouncil.gov.uk/event/job-club-digital-skills-thursdays-10am-12pm-2/2024-06-06/
LOCATION:CAS Community Solutions – A Community Interest Company\, The Old Fire Station\, Church Rd\, Swanscombe DA10 0HF\, United Kingdom\, United Kingdom
CATEGORIES:Community Event
ATTACH;FMTTYPE=image/jpeg:https://swanscombeandgreenhithetowncouncil.gov.uk/wp-content/uploads/2021/11/50.2021-Digital-Skills-Nov.jpg
ORGANIZER;CN="CAS Community Solutions":MAILTO:info@cas-community.co.uk
END:VEVENT
BEGIN:VEVENT
DTSTART;TZID=Europe/London:20240530T100000
DTEND;TZID=Europe/London:20240530T120000
DTSTAMP:20260422T121349
CREATED:20240313T013348Z
LAST-MODIFIED:20240313T013348Z
UID:10010109-1717063200-1717070400@swanscombeandgreenhithetowncouncil.gov.uk
SUMMARY:Job Club & Digital Skills - Thursdays 10am - 12pm
DESCRIPTION:Free support every Thursday from 10am to 12pm at our\nJob Club and Digital Skills drop in.
URL:https://swanscombeandgreenhithetowncouncil.gov.uk/event/job-club-digital-skills-thursdays-10am-12pm-2/2024-05-30/
LOCATION:CAS Community Solutions – A Community Interest Company\, The Old Fire Station\, Church Rd\, Swanscombe DA10 0HF\, United Kingdom\, United Kingdom
CATEGORIES:Community Event
ATTACH;FMTTYPE=image/jpeg:https://swanscombeandgreenhithetowncouncil.gov.uk/wp-content/uploads/2021/11/50.2021-Digital-Skills-Nov.jpg
ORGANIZER;CN="CAS Community Solutions":MAILTO:info@cas-community.co.uk
END:VEVENT
BEGIN:VEVENT
DTSTART;TZID=Europe/London:20240523T100000
DTEND;TZID=Europe/London:20240523T120000
DTSTAMP:20260422T121349
CREATED:20240313T013348Z
LAST-MODIFIED:20240313T013348Z
UID:10010108-1716458400-1716465600@swanscombeandgreenhithetowncouncil.gov.uk
SUMMARY:Job Club & Digital Skills - Thursdays 10am - 12pm
DESCRIPTION:Free support every Thursday from 10am to 12pm at our\nJob Club and Digital Skills drop in.
URL:https://swanscombeandgreenhithetowncouncil.gov.uk/event/job-club-digital-skills-thursdays-10am-12pm-2/2024-05-23/
LOCATION:CAS Community Solutions – A Community Interest Company\, The Old Fire Station\, Church Rd\, Swanscombe DA10 0HF\, United Kingdom\, United Kingdom
CATEGORIES:Community Event
ATTACH;FMTTYPE=image/jpeg:https://swanscombeandgreenhithetowncouncil.gov.uk/wp-content/uploads/2021/11/50.2021-Digital-Skills-Nov.jpg
ORGANIZER;CN="CAS Community Solutions":MAILTO:info@cas-community.co.uk
END:VEVENT
BEGIN:VEVENT
DTSTART;TZID=Europe/London:20240516T100000
DTEND;TZID=Europe/London:20240516T120000
DTSTAMP:20260422T121349
CREATED:20240313T013348Z
LAST-MODIFIED:20240313T013348Z
UID:10010107-1715853600-1715860800@swanscombeandgreenhithetowncouncil.gov.uk
SUMMARY:Job Club & Digital Skills - Thursdays 10am - 12pm
DESCRIPTION:Free support every Thursday from 10am to 12pm at our\nJob Club and Digital Skills drop in.
URL:https://swanscombeandgreenhithetowncouncil.gov.uk/event/job-club-digital-skills-thursdays-10am-12pm-2/2024-05-16/
LOCATION:CAS Community Solutions – A Community Interest Company\, The Old Fire Station\, Church Rd\, Swanscombe DA10 0HF\, United Kingdom\, United Kingdom
CATEGORIES:Community Event
ATTACH;FMTTYPE=image/jpeg:https://swanscombeandgreenhithetowncouncil.gov.uk/wp-content/uploads/2021/11/50.2021-Digital-Skills-Nov.jpg
ORGANIZER;CN="CAS Community Solutions":MAILTO:info@cas-community.co.uk
END:VEVENT
BEGIN:VEVENT
DTSTART;TZID=Europe/London:20240509T100000
DTEND;TZID=Europe/London:20240509T120000
DTSTAMP:20260422T121349
CREATED:20240313T013348Z
LAST-MODIFIED:20240313T013348Z
UID:10010106-1715248800-1715256000@swanscombeandgreenhithetowncouncil.gov.uk
SUMMARY:Job Club & Digital Skills - Thursdays 10am - 12pm
DESCRIPTION:Free support every Thursday from 10am to 12pm at our\nJob Club and Digital Skills drop in.
URL:https://swanscombeandgreenhithetowncouncil.gov.uk/event/job-club-digital-skills-thursdays-10am-12pm-2/2024-05-09/
LOCATION:CAS Community Solutions – A Community Interest Company\, The Old Fire Station\, Church Rd\, Swanscombe DA10 0HF\, United Kingdom\, United Kingdom
CATEGORIES:Community Event
ATTACH;FMTTYPE=image/jpeg:https://swanscombeandgreenhithetowncouncil.gov.uk/wp-content/uploads/2021/11/50.2021-Digital-Skills-Nov.jpg
ORGANIZER;CN="CAS Community Solutions":MAILTO:info@cas-community.co.uk
END:VEVENT
BEGIN:VEVENT
DTSTART;TZID=Europe/London:20240502T100000
DTEND;TZID=Europe/London:20240502T120000
DTSTAMP:20260422T121349
CREATED:20240313T013348Z
LAST-MODIFIED:20240313T013348Z
UID:10010105-1714644000-1714651200@swanscombeandgreenhithetowncouncil.gov.uk
SUMMARY:Job Club & Digital Skills - Thursdays 10am - 12pm
DESCRIPTION:Free support every Thursday from 10am to 12pm at our\nJob Club and Digital Skills drop in.
URL:https://swanscombeandgreenhithetowncouncil.gov.uk/event/job-club-digital-skills-thursdays-10am-12pm-2/2024-05-02/
LOCATION:CAS Community Solutions – A Community Interest Company\, The Old Fire Station\, Church Rd\, Swanscombe DA10 0HF\, United Kingdom\, United Kingdom
CATEGORIES:Community Event
ATTACH;FMTTYPE=image/jpeg:https://swanscombeandgreenhithetowncouncil.gov.uk/wp-content/uploads/2021/11/50.2021-Digital-Skills-Nov.jpg
ORGANIZER;CN="CAS Community Solutions":MAILTO:info@cas-community.co.uk
END:VEVENT
BEGIN:VEVENT
DTSTART;TZID=Europe/London:20240425T100000
DTEND;TZID=Europe/London:20240425T120000
DTSTAMP:20260422T121349
CREATED:20240313T013348Z
LAST-MODIFIED:20240313T013348Z
UID:10010104-1714039200-1714046400@swanscombeandgreenhithetowncouncil.gov.uk
SUMMARY:Job Club & Digital Skills - Thursdays 10am - 12pm
DESCRIPTION:Free support every Thursday from 10am to 12pm at our\nJob Club and Digital Skills drop in.
URL:https://swanscombeandgreenhithetowncouncil.gov.uk/event/job-club-digital-skills-thursdays-10am-12pm-2/2024-04-25/
LOCATION:CAS Community Solutions – A Community Interest Company\, The Old Fire Station\, Church Rd\, Swanscombe DA10 0HF\, United Kingdom\, United Kingdom
CATEGORIES:Community Event
ATTACH;FMTTYPE=image/jpeg:https://swanscombeandgreenhithetowncouncil.gov.uk/wp-content/uploads/2021/11/50.2021-Digital-Skills-Nov.jpg
ORGANIZER;CN="CAS Community Solutions":MAILTO:info@cas-community.co.uk
END:VEVENT
BEGIN:VEVENT
DTSTART;TZID=Europe/London:20240418T100000
DTEND;TZID=Europe/London:20240418T120000
DTSTAMP:20260422T121349
CREATED:20240313T013348Z
LAST-MODIFIED:20240313T013348Z
UID:10010103-1713434400-1713441600@swanscombeandgreenhithetowncouncil.gov.uk
SUMMARY:Job Club & Digital Skills - Thursdays 10am - 12pm
DESCRIPTION:Free support every Thursday from 10am to 12pm at our\nJob Club and Digital Skills drop in.
URL:https://swanscombeandgreenhithetowncouncil.gov.uk/event/job-club-digital-skills-thursdays-10am-12pm-2/2024-04-18/
LOCATION:CAS Community Solutions – A Community Interest Company\, The Old Fire Station\, Church Rd\, Swanscombe DA10 0HF\, United Kingdom\, United Kingdom
CATEGORIES:Community Event
ATTACH;FMTTYPE=image/jpeg:https://swanscombeandgreenhithetowncouncil.gov.uk/wp-content/uploads/2021/11/50.2021-Digital-Skills-Nov.jpg
ORGANIZER;CN="CAS Community Solutions":MAILTO:info@cas-community.co.uk
END:VEVENT
BEGIN:VEVENT
DTSTART;TZID=Europe/London:20240411T100000
DTEND;TZID=Europe/London:20240411T120000
DTSTAMP:20260422T121349
CREATED:20240313T013348Z
LAST-MODIFIED:20240313T013348Z
UID:10010102-1712829600-1712836800@swanscombeandgreenhithetowncouncil.gov.uk
SUMMARY:Job Club & Digital Skills - Thursdays 10am - 12pm
DESCRIPTION:Free support every Thursday from 10am to 12pm at our\nJob Club and Digital Skills drop in.
URL:https://swanscombeandgreenhithetowncouncil.gov.uk/event/job-club-digital-skills-thursdays-10am-12pm-2/2024-04-11/
LOCATION:CAS Community Solutions – A Community Interest Company\, The Old Fire Station\, Church Rd\, Swanscombe DA10 0HF\, United Kingdom\, United Kingdom
CATEGORIES:Community Event
ATTACH;FMTTYPE=image/jpeg:https://swanscombeandgreenhithetowncouncil.gov.uk/wp-content/uploads/2021/11/50.2021-Digital-Skills-Nov.jpg
ORGANIZER;CN="CAS Community Solutions":MAILTO:info@cas-community.co.uk
END:VEVENT
BEGIN:VEVENT
DTSTART;TZID=Europe/London:20240404T100000
DTEND;TZID=Europe/London:20240404T120000
DTSTAMP:20260422T121349
CREATED:20240313T013348Z
LAST-MODIFIED:20240313T013348Z
UID:10010101-1712224800-1712232000@swanscombeandgreenhithetowncouncil.gov.uk
SUMMARY:Job Club & Digital Skills - Thursdays 10am - 12pm
DESCRIPTION:Free support every Thursday from 10am to 12pm at our\nJob Club and Digital Skills drop in.
URL:https://swanscombeandgreenhithetowncouncil.gov.uk/event/job-club-digital-skills-thursdays-10am-12pm-2/2024-04-04/
LOCATION:CAS Community Solutions – A Community Interest Company\, The Old Fire Station\, Church Rd\, Swanscombe DA10 0HF\, United Kingdom\, United Kingdom
CATEGORIES:Community Event
ATTACH;FMTTYPE=image/jpeg:https://swanscombeandgreenhithetowncouncil.gov.uk/wp-content/uploads/2021/11/50.2021-Digital-Skills-Nov.jpg
ORGANIZER;CN="CAS Community Solutions":MAILTO:info@cas-community.co.uk
END:VEVENT
BEGIN:VEVENT
DTSTART;TZID=Europe/London:20240328T100000
DTEND;TZID=Europe/London:20240328T120000
DTSTAMP:20260422T121349
CREATED:20240313T013348Z
LAST-MODIFIED:20240313T013348Z
UID:10010100-1711620000-1711627200@swanscombeandgreenhithetowncouncil.gov.uk
SUMMARY:Job Club & Digital Skills - Thursdays 10am - 12pm
DESCRIPTION:Free support every Thursday from 10am to 12pm at our\nJob Club and Digital Skills drop in.
URL:https://swanscombeandgreenhithetowncouncil.gov.uk/event/job-club-digital-skills-thursdays-10am-12pm-2/2024-03-28/
LOCATION:CAS Community Solutions – A Community Interest Company\, The Old Fire Station\, Church Rd\, Swanscombe DA10 0HF\, United Kingdom\, United Kingdom
CATEGORIES:Community Event
ATTACH;FMTTYPE=image/jpeg:https://swanscombeandgreenhithetowncouncil.gov.uk/wp-content/uploads/2021/11/50.2021-Digital-Skills-Nov.jpg
ORGANIZER;CN="CAS Community Solutions":MAILTO:info@cas-community.co.uk
END:VEVENT
BEGIN:VEVENT
DTSTART;TZID=Europe/London:20240321T100000
DTEND;TZID=Europe/London:20240321T120000
DTSTAMP:20260422T121349
CREATED:20240313T013348Z
LAST-MODIFIED:20240313T013348Z
UID:10010099-1711015200-1711022400@swanscombeandgreenhithetowncouncil.gov.uk
SUMMARY:Job Club & Digital Skills - Thursdays 10am - 12pm
DESCRIPTION:Free support every Thursday from 10am to 12pm at our\nJob Club and Digital Skills drop in.
URL:https://swanscombeandgreenhithetowncouncil.gov.uk/event/job-club-digital-skills-thursdays-10am-12pm-2/2024-03-21/
LOCATION:CAS Community Solutions – A Community Interest Company\, The Old Fire Station\, Church Rd\, Swanscombe DA10 0HF\, United Kingdom\, United Kingdom
CATEGORIES:Community Event
ATTACH;FMTTYPE=image/jpeg:https://swanscombeandgreenhithetowncouncil.gov.uk/wp-content/uploads/2021/11/50.2021-Digital-Skills-Nov.jpg
ORGANIZER;CN="CAS Community Solutions":MAILTO:info@cas-community.co.uk
END:VEVENT
END:VCALENDAR