BEGIN:VCALENDAR
VERSION:2.0
PRODID:-//Swanscombe and Greenhithe Town Council - ECPv6.15.20//NONSGML v1.0//EN
CALSCALE:GREGORIAN
METHOD:PUBLISH
X-WR-CALNAME:Swanscombe and Greenhithe Town Council
X-ORIGINAL-URL:https://swanscombeandgreenhithetowncouncil.gov.uk
X-WR-CALDESC:Events for Swanscombe and Greenhithe Town Council
REFRESH-INTERVAL;VALUE=DURATION:PT1H
X-Robots-Tag:noindex
X-PUBLISHED-TTL:PT1H
BEGIN:VTIMEZONE
TZID:Europe/London
BEGIN:DAYLIGHT
TZOFFSETFROM:+0000
TZOFFSETTO:+0100
TZNAME:BST
DTSTART:20260329T010000
END:DAYLIGHT
BEGIN:STANDARD
TZOFFSETFROM:+0100
TZOFFSETTO:+0000
TZNAME:GMT
DTSTART:20261025T010000
END:STANDARD
BEGIN:DAYLIGHT
TZOFFSETFROM:+0000
TZOFFSETTO:+0100
TZNAME:BST
DTSTART:20270328T010000
END:DAYLIGHT
BEGIN:STANDARD
TZOFFSETFROM:+0100
TZOFFSETTO:+0000
TZNAME:GMT
DTSTART:20271031T010000
END:STANDARD
BEGIN:DAYLIGHT
TZOFFSETFROM:+0000
TZOFFSETTO:+0100
TZNAME:BST
DTSTART:20280326T010000
END:DAYLIGHT
BEGIN:STANDARD
TZOFFSETFROM:+0100
TZOFFSETTO:+0000
TZNAME:GMT
DTSTART:20281029T010000
END:STANDARD
END:VTIMEZONE
BEGIN:VEVENT
DTSTART;TZID=Europe/London:20270327T100000
DTEND;TZID=Europe/London:20270327T113000
DTSTAMP:20260422T090838
CREATED:20240313T165627Z
LAST-MODIFIED:20240313T165627Z
UID:10013922-1806141600-1806147000@swanscombeandgreenhithetowncouncil.gov.uk
SUMMARY:Cake & Computer Club - Saturdays 10.00am to 11.30am
DESCRIPTION:This is a free club but donations are wlecomed to cover the cost of the hall\, tea and cakes.
URL:https://swanscombeandgreenhithetowncouncil.gov.uk/event/cake-computer-club-saturdays-10-00am-to-11-30am-2/2027-03-27/
LOCATION:Church Road Hall\, Church Rd\, Swanscombe DA10 0HE\, United Kingdom\, United Kingdom
CATEGORIES:Community Event
ATTACH;FMTTYPE=image/jpeg:https://swanscombeandgreenhithetowncouncil.gov.uk/wp-content/uploads/2022/06/80.2022-Cake-Computer-Club-20-June.jpg
END:VEVENT
BEGIN:VEVENT
DTSTART;TZID=Europe/London:20270329T163000
DTEND;TZID=Europe/London:20270329T173000
DTSTAMP:20260422T090838
CREATED:20240313T014129Z
LAST-MODIFIED:20241219T090502Z
UID:10011431-1806337800-1806341400@swanscombeandgreenhithetowncouncil.gov.uk
SUMMARY:1st Swanscombe Rainbows - Monday 4.30pm to 5.30pm
DESCRIPTION:We meet every Monday during term time for fun\, crafts\, games and badge work.\nWe also now take Rainbows from 4 years old !\nContact Sandra on 07831 898205 for more information
URL:https://swanscombeandgreenhithetowncouncil.gov.uk/event/1st-swanscombe-rainbows-monday-4-30pm-to-5-30pm-3/2027-03-29/
LOCATION:Church Road Hall\, Church Rd\, Swanscombe DA10 0HE\, United Kingdom\, United Kingdom
CATEGORIES:Community Event
ATTACH;FMTTYPE=image/jpeg:https://swanscombeandgreenhithetowncouncil.gov.uk/wp-content/uploads/2021/12/58.2021-1st-Swanscombe-Raonbows-3-Dec-scaled-1.jpg
ORGANIZER;CN="Sandra_Kelleher":MAILTO:swanscomberainbows@hotmail.com
END:VEVENT
BEGIN:VEVENT
DTSTART;TZID=Europe/London:20270329T174500
DTEND;TZID=Europe/London:20270329T191500
DTSTAMP:20260422T090838
CREATED:20240424T184312Z
LAST-MODIFIED:20241219T090646Z
UID:10021353-1806342300-1806347700@swanscombeandgreenhithetowncouncil.gov.uk
SUMMARY:2nd Swanscombe Brownies - Monday 5.45pm to 7.15pm
DESCRIPTION:Want to learn new skills?\nWant to make new friends?\nWant to have fun?\nThen come and join us\nWe meet every Monday during term time form 5.45pm to 7.15pm\ncontact Sandra on 07831 898205 for more details
URL:https://swanscombeandgreenhithetowncouncil.gov.uk/event/1st-swanscombe-rainbows-monday-4-30pm-to-5-30pm-2-2-2/2027-03-29/
LOCATION:Church Road Hall\, Church Rd\, Swanscombe DA10 0HE\, United Kingdom\, United Kingdom
CATEGORIES:Community Event
ATTACH;FMTTYPE=image/jpeg:https://swanscombeandgreenhithetowncouncil.gov.uk/wp-content/uploads/2021/12/59.2021-2nd-Swanscombe-Brownies-3-Dec-scaled-1.jpg
ORGANIZER;CN="Sandra_Kelleher":MAILTO:swanscomberainbows@hotmail.com
END:VEVENT
BEGIN:VEVENT
DTSTART;TZID=Europe/London:20270403T100000
DTEND;TZID=Europe/London:20270403T113000
DTSTAMP:20260422T090838
CREATED:20240313T165627Z
LAST-MODIFIED:20240313T165627Z
UID:10013923-1806746400-1806751800@swanscombeandgreenhithetowncouncil.gov.uk
SUMMARY:Cake & Computer Club - Saturdays 10.00am to 11.30am
DESCRIPTION:This is a free club but donations are wlecomed to cover the cost of the hall\, tea and cakes.
URL:https://swanscombeandgreenhithetowncouncil.gov.uk/event/cake-computer-club-saturdays-10-00am-to-11-30am-2/2027-04-03/
LOCATION:Church Road Hall\, Church Rd\, Swanscombe DA10 0HE\, United Kingdom\, United Kingdom
CATEGORIES:Community Event
ATTACH;FMTTYPE=image/jpeg:https://swanscombeandgreenhithetowncouncil.gov.uk/wp-content/uploads/2022/06/80.2022-Cake-Computer-Club-20-June.jpg
END:VEVENT
BEGIN:VEVENT
DTSTART;TZID=Europe/London:20270405T163000
DTEND;TZID=Europe/London:20270405T173000
DTSTAMP:20260422T090838
CREATED:20240313T014129Z
LAST-MODIFIED:20241219T090502Z
UID:10011432-1806942600-1806946200@swanscombeandgreenhithetowncouncil.gov.uk
SUMMARY:1st Swanscombe Rainbows - Monday 4.30pm to 5.30pm
DESCRIPTION:We meet every Monday during term time for fun\, crafts\, games and badge work.\nWe also now take Rainbows from 4 years old !\nContact Sandra on 07831 898205 for more information
URL:https://swanscombeandgreenhithetowncouncil.gov.uk/event/1st-swanscombe-rainbows-monday-4-30pm-to-5-30pm-3/2027-04-05/
LOCATION:Church Road Hall\, Church Rd\, Swanscombe DA10 0HE\, United Kingdom\, United Kingdom
CATEGORIES:Community Event
ATTACH;FMTTYPE=image/jpeg:https://swanscombeandgreenhithetowncouncil.gov.uk/wp-content/uploads/2021/12/58.2021-1st-Swanscombe-Raonbows-3-Dec-scaled-1.jpg
ORGANIZER;CN="Sandra_Kelleher":MAILTO:swanscomberainbows@hotmail.com
END:VEVENT
BEGIN:VEVENT
DTSTART;TZID=Europe/London:20270405T174500
DTEND;TZID=Europe/London:20270405T191500
DTSTAMP:20260422T090838
CREATED:20240424T184312Z
LAST-MODIFIED:20241219T090646Z
UID:10021354-1806947100-1806952500@swanscombeandgreenhithetowncouncil.gov.uk
SUMMARY:2nd Swanscombe Brownies - Monday 5.45pm to 7.15pm
DESCRIPTION:Want to learn new skills?\nWant to make new friends?\nWant to have fun?\nThen come and join us\nWe meet every Monday during term time form 5.45pm to 7.15pm\ncontact Sandra on 07831 898205 for more details
URL:https://swanscombeandgreenhithetowncouncil.gov.uk/event/1st-swanscombe-rainbows-monday-4-30pm-to-5-30pm-2-2-2/2027-04-05/
LOCATION:Church Road Hall\, Church Rd\, Swanscombe DA10 0HE\, United Kingdom\, United Kingdom
CATEGORIES:Community Event
ATTACH;FMTTYPE=image/jpeg:https://swanscombeandgreenhithetowncouncil.gov.uk/wp-content/uploads/2021/12/59.2021-2nd-Swanscombe-Brownies-3-Dec-scaled-1.jpg
ORGANIZER;CN="Sandra_Kelleher":MAILTO:swanscomberainbows@hotmail.com
END:VEVENT
BEGIN:VEVENT
DTSTART;TZID=Europe/London:20270410T100000
DTEND;TZID=Europe/London:20270410T113000
DTSTAMP:20260422T090838
CREATED:20240313T165627Z
LAST-MODIFIED:20240313T165627Z
UID:10013924-1807351200-1807356600@swanscombeandgreenhithetowncouncil.gov.uk
SUMMARY:Cake & Computer Club - Saturdays 10.00am to 11.30am
DESCRIPTION:This is a free club but donations are wlecomed to cover the cost of the hall\, tea and cakes.
URL:https://swanscombeandgreenhithetowncouncil.gov.uk/event/cake-computer-club-saturdays-10-00am-to-11-30am-2/2027-04-10/
LOCATION:Church Road Hall\, Church Rd\, Swanscombe DA10 0HE\, United Kingdom\, United Kingdom
CATEGORIES:Community Event
ATTACH;FMTTYPE=image/jpeg:https://swanscombeandgreenhithetowncouncil.gov.uk/wp-content/uploads/2022/06/80.2022-Cake-Computer-Club-20-June.jpg
END:VEVENT
BEGIN:VEVENT
DTSTART;TZID=Europe/London:20270412T163000
DTEND;TZID=Europe/London:20270412T173000
DTSTAMP:20260422T090838
CREATED:20240313T014129Z
LAST-MODIFIED:20241219T090502Z
UID:10011433-1807547400-1807551000@swanscombeandgreenhithetowncouncil.gov.uk
SUMMARY:1st Swanscombe Rainbows - Monday 4.30pm to 5.30pm
DESCRIPTION:We meet every Monday during term time for fun\, crafts\, games and badge work.\nWe also now take Rainbows from 4 years old !\nContact Sandra on 07831 898205 for more information
URL:https://swanscombeandgreenhithetowncouncil.gov.uk/event/1st-swanscombe-rainbows-monday-4-30pm-to-5-30pm-3/2027-04-12/
LOCATION:Church Road Hall\, Church Rd\, Swanscombe DA10 0HE\, United Kingdom\, United Kingdom
CATEGORIES:Community Event
ATTACH;FMTTYPE=image/jpeg:https://swanscombeandgreenhithetowncouncil.gov.uk/wp-content/uploads/2021/12/58.2021-1st-Swanscombe-Raonbows-3-Dec-scaled-1.jpg
ORGANIZER;CN="Sandra_Kelleher":MAILTO:swanscomberainbows@hotmail.com
END:VEVENT
BEGIN:VEVENT
DTSTART;TZID=Europe/London:20270412T174500
DTEND;TZID=Europe/London:20270412T191500
DTSTAMP:20260422T090838
CREATED:20240424T184312Z
LAST-MODIFIED:20241219T090646Z
UID:10021355-1807551900-1807557300@swanscombeandgreenhithetowncouncil.gov.uk
SUMMARY:2nd Swanscombe Brownies - Monday 5.45pm to 7.15pm
DESCRIPTION:Want to learn new skills?\nWant to make new friends?\nWant to have fun?\nThen come and join us\nWe meet every Monday during term time form 5.45pm to 7.15pm\ncontact Sandra on 07831 898205 for more details
URL:https://swanscombeandgreenhithetowncouncil.gov.uk/event/1st-swanscombe-rainbows-monday-4-30pm-to-5-30pm-2-2-2/2027-04-12/
LOCATION:Church Road Hall\, Church Rd\, Swanscombe DA10 0HE\, United Kingdom\, United Kingdom
CATEGORIES:Community Event
ATTACH;FMTTYPE=image/jpeg:https://swanscombeandgreenhithetowncouncil.gov.uk/wp-content/uploads/2021/12/59.2021-2nd-Swanscombe-Brownies-3-Dec-scaled-1.jpg
ORGANIZER;CN="Sandra_Kelleher":MAILTO:swanscomberainbows@hotmail.com
END:VEVENT
BEGIN:VEVENT
DTSTART;TZID=Europe/London:20270417T100000
DTEND;TZID=Europe/London:20270417T113000
DTSTAMP:20260422T090838
CREATED:20240313T165627Z
LAST-MODIFIED:20240313T165627Z
UID:10013925-1807956000-1807961400@swanscombeandgreenhithetowncouncil.gov.uk
SUMMARY:Cake & Computer Club - Saturdays 10.00am to 11.30am
DESCRIPTION:This is a free club but donations are wlecomed to cover the cost of the hall\, tea and cakes.
URL:https://swanscombeandgreenhithetowncouncil.gov.uk/event/cake-computer-club-saturdays-10-00am-to-11-30am-2/2027-04-17/
LOCATION:Church Road Hall\, Church Rd\, Swanscombe DA10 0HE\, United Kingdom\, United Kingdom
CATEGORIES:Community Event
ATTACH;FMTTYPE=image/jpeg:https://swanscombeandgreenhithetowncouncil.gov.uk/wp-content/uploads/2022/06/80.2022-Cake-Computer-Club-20-June.jpg
END:VEVENT
BEGIN:VEVENT
DTSTART;TZID=Europe/London:20270419T163000
DTEND;TZID=Europe/London:20270419T173000
DTSTAMP:20260422T090838
CREATED:20240313T014129Z
LAST-MODIFIED:20241219T090502Z
UID:10011434-1808152200-1808155800@swanscombeandgreenhithetowncouncil.gov.uk
SUMMARY:1st Swanscombe Rainbows - Monday 4.30pm to 5.30pm
DESCRIPTION:We meet every Monday during term time for fun\, crafts\, games and badge work.\nWe also now take Rainbows from 4 years old !\nContact Sandra on 07831 898205 for more information
URL:https://swanscombeandgreenhithetowncouncil.gov.uk/event/1st-swanscombe-rainbows-monday-4-30pm-to-5-30pm-3/2027-04-19/
LOCATION:Church Road Hall\, Church Rd\, Swanscombe DA10 0HE\, United Kingdom\, United Kingdom
CATEGORIES:Community Event
ATTACH;FMTTYPE=image/jpeg:https://swanscombeandgreenhithetowncouncil.gov.uk/wp-content/uploads/2021/12/58.2021-1st-Swanscombe-Raonbows-3-Dec-scaled-1.jpg
ORGANIZER;CN="Sandra_Kelleher":MAILTO:swanscomberainbows@hotmail.com
END:VEVENT
BEGIN:VEVENT
DTSTART;TZID=Europe/London:20270419T174500
DTEND;TZID=Europe/London:20270419T191500
DTSTAMP:20260422T090838
CREATED:20240424T184312Z
LAST-MODIFIED:20241219T090646Z
UID:10021356-1808156700-1808162100@swanscombeandgreenhithetowncouncil.gov.uk
SUMMARY:2nd Swanscombe Brownies - Monday 5.45pm to 7.15pm
DESCRIPTION:Want to learn new skills?\nWant to make new friends?\nWant to have fun?\nThen come and join us\nWe meet every Monday during term time form 5.45pm to 7.15pm\ncontact Sandra on 07831 898205 for more details
URL:https://swanscombeandgreenhithetowncouncil.gov.uk/event/1st-swanscombe-rainbows-monday-4-30pm-to-5-30pm-2-2-2/2027-04-19/
LOCATION:Church Road Hall\, Church Rd\, Swanscombe DA10 0HE\, United Kingdom\, United Kingdom
CATEGORIES:Community Event
ATTACH;FMTTYPE=image/jpeg:https://swanscombeandgreenhithetowncouncil.gov.uk/wp-content/uploads/2021/12/59.2021-2nd-Swanscombe-Brownies-3-Dec-scaled-1.jpg
ORGANIZER;CN="Sandra_Kelleher":MAILTO:swanscomberainbows@hotmail.com
END:VEVENT
BEGIN:VEVENT
DTSTART;TZID=Europe/London:20270424T100000
DTEND;TZID=Europe/London:20270424T113000
DTSTAMP:20260422T090838
CREATED:20240313T165627Z
LAST-MODIFIED:20240313T165627Z
UID:10013926-1808560800-1808566200@swanscombeandgreenhithetowncouncil.gov.uk
SUMMARY:Cake & Computer Club - Saturdays 10.00am to 11.30am
DESCRIPTION:This is a free club but donations are wlecomed to cover the cost of the hall\, tea and cakes.
URL:https://swanscombeandgreenhithetowncouncil.gov.uk/event/cake-computer-club-saturdays-10-00am-to-11-30am-2/2027-04-24/
LOCATION:Church Road Hall\, Church Rd\, Swanscombe DA10 0HE\, United Kingdom\, United Kingdom
CATEGORIES:Community Event
ATTACH;FMTTYPE=image/jpeg:https://swanscombeandgreenhithetowncouncil.gov.uk/wp-content/uploads/2022/06/80.2022-Cake-Computer-Club-20-June.jpg
END:VEVENT
BEGIN:VEVENT
DTSTART;TZID=Europe/London:20270426T163000
DTEND;TZID=Europe/London:20270426T173000
DTSTAMP:20260422T090838
CREATED:20240313T014129Z
LAST-MODIFIED:20241219T090502Z
UID:10011435-1808757000-1808760600@swanscombeandgreenhithetowncouncil.gov.uk
SUMMARY:1st Swanscombe Rainbows - Monday 4.30pm to 5.30pm
DESCRIPTION:We meet every Monday during term time for fun\, crafts\, games and badge work.\nWe also now take Rainbows from 4 years old !\nContact Sandra on 07831 898205 for more information
URL:https://swanscombeandgreenhithetowncouncil.gov.uk/event/1st-swanscombe-rainbows-monday-4-30pm-to-5-30pm-3/2027-04-26/
LOCATION:Church Road Hall\, Church Rd\, Swanscombe DA10 0HE\, United Kingdom\, United Kingdom
CATEGORIES:Community Event
ATTACH;FMTTYPE=image/jpeg:https://swanscombeandgreenhithetowncouncil.gov.uk/wp-content/uploads/2021/12/58.2021-1st-Swanscombe-Raonbows-3-Dec-scaled-1.jpg
ORGANIZER;CN="Sandra_Kelleher":MAILTO:swanscomberainbows@hotmail.com
END:VEVENT
BEGIN:VEVENT
DTSTART;TZID=Europe/London:20270426T174500
DTEND;TZID=Europe/London:20270426T191500
DTSTAMP:20260422T090838
CREATED:20240424T184312Z
LAST-MODIFIED:20241219T090646Z
UID:10021357-1808761500-1808766900@swanscombeandgreenhithetowncouncil.gov.uk
SUMMARY:2nd Swanscombe Brownies - Monday 5.45pm to 7.15pm
DESCRIPTION:Want to learn new skills?\nWant to make new friends?\nWant to have fun?\nThen come and join us\nWe meet every Monday during term time form 5.45pm to 7.15pm\ncontact Sandra on 07831 898205 for more details
URL:https://swanscombeandgreenhithetowncouncil.gov.uk/event/1st-swanscombe-rainbows-monday-4-30pm-to-5-30pm-2-2-2/2027-04-26/
LOCATION:Church Road Hall\, Church Rd\, Swanscombe DA10 0HE\, United Kingdom\, United Kingdom
CATEGORIES:Community Event
ATTACH;FMTTYPE=image/jpeg:https://swanscombeandgreenhithetowncouncil.gov.uk/wp-content/uploads/2021/12/59.2021-2nd-Swanscombe-Brownies-3-Dec-scaled-1.jpg
ORGANIZER;CN="Sandra_Kelleher":MAILTO:swanscomberainbows@hotmail.com
END:VEVENT
BEGIN:VEVENT
DTSTART;TZID=Europe/London:20270501T100000
DTEND;TZID=Europe/London:20270501T113000
DTSTAMP:20260422T090838
CREATED:20240313T165627Z
LAST-MODIFIED:20240313T165627Z
UID:10013927-1809165600-1809171000@swanscombeandgreenhithetowncouncil.gov.uk
SUMMARY:Cake & Computer Club - Saturdays 10.00am to 11.30am
DESCRIPTION:This is a free club but donations are wlecomed to cover the cost of the hall\, tea and cakes.
URL:https://swanscombeandgreenhithetowncouncil.gov.uk/event/cake-computer-club-saturdays-10-00am-to-11-30am-2/2027-05-01/
LOCATION:Church Road Hall\, Church Rd\, Swanscombe DA10 0HE\, United Kingdom\, United Kingdom
CATEGORIES:Community Event
ATTACH;FMTTYPE=image/jpeg:https://swanscombeandgreenhithetowncouncil.gov.uk/wp-content/uploads/2022/06/80.2022-Cake-Computer-Club-20-June.jpg
END:VEVENT
BEGIN:VEVENT
DTSTART;TZID=Europe/London:20270503T163000
DTEND;TZID=Europe/London:20270503T173000
DTSTAMP:20260422T090838
CREATED:20240313T014129Z
LAST-MODIFIED:20241219T090502Z
UID:10011436-1809361800-1809365400@swanscombeandgreenhithetowncouncil.gov.uk
SUMMARY:1st Swanscombe Rainbows - Monday 4.30pm to 5.30pm
DESCRIPTION:We meet every Monday during term time for fun\, crafts\, games and badge work.\nWe also now take Rainbows from 4 years old !\nContact Sandra on 07831 898205 for more information
URL:https://swanscombeandgreenhithetowncouncil.gov.uk/event/1st-swanscombe-rainbows-monday-4-30pm-to-5-30pm-3/2027-05-03/
LOCATION:Church Road Hall\, Church Rd\, Swanscombe DA10 0HE\, United Kingdom\, United Kingdom
CATEGORIES:Community Event
ATTACH;FMTTYPE=image/jpeg:https://swanscombeandgreenhithetowncouncil.gov.uk/wp-content/uploads/2021/12/58.2021-1st-Swanscombe-Raonbows-3-Dec-scaled-1.jpg
ORGANIZER;CN="Sandra_Kelleher":MAILTO:swanscomberainbows@hotmail.com
END:VEVENT
BEGIN:VEVENT
DTSTART;TZID=Europe/London:20270503T174500
DTEND;TZID=Europe/London:20270503T191500
DTSTAMP:20260422T090838
CREATED:20240424T184312Z
LAST-MODIFIED:20241219T090646Z
UID:10021358-1809366300-1809371700@swanscombeandgreenhithetowncouncil.gov.uk
SUMMARY:2nd Swanscombe Brownies - Monday 5.45pm to 7.15pm
DESCRIPTION:Want to learn new skills?\nWant to make new friends?\nWant to have fun?\nThen come and join us\nWe meet every Monday during term time form 5.45pm to 7.15pm\ncontact Sandra on 07831 898205 for more details
URL:https://swanscombeandgreenhithetowncouncil.gov.uk/event/1st-swanscombe-rainbows-monday-4-30pm-to-5-30pm-2-2-2/2027-05-03/
LOCATION:Church Road Hall\, Church Rd\, Swanscombe DA10 0HE\, United Kingdom\, United Kingdom
CATEGORIES:Community Event
ATTACH;FMTTYPE=image/jpeg:https://swanscombeandgreenhithetowncouncil.gov.uk/wp-content/uploads/2021/12/59.2021-2nd-Swanscombe-Brownies-3-Dec-scaled-1.jpg
ORGANIZER;CN="Sandra_Kelleher":MAILTO:swanscomberainbows@hotmail.com
END:VEVENT
BEGIN:VEVENT
DTSTART;TZID=Europe/London:20270508T100000
DTEND;TZID=Europe/London:20270508T113000
DTSTAMP:20260422T090838
CREATED:20240313T165627Z
LAST-MODIFIED:20240313T165627Z
UID:10013928-1809770400-1809775800@swanscombeandgreenhithetowncouncil.gov.uk
SUMMARY:Cake & Computer Club - Saturdays 10.00am to 11.30am
DESCRIPTION:This is a free club but donations are wlecomed to cover the cost of the hall\, tea and cakes.
URL:https://swanscombeandgreenhithetowncouncil.gov.uk/event/cake-computer-club-saturdays-10-00am-to-11-30am-2/2027-05-08/
LOCATION:Church Road Hall\, Church Rd\, Swanscombe DA10 0HE\, United Kingdom\, United Kingdom
CATEGORIES:Community Event
ATTACH;FMTTYPE=image/jpeg:https://swanscombeandgreenhithetowncouncil.gov.uk/wp-content/uploads/2022/06/80.2022-Cake-Computer-Club-20-June.jpg
END:VEVENT
BEGIN:VEVENT
DTSTART;TZID=Europe/London:20270510T163000
DTEND;TZID=Europe/London:20270510T173000
DTSTAMP:20260422T090838
CREATED:20240313T014129Z
LAST-MODIFIED:20241219T090502Z
UID:10011437-1809966600-1809970200@swanscombeandgreenhithetowncouncil.gov.uk
SUMMARY:1st Swanscombe Rainbows - Monday 4.30pm to 5.30pm
DESCRIPTION:We meet every Monday during term time for fun\, crafts\, games and badge work.\nWe also now take Rainbows from 4 years old !\nContact Sandra on 07831 898205 for more information
URL:https://swanscombeandgreenhithetowncouncil.gov.uk/event/1st-swanscombe-rainbows-monday-4-30pm-to-5-30pm-3/2027-05-10/
LOCATION:Church Road Hall\, Church Rd\, Swanscombe DA10 0HE\, United Kingdom\, United Kingdom
CATEGORIES:Community Event
ATTACH;FMTTYPE=image/jpeg:https://swanscombeandgreenhithetowncouncil.gov.uk/wp-content/uploads/2021/12/58.2021-1st-Swanscombe-Raonbows-3-Dec-scaled-1.jpg
ORGANIZER;CN="Sandra_Kelleher":MAILTO:swanscomberainbows@hotmail.com
END:VEVENT
BEGIN:VEVENT
DTSTART;TZID=Europe/London:20270510T174500
DTEND;TZID=Europe/London:20270510T191500
DTSTAMP:20260422T090838
CREATED:20240424T184312Z
LAST-MODIFIED:20241219T090646Z
UID:10021359-1809971100-1809976500@swanscombeandgreenhithetowncouncil.gov.uk
SUMMARY:2nd Swanscombe Brownies - Monday 5.45pm to 7.15pm
DESCRIPTION:Want to learn new skills?\nWant to make new friends?\nWant to have fun?\nThen come and join us\nWe meet every Monday during term time form 5.45pm to 7.15pm\ncontact Sandra on 07831 898205 for more details
URL:https://swanscombeandgreenhithetowncouncil.gov.uk/event/1st-swanscombe-rainbows-monday-4-30pm-to-5-30pm-2-2-2/2027-05-10/
LOCATION:Church Road Hall\, Church Rd\, Swanscombe DA10 0HE\, United Kingdom\, United Kingdom
CATEGORIES:Community Event
ATTACH;FMTTYPE=image/jpeg:https://swanscombeandgreenhithetowncouncil.gov.uk/wp-content/uploads/2021/12/59.2021-2nd-Swanscombe-Brownies-3-Dec-scaled-1.jpg
ORGANIZER;CN="Sandra_Kelleher":MAILTO:swanscomberainbows@hotmail.com
END:VEVENT
BEGIN:VEVENT
DTSTART;TZID=Europe/London:20270515T100000
DTEND;TZID=Europe/London:20270515T113000
DTSTAMP:20260422T090838
CREATED:20240313T165627Z
LAST-MODIFIED:20240313T165627Z
UID:10013929-1810375200-1810380600@swanscombeandgreenhithetowncouncil.gov.uk
SUMMARY:Cake & Computer Club - Saturdays 10.00am to 11.30am
DESCRIPTION:This is a free club but donations are wlecomed to cover the cost of the hall\, tea and cakes.
URL:https://swanscombeandgreenhithetowncouncil.gov.uk/event/cake-computer-club-saturdays-10-00am-to-11-30am-2/2027-05-15/
LOCATION:Church Road Hall\, Church Rd\, Swanscombe DA10 0HE\, United Kingdom\, United Kingdom
CATEGORIES:Community Event
ATTACH;FMTTYPE=image/jpeg:https://swanscombeandgreenhithetowncouncil.gov.uk/wp-content/uploads/2022/06/80.2022-Cake-Computer-Club-20-June.jpg
END:VEVENT
BEGIN:VEVENT
DTSTART;TZID=Europe/London:20270517T163000
DTEND;TZID=Europe/London:20270517T173000
DTSTAMP:20260422T090838
CREATED:20240313T014129Z
LAST-MODIFIED:20241219T090502Z
UID:10011438-1810571400-1810575000@swanscombeandgreenhithetowncouncil.gov.uk
SUMMARY:1st Swanscombe Rainbows - Monday 4.30pm to 5.30pm
DESCRIPTION:We meet every Monday during term time for fun\, crafts\, games and badge work.\nWe also now take Rainbows from 4 years old !\nContact Sandra on 07831 898205 for more information
URL:https://swanscombeandgreenhithetowncouncil.gov.uk/event/1st-swanscombe-rainbows-monday-4-30pm-to-5-30pm-3/2027-05-17/
LOCATION:Church Road Hall\, Church Rd\, Swanscombe DA10 0HE\, United Kingdom\, United Kingdom
CATEGORIES:Community Event
ATTACH;FMTTYPE=image/jpeg:https://swanscombeandgreenhithetowncouncil.gov.uk/wp-content/uploads/2021/12/58.2021-1st-Swanscombe-Raonbows-3-Dec-scaled-1.jpg
ORGANIZER;CN="Sandra_Kelleher":MAILTO:swanscomberainbows@hotmail.com
END:VEVENT
BEGIN:VEVENT
DTSTART;TZID=Europe/London:20270517T174500
DTEND;TZID=Europe/London:20270517T191500
DTSTAMP:20260422T090838
CREATED:20240424T184312Z
LAST-MODIFIED:20241219T090646Z
UID:10021360-1810575900-1810581300@swanscombeandgreenhithetowncouncil.gov.uk
SUMMARY:2nd Swanscombe Brownies - Monday 5.45pm to 7.15pm
DESCRIPTION:Want to learn new skills?\nWant to make new friends?\nWant to have fun?\nThen come and join us\nWe meet every Monday during term time form 5.45pm to 7.15pm\ncontact Sandra on 07831 898205 for more details
URL:https://swanscombeandgreenhithetowncouncil.gov.uk/event/1st-swanscombe-rainbows-monday-4-30pm-to-5-30pm-2-2-2/2027-05-17/
LOCATION:Church Road Hall\, Church Rd\, Swanscombe DA10 0HE\, United Kingdom\, United Kingdom
CATEGORIES:Community Event
ATTACH;FMTTYPE=image/jpeg:https://swanscombeandgreenhithetowncouncil.gov.uk/wp-content/uploads/2021/12/59.2021-2nd-Swanscombe-Brownies-3-Dec-scaled-1.jpg
ORGANIZER;CN="Sandra_Kelleher":MAILTO:swanscomberainbows@hotmail.com
END:VEVENT
BEGIN:VEVENT
DTSTART;TZID=Europe/London:20270522T100000
DTEND;TZID=Europe/London:20270522T113000
DTSTAMP:20260422T090838
CREATED:20240313T165627Z
LAST-MODIFIED:20240313T165627Z
UID:10013930-1810980000-1810985400@swanscombeandgreenhithetowncouncil.gov.uk
SUMMARY:Cake & Computer Club - Saturdays 10.00am to 11.30am
DESCRIPTION:This is a free club but donations are wlecomed to cover the cost of the hall\, tea and cakes.
URL:https://swanscombeandgreenhithetowncouncil.gov.uk/event/cake-computer-club-saturdays-10-00am-to-11-30am-2/2027-05-22/
LOCATION:Church Road Hall\, Church Rd\, Swanscombe DA10 0HE\, United Kingdom\, United Kingdom
CATEGORIES:Community Event
ATTACH;FMTTYPE=image/jpeg:https://swanscombeandgreenhithetowncouncil.gov.uk/wp-content/uploads/2022/06/80.2022-Cake-Computer-Club-20-June.jpg
END:VEVENT
BEGIN:VEVENT
DTSTART;TZID=Europe/London:20270524T163000
DTEND;TZID=Europe/London:20270524T173000
DTSTAMP:20260422T090838
CREATED:20240313T014129Z
LAST-MODIFIED:20241219T090502Z
UID:10011439-1811176200-1811179800@swanscombeandgreenhithetowncouncil.gov.uk
SUMMARY:1st Swanscombe Rainbows - Monday 4.30pm to 5.30pm
DESCRIPTION:We meet every Monday during term time for fun\, crafts\, games and badge work.\nWe also now take Rainbows from 4 years old !\nContact Sandra on 07831 898205 for more information
URL:https://swanscombeandgreenhithetowncouncil.gov.uk/event/1st-swanscombe-rainbows-monday-4-30pm-to-5-30pm-3/2027-05-24/
LOCATION:Church Road Hall\, Church Rd\, Swanscombe DA10 0HE\, United Kingdom\, United Kingdom
CATEGORIES:Community Event
ATTACH;FMTTYPE=image/jpeg:https://swanscombeandgreenhithetowncouncil.gov.uk/wp-content/uploads/2021/12/58.2021-1st-Swanscombe-Raonbows-3-Dec-scaled-1.jpg
ORGANIZER;CN="Sandra_Kelleher":MAILTO:swanscomberainbows@hotmail.com
END:VEVENT
BEGIN:VEVENT
DTSTART;TZID=Europe/London:20270524T174500
DTEND;TZID=Europe/London:20270524T191500
DTSTAMP:20260422T090838
CREATED:20240424T184312Z
LAST-MODIFIED:20241219T090646Z
UID:10021361-1811180700-1811186100@swanscombeandgreenhithetowncouncil.gov.uk
SUMMARY:2nd Swanscombe Brownies - Monday 5.45pm to 7.15pm
DESCRIPTION:Want to learn new skills?\nWant to make new friends?\nWant to have fun?\nThen come and join us\nWe meet every Monday during term time form 5.45pm to 7.15pm\ncontact Sandra on 07831 898205 for more details
URL:https://swanscombeandgreenhithetowncouncil.gov.uk/event/1st-swanscombe-rainbows-monday-4-30pm-to-5-30pm-2-2-2/2027-05-24/
LOCATION:Church Road Hall\, Church Rd\, Swanscombe DA10 0HE\, United Kingdom\, United Kingdom
CATEGORIES:Community Event
ATTACH;FMTTYPE=image/jpeg:https://swanscombeandgreenhithetowncouncil.gov.uk/wp-content/uploads/2021/12/59.2021-2nd-Swanscombe-Brownies-3-Dec-scaled-1.jpg
ORGANIZER;CN="Sandra_Kelleher":MAILTO:swanscomberainbows@hotmail.com
END:VEVENT
BEGIN:VEVENT
DTSTART;TZID=Europe/London:20270529T100000
DTEND;TZID=Europe/London:20270529T113000
DTSTAMP:20260422T090838
CREATED:20240313T165627Z
LAST-MODIFIED:20240313T165627Z
UID:10013931-1811584800-1811590200@swanscombeandgreenhithetowncouncil.gov.uk
SUMMARY:Cake & Computer Club - Saturdays 10.00am to 11.30am
DESCRIPTION:This is a free club but donations are wlecomed to cover the cost of the hall\, tea and cakes.
URL:https://swanscombeandgreenhithetowncouncil.gov.uk/event/cake-computer-club-saturdays-10-00am-to-11-30am-2/2027-05-29/
LOCATION:Church Road Hall\, Church Rd\, Swanscombe DA10 0HE\, United Kingdom\, United Kingdom
CATEGORIES:Community Event
ATTACH;FMTTYPE=image/jpeg:https://swanscombeandgreenhithetowncouncil.gov.uk/wp-content/uploads/2022/06/80.2022-Cake-Computer-Club-20-June.jpg
END:VEVENT
BEGIN:VEVENT
DTSTART;TZID=Europe/London:20270531T163000
DTEND;TZID=Europe/London:20270531T173000
DTSTAMP:20260422T090838
CREATED:20240313T014129Z
LAST-MODIFIED:20241219T090502Z
UID:10011440-1811781000-1811784600@swanscombeandgreenhithetowncouncil.gov.uk
SUMMARY:1st Swanscombe Rainbows - Monday 4.30pm to 5.30pm
DESCRIPTION:We meet every Monday during term time for fun\, crafts\, games and badge work.\nWe also now take Rainbows from 4 years old !\nContact Sandra on 07831 898205 for more information
URL:https://swanscombeandgreenhithetowncouncil.gov.uk/event/1st-swanscombe-rainbows-monday-4-30pm-to-5-30pm-3/2027-05-31/
LOCATION:Church Road Hall\, Church Rd\, Swanscombe DA10 0HE\, United Kingdom\, United Kingdom
CATEGORIES:Community Event
ATTACH;FMTTYPE=image/jpeg:https://swanscombeandgreenhithetowncouncil.gov.uk/wp-content/uploads/2021/12/58.2021-1st-Swanscombe-Raonbows-3-Dec-scaled-1.jpg
ORGANIZER;CN="Sandra_Kelleher":MAILTO:swanscomberainbows@hotmail.com
END:VEVENT
BEGIN:VEVENT
DTSTART;TZID=Europe/London:20270531T174500
DTEND;TZID=Europe/London:20270531T191500
DTSTAMP:20260422T090838
CREATED:20240424T184312Z
LAST-MODIFIED:20241219T090646Z
UID:10021362-1811785500-1811790900@swanscombeandgreenhithetowncouncil.gov.uk
SUMMARY:2nd Swanscombe Brownies - Monday 5.45pm to 7.15pm
DESCRIPTION:Want to learn new skills?\nWant to make new friends?\nWant to have fun?\nThen come and join us\nWe meet every Monday during term time form 5.45pm to 7.15pm\ncontact Sandra on 07831 898205 for more details
URL:https://swanscombeandgreenhithetowncouncil.gov.uk/event/1st-swanscombe-rainbows-monday-4-30pm-to-5-30pm-2-2-2/2027-05-31/
LOCATION:Church Road Hall\, Church Rd\, Swanscombe DA10 0HE\, United Kingdom\, United Kingdom
CATEGORIES:Community Event
ATTACH;FMTTYPE=image/jpeg:https://swanscombeandgreenhithetowncouncil.gov.uk/wp-content/uploads/2021/12/59.2021-2nd-Swanscombe-Brownies-3-Dec-scaled-1.jpg
ORGANIZER;CN="Sandra_Kelleher":MAILTO:swanscomberainbows@hotmail.com
END:VEVENT
END:VCALENDAR