BEGIN:VCALENDAR
VERSION:2.0
PRODID:-//Swanscombe and Greenhithe Town Council - ECPv6.15.20//NONSGML v1.0//EN
CALSCALE:GREGORIAN
METHOD:PUBLISH
X-ORIGINAL-URL:https://swanscombeandgreenhithetowncouncil.gov.uk
X-WR-CALDESC:Events for Swanscombe and Greenhithe Town Council
REFRESH-INTERVAL;VALUE=DURATION:PT1H
X-Robots-Tag:noindex
X-PUBLISHED-TTL:PT1H
BEGIN:VTIMEZONE
TZID:Europe/London
BEGIN:DAYLIGHT
TZOFFSETFROM:+0000
TZOFFSETTO:+0100
TZNAME:BST
DTSTART:20270328T010000
END:DAYLIGHT
BEGIN:STANDARD
TZOFFSETFROM:+0100
TZOFFSETTO:+0000
TZNAME:GMT
DTSTART:20271031T010000
END:STANDARD
BEGIN:DAYLIGHT
TZOFFSETFROM:+0000
TZOFFSETTO:+0100
TZNAME:BST
DTSTART:20280326T010000
END:DAYLIGHT
BEGIN:STANDARD
TZOFFSETFROM:+0100
TZOFFSETTO:+0000
TZNAME:GMT
DTSTART:20281029T010000
END:STANDARD
BEGIN:DAYLIGHT
TZOFFSETFROM:+0000
TZOFFSETTO:+0100
TZNAME:BST
DTSTART:20290325T010000
END:DAYLIGHT
BEGIN:STANDARD
TZOFFSETFROM:+0100
TZOFFSETTO:+0000
TZNAME:GMT
DTSTART:20291028T010000
END:STANDARD
END:VTIMEZONE
BEGIN:VEVENT
DTSTART;TZID=Europe/London:20280129T100000
DTEND;TZID=Europe/London:20280129T113000
DTSTAMP:20260423T032605
CREATED:20240313T165627Z
LAST-MODIFIED:20240313T165627Z
UID:10013966-1832752800-1832758200@swanscombeandgreenhithetowncouncil.gov.uk
SUMMARY:Cake & Computer Club - Saturdays 10.00am to 11.30am
DESCRIPTION:This is a free club but donations are wlecomed to cover the cost of the hall\, tea and cakes.
URL:https://swanscombeandgreenhithetowncouncil.gov.uk/event/cake-computer-club-saturdays-10-00am-to-11-30am-2/2028-01-29/
LOCATION:Church Road Hall\, Church Rd\, Swanscombe DA10 0HE\, United Kingdom\, United Kingdom
CATEGORIES:Community Event
ATTACH;FMTTYPE=image/jpeg:https://swanscombeandgreenhithetowncouncil.gov.uk/wp-content/uploads/2022/06/80.2022-Cake-Computer-Club-20-June.jpg
END:VEVENT
BEGIN:VEVENT
DTSTART;TZID=Europe/London:20280131T163000
DTEND;TZID=Europe/London:20280131T173000
DTSTAMP:20260423T032605
CREATED:20240313T014129Z
LAST-MODIFIED:20241219T090502Z
UID:10011475-1832949000-1832952600@swanscombeandgreenhithetowncouncil.gov.uk
SUMMARY:1st Swanscombe Rainbows - Monday 4.30pm to 5.30pm
DESCRIPTION:We meet every Monday during term time for fun\, crafts\, games and badge work.\nWe also now take Rainbows from 4 years old !\nContact Sandra on 07831 898205 for more information
URL:https://swanscombeandgreenhithetowncouncil.gov.uk/event/1st-swanscombe-rainbows-monday-4-30pm-to-5-30pm-3/2028-01-31/
LOCATION:Church Road Hall\, Church Rd\, Swanscombe DA10 0HE\, United Kingdom\, United Kingdom
CATEGORIES:Community Event
ATTACH;FMTTYPE=image/jpeg:https://swanscombeandgreenhithetowncouncil.gov.uk/wp-content/uploads/2021/12/58.2021-1st-Swanscombe-Raonbows-3-Dec-scaled-1.jpg
ORGANIZER;CN="Sandra_Kelleher":MAILTO:swanscomberainbows@hotmail.com
END:VEVENT
BEGIN:VEVENT
DTSTART;TZID=Europe/London:20280131T174500
DTEND;TZID=Europe/London:20280131T191500
DTSTAMP:20260423T032605
CREATED:20240424T184312Z
LAST-MODIFIED:20241219T090646Z
UID:10021397-1832953500-1832958900@swanscombeandgreenhithetowncouncil.gov.uk
SUMMARY:2nd Swanscombe Brownies - Monday 5.45pm to 7.15pm
DESCRIPTION:Want to learn new skills?\nWant to make new friends?\nWant to have fun?\nThen come and join us\nWe meet every Monday during term time form 5.45pm to 7.15pm\ncontact Sandra on 07831 898205 for more details
URL:https://swanscombeandgreenhithetowncouncil.gov.uk/event/1st-swanscombe-rainbows-monday-4-30pm-to-5-30pm-2-2-2/2028-01-31/
LOCATION:Church Road Hall\, Church Rd\, Swanscombe DA10 0HE\, United Kingdom\, United Kingdom
CATEGORIES:Community Event
ATTACH;FMTTYPE=image/jpeg:https://swanscombeandgreenhithetowncouncil.gov.uk/wp-content/uploads/2021/12/59.2021-2nd-Swanscombe-Brownies-3-Dec-scaled-1.jpg
ORGANIZER;CN="Sandra_Kelleher":MAILTO:swanscomberainbows@hotmail.com
END:VEVENT
BEGIN:VEVENT
DTSTART;TZID=Europe/London:20280205T100000
DTEND;TZID=Europe/London:20280205T113000
DTSTAMP:20260423T032605
CREATED:20240313T165627Z
LAST-MODIFIED:20240313T165627Z
UID:10013967-1833357600-1833363000@swanscombeandgreenhithetowncouncil.gov.uk
SUMMARY:Cake & Computer Club - Saturdays 10.00am to 11.30am
DESCRIPTION:This is a free club but donations are wlecomed to cover the cost of the hall\, tea and cakes.
URL:https://swanscombeandgreenhithetowncouncil.gov.uk/event/cake-computer-club-saturdays-10-00am-to-11-30am-2/2028-02-05/
LOCATION:Church Road Hall\, Church Rd\, Swanscombe DA10 0HE\, United Kingdom\, United Kingdom
CATEGORIES:Community Event
ATTACH;FMTTYPE=image/jpeg:https://swanscombeandgreenhithetowncouncil.gov.uk/wp-content/uploads/2022/06/80.2022-Cake-Computer-Club-20-June.jpg
END:VEVENT
BEGIN:VEVENT
DTSTART;TZID=Europe/London:20280207T163000
DTEND;TZID=Europe/London:20280207T173000
DTSTAMP:20260423T032605
CREATED:20240313T014129Z
LAST-MODIFIED:20241219T090502Z
UID:10011476-1833553800-1833557400@swanscombeandgreenhithetowncouncil.gov.uk
SUMMARY:1st Swanscombe Rainbows - Monday 4.30pm to 5.30pm
DESCRIPTION:We meet every Monday during term time for fun\, crafts\, games and badge work.\nWe also now take Rainbows from 4 years old !\nContact Sandra on 07831 898205 for more information
URL:https://swanscombeandgreenhithetowncouncil.gov.uk/event/1st-swanscombe-rainbows-monday-4-30pm-to-5-30pm-3/2028-02-07/
LOCATION:Church Road Hall\, Church Rd\, Swanscombe DA10 0HE\, United Kingdom\, United Kingdom
CATEGORIES:Community Event
ATTACH;FMTTYPE=image/jpeg:https://swanscombeandgreenhithetowncouncil.gov.uk/wp-content/uploads/2021/12/58.2021-1st-Swanscombe-Raonbows-3-Dec-scaled-1.jpg
ORGANIZER;CN="Sandra_Kelleher":MAILTO:swanscomberainbows@hotmail.com
END:VEVENT
BEGIN:VEVENT
DTSTART;TZID=Europe/London:20280207T174500
DTEND;TZID=Europe/London:20280207T191500
DTSTAMP:20260423T032605
CREATED:20240424T184312Z
LAST-MODIFIED:20241219T090646Z
UID:10021398-1833558300-1833563700@swanscombeandgreenhithetowncouncil.gov.uk
SUMMARY:2nd Swanscombe Brownies - Monday 5.45pm to 7.15pm
DESCRIPTION:Want to learn new skills?\nWant to make new friends?\nWant to have fun?\nThen come and join us\nWe meet every Monday during term time form 5.45pm to 7.15pm\ncontact Sandra on 07831 898205 for more details
URL:https://swanscombeandgreenhithetowncouncil.gov.uk/event/1st-swanscombe-rainbows-monday-4-30pm-to-5-30pm-2-2-2/2028-02-07/
LOCATION:Church Road Hall\, Church Rd\, Swanscombe DA10 0HE\, United Kingdom\, United Kingdom
CATEGORIES:Community Event
ATTACH;FMTTYPE=image/jpeg:https://swanscombeandgreenhithetowncouncil.gov.uk/wp-content/uploads/2021/12/59.2021-2nd-Swanscombe-Brownies-3-Dec-scaled-1.jpg
ORGANIZER;CN="Sandra_Kelleher":MAILTO:swanscomberainbows@hotmail.com
END:VEVENT
BEGIN:VEVENT
DTSTART;TZID=Europe/London:20280212T100000
DTEND;TZID=Europe/London:20280212T113000
DTSTAMP:20260423T032605
CREATED:20240313T165627Z
LAST-MODIFIED:20240313T165627Z
UID:10013968-1833962400-1833967800@swanscombeandgreenhithetowncouncil.gov.uk
SUMMARY:Cake & Computer Club - Saturdays 10.00am to 11.30am
DESCRIPTION:This is a free club but donations are wlecomed to cover the cost of the hall\, tea and cakes.
URL:https://swanscombeandgreenhithetowncouncil.gov.uk/event/cake-computer-club-saturdays-10-00am-to-11-30am-2/2028-02-12/
LOCATION:Church Road Hall\, Church Rd\, Swanscombe DA10 0HE\, United Kingdom\, United Kingdom
CATEGORIES:Community Event
ATTACH;FMTTYPE=image/jpeg:https://swanscombeandgreenhithetowncouncil.gov.uk/wp-content/uploads/2022/06/80.2022-Cake-Computer-Club-20-June.jpg
END:VEVENT
BEGIN:VEVENT
DTSTART;TZID=Europe/London:20280214T163000
DTEND;TZID=Europe/London:20280214T173000
DTSTAMP:20260423T032605
CREATED:20240313T014129Z
LAST-MODIFIED:20241219T090502Z
UID:10011477-1834158600-1834162200@swanscombeandgreenhithetowncouncil.gov.uk
SUMMARY:1st Swanscombe Rainbows - Monday 4.30pm to 5.30pm
DESCRIPTION:We meet every Monday during term time for fun\, crafts\, games and badge work.\nWe also now take Rainbows from 4 years old !\nContact Sandra on 07831 898205 for more information
URL:https://swanscombeandgreenhithetowncouncil.gov.uk/event/1st-swanscombe-rainbows-monday-4-30pm-to-5-30pm-3/2028-02-14/
LOCATION:Church Road Hall\, Church Rd\, Swanscombe DA10 0HE\, United Kingdom\, United Kingdom
CATEGORIES:Community Event
ATTACH;FMTTYPE=image/jpeg:https://swanscombeandgreenhithetowncouncil.gov.uk/wp-content/uploads/2021/12/58.2021-1st-Swanscombe-Raonbows-3-Dec-scaled-1.jpg
ORGANIZER;CN="Sandra_Kelleher":MAILTO:swanscomberainbows@hotmail.com
END:VEVENT
BEGIN:VEVENT
DTSTART;TZID=Europe/London:20280214T174500
DTEND;TZID=Europe/London:20280214T191500
DTSTAMP:20260423T032605
CREATED:20240424T184312Z
LAST-MODIFIED:20241219T090646Z
UID:10021399-1834163100-1834168500@swanscombeandgreenhithetowncouncil.gov.uk
SUMMARY:2nd Swanscombe Brownies - Monday 5.45pm to 7.15pm
DESCRIPTION:Want to learn new skills?\nWant to make new friends?\nWant to have fun?\nThen come and join us\nWe meet every Monday during term time form 5.45pm to 7.15pm\ncontact Sandra on 07831 898205 for more details
URL:https://swanscombeandgreenhithetowncouncil.gov.uk/event/1st-swanscombe-rainbows-monday-4-30pm-to-5-30pm-2-2-2/2028-02-14/
LOCATION:Church Road Hall\, Church Rd\, Swanscombe DA10 0HE\, United Kingdom\, United Kingdom
CATEGORIES:Community Event
ATTACH;FMTTYPE=image/jpeg:https://swanscombeandgreenhithetowncouncil.gov.uk/wp-content/uploads/2021/12/59.2021-2nd-Swanscombe-Brownies-3-Dec-scaled-1.jpg
ORGANIZER;CN="Sandra_Kelleher":MAILTO:swanscomberainbows@hotmail.com
END:VEVENT
BEGIN:VEVENT
DTSTART;TZID=Europe/London:20280219T100000
DTEND;TZID=Europe/London:20280219T113000
DTSTAMP:20260423T032605
CREATED:20240313T165627Z
LAST-MODIFIED:20240313T165627Z
UID:10013969-1834567200-1834572600@swanscombeandgreenhithetowncouncil.gov.uk
SUMMARY:Cake & Computer Club - Saturdays 10.00am to 11.30am
DESCRIPTION:This is a free club but donations are wlecomed to cover the cost of the hall\, tea and cakes.
URL:https://swanscombeandgreenhithetowncouncil.gov.uk/event/cake-computer-club-saturdays-10-00am-to-11-30am-2/2028-02-19/
LOCATION:Church Road Hall\, Church Rd\, Swanscombe DA10 0HE\, United Kingdom\, United Kingdom
CATEGORIES:Community Event
ATTACH;FMTTYPE=image/jpeg:https://swanscombeandgreenhithetowncouncil.gov.uk/wp-content/uploads/2022/06/80.2022-Cake-Computer-Club-20-June.jpg
END:VEVENT
BEGIN:VEVENT
DTSTART;TZID=Europe/London:20280221T163000
DTEND;TZID=Europe/London:20280221T173000
DTSTAMP:20260423T032605
CREATED:20240313T014129Z
LAST-MODIFIED:20241219T090502Z
UID:10011478-1834763400-1834767000@swanscombeandgreenhithetowncouncil.gov.uk
SUMMARY:1st Swanscombe Rainbows - Monday 4.30pm to 5.30pm
DESCRIPTION:We meet every Monday during term time for fun\, crafts\, games and badge work.\nWe also now take Rainbows from 4 years old !\nContact Sandra on 07831 898205 for more information
URL:https://swanscombeandgreenhithetowncouncil.gov.uk/event/1st-swanscombe-rainbows-monday-4-30pm-to-5-30pm-3/2028-02-21/
LOCATION:Church Road Hall\, Church Rd\, Swanscombe DA10 0HE\, United Kingdom\, United Kingdom
CATEGORIES:Community Event
ATTACH;FMTTYPE=image/jpeg:https://swanscombeandgreenhithetowncouncil.gov.uk/wp-content/uploads/2021/12/58.2021-1st-Swanscombe-Raonbows-3-Dec-scaled-1.jpg
ORGANIZER;CN="Sandra_Kelleher":MAILTO:swanscomberainbows@hotmail.com
END:VEVENT
BEGIN:VEVENT
DTSTART;TZID=Europe/London:20280221T174500
DTEND;TZID=Europe/London:20280221T191500
DTSTAMP:20260423T032605
CREATED:20240424T184312Z
LAST-MODIFIED:20241219T090646Z
UID:10021400-1834767900-1834773300@swanscombeandgreenhithetowncouncil.gov.uk
SUMMARY:2nd Swanscombe Brownies - Monday 5.45pm to 7.15pm
DESCRIPTION:Want to learn new skills?\nWant to make new friends?\nWant to have fun?\nThen come and join us\nWe meet every Monday during term time form 5.45pm to 7.15pm\ncontact Sandra on 07831 898205 for more details
URL:https://swanscombeandgreenhithetowncouncil.gov.uk/event/1st-swanscombe-rainbows-monday-4-30pm-to-5-30pm-2-2-2/2028-02-21/
LOCATION:Church Road Hall\, Church Rd\, Swanscombe DA10 0HE\, United Kingdom\, United Kingdom
CATEGORIES:Community Event
ATTACH;FMTTYPE=image/jpeg:https://swanscombeandgreenhithetowncouncil.gov.uk/wp-content/uploads/2021/12/59.2021-2nd-Swanscombe-Brownies-3-Dec-scaled-1.jpg
ORGANIZER;CN="Sandra_Kelleher":MAILTO:swanscomberainbows@hotmail.com
END:VEVENT
BEGIN:VEVENT
DTSTART;TZID=Europe/London:20280226T100000
DTEND;TZID=Europe/London:20280226T113000
DTSTAMP:20260423T032605
CREATED:20240313T165627Z
LAST-MODIFIED:20240313T165627Z
UID:10013970-1835172000-1835177400@swanscombeandgreenhithetowncouncil.gov.uk
SUMMARY:Cake & Computer Club - Saturdays 10.00am to 11.30am
DESCRIPTION:This is a free club but donations are wlecomed to cover the cost of the hall\, tea and cakes.
URL:https://swanscombeandgreenhithetowncouncil.gov.uk/event/cake-computer-club-saturdays-10-00am-to-11-30am-2/2028-02-26/
LOCATION:Church Road Hall\, Church Rd\, Swanscombe DA10 0HE\, United Kingdom\, United Kingdom
CATEGORIES:Community Event
ATTACH;FMTTYPE=image/jpeg:https://swanscombeandgreenhithetowncouncil.gov.uk/wp-content/uploads/2022/06/80.2022-Cake-Computer-Club-20-June.jpg
END:VEVENT
BEGIN:VEVENT
DTSTART;TZID=Europe/London:20280228T163000
DTEND;TZID=Europe/London:20280228T173000
DTSTAMP:20260423T032605
CREATED:20240313T014129Z
LAST-MODIFIED:20241219T090502Z
UID:10011479-1835368200-1835371800@swanscombeandgreenhithetowncouncil.gov.uk
SUMMARY:1st Swanscombe Rainbows - Monday 4.30pm to 5.30pm
DESCRIPTION:We meet every Monday during term time for fun\, crafts\, games and badge work.\nWe also now take Rainbows from 4 years old !\nContact Sandra on 07831 898205 for more information
URL:https://swanscombeandgreenhithetowncouncil.gov.uk/event/1st-swanscombe-rainbows-monday-4-30pm-to-5-30pm-3/2028-02-28/
LOCATION:Church Road Hall\, Church Rd\, Swanscombe DA10 0HE\, United Kingdom\, United Kingdom
CATEGORIES:Community Event
ATTACH;FMTTYPE=image/jpeg:https://swanscombeandgreenhithetowncouncil.gov.uk/wp-content/uploads/2021/12/58.2021-1st-Swanscombe-Raonbows-3-Dec-scaled-1.jpg
ORGANIZER;CN="Sandra_Kelleher":MAILTO:swanscomberainbows@hotmail.com
END:VEVENT
BEGIN:VEVENT
DTSTART;TZID=Europe/London:20280228T174500
DTEND;TZID=Europe/London:20280228T191500
DTSTAMP:20260423T032605
CREATED:20240424T184312Z
LAST-MODIFIED:20241219T090646Z
UID:10021401-1835372700-1835378100@swanscombeandgreenhithetowncouncil.gov.uk
SUMMARY:2nd Swanscombe Brownies - Monday 5.45pm to 7.15pm
DESCRIPTION:Want to learn new skills?\nWant to make new friends?\nWant to have fun?\nThen come and join us\nWe meet every Monday during term time form 5.45pm to 7.15pm\ncontact Sandra on 07831 898205 for more details
URL:https://swanscombeandgreenhithetowncouncil.gov.uk/event/1st-swanscombe-rainbows-monday-4-30pm-to-5-30pm-2-2-2/2028-02-28/
LOCATION:Church Road Hall\, Church Rd\, Swanscombe DA10 0HE\, United Kingdom\, United Kingdom
CATEGORIES:Community Event
ATTACH;FMTTYPE=image/jpeg:https://swanscombeandgreenhithetowncouncil.gov.uk/wp-content/uploads/2021/12/59.2021-2nd-Swanscombe-Brownies-3-Dec-scaled-1.jpg
ORGANIZER;CN="Sandra_Kelleher":MAILTO:swanscomberainbows@hotmail.com
END:VEVENT
BEGIN:VEVENT
DTSTART;TZID=Europe/London:20280304T100000
DTEND;TZID=Europe/London:20280304T113000
DTSTAMP:20260423T032605
CREATED:20240313T165627Z
LAST-MODIFIED:20240313T165627Z
UID:10013971-1835776800-1835782200@swanscombeandgreenhithetowncouncil.gov.uk
SUMMARY:Cake & Computer Club - Saturdays 10.00am to 11.30am
DESCRIPTION:This is a free club but donations are wlecomed to cover the cost of the hall\, tea and cakes.
URL:https://swanscombeandgreenhithetowncouncil.gov.uk/event/cake-computer-club-saturdays-10-00am-to-11-30am-2/2028-03-04/
LOCATION:Church Road Hall\, Church Rd\, Swanscombe DA10 0HE\, United Kingdom\, United Kingdom
CATEGORIES:Community Event
ATTACH;FMTTYPE=image/jpeg:https://swanscombeandgreenhithetowncouncil.gov.uk/wp-content/uploads/2022/06/80.2022-Cake-Computer-Club-20-June.jpg
END:VEVENT
BEGIN:VEVENT
DTSTART;TZID=Europe/London:20280306T163000
DTEND;TZID=Europe/London:20280306T173000
DTSTAMP:20260423T032605
CREATED:20240313T014129Z
LAST-MODIFIED:20241219T090502Z
UID:10011480-1835973000-1835976600@swanscombeandgreenhithetowncouncil.gov.uk
SUMMARY:1st Swanscombe Rainbows - Monday 4.30pm to 5.30pm
DESCRIPTION:We meet every Monday during term time for fun\, crafts\, games and badge work.\nWe also now take Rainbows from 4 years old !\nContact Sandra on 07831 898205 for more information
URL:https://swanscombeandgreenhithetowncouncil.gov.uk/event/1st-swanscombe-rainbows-monday-4-30pm-to-5-30pm-3/2028-03-06/
LOCATION:Church Road Hall\, Church Rd\, Swanscombe DA10 0HE\, United Kingdom\, United Kingdom
CATEGORIES:Community Event
ATTACH;FMTTYPE=image/jpeg:https://swanscombeandgreenhithetowncouncil.gov.uk/wp-content/uploads/2021/12/58.2021-1st-Swanscombe-Raonbows-3-Dec-scaled-1.jpg
ORGANIZER;CN="Sandra_Kelleher":MAILTO:swanscomberainbows@hotmail.com
END:VEVENT
BEGIN:VEVENT
DTSTART;TZID=Europe/London:20280306T174500
DTEND;TZID=Europe/London:20280306T191500
DTSTAMP:20260423T032605
CREATED:20240424T184312Z
LAST-MODIFIED:20241219T090646Z
UID:10021402-1835977500-1835982900@swanscombeandgreenhithetowncouncil.gov.uk
SUMMARY:2nd Swanscombe Brownies - Monday 5.45pm to 7.15pm
DESCRIPTION:Want to learn new skills?\nWant to make new friends?\nWant to have fun?\nThen come and join us\nWe meet every Monday during term time form 5.45pm to 7.15pm\ncontact Sandra on 07831 898205 for more details
URL:https://swanscombeandgreenhithetowncouncil.gov.uk/event/1st-swanscombe-rainbows-monday-4-30pm-to-5-30pm-2-2-2/2028-03-06/
LOCATION:Church Road Hall\, Church Rd\, Swanscombe DA10 0HE\, United Kingdom\, United Kingdom
CATEGORIES:Community Event
ATTACH;FMTTYPE=image/jpeg:https://swanscombeandgreenhithetowncouncil.gov.uk/wp-content/uploads/2021/12/59.2021-2nd-Swanscombe-Brownies-3-Dec-scaled-1.jpg
ORGANIZER;CN="Sandra_Kelleher":MAILTO:swanscomberainbows@hotmail.com
END:VEVENT
BEGIN:VEVENT
DTSTART;TZID=Europe/London:20280311T100000
DTEND;TZID=Europe/London:20280311T113000
DTSTAMP:20260423T032605
CREATED:20240313T165627Z
LAST-MODIFIED:20240313T165627Z
UID:10013972-1836381600-1836387000@swanscombeandgreenhithetowncouncil.gov.uk
SUMMARY:Cake & Computer Club - Saturdays 10.00am to 11.30am
DESCRIPTION:This is a free club but donations are wlecomed to cover the cost of the hall\, tea and cakes.
URL:https://swanscombeandgreenhithetowncouncil.gov.uk/event/cake-computer-club-saturdays-10-00am-to-11-30am-2/2028-03-11/
LOCATION:Church Road Hall\, Church Rd\, Swanscombe DA10 0HE\, United Kingdom\, United Kingdom
CATEGORIES:Community Event
ATTACH;FMTTYPE=image/jpeg:https://swanscombeandgreenhithetowncouncil.gov.uk/wp-content/uploads/2022/06/80.2022-Cake-Computer-Club-20-June.jpg
END:VEVENT
BEGIN:VEVENT
DTSTART;TZID=Europe/London:20280313T163000
DTEND;TZID=Europe/London:20280313T173000
DTSTAMP:20260423T032605
CREATED:20240313T014129Z
LAST-MODIFIED:20241219T090502Z
UID:10011481-1836577800-1836581400@swanscombeandgreenhithetowncouncil.gov.uk
SUMMARY:1st Swanscombe Rainbows - Monday 4.30pm to 5.30pm
DESCRIPTION:We meet every Monday during term time for fun\, crafts\, games and badge work.\nWe also now take Rainbows from 4 years old !\nContact Sandra on 07831 898205 for more information
URL:https://swanscombeandgreenhithetowncouncil.gov.uk/event/1st-swanscombe-rainbows-monday-4-30pm-to-5-30pm-3/2028-03-13/
LOCATION:Church Road Hall\, Church Rd\, Swanscombe DA10 0HE\, United Kingdom\, United Kingdom
CATEGORIES:Community Event
ATTACH;FMTTYPE=image/jpeg:https://swanscombeandgreenhithetowncouncil.gov.uk/wp-content/uploads/2021/12/58.2021-1st-Swanscombe-Raonbows-3-Dec-scaled-1.jpg
ORGANIZER;CN="Sandra_Kelleher":MAILTO:swanscomberainbows@hotmail.com
END:VEVENT
BEGIN:VEVENT
DTSTART;TZID=Europe/London:20280313T174500
DTEND;TZID=Europe/London:20280313T191500
DTSTAMP:20260423T032605
CREATED:20240424T184312Z
LAST-MODIFIED:20241219T090646Z
UID:10021403-1836582300-1836587700@swanscombeandgreenhithetowncouncil.gov.uk
SUMMARY:2nd Swanscombe Brownies - Monday 5.45pm to 7.15pm
DESCRIPTION:Want to learn new skills?\nWant to make new friends?\nWant to have fun?\nThen come and join us\nWe meet every Monday during term time form 5.45pm to 7.15pm\ncontact Sandra on 07831 898205 for more details
URL:https://swanscombeandgreenhithetowncouncil.gov.uk/event/1st-swanscombe-rainbows-monday-4-30pm-to-5-30pm-2-2-2/2028-03-13/
LOCATION:Church Road Hall\, Church Rd\, Swanscombe DA10 0HE\, United Kingdom\, United Kingdom
CATEGORIES:Community Event
ATTACH;FMTTYPE=image/jpeg:https://swanscombeandgreenhithetowncouncil.gov.uk/wp-content/uploads/2021/12/59.2021-2nd-Swanscombe-Brownies-3-Dec-scaled-1.jpg
ORGANIZER;CN="Sandra_Kelleher":MAILTO:swanscomberainbows@hotmail.com
END:VEVENT
BEGIN:VEVENT
DTSTART;TZID=Europe/London:20280318T100000
DTEND;TZID=Europe/London:20280318T113000
DTSTAMP:20260423T032605
CREATED:20240313T165627Z
LAST-MODIFIED:20240313T165627Z
UID:10013973-1836986400-1836991800@swanscombeandgreenhithetowncouncil.gov.uk
SUMMARY:Cake & Computer Club - Saturdays 10.00am to 11.30am
DESCRIPTION:This is a free club but donations are wlecomed to cover the cost of the hall\, tea and cakes.
URL:https://swanscombeandgreenhithetowncouncil.gov.uk/event/cake-computer-club-saturdays-10-00am-to-11-30am-2/2028-03-18/
LOCATION:Church Road Hall\, Church Rd\, Swanscombe DA10 0HE\, United Kingdom\, United Kingdom
CATEGORIES:Community Event
ATTACH;FMTTYPE=image/jpeg:https://swanscombeandgreenhithetowncouncil.gov.uk/wp-content/uploads/2022/06/80.2022-Cake-Computer-Club-20-June.jpg
END:VEVENT
BEGIN:VEVENT
DTSTART;TZID=Europe/London:20280320T163000
DTEND;TZID=Europe/London:20280320T173000
DTSTAMP:20260423T032605
CREATED:20240313T014129Z
LAST-MODIFIED:20241219T090502Z
UID:10011482-1837182600-1837186200@swanscombeandgreenhithetowncouncil.gov.uk
SUMMARY:1st Swanscombe Rainbows - Monday 4.30pm to 5.30pm
DESCRIPTION:We meet every Monday during term time for fun\, crafts\, games and badge work.\nWe also now take Rainbows from 4 years old !\nContact Sandra on 07831 898205 for more information
URL:https://swanscombeandgreenhithetowncouncil.gov.uk/event/1st-swanscombe-rainbows-monday-4-30pm-to-5-30pm-3/2028-03-20/
LOCATION:Church Road Hall\, Church Rd\, Swanscombe DA10 0HE\, United Kingdom\, United Kingdom
CATEGORIES:Community Event
ATTACH;FMTTYPE=image/jpeg:https://swanscombeandgreenhithetowncouncil.gov.uk/wp-content/uploads/2021/12/58.2021-1st-Swanscombe-Raonbows-3-Dec-scaled-1.jpg
ORGANIZER;CN="Sandra_Kelleher":MAILTO:swanscomberainbows@hotmail.com
END:VEVENT
BEGIN:VEVENT
DTSTART;TZID=Europe/London:20280320T174500
DTEND;TZID=Europe/London:20280320T191500
DTSTAMP:20260423T032605
CREATED:20240424T184312Z
LAST-MODIFIED:20241219T090646Z
UID:10021404-1837187100-1837192500@swanscombeandgreenhithetowncouncil.gov.uk
SUMMARY:2nd Swanscombe Brownies - Monday 5.45pm to 7.15pm
DESCRIPTION:Want to learn new skills?\nWant to make new friends?\nWant to have fun?\nThen come and join us\nWe meet every Monday during term time form 5.45pm to 7.15pm\ncontact Sandra on 07831 898205 for more details
URL:https://swanscombeandgreenhithetowncouncil.gov.uk/event/1st-swanscombe-rainbows-monday-4-30pm-to-5-30pm-2-2-2/2028-03-20/
LOCATION:Church Road Hall\, Church Rd\, Swanscombe DA10 0HE\, United Kingdom\, United Kingdom
CATEGORIES:Community Event
ATTACH;FMTTYPE=image/jpeg:https://swanscombeandgreenhithetowncouncil.gov.uk/wp-content/uploads/2021/12/59.2021-2nd-Swanscombe-Brownies-3-Dec-scaled-1.jpg
ORGANIZER;CN="Sandra_Kelleher":MAILTO:swanscomberainbows@hotmail.com
END:VEVENT
BEGIN:VEVENT
DTSTART;TZID=Europe/London:20280325T100000
DTEND;TZID=Europe/London:20280325T113000
DTSTAMP:20260423T032605
CREATED:20240313T165627Z
LAST-MODIFIED:20240313T165627Z
UID:10013974-1837591200-1837596600@swanscombeandgreenhithetowncouncil.gov.uk
SUMMARY:Cake & Computer Club - Saturdays 10.00am to 11.30am
DESCRIPTION:This is a free club but donations are wlecomed to cover the cost of the hall\, tea and cakes.
URL:https://swanscombeandgreenhithetowncouncil.gov.uk/event/cake-computer-club-saturdays-10-00am-to-11-30am-2/2028-03-25/
LOCATION:Church Road Hall\, Church Rd\, Swanscombe DA10 0HE\, United Kingdom\, United Kingdom
CATEGORIES:Community Event
ATTACH;FMTTYPE=image/jpeg:https://swanscombeandgreenhithetowncouncil.gov.uk/wp-content/uploads/2022/06/80.2022-Cake-Computer-Club-20-June.jpg
END:VEVENT
BEGIN:VEVENT
DTSTART;TZID=Europe/London:20280327T163000
DTEND;TZID=Europe/London:20280327T173000
DTSTAMP:20260423T032605
CREATED:20240313T014129Z
LAST-MODIFIED:20241219T090502Z
UID:10011483-1837787400-1837791000@swanscombeandgreenhithetowncouncil.gov.uk
SUMMARY:1st Swanscombe Rainbows - Monday 4.30pm to 5.30pm
DESCRIPTION:We meet every Monday during term time for fun\, crafts\, games and badge work.\nWe also now take Rainbows from 4 years old !\nContact Sandra on 07831 898205 for more information
URL:https://swanscombeandgreenhithetowncouncil.gov.uk/event/1st-swanscombe-rainbows-monday-4-30pm-to-5-30pm-3/2028-03-27/
LOCATION:Church Road Hall\, Church Rd\, Swanscombe DA10 0HE\, United Kingdom\, United Kingdom
CATEGORIES:Community Event
ATTACH;FMTTYPE=image/jpeg:https://swanscombeandgreenhithetowncouncil.gov.uk/wp-content/uploads/2021/12/58.2021-1st-Swanscombe-Raonbows-3-Dec-scaled-1.jpg
ORGANIZER;CN="Sandra_Kelleher":MAILTO:swanscomberainbows@hotmail.com
END:VEVENT
BEGIN:VEVENT
DTSTART;TZID=Europe/London:20280327T174500
DTEND;TZID=Europe/London:20280327T191500
DTSTAMP:20260423T032605
CREATED:20240424T184312Z
LAST-MODIFIED:20241219T090646Z
UID:10021405-1837791900-1837797300@swanscombeandgreenhithetowncouncil.gov.uk
SUMMARY:2nd Swanscombe Brownies - Monday 5.45pm to 7.15pm
DESCRIPTION:Want to learn new skills?\nWant to make new friends?\nWant to have fun?\nThen come and join us\nWe meet every Monday during term time form 5.45pm to 7.15pm\ncontact Sandra on 07831 898205 for more details
URL:https://swanscombeandgreenhithetowncouncil.gov.uk/event/1st-swanscombe-rainbows-monday-4-30pm-to-5-30pm-2-2-2/2028-03-27/
LOCATION:Church Road Hall\, Church Rd\, Swanscombe DA10 0HE\, United Kingdom\, United Kingdom
CATEGORIES:Community Event
ATTACH;FMTTYPE=image/jpeg:https://swanscombeandgreenhithetowncouncil.gov.uk/wp-content/uploads/2021/12/59.2021-2nd-Swanscombe-Brownies-3-Dec-scaled-1.jpg
ORGANIZER;CN="Sandra_Kelleher":MAILTO:swanscomberainbows@hotmail.com
END:VEVENT
BEGIN:VEVENT
DTSTART;TZID=Europe/London:20280401T100000
DTEND;TZID=Europe/London:20280401T113000
DTSTAMP:20260423T032605
CREATED:20240313T165627Z
LAST-MODIFIED:20240313T165627Z
UID:10013975-1838196000-1838201400@swanscombeandgreenhithetowncouncil.gov.uk
SUMMARY:Cake & Computer Club - Saturdays 10.00am to 11.30am
DESCRIPTION:This is a free club but donations are wlecomed to cover the cost of the hall\, tea and cakes.
URL:https://swanscombeandgreenhithetowncouncil.gov.uk/event/cake-computer-club-saturdays-10-00am-to-11-30am-2/2028-04-01/
LOCATION:Church Road Hall\, Church Rd\, Swanscombe DA10 0HE\, United Kingdom\, United Kingdom
CATEGORIES:Community Event
ATTACH;FMTTYPE=image/jpeg:https://swanscombeandgreenhithetowncouncil.gov.uk/wp-content/uploads/2022/06/80.2022-Cake-Computer-Club-20-June.jpg
END:VEVENT
BEGIN:VEVENT
DTSTART;TZID=Europe/London:20280403T163000
DTEND;TZID=Europe/London:20280403T173000
DTSTAMP:20260423T032605
CREATED:20240313T014129Z
LAST-MODIFIED:20241219T090502Z
UID:10011484-1838392200-1838395800@swanscombeandgreenhithetowncouncil.gov.uk
SUMMARY:1st Swanscombe Rainbows - Monday 4.30pm to 5.30pm
DESCRIPTION:We meet every Monday during term time for fun\, crafts\, games and badge work.\nWe also now take Rainbows from 4 years old !\nContact Sandra on 07831 898205 for more information
URL:https://swanscombeandgreenhithetowncouncil.gov.uk/event/1st-swanscombe-rainbows-monday-4-30pm-to-5-30pm-3/2028-04-03/
LOCATION:Church Road Hall\, Church Rd\, Swanscombe DA10 0HE\, United Kingdom\, United Kingdom
CATEGORIES:Community Event
ATTACH;FMTTYPE=image/jpeg:https://swanscombeandgreenhithetowncouncil.gov.uk/wp-content/uploads/2021/12/58.2021-1st-Swanscombe-Raonbows-3-Dec-scaled-1.jpg
ORGANIZER;CN="Sandra_Kelleher":MAILTO:swanscomberainbows@hotmail.com
END:VEVENT
BEGIN:VEVENT
DTSTART;TZID=Europe/London:20280403T174500
DTEND;TZID=Europe/London:20280403T191500
DTSTAMP:20260423T032605
CREATED:20240424T184312Z
LAST-MODIFIED:20241219T090646Z
UID:10021406-1838396700-1838402100@swanscombeandgreenhithetowncouncil.gov.uk
SUMMARY:2nd Swanscombe Brownies - Monday 5.45pm to 7.15pm
DESCRIPTION:Want to learn new skills?\nWant to make new friends?\nWant to have fun?\nThen come and join us\nWe meet every Monday during term time form 5.45pm to 7.15pm\ncontact Sandra on 07831 898205 for more details
URL:https://swanscombeandgreenhithetowncouncil.gov.uk/event/1st-swanscombe-rainbows-monday-4-30pm-to-5-30pm-2-2-2/2028-04-03/
LOCATION:Church Road Hall\, Church Rd\, Swanscombe DA10 0HE\, United Kingdom\, United Kingdom
CATEGORIES:Community Event
ATTACH;FMTTYPE=image/jpeg:https://swanscombeandgreenhithetowncouncil.gov.uk/wp-content/uploads/2021/12/59.2021-2nd-Swanscombe-Brownies-3-Dec-scaled-1.jpg
ORGANIZER;CN="Sandra_Kelleher":MAILTO:swanscomberainbows@hotmail.com
END:VEVENT
END:VCALENDAR