BEGIN:VCALENDAR
VERSION:2.0
PRODID:-//Swanscombe and Greenhithe Town Council - ECPv6.15.20//NONSGML v1.0//EN
CALSCALE:GREGORIAN
METHOD:PUBLISH
X-ORIGINAL-URL:https://swanscombeandgreenhithetowncouncil.gov.uk
X-WR-CALDESC:Events for Swanscombe and Greenhithe Town Council
REFRESH-INTERVAL;VALUE=DURATION:PT1H
X-Robots-Tag:noindex
X-PUBLISHED-TTL:PT1H
BEGIN:VTIMEZONE
TZID:Europe/London
BEGIN:DAYLIGHT
TZOFFSETFROM:+0000
TZOFFSETTO:+0100
TZNAME:BST
DTSTART:20270328T010000
END:DAYLIGHT
BEGIN:STANDARD
TZOFFSETFROM:+0100
TZOFFSETTO:+0000
TZNAME:GMT
DTSTART:20271031T010000
END:STANDARD
BEGIN:DAYLIGHT
TZOFFSETFROM:+0000
TZOFFSETTO:+0100
TZNAME:BST
DTSTART:20280326T010000
END:DAYLIGHT
BEGIN:STANDARD
TZOFFSETFROM:+0100
TZOFFSETTO:+0000
TZNAME:GMT
DTSTART:20281029T010000
END:STANDARD
BEGIN:DAYLIGHT
TZOFFSETFROM:+0000
TZOFFSETTO:+0100
TZNAME:BST
DTSTART:20290325T010000
END:DAYLIGHT
BEGIN:STANDARD
TZOFFSETFROM:+0100
TZOFFSETTO:+0000
TZNAME:GMT
DTSTART:20291028T010000
END:STANDARD
END:VTIMEZONE
BEGIN:VEVENT
DTSTART;TZID=Europe/London:20280812T100000
DTEND;TZID=Europe/London:20280812T113000
DTSTAMP:20260423T152807
CREATED:20240313T165627Z
LAST-MODIFIED:20240313T165627Z
UID:10013994-1849687200-1849692600@swanscombeandgreenhithetowncouncil.gov.uk
SUMMARY:Cake & Computer Club - Saturdays 10.00am to 11.30am
DESCRIPTION:This is a free club but donations are wlecomed to cover the cost of the hall\, tea and cakes.
URL:https://swanscombeandgreenhithetowncouncil.gov.uk/event/cake-computer-club-saturdays-10-00am-to-11-30am-2/2028-08-12/
LOCATION:Church Road Hall\, Church Rd\, Swanscombe DA10 0HE\, United Kingdom\, United Kingdom
CATEGORIES:Community Event
ATTACH;FMTTYPE=image/jpeg:https://swanscombeandgreenhithetowncouncil.gov.uk/wp-content/uploads/2022/06/80.2022-Cake-Computer-Club-20-June.jpg
END:VEVENT
BEGIN:VEVENT
DTSTART;TZID=Europe/London:20280814T163000
DTEND;TZID=Europe/London:20280814T173000
DTSTAMP:20260423T152807
CREATED:20240313T014129Z
LAST-MODIFIED:20241219T090502Z
UID:10011503-1849883400-1849887000@swanscombeandgreenhithetowncouncil.gov.uk
SUMMARY:1st Swanscombe Rainbows - Monday 4.30pm to 5.30pm
DESCRIPTION:We meet every Monday during term time for fun\, crafts\, games and badge work.\nWe also now take Rainbows from 4 years old !\nContact Sandra on 07831 898205 for more information
URL:https://swanscombeandgreenhithetowncouncil.gov.uk/event/1st-swanscombe-rainbows-monday-4-30pm-to-5-30pm-3/2028-08-14/
LOCATION:Church Road Hall\, Church Rd\, Swanscombe DA10 0HE\, United Kingdom\, United Kingdom
CATEGORIES:Community Event
ATTACH;FMTTYPE=image/jpeg:https://swanscombeandgreenhithetowncouncil.gov.uk/wp-content/uploads/2021/12/58.2021-1st-Swanscombe-Raonbows-3-Dec-scaled-1.jpg
ORGANIZER;CN="Sandra_Kelleher":MAILTO:swanscomberainbows@hotmail.com
END:VEVENT
BEGIN:VEVENT
DTSTART;TZID=Europe/London:20280814T174500
DTEND;TZID=Europe/London:20280814T191500
DTSTAMP:20260423T152807
CREATED:20240424T184312Z
LAST-MODIFIED:20241219T090646Z
UID:10021425-1849887900-1849893300@swanscombeandgreenhithetowncouncil.gov.uk
SUMMARY:2nd Swanscombe Brownies - Monday 5.45pm to 7.15pm
DESCRIPTION:Want to learn new skills?\nWant to make new friends?\nWant to have fun?\nThen come and join us\nWe meet every Monday during term time form 5.45pm to 7.15pm\ncontact Sandra on 07831 898205 for more details
URL:https://swanscombeandgreenhithetowncouncil.gov.uk/event/1st-swanscombe-rainbows-monday-4-30pm-to-5-30pm-2-2-2/2028-08-14/
LOCATION:Church Road Hall\, Church Rd\, Swanscombe DA10 0HE\, United Kingdom\, United Kingdom
CATEGORIES:Community Event
ATTACH;FMTTYPE=image/jpeg:https://swanscombeandgreenhithetowncouncil.gov.uk/wp-content/uploads/2021/12/59.2021-2nd-Swanscombe-Brownies-3-Dec-scaled-1.jpg
ORGANIZER;CN="Sandra_Kelleher":MAILTO:swanscomberainbows@hotmail.com
END:VEVENT
BEGIN:VEVENT
DTSTART;TZID=Europe/London:20280819T100000
DTEND;TZID=Europe/London:20280819T113000
DTSTAMP:20260423T152807
CREATED:20240313T165627Z
LAST-MODIFIED:20240313T165627Z
UID:10013995-1850292000-1850297400@swanscombeandgreenhithetowncouncil.gov.uk
SUMMARY:Cake & Computer Club - Saturdays 10.00am to 11.30am
DESCRIPTION:This is a free club but donations are wlecomed to cover the cost of the hall\, tea and cakes.
URL:https://swanscombeandgreenhithetowncouncil.gov.uk/event/cake-computer-club-saturdays-10-00am-to-11-30am-2/2028-08-19/
LOCATION:Church Road Hall\, Church Rd\, Swanscombe DA10 0HE\, United Kingdom\, United Kingdom
CATEGORIES:Community Event
ATTACH;FMTTYPE=image/jpeg:https://swanscombeandgreenhithetowncouncil.gov.uk/wp-content/uploads/2022/06/80.2022-Cake-Computer-Club-20-June.jpg
END:VEVENT
BEGIN:VEVENT
DTSTART;TZID=Europe/London:20280821T163000
DTEND;TZID=Europe/London:20280821T173000
DTSTAMP:20260423T152807
CREATED:20240313T014129Z
LAST-MODIFIED:20241219T090502Z
UID:10011504-1850488200-1850491800@swanscombeandgreenhithetowncouncil.gov.uk
SUMMARY:1st Swanscombe Rainbows - Monday 4.30pm to 5.30pm
DESCRIPTION:We meet every Monday during term time for fun\, crafts\, games and badge work.\nWe also now take Rainbows from 4 years old !\nContact Sandra on 07831 898205 for more information
URL:https://swanscombeandgreenhithetowncouncil.gov.uk/event/1st-swanscombe-rainbows-monday-4-30pm-to-5-30pm-3/2028-08-21/
LOCATION:Church Road Hall\, Church Rd\, Swanscombe DA10 0HE\, United Kingdom\, United Kingdom
CATEGORIES:Community Event
ATTACH;FMTTYPE=image/jpeg:https://swanscombeandgreenhithetowncouncil.gov.uk/wp-content/uploads/2021/12/58.2021-1st-Swanscombe-Raonbows-3-Dec-scaled-1.jpg
ORGANIZER;CN="Sandra_Kelleher":MAILTO:swanscomberainbows@hotmail.com
END:VEVENT
BEGIN:VEVENT
DTSTART;TZID=Europe/London:20280821T174500
DTEND;TZID=Europe/London:20280821T191500
DTSTAMP:20260423T152807
CREATED:20240424T184312Z
LAST-MODIFIED:20241219T090646Z
UID:10021426-1850492700-1850498100@swanscombeandgreenhithetowncouncil.gov.uk
SUMMARY:2nd Swanscombe Brownies - Monday 5.45pm to 7.15pm
DESCRIPTION:Want to learn new skills?\nWant to make new friends?\nWant to have fun?\nThen come and join us\nWe meet every Monday during term time form 5.45pm to 7.15pm\ncontact Sandra on 07831 898205 for more details
URL:https://swanscombeandgreenhithetowncouncil.gov.uk/event/1st-swanscombe-rainbows-monday-4-30pm-to-5-30pm-2-2-2/2028-08-21/
LOCATION:Church Road Hall\, Church Rd\, Swanscombe DA10 0HE\, United Kingdom\, United Kingdom
CATEGORIES:Community Event
ATTACH;FMTTYPE=image/jpeg:https://swanscombeandgreenhithetowncouncil.gov.uk/wp-content/uploads/2021/12/59.2021-2nd-Swanscombe-Brownies-3-Dec-scaled-1.jpg
ORGANIZER;CN="Sandra_Kelleher":MAILTO:swanscomberainbows@hotmail.com
END:VEVENT
BEGIN:VEVENT
DTSTART;TZID=Europe/London:20280826T100000
DTEND;TZID=Europe/London:20280826T113000
DTSTAMP:20260423T152807
CREATED:20240313T165627Z
LAST-MODIFIED:20240313T165627Z
UID:10013996-1850896800-1850902200@swanscombeandgreenhithetowncouncil.gov.uk
SUMMARY:Cake & Computer Club - Saturdays 10.00am to 11.30am
DESCRIPTION:This is a free club but donations are wlecomed to cover the cost of the hall\, tea and cakes.
URL:https://swanscombeandgreenhithetowncouncil.gov.uk/event/cake-computer-club-saturdays-10-00am-to-11-30am-2/2028-08-26/
LOCATION:Church Road Hall\, Church Rd\, Swanscombe DA10 0HE\, United Kingdom\, United Kingdom
CATEGORIES:Community Event
ATTACH;FMTTYPE=image/jpeg:https://swanscombeandgreenhithetowncouncil.gov.uk/wp-content/uploads/2022/06/80.2022-Cake-Computer-Club-20-June.jpg
END:VEVENT
BEGIN:VEVENT
DTSTART;TZID=Europe/London:20280828T163000
DTEND;TZID=Europe/London:20280828T173000
DTSTAMP:20260423T152807
CREATED:20240313T014129Z
LAST-MODIFIED:20241219T090502Z
UID:10011505-1851093000-1851096600@swanscombeandgreenhithetowncouncil.gov.uk
SUMMARY:1st Swanscombe Rainbows - Monday 4.30pm to 5.30pm
DESCRIPTION:We meet every Monday during term time for fun\, crafts\, games and badge work.\nWe also now take Rainbows from 4 years old !\nContact Sandra on 07831 898205 for more information
URL:https://swanscombeandgreenhithetowncouncil.gov.uk/event/1st-swanscombe-rainbows-monday-4-30pm-to-5-30pm-3/2028-08-28/
LOCATION:Church Road Hall\, Church Rd\, Swanscombe DA10 0HE\, United Kingdom\, United Kingdom
CATEGORIES:Community Event
ATTACH;FMTTYPE=image/jpeg:https://swanscombeandgreenhithetowncouncil.gov.uk/wp-content/uploads/2021/12/58.2021-1st-Swanscombe-Raonbows-3-Dec-scaled-1.jpg
ORGANIZER;CN="Sandra_Kelleher":MAILTO:swanscomberainbows@hotmail.com
END:VEVENT
BEGIN:VEVENT
DTSTART;TZID=Europe/London:20280828T174500
DTEND;TZID=Europe/London:20280828T191500
DTSTAMP:20260423T152807
CREATED:20240424T184312Z
LAST-MODIFIED:20241219T090646Z
UID:10021427-1851097500-1851102900@swanscombeandgreenhithetowncouncil.gov.uk
SUMMARY:2nd Swanscombe Brownies - Monday 5.45pm to 7.15pm
DESCRIPTION:Want to learn new skills?\nWant to make new friends?\nWant to have fun?\nThen come and join us\nWe meet every Monday during term time form 5.45pm to 7.15pm\ncontact Sandra on 07831 898205 for more details
URL:https://swanscombeandgreenhithetowncouncil.gov.uk/event/1st-swanscombe-rainbows-monday-4-30pm-to-5-30pm-2-2-2/2028-08-28/
LOCATION:Church Road Hall\, Church Rd\, Swanscombe DA10 0HE\, United Kingdom\, United Kingdom
CATEGORIES:Community Event
ATTACH;FMTTYPE=image/jpeg:https://swanscombeandgreenhithetowncouncil.gov.uk/wp-content/uploads/2021/12/59.2021-2nd-Swanscombe-Brownies-3-Dec-scaled-1.jpg
ORGANIZER;CN="Sandra_Kelleher":MAILTO:swanscomberainbows@hotmail.com
END:VEVENT
BEGIN:VEVENT
DTSTART;TZID=Europe/London:20280902T100000
DTEND;TZID=Europe/London:20280902T113000
DTSTAMP:20260423T152807
CREATED:20240313T165627Z
LAST-MODIFIED:20240313T165627Z
UID:10013997-1851501600-1851507000@swanscombeandgreenhithetowncouncil.gov.uk
SUMMARY:Cake & Computer Club - Saturdays 10.00am to 11.30am
DESCRIPTION:This is a free club but donations are wlecomed to cover the cost of the hall\, tea and cakes.
URL:https://swanscombeandgreenhithetowncouncil.gov.uk/event/cake-computer-club-saturdays-10-00am-to-11-30am-2/2028-09-02/
LOCATION:Church Road Hall\, Church Rd\, Swanscombe DA10 0HE\, United Kingdom\, United Kingdom
CATEGORIES:Community Event
ATTACH;FMTTYPE=image/jpeg:https://swanscombeandgreenhithetowncouncil.gov.uk/wp-content/uploads/2022/06/80.2022-Cake-Computer-Club-20-June.jpg
END:VEVENT
BEGIN:VEVENT
DTSTART;TZID=Europe/London:20280904T163000
DTEND;TZID=Europe/London:20280904T173000
DTSTAMP:20260423T152807
CREATED:20240313T014129Z
LAST-MODIFIED:20241219T090502Z
UID:10011506-1851697800-1851701400@swanscombeandgreenhithetowncouncil.gov.uk
SUMMARY:1st Swanscombe Rainbows - Monday 4.30pm to 5.30pm
DESCRIPTION:We meet every Monday during term time for fun\, crafts\, games and badge work.\nWe also now take Rainbows from 4 years old !\nContact Sandra on 07831 898205 for more information
URL:https://swanscombeandgreenhithetowncouncil.gov.uk/event/1st-swanscombe-rainbows-monday-4-30pm-to-5-30pm-3/2028-09-04/
LOCATION:Church Road Hall\, Church Rd\, Swanscombe DA10 0HE\, United Kingdom\, United Kingdom
CATEGORIES:Community Event
ATTACH;FMTTYPE=image/jpeg:https://swanscombeandgreenhithetowncouncil.gov.uk/wp-content/uploads/2021/12/58.2021-1st-Swanscombe-Raonbows-3-Dec-scaled-1.jpg
ORGANIZER;CN="Sandra_Kelleher":MAILTO:swanscomberainbows@hotmail.com
END:VEVENT
BEGIN:VEVENT
DTSTART;TZID=Europe/London:20280904T174500
DTEND;TZID=Europe/London:20280904T191500
DTSTAMP:20260423T152807
CREATED:20240424T184312Z
LAST-MODIFIED:20241219T090646Z
UID:10021428-1851702300-1851707700@swanscombeandgreenhithetowncouncil.gov.uk
SUMMARY:2nd Swanscombe Brownies - Monday 5.45pm to 7.15pm
DESCRIPTION:Want to learn new skills?\nWant to make new friends?\nWant to have fun?\nThen come and join us\nWe meet every Monday during term time form 5.45pm to 7.15pm\ncontact Sandra on 07831 898205 for more details
URL:https://swanscombeandgreenhithetowncouncil.gov.uk/event/1st-swanscombe-rainbows-monday-4-30pm-to-5-30pm-2-2-2/2028-09-04/
LOCATION:Church Road Hall\, Church Rd\, Swanscombe DA10 0HE\, United Kingdom\, United Kingdom
CATEGORIES:Community Event
ATTACH;FMTTYPE=image/jpeg:https://swanscombeandgreenhithetowncouncil.gov.uk/wp-content/uploads/2021/12/59.2021-2nd-Swanscombe-Brownies-3-Dec-scaled-1.jpg
ORGANIZER;CN="Sandra_Kelleher":MAILTO:swanscomberainbows@hotmail.com
END:VEVENT
BEGIN:VEVENT
DTSTART;TZID=Europe/London:20280909T100000
DTEND;TZID=Europe/London:20280909T113000
DTSTAMP:20260423T152807
CREATED:20240313T165627Z
LAST-MODIFIED:20240313T165627Z
UID:10013998-1852106400-1852111800@swanscombeandgreenhithetowncouncil.gov.uk
SUMMARY:Cake & Computer Club - Saturdays 10.00am to 11.30am
DESCRIPTION:This is a free club but donations are wlecomed to cover the cost of the hall\, tea and cakes.
URL:https://swanscombeandgreenhithetowncouncil.gov.uk/event/cake-computer-club-saturdays-10-00am-to-11-30am-2/2028-09-09/
LOCATION:Church Road Hall\, Church Rd\, Swanscombe DA10 0HE\, United Kingdom\, United Kingdom
CATEGORIES:Community Event
ATTACH;FMTTYPE=image/jpeg:https://swanscombeandgreenhithetowncouncil.gov.uk/wp-content/uploads/2022/06/80.2022-Cake-Computer-Club-20-June.jpg
END:VEVENT
BEGIN:VEVENT
DTSTART;TZID=Europe/London:20280911T163000
DTEND;TZID=Europe/London:20280911T173000
DTSTAMP:20260423T152807
CREATED:20240313T014129Z
LAST-MODIFIED:20241219T090502Z
UID:10011507-1852302600-1852306200@swanscombeandgreenhithetowncouncil.gov.uk
SUMMARY:1st Swanscombe Rainbows - Monday 4.30pm to 5.30pm
DESCRIPTION:We meet every Monday during term time for fun\, crafts\, games and badge work.\nWe also now take Rainbows from 4 years old !\nContact Sandra on 07831 898205 for more information
URL:https://swanscombeandgreenhithetowncouncil.gov.uk/event/1st-swanscombe-rainbows-monday-4-30pm-to-5-30pm-3/2028-09-11/
LOCATION:Church Road Hall\, Church Rd\, Swanscombe DA10 0HE\, United Kingdom\, United Kingdom
CATEGORIES:Community Event
ATTACH;FMTTYPE=image/jpeg:https://swanscombeandgreenhithetowncouncil.gov.uk/wp-content/uploads/2021/12/58.2021-1st-Swanscombe-Raonbows-3-Dec-scaled-1.jpg
ORGANIZER;CN="Sandra_Kelleher":MAILTO:swanscomberainbows@hotmail.com
END:VEVENT
BEGIN:VEVENT
DTSTART;TZID=Europe/London:20280911T174500
DTEND;TZID=Europe/London:20280911T191500
DTSTAMP:20260423T152807
CREATED:20240424T184312Z
LAST-MODIFIED:20241219T090646Z
UID:10021429-1852307100-1852312500@swanscombeandgreenhithetowncouncil.gov.uk
SUMMARY:2nd Swanscombe Brownies - Monday 5.45pm to 7.15pm
DESCRIPTION:Want to learn new skills?\nWant to make new friends?\nWant to have fun?\nThen come and join us\nWe meet every Monday during term time form 5.45pm to 7.15pm\ncontact Sandra on 07831 898205 for more details
URL:https://swanscombeandgreenhithetowncouncil.gov.uk/event/1st-swanscombe-rainbows-monday-4-30pm-to-5-30pm-2-2-2/2028-09-11/
LOCATION:Church Road Hall\, Church Rd\, Swanscombe DA10 0HE\, United Kingdom\, United Kingdom
CATEGORIES:Community Event
ATTACH;FMTTYPE=image/jpeg:https://swanscombeandgreenhithetowncouncil.gov.uk/wp-content/uploads/2021/12/59.2021-2nd-Swanscombe-Brownies-3-Dec-scaled-1.jpg
ORGANIZER;CN="Sandra_Kelleher":MAILTO:swanscomberainbows@hotmail.com
END:VEVENT
BEGIN:VEVENT
DTSTART;TZID=Europe/London:20280916T100000
DTEND;TZID=Europe/London:20280916T113000
DTSTAMP:20260423T152807
CREATED:20240313T165627Z
LAST-MODIFIED:20240313T165627Z
UID:10013999-1852711200-1852716600@swanscombeandgreenhithetowncouncil.gov.uk
SUMMARY:Cake & Computer Club - Saturdays 10.00am to 11.30am
DESCRIPTION:This is a free club but donations are wlecomed to cover the cost of the hall\, tea and cakes.
URL:https://swanscombeandgreenhithetowncouncil.gov.uk/event/cake-computer-club-saturdays-10-00am-to-11-30am-2/2028-09-16/
LOCATION:Church Road Hall\, Church Rd\, Swanscombe DA10 0HE\, United Kingdom\, United Kingdom
CATEGORIES:Community Event
ATTACH;FMTTYPE=image/jpeg:https://swanscombeandgreenhithetowncouncil.gov.uk/wp-content/uploads/2022/06/80.2022-Cake-Computer-Club-20-June.jpg
END:VEVENT
BEGIN:VEVENT
DTSTART;TZID=Europe/London:20280918T163000
DTEND;TZID=Europe/London:20280918T173000
DTSTAMP:20260423T152807
CREATED:20240313T014129Z
LAST-MODIFIED:20241219T090502Z
UID:10011508-1852907400-1852911000@swanscombeandgreenhithetowncouncil.gov.uk
SUMMARY:1st Swanscombe Rainbows - Monday 4.30pm to 5.30pm
DESCRIPTION:We meet every Monday during term time for fun\, crafts\, games and badge work.\nWe also now take Rainbows from 4 years old !\nContact Sandra on 07831 898205 for more information
URL:https://swanscombeandgreenhithetowncouncil.gov.uk/event/1st-swanscombe-rainbows-monday-4-30pm-to-5-30pm-3/2028-09-18/
LOCATION:Church Road Hall\, Church Rd\, Swanscombe DA10 0HE\, United Kingdom\, United Kingdom
CATEGORIES:Community Event
ATTACH;FMTTYPE=image/jpeg:https://swanscombeandgreenhithetowncouncil.gov.uk/wp-content/uploads/2021/12/58.2021-1st-Swanscombe-Raonbows-3-Dec-scaled-1.jpg
ORGANIZER;CN="Sandra_Kelleher":MAILTO:swanscomberainbows@hotmail.com
END:VEVENT
BEGIN:VEVENT
DTSTART;TZID=Europe/London:20280918T174500
DTEND;TZID=Europe/London:20280918T191500
DTSTAMP:20260423T152807
CREATED:20240424T184312Z
LAST-MODIFIED:20241219T090646Z
UID:10021430-1852911900-1852917300@swanscombeandgreenhithetowncouncil.gov.uk
SUMMARY:2nd Swanscombe Brownies - Monday 5.45pm to 7.15pm
DESCRIPTION:Want to learn new skills?\nWant to make new friends?\nWant to have fun?\nThen come and join us\nWe meet every Monday during term time form 5.45pm to 7.15pm\ncontact Sandra on 07831 898205 for more details
URL:https://swanscombeandgreenhithetowncouncil.gov.uk/event/1st-swanscombe-rainbows-monday-4-30pm-to-5-30pm-2-2-2/2028-09-18/
LOCATION:Church Road Hall\, Church Rd\, Swanscombe DA10 0HE\, United Kingdom\, United Kingdom
CATEGORIES:Community Event
ATTACH;FMTTYPE=image/jpeg:https://swanscombeandgreenhithetowncouncil.gov.uk/wp-content/uploads/2021/12/59.2021-2nd-Swanscombe-Brownies-3-Dec-scaled-1.jpg
ORGANIZER;CN="Sandra_Kelleher":MAILTO:swanscomberainbows@hotmail.com
END:VEVENT
BEGIN:VEVENT
DTSTART;TZID=Europe/London:20280923T100000
DTEND;TZID=Europe/London:20280923T113000
DTSTAMP:20260423T152807
CREATED:20240313T165627Z
LAST-MODIFIED:20240313T165627Z
UID:10014000-1853316000-1853321400@swanscombeandgreenhithetowncouncil.gov.uk
SUMMARY:Cake & Computer Club - Saturdays 10.00am to 11.30am
DESCRIPTION:This is a free club but donations are wlecomed to cover the cost of the hall\, tea and cakes.
URL:https://swanscombeandgreenhithetowncouncil.gov.uk/event/cake-computer-club-saturdays-10-00am-to-11-30am-2/2028-09-23/
LOCATION:Church Road Hall\, Church Rd\, Swanscombe DA10 0HE\, United Kingdom\, United Kingdom
CATEGORIES:Community Event
ATTACH;FMTTYPE=image/jpeg:https://swanscombeandgreenhithetowncouncil.gov.uk/wp-content/uploads/2022/06/80.2022-Cake-Computer-Club-20-June.jpg
END:VEVENT
BEGIN:VEVENT
DTSTART;TZID=Europe/London:20280925T163000
DTEND;TZID=Europe/London:20280925T173000
DTSTAMP:20260423T152807
CREATED:20240313T014129Z
LAST-MODIFIED:20241219T090502Z
UID:10011509-1853512200-1853515800@swanscombeandgreenhithetowncouncil.gov.uk
SUMMARY:1st Swanscombe Rainbows - Monday 4.30pm to 5.30pm
DESCRIPTION:We meet every Monday during term time for fun\, crafts\, games and badge work.\nWe also now take Rainbows from 4 years old !\nContact Sandra on 07831 898205 for more information
URL:https://swanscombeandgreenhithetowncouncil.gov.uk/event/1st-swanscombe-rainbows-monday-4-30pm-to-5-30pm-3/2028-09-25/
LOCATION:Church Road Hall\, Church Rd\, Swanscombe DA10 0HE\, United Kingdom\, United Kingdom
CATEGORIES:Community Event
ATTACH;FMTTYPE=image/jpeg:https://swanscombeandgreenhithetowncouncil.gov.uk/wp-content/uploads/2021/12/58.2021-1st-Swanscombe-Raonbows-3-Dec-scaled-1.jpg
ORGANIZER;CN="Sandra_Kelleher":MAILTO:swanscomberainbows@hotmail.com
END:VEVENT
BEGIN:VEVENT
DTSTART;TZID=Europe/London:20280925T174500
DTEND;TZID=Europe/London:20280925T191500
DTSTAMP:20260423T152807
CREATED:20240424T184312Z
LAST-MODIFIED:20241219T090646Z
UID:10021431-1853516700-1853522100@swanscombeandgreenhithetowncouncil.gov.uk
SUMMARY:2nd Swanscombe Brownies - Monday 5.45pm to 7.15pm
DESCRIPTION:Want to learn new skills?\nWant to make new friends?\nWant to have fun?\nThen come and join us\nWe meet every Monday during term time form 5.45pm to 7.15pm\ncontact Sandra on 07831 898205 for more details
URL:https://swanscombeandgreenhithetowncouncil.gov.uk/event/1st-swanscombe-rainbows-monday-4-30pm-to-5-30pm-2-2-2/2028-09-25/
LOCATION:Church Road Hall\, Church Rd\, Swanscombe DA10 0HE\, United Kingdom\, United Kingdom
CATEGORIES:Community Event
ATTACH;FMTTYPE=image/jpeg:https://swanscombeandgreenhithetowncouncil.gov.uk/wp-content/uploads/2021/12/59.2021-2nd-Swanscombe-Brownies-3-Dec-scaled-1.jpg
ORGANIZER;CN="Sandra_Kelleher":MAILTO:swanscomberainbows@hotmail.com
END:VEVENT
BEGIN:VEVENT
DTSTART;TZID=Europe/London:20280930T100000
DTEND;TZID=Europe/London:20280930T113000
DTSTAMP:20260423T152807
CREATED:20240313T165627Z
LAST-MODIFIED:20240313T165627Z
UID:10014001-1853920800-1853926200@swanscombeandgreenhithetowncouncil.gov.uk
SUMMARY:Cake & Computer Club - Saturdays 10.00am to 11.30am
DESCRIPTION:This is a free club but donations are wlecomed to cover the cost of the hall\, tea and cakes.
URL:https://swanscombeandgreenhithetowncouncil.gov.uk/event/cake-computer-club-saturdays-10-00am-to-11-30am-2/2028-09-30/
LOCATION:Church Road Hall\, Church Rd\, Swanscombe DA10 0HE\, United Kingdom\, United Kingdom
CATEGORIES:Community Event
ATTACH;FMTTYPE=image/jpeg:https://swanscombeandgreenhithetowncouncil.gov.uk/wp-content/uploads/2022/06/80.2022-Cake-Computer-Club-20-June.jpg
END:VEVENT
BEGIN:VEVENT
DTSTART;TZID=Europe/London:20281002T163000
DTEND;TZID=Europe/London:20281002T173000
DTSTAMP:20260423T152807
CREATED:20240313T014129Z
LAST-MODIFIED:20241219T090502Z
UID:10011510-1854117000-1854120600@swanscombeandgreenhithetowncouncil.gov.uk
SUMMARY:1st Swanscombe Rainbows - Monday 4.30pm to 5.30pm
DESCRIPTION:We meet every Monday during term time for fun\, crafts\, games and badge work.\nWe also now take Rainbows from 4 years old !\nContact Sandra on 07831 898205 for more information
URL:https://swanscombeandgreenhithetowncouncil.gov.uk/event/1st-swanscombe-rainbows-monday-4-30pm-to-5-30pm-3/2028-10-02/
LOCATION:Church Road Hall\, Church Rd\, Swanscombe DA10 0HE\, United Kingdom\, United Kingdom
CATEGORIES:Community Event
ATTACH;FMTTYPE=image/jpeg:https://swanscombeandgreenhithetowncouncil.gov.uk/wp-content/uploads/2021/12/58.2021-1st-Swanscombe-Raonbows-3-Dec-scaled-1.jpg
ORGANIZER;CN="Sandra_Kelleher":MAILTO:swanscomberainbows@hotmail.com
END:VEVENT
BEGIN:VEVENT
DTSTART;TZID=Europe/London:20281002T174500
DTEND;TZID=Europe/London:20281002T191500
DTSTAMP:20260423T152807
CREATED:20240424T184312Z
LAST-MODIFIED:20241219T090646Z
UID:10021432-1854121500-1854126900@swanscombeandgreenhithetowncouncil.gov.uk
SUMMARY:2nd Swanscombe Brownies - Monday 5.45pm to 7.15pm
DESCRIPTION:Want to learn new skills?\nWant to make new friends?\nWant to have fun?\nThen come and join us\nWe meet every Monday during term time form 5.45pm to 7.15pm\ncontact Sandra on 07831 898205 for more details
URL:https://swanscombeandgreenhithetowncouncil.gov.uk/event/1st-swanscombe-rainbows-monday-4-30pm-to-5-30pm-2-2-2/2028-10-02/
LOCATION:Church Road Hall\, Church Rd\, Swanscombe DA10 0HE\, United Kingdom\, United Kingdom
CATEGORIES:Community Event
ATTACH;FMTTYPE=image/jpeg:https://swanscombeandgreenhithetowncouncil.gov.uk/wp-content/uploads/2021/12/59.2021-2nd-Swanscombe-Brownies-3-Dec-scaled-1.jpg
ORGANIZER;CN="Sandra_Kelleher":MAILTO:swanscomberainbows@hotmail.com
END:VEVENT
BEGIN:VEVENT
DTSTART;TZID=Europe/London:20281007T100000
DTEND;TZID=Europe/London:20281007T113000
DTSTAMP:20260423T152807
CREATED:20240313T165627Z
LAST-MODIFIED:20240313T165627Z
UID:10014002-1854525600-1854531000@swanscombeandgreenhithetowncouncil.gov.uk
SUMMARY:Cake & Computer Club - Saturdays 10.00am to 11.30am
DESCRIPTION:This is a free club but donations are wlecomed to cover the cost of the hall\, tea and cakes.
URL:https://swanscombeandgreenhithetowncouncil.gov.uk/event/cake-computer-club-saturdays-10-00am-to-11-30am-2/2028-10-07/
LOCATION:Church Road Hall\, Church Rd\, Swanscombe DA10 0HE\, United Kingdom\, United Kingdom
CATEGORIES:Community Event
ATTACH;FMTTYPE=image/jpeg:https://swanscombeandgreenhithetowncouncil.gov.uk/wp-content/uploads/2022/06/80.2022-Cake-Computer-Club-20-June.jpg
END:VEVENT
BEGIN:VEVENT
DTSTART;TZID=Europe/London:20281009T163000
DTEND;TZID=Europe/London:20281009T173000
DTSTAMP:20260423T152807
CREATED:20240313T014129Z
LAST-MODIFIED:20241219T090502Z
UID:10011511-1854721800-1854725400@swanscombeandgreenhithetowncouncil.gov.uk
SUMMARY:1st Swanscombe Rainbows - Monday 4.30pm to 5.30pm
DESCRIPTION:We meet every Monday during term time for fun\, crafts\, games and badge work.\nWe also now take Rainbows from 4 years old !\nContact Sandra on 07831 898205 for more information
URL:https://swanscombeandgreenhithetowncouncil.gov.uk/event/1st-swanscombe-rainbows-monday-4-30pm-to-5-30pm-3/2028-10-09/
LOCATION:Church Road Hall\, Church Rd\, Swanscombe DA10 0HE\, United Kingdom\, United Kingdom
CATEGORIES:Community Event
ATTACH;FMTTYPE=image/jpeg:https://swanscombeandgreenhithetowncouncil.gov.uk/wp-content/uploads/2021/12/58.2021-1st-Swanscombe-Raonbows-3-Dec-scaled-1.jpg
ORGANIZER;CN="Sandra_Kelleher":MAILTO:swanscomberainbows@hotmail.com
END:VEVENT
BEGIN:VEVENT
DTSTART;TZID=Europe/London:20281009T174500
DTEND;TZID=Europe/London:20281009T191500
DTSTAMP:20260423T152807
CREATED:20240424T184312Z
LAST-MODIFIED:20241219T090646Z
UID:10021433-1854726300-1854731700@swanscombeandgreenhithetowncouncil.gov.uk
SUMMARY:2nd Swanscombe Brownies - Monday 5.45pm to 7.15pm
DESCRIPTION:Want to learn new skills?\nWant to make new friends?\nWant to have fun?\nThen come and join us\nWe meet every Monday during term time form 5.45pm to 7.15pm\ncontact Sandra on 07831 898205 for more details
URL:https://swanscombeandgreenhithetowncouncil.gov.uk/event/1st-swanscombe-rainbows-monday-4-30pm-to-5-30pm-2-2-2/2028-10-09/
LOCATION:Church Road Hall\, Church Rd\, Swanscombe DA10 0HE\, United Kingdom\, United Kingdom
CATEGORIES:Community Event
ATTACH;FMTTYPE=image/jpeg:https://swanscombeandgreenhithetowncouncil.gov.uk/wp-content/uploads/2021/12/59.2021-2nd-Swanscombe-Brownies-3-Dec-scaled-1.jpg
ORGANIZER;CN="Sandra_Kelleher":MAILTO:swanscomberainbows@hotmail.com
END:VEVENT
BEGIN:VEVENT
DTSTART;TZID=Europe/London:20281014T100000
DTEND;TZID=Europe/London:20281014T113000
DTSTAMP:20260423T152807
CREATED:20240313T165627Z
LAST-MODIFIED:20240313T165627Z
UID:10014003-1855130400-1855135800@swanscombeandgreenhithetowncouncil.gov.uk
SUMMARY:Cake & Computer Club - Saturdays 10.00am to 11.30am
DESCRIPTION:This is a free club but donations are wlecomed to cover the cost of the hall\, tea and cakes.
URL:https://swanscombeandgreenhithetowncouncil.gov.uk/event/cake-computer-club-saturdays-10-00am-to-11-30am-2/2028-10-14/
LOCATION:Church Road Hall\, Church Rd\, Swanscombe DA10 0HE\, United Kingdom\, United Kingdom
CATEGORIES:Community Event
ATTACH;FMTTYPE=image/jpeg:https://swanscombeandgreenhithetowncouncil.gov.uk/wp-content/uploads/2022/06/80.2022-Cake-Computer-Club-20-June.jpg
END:VEVENT
BEGIN:VEVENT
DTSTART;TZID=Europe/London:20281016T163000
DTEND;TZID=Europe/London:20281016T173000
DTSTAMP:20260423T152807
CREATED:20240313T014129Z
LAST-MODIFIED:20241219T090502Z
UID:10011512-1855326600-1855330200@swanscombeandgreenhithetowncouncil.gov.uk
SUMMARY:1st Swanscombe Rainbows - Monday 4.30pm to 5.30pm
DESCRIPTION:We meet every Monday during term time for fun\, crafts\, games and badge work.\nWe also now take Rainbows from 4 years old !\nContact Sandra on 07831 898205 for more information
URL:https://swanscombeandgreenhithetowncouncil.gov.uk/event/1st-swanscombe-rainbows-monday-4-30pm-to-5-30pm-3/2028-10-16/
LOCATION:Church Road Hall\, Church Rd\, Swanscombe DA10 0HE\, United Kingdom\, United Kingdom
CATEGORIES:Community Event
ATTACH;FMTTYPE=image/jpeg:https://swanscombeandgreenhithetowncouncil.gov.uk/wp-content/uploads/2021/12/58.2021-1st-Swanscombe-Raonbows-3-Dec-scaled-1.jpg
ORGANIZER;CN="Sandra_Kelleher":MAILTO:swanscomberainbows@hotmail.com
END:VEVENT
BEGIN:VEVENT
DTSTART;TZID=Europe/London:20281016T174500
DTEND;TZID=Europe/London:20281016T191500
DTSTAMP:20260423T152807
CREATED:20240424T184312Z
LAST-MODIFIED:20241219T090646Z
UID:10021434-1855331100-1855336500@swanscombeandgreenhithetowncouncil.gov.uk
SUMMARY:2nd Swanscombe Brownies - Monday 5.45pm to 7.15pm
DESCRIPTION:Want to learn new skills?\nWant to make new friends?\nWant to have fun?\nThen come and join us\nWe meet every Monday during term time form 5.45pm to 7.15pm\ncontact Sandra on 07831 898205 for more details
URL:https://swanscombeandgreenhithetowncouncil.gov.uk/event/1st-swanscombe-rainbows-monday-4-30pm-to-5-30pm-2-2-2/2028-10-16/
LOCATION:Church Road Hall\, Church Rd\, Swanscombe DA10 0HE\, United Kingdom\, United Kingdom
CATEGORIES:Community Event
ATTACH;FMTTYPE=image/jpeg:https://swanscombeandgreenhithetowncouncil.gov.uk/wp-content/uploads/2021/12/59.2021-2nd-Swanscombe-Brownies-3-Dec-scaled-1.jpg
ORGANIZER;CN="Sandra_Kelleher":MAILTO:swanscomberainbows@hotmail.com
END:VEVENT
END:VCALENDAR