BEGIN:VCALENDAR
VERSION:2.0
PRODID:-//Swanscombe and Greenhithe Town Council - ECPv6.15.20//NONSGML v1.0//EN
CALSCALE:GREGORIAN
METHOD:PUBLISH
X-WR-CALNAME:Swanscombe and Greenhithe Town Council
X-ORIGINAL-URL:https://swanscombeandgreenhithetowncouncil.gov.uk
X-WR-CALDESC:Events for Swanscombe and Greenhithe Town Council
REFRESH-INTERVAL;VALUE=DURATION:PT1H
X-Robots-Tag:noindex
X-PUBLISHED-TTL:PT1H
BEGIN:VTIMEZONE
TZID:Europe/London
BEGIN:DAYLIGHT
TZOFFSETFROM:+0000
TZOFFSETTO:+0100
TZNAME:BST
DTSTART:20250330T010000
END:DAYLIGHT
BEGIN:STANDARD
TZOFFSETFROM:+0100
TZOFFSETTO:+0000
TZNAME:GMT
DTSTART:20251026T010000
END:STANDARD
BEGIN:DAYLIGHT
TZOFFSETFROM:+0000
TZOFFSETTO:+0100
TZNAME:BST
DTSTART:20260329T010000
END:DAYLIGHT
BEGIN:STANDARD
TZOFFSETFROM:+0100
TZOFFSETTO:+0000
TZNAME:GMT
DTSTART:20261025T010000
END:STANDARD
BEGIN:DAYLIGHT
TZOFFSETFROM:+0000
TZOFFSETTO:+0100
TZNAME:BST
DTSTART:20270328T010000
END:DAYLIGHT
BEGIN:STANDARD
TZOFFSETFROM:+0100
TZOFFSETTO:+0000
TZNAME:GMT
DTSTART:20271031T010000
END:STANDARD
END:VTIMEZONE
BEGIN:VEVENT
DTSTART;TZID=Europe/London:20260815T100000
DTEND;TZID=Europe/London:20260815T113000
DTSTAMP:20260421T194245
CREATED:20240313T165627Z
LAST-MODIFIED:20240313T165627Z
UID:10013890-1786788000-1786793400@swanscombeandgreenhithetowncouncil.gov.uk
SUMMARY:Cake & Computer Club - Saturdays 10.00am to 11.30am
DESCRIPTION:This is a free club but donations are wlecomed to cover the cost of the hall\, tea and cakes.
URL:https://swanscombeandgreenhithetowncouncil.gov.uk/event/cake-computer-club-saturdays-10-00am-to-11-30am-2/2026-08-15/
LOCATION:Church Road Hall\, Church Rd\, Swanscombe DA10 0HE\, United Kingdom\, United Kingdom
CATEGORIES:Community Event
ATTACH;FMTTYPE=image/jpeg:https://swanscombeandgreenhithetowncouncil.gov.uk/wp-content/uploads/2022/06/80.2022-Cake-Computer-Club-20-June.jpg
END:VEVENT
BEGIN:VEVENT
DTSTART;TZID=Europe/London:20260817T163000
DTEND;TZID=Europe/London:20260817T173000
DTSTAMP:20260421T194245
CREATED:20240313T014129Z
LAST-MODIFIED:20241219T090502Z
UID:10011399-1786984200-1786987800@swanscombeandgreenhithetowncouncil.gov.uk
SUMMARY:1st Swanscombe Rainbows - Monday 4.30pm to 5.30pm
DESCRIPTION:We meet every Monday during term time for fun\, crafts\, games and badge work.\nWe also now take Rainbows from 4 years old !\nContact Sandra on 07831 898205 for more information
URL:https://swanscombeandgreenhithetowncouncil.gov.uk/event/1st-swanscombe-rainbows-monday-4-30pm-to-5-30pm-3/2026-08-17/
LOCATION:Church Road Hall\, Church Rd\, Swanscombe DA10 0HE\, United Kingdom\, United Kingdom
CATEGORIES:Community Event
ATTACH;FMTTYPE=image/jpeg:https://swanscombeandgreenhithetowncouncil.gov.uk/wp-content/uploads/2021/12/58.2021-1st-Swanscombe-Raonbows-3-Dec-scaled-1.jpg
ORGANIZER;CN="Sandra_Kelleher":MAILTO:swanscomberainbows@hotmail.com
END:VEVENT
BEGIN:VEVENT
DTSTART;TZID=Europe/London:20260817T174500
DTEND;TZID=Europe/London:20260817T191500
DTSTAMP:20260421T194245
CREATED:20240424T184312Z
LAST-MODIFIED:20241219T090646Z
UID:10021321-1786988700-1786994100@swanscombeandgreenhithetowncouncil.gov.uk
SUMMARY:2nd Swanscombe Brownies - Monday 5.45pm to 7.15pm
DESCRIPTION:Want to learn new skills?\nWant to make new friends?\nWant to have fun?\nThen come and join us\nWe meet every Monday during term time form 5.45pm to 7.15pm\ncontact Sandra on 07831 898205 for more details
URL:https://swanscombeandgreenhithetowncouncil.gov.uk/event/1st-swanscombe-rainbows-monday-4-30pm-to-5-30pm-2-2-2/2026-08-17/
LOCATION:Church Road Hall\, Church Rd\, Swanscombe DA10 0HE\, United Kingdom\, United Kingdom
CATEGORIES:Community Event
ATTACH;FMTTYPE=image/jpeg:https://swanscombeandgreenhithetowncouncil.gov.uk/wp-content/uploads/2021/12/59.2021-2nd-Swanscombe-Brownies-3-Dec-scaled-1.jpg
ORGANIZER;CN="Sandra_Kelleher":MAILTO:swanscomberainbows@hotmail.com
END:VEVENT
BEGIN:VEVENT
DTSTART;TZID=Europe/London:20260822T100000
DTEND;TZID=Europe/London:20260822T113000
DTSTAMP:20260421T194245
CREATED:20240313T165627Z
LAST-MODIFIED:20240313T165627Z
UID:10013891-1787392800-1787398200@swanscombeandgreenhithetowncouncil.gov.uk
SUMMARY:Cake & Computer Club - Saturdays 10.00am to 11.30am
DESCRIPTION:This is a free club but donations are wlecomed to cover the cost of the hall\, tea and cakes.
URL:https://swanscombeandgreenhithetowncouncil.gov.uk/event/cake-computer-club-saturdays-10-00am-to-11-30am-2/2026-08-22/
LOCATION:Church Road Hall\, Church Rd\, Swanscombe DA10 0HE\, United Kingdom\, United Kingdom
CATEGORIES:Community Event
ATTACH;FMTTYPE=image/jpeg:https://swanscombeandgreenhithetowncouncil.gov.uk/wp-content/uploads/2022/06/80.2022-Cake-Computer-Club-20-June.jpg
END:VEVENT
BEGIN:VEVENT
DTSTART;TZID=Europe/London:20260824T163000
DTEND;TZID=Europe/London:20260824T173000
DTSTAMP:20260421T194245
CREATED:20240313T014129Z
LAST-MODIFIED:20241219T090502Z
UID:10011400-1787589000-1787592600@swanscombeandgreenhithetowncouncil.gov.uk
SUMMARY:1st Swanscombe Rainbows - Monday 4.30pm to 5.30pm
DESCRIPTION:We meet every Monday during term time for fun\, crafts\, games and badge work.\nWe also now take Rainbows from 4 years old !\nContact Sandra on 07831 898205 for more information
URL:https://swanscombeandgreenhithetowncouncil.gov.uk/event/1st-swanscombe-rainbows-monday-4-30pm-to-5-30pm-3/2026-08-24/
LOCATION:Church Road Hall\, Church Rd\, Swanscombe DA10 0HE\, United Kingdom\, United Kingdom
CATEGORIES:Community Event
ATTACH;FMTTYPE=image/jpeg:https://swanscombeandgreenhithetowncouncil.gov.uk/wp-content/uploads/2021/12/58.2021-1st-Swanscombe-Raonbows-3-Dec-scaled-1.jpg
ORGANIZER;CN="Sandra_Kelleher":MAILTO:swanscomberainbows@hotmail.com
END:VEVENT
BEGIN:VEVENT
DTSTART;TZID=Europe/London:20260824T174500
DTEND;TZID=Europe/London:20260824T191500
DTSTAMP:20260421T194245
CREATED:20240424T184312Z
LAST-MODIFIED:20241219T090646Z
UID:10021322-1787593500-1787598900@swanscombeandgreenhithetowncouncil.gov.uk
SUMMARY:2nd Swanscombe Brownies - Monday 5.45pm to 7.15pm
DESCRIPTION:Want to learn new skills?\nWant to make new friends?\nWant to have fun?\nThen come and join us\nWe meet every Monday during term time form 5.45pm to 7.15pm\ncontact Sandra on 07831 898205 for more details
URL:https://swanscombeandgreenhithetowncouncil.gov.uk/event/1st-swanscombe-rainbows-monday-4-30pm-to-5-30pm-2-2-2/2026-08-24/
LOCATION:Church Road Hall\, Church Rd\, Swanscombe DA10 0HE\, United Kingdom\, United Kingdom
CATEGORIES:Community Event
ATTACH;FMTTYPE=image/jpeg:https://swanscombeandgreenhithetowncouncil.gov.uk/wp-content/uploads/2021/12/59.2021-2nd-Swanscombe-Brownies-3-Dec-scaled-1.jpg
ORGANIZER;CN="Sandra_Kelleher":MAILTO:swanscomberainbows@hotmail.com
END:VEVENT
BEGIN:VEVENT
DTSTART;TZID=Europe/London:20260829T100000
DTEND;TZID=Europe/London:20260829T113000
DTSTAMP:20260421T194245
CREATED:20240313T165627Z
LAST-MODIFIED:20240313T165627Z
UID:10013892-1787997600-1788003000@swanscombeandgreenhithetowncouncil.gov.uk
SUMMARY:Cake & Computer Club - Saturdays 10.00am to 11.30am
DESCRIPTION:This is a free club but donations are wlecomed to cover the cost of the hall\, tea and cakes.
URL:https://swanscombeandgreenhithetowncouncil.gov.uk/event/cake-computer-club-saturdays-10-00am-to-11-30am-2/2026-08-29/
LOCATION:Church Road Hall\, Church Rd\, Swanscombe DA10 0HE\, United Kingdom\, United Kingdom
CATEGORIES:Community Event
ATTACH;FMTTYPE=image/jpeg:https://swanscombeandgreenhithetowncouncil.gov.uk/wp-content/uploads/2022/06/80.2022-Cake-Computer-Club-20-June.jpg
END:VEVENT
BEGIN:VEVENT
DTSTART;TZID=Europe/London:20260831T163000
DTEND;TZID=Europe/London:20260831T173000
DTSTAMP:20260421T194245
CREATED:20240313T014129Z
LAST-MODIFIED:20241219T090502Z
UID:10011401-1788193800-1788197400@swanscombeandgreenhithetowncouncil.gov.uk
SUMMARY:1st Swanscombe Rainbows - Monday 4.30pm to 5.30pm
DESCRIPTION:We meet every Monday during term time for fun\, crafts\, games and badge work.\nWe also now take Rainbows from 4 years old !\nContact Sandra on 07831 898205 for more information
URL:https://swanscombeandgreenhithetowncouncil.gov.uk/event/1st-swanscombe-rainbows-monday-4-30pm-to-5-30pm-3/2026-08-31/
LOCATION:Church Road Hall\, Church Rd\, Swanscombe DA10 0HE\, United Kingdom\, United Kingdom
CATEGORIES:Community Event
ATTACH;FMTTYPE=image/jpeg:https://swanscombeandgreenhithetowncouncil.gov.uk/wp-content/uploads/2021/12/58.2021-1st-Swanscombe-Raonbows-3-Dec-scaled-1.jpg
ORGANIZER;CN="Sandra_Kelleher":MAILTO:swanscomberainbows@hotmail.com
END:VEVENT
BEGIN:VEVENT
DTSTART;TZID=Europe/London:20260831T174500
DTEND;TZID=Europe/London:20260831T191500
DTSTAMP:20260421T194245
CREATED:20240424T184312Z
LAST-MODIFIED:20241219T090646Z
UID:10021323-1788198300-1788203700@swanscombeandgreenhithetowncouncil.gov.uk
SUMMARY:2nd Swanscombe Brownies - Monday 5.45pm to 7.15pm
DESCRIPTION:Want to learn new skills?\nWant to make new friends?\nWant to have fun?\nThen come and join us\nWe meet every Monday during term time form 5.45pm to 7.15pm\ncontact Sandra on 07831 898205 for more details
URL:https://swanscombeandgreenhithetowncouncil.gov.uk/event/1st-swanscombe-rainbows-monday-4-30pm-to-5-30pm-2-2-2/2026-08-31/
LOCATION:Church Road Hall\, Church Rd\, Swanscombe DA10 0HE\, United Kingdom\, United Kingdom
CATEGORIES:Community Event
ATTACH;FMTTYPE=image/jpeg:https://swanscombeandgreenhithetowncouncil.gov.uk/wp-content/uploads/2021/12/59.2021-2nd-Swanscombe-Brownies-3-Dec-scaled-1.jpg
ORGANIZER;CN="Sandra_Kelleher":MAILTO:swanscomberainbows@hotmail.com
END:VEVENT
BEGIN:VEVENT
DTSTART;TZID=Europe/London:20260905T100000
DTEND;TZID=Europe/London:20260905T113000
DTSTAMP:20260421T194245
CREATED:20240313T165627Z
LAST-MODIFIED:20240313T165627Z
UID:10013893-1788602400-1788607800@swanscombeandgreenhithetowncouncil.gov.uk
SUMMARY:Cake & Computer Club - Saturdays 10.00am to 11.30am
DESCRIPTION:This is a free club but donations are wlecomed to cover the cost of the hall\, tea and cakes.
URL:https://swanscombeandgreenhithetowncouncil.gov.uk/event/cake-computer-club-saturdays-10-00am-to-11-30am-2/2026-09-05/
LOCATION:Church Road Hall\, Church Rd\, Swanscombe DA10 0HE\, United Kingdom\, United Kingdom
CATEGORIES:Community Event
ATTACH;FMTTYPE=image/jpeg:https://swanscombeandgreenhithetowncouncil.gov.uk/wp-content/uploads/2022/06/80.2022-Cake-Computer-Club-20-June.jpg
END:VEVENT
BEGIN:VEVENT
DTSTART;TZID=Europe/London:20260907T163000
DTEND;TZID=Europe/London:20260907T173000
DTSTAMP:20260421T194245
CREATED:20240313T014129Z
LAST-MODIFIED:20241219T090502Z
UID:10011402-1788798600-1788802200@swanscombeandgreenhithetowncouncil.gov.uk
SUMMARY:1st Swanscombe Rainbows - Monday 4.30pm to 5.30pm
DESCRIPTION:We meet every Monday during term time for fun\, crafts\, games and badge work.\nWe also now take Rainbows from 4 years old !\nContact Sandra on 07831 898205 for more information
URL:https://swanscombeandgreenhithetowncouncil.gov.uk/event/1st-swanscombe-rainbows-monday-4-30pm-to-5-30pm-3/2026-09-07/
LOCATION:Church Road Hall\, Church Rd\, Swanscombe DA10 0HE\, United Kingdom\, United Kingdom
CATEGORIES:Community Event
ATTACH;FMTTYPE=image/jpeg:https://swanscombeandgreenhithetowncouncil.gov.uk/wp-content/uploads/2021/12/58.2021-1st-Swanscombe-Raonbows-3-Dec-scaled-1.jpg
ORGANIZER;CN="Sandra_Kelleher":MAILTO:swanscomberainbows@hotmail.com
END:VEVENT
BEGIN:VEVENT
DTSTART;TZID=Europe/London:20260907T174500
DTEND;TZID=Europe/London:20260907T191500
DTSTAMP:20260421T194245
CREATED:20240424T184312Z
LAST-MODIFIED:20241219T090646Z
UID:10021324-1788803100-1788808500@swanscombeandgreenhithetowncouncil.gov.uk
SUMMARY:2nd Swanscombe Brownies - Monday 5.45pm to 7.15pm
DESCRIPTION:Want to learn new skills?\nWant to make new friends?\nWant to have fun?\nThen come and join us\nWe meet every Monday during term time form 5.45pm to 7.15pm\ncontact Sandra on 07831 898205 for more details
URL:https://swanscombeandgreenhithetowncouncil.gov.uk/event/1st-swanscombe-rainbows-monday-4-30pm-to-5-30pm-2-2-2/2026-09-07/
LOCATION:Church Road Hall\, Church Rd\, Swanscombe DA10 0HE\, United Kingdom\, United Kingdom
CATEGORIES:Community Event
ATTACH;FMTTYPE=image/jpeg:https://swanscombeandgreenhithetowncouncil.gov.uk/wp-content/uploads/2021/12/59.2021-2nd-Swanscombe-Brownies-3-Dec-scaled-1.jpg
ORGANIZER;CN="Sandra_Kelleher":MAILTO:swanscomberainbows@hotmail.com
END:VEVENT
BEGIN:VEVENT
DTSTART;TZID=Europe/London:20260912T100000
DTEND;TZID=Europe/London:20260912T113000
DTSTAMP:20260421T194245
CREATED:20240313T165627Z
LAST-MODIFIED:20240313T165627Z
UID:10013894-1789207200-1789212600@swanscombeandgreenhithetowncouncil.gov.uk
SUMMARY:Cake & Computer Club - Saturdays 10.00am to 11.30am
DESCRIPTION:This is a free club but donations are wlecomed to cover the cost of the hall\, tea and cakes.
URL:https://swanscombeandgreenhithetowncouncil.gov.uk/event/cake-computer-club-saturdays-10-00am-to-11-30am-2/2026-09-12/
LOCATION:Church Road Hall\, Church Rd\, Swanscombe DA10 0HE\, United Kingdom\, United Kingdom
CATEGORIES:Community Event
ATTACH;FMTTYPE=image/jpeg:https://swanscombeandgreenhithetowncouncil.gov.uk/wp-content/uploads/2022/06/80.2022-Cake-Computer-Club-20-June.jpg
END:VEVENT
BEGIN:VEVENT
DTSTART;TZID=Europe/London:20260914T163000
DTEND;TZID=Europe/London:20260914T173000
DTSTAMP:20260421T194245
CREATED:20240313T014129Z
LAST-MODIFIED:20241219T090502Z
UID:10011403-1789403400-1789407000@swanscombeandgreenhithetowncouncil.gov.uk
SUMMARY:1st Swanscombe Rainbows - Monday 4.30pm to 5.30pm
DESCRIPTION:We meet every Monday during term time for fun\, crafts\, games and badge work.\nWe also now take Rainbows from 4 years old !\nContact Sandra on 07831 898205 for more information
URL:https://swanscombeandgreenhithetowncouncil.gov.uk/event/1st-swanscombe-rainbows-monday-4-30pm-to-5-30pm-3/2026-09-14/
LOCATION:Church Road Hall\, Church Rd\, Swanscombe DA10 0HE\, United Kingdom\, United Kingdom
CATEGORIES:Community Event
ATTACH;FMTTYPE=image/jpeg:https://swanscombeandgreenhithetowncouncil.gov.uk/wp-content/uploads/2021/12/58.2021-1st-Swanscombe-Raonbows-3-Dec-scaled-1.jpg
ORGANIZER;CN="Sandra_Kelleher":MAILTO:swanscomberainbows@hotmail.com
END:VEVENT
BEGIN:VEVENT
DTSTART;TZID=Europe/London:20260914T174500
DTEND;TZID=Europe/London:20260914T191500
DTSTAMP:20260421T194246
CREATED:20240424T184312Z
LAST-MODIFIED:20241219T090646Z
UID:10021325-1789407900-1789413300@swanscombeandgreenhithetowncouncil.gov.uk
SUMMARY:2nd Swanscombe Brownies - Monday 5.45pm to 7.15pm
DESCRIPTION:Want to learn new skills?\nWant to make new friends?\nWant to have fun?\nThen come and join us\nWe meet every Monday during term time form 5.45pm to 7.15pm\ncontact Sandra on 07831 898205 for more details
URL:https://swanscombeandgreenhithetowncouncil.gov.uk/event/1st-swanscombe-rainbows-monday-4-30pm-to-5-30pm-2-2-2/2026-09-14/
LOCATION:Church Road Hall\, Church Rd\, Swanscombe DA10 0HE\, United Kingdom\, United Kingdom
CATEGORIES:Community Event
ATTACH;FMTTYPE=image/jpeg:https://swanscombeandgreenhithetowncouncil.gov.uk/wp-content/uploads/2021/12/59.2021-2nd-Swanscombe-Brownies-3-Dec-scaled-1.jpg
ORGANIZER;CN="Sandra_Kelleher":MAILTO:swanscomberainbows@hotmail.com
END:VEVENT
BEGIN:VEVENT
DTSTART;TZID=Europe/London:20260919T100000
DTEND;TZID=Europe/London:20260919T113000
DTSTAMP:20260421T194246
CREATED:20240313T165627Z
LAST-MODIFIED:20240313T165627Z
UID:10013895-1789812000-1789817400@swanscombeandgreenhithetowncouncil.gov.uk
SUMMARY:Cake & Computer Club - Saturdays 10.00am to 11.30am
DESCRIPTION:This is a free club but donations are wlecomed to cover the cost of the hall\, tea and cakes.
URL:https://swanscombeandgreenhithetowncouncil.gov.uk/event/cake-computer-club-saturdays-10-00am-to-11-30am-2/2026-09-19/
LOCATION:Church Road Hall\, Church Rd\, Swanscombe DA10 0HE\, United Kingdom\, United Kingdom
CATEGORIES:Community Event
ATTACH;FMTTYPE=image/jpeg:https://swanscombeandgreenhithetowncouncil.gov.uk/wp-content/uploads/2022/06/80.2022-Cake-Computer-Club-20-June.jpg
END:VEVENT
BEGIN:VEVENT
DTSTART;TZID=Europe/London:20260921T163000
DTEND;TZID=Europe/London:20260921T173000
DTSTAMP:20260421T194246
CREATED:20240313T014129Z
LAST-MODIFIED:20241219T090502Z
UID:10011404-1790008200-1790011800@swanscombeandgreenhithetowncouncil.gov.uk
SUMMARY:1st Swanscombe Rainbows - Monday 4.30pm to 5.30pm
DESCRIPTION:We meet every Monday during term time for fun\, crafts\, games and badge work.\nWe also now take Rainbows from 4 years old !\nContact Sandra on 07831 898205 for more information
URL:https://swanscombeandgreenhithetowncouncil.gov.uk/event/1st-swanscombe-rainbows-monday-4-30pm-to-5-30pm-3/2026-09-21/
LOCATION:Church Road Hall\, Church Rd\, Swanscombe DA10 0HE\, United Kingdom\, United Kingdom
CATEGORIES:Community Event
ATTACH;FMTTYPE=image/jpeg:https://swanscombeandgreenhithetowncouncil.gov.uk/wp-content/uploads/2021/12/58.2021-1st-Swanscombe-Raonbows-3-Dec-scaled-1.jpg
ORGANIZER;CN="Sandra_Kelleher":MAILTO:swanscomberainbows@hotmail.com
END:VEVENT
BEGIN:VEVENT
DTSTART;TZID=Europe/London:20260921T174500
DTEND;TZID=Europe/London:20260921T191500
DTSTAMP:20260421T194246
CREATED:20240424T184312Z
LAST-MODIFIED:20241219T090646Z
UID:10021326-1790012700-1790018100@swanscombeandgreenhithetowncouncil.gov.uk
SUMMARY:2nd Swanscombe Brownies - Monday 5.45pm to 7.15pm
DESCRIPTION:Want to learn new skills?\nWant to make new friends?\nWant to have fun?\nThen come and join us\nWe meet every Monday during term time form 5.45pm to 7.15pm\ncontact Sandra on 07831 898205 for more details
URL:https://swanscombeandgreenhithetowncouncil.gov.uk/event/1st-swanscombe-rainbows-monday-4-30pm-to-5-30pm-2-2-2/2026-09-21/
LOCATION:Church Road Hall\, Church Rd\, Swanscombe DA10 0HE\, United Kingdom\, United Kingdom
CATEGORIES:Community Event
ATTACH;FMTTYPE=image/jpeg:https://swanscombeandgreenhithetowncouncil.gov.uk/wp-content/uploads/2021/12/59.2021-2nd-Swanscombe-Brownies-3-Dec-scaled-1.jpg
ORGANIZER;CN="Sandra_Kelleher":MAILTO:swanscomberainbows@hotmail.com
END:VEVENT
BEGIN:VEVENT
DTSTART;TZID=Europe/London:20260926T100000
DTEND;TZID=Europe/London:20260926T113000
DTSTAMP:20260421T194246
CREATED:20240313T165627Z
LAST-MODIFIED:20240313T165627Z
UID:10013896-1790416800-1790422200@swanscombeandgreenhithetowncouncil.gov.uk
SUMMARY:Cake & Computer Club - Saturdays 10.00am to 11.30am
DESCRIPTION:This is a free club but donations are wlecomed to cover the cost of the hall\, tea and cakes.
URL:https://swanscombeandgreenhithetowncouncil.gov.uk/event/cake-computer-club-saturdays-10-00am-to-11-30am-2/2026-09-26/
LOCATION:Church Road Hall\, Church Rd\, Swanscombe DA10 0HE\, United Kingdom\, United Kingdom
CATEGORIES:Community Event
ATTACH;FMTTYPE=image/jpeg:https://swanscombeandgreenhithetowncouncil.gov.uk/wp-content/uploads/2022/06/80.2022-Cake-Computer-Club-20-June.jpg
END:VEVENT
BEGIN:VEVENT
DTSTART;TZID=Europe/London:20260928T163000
DTEND;TZID=Europe/London:20260928T173000
DTSTAMP:20260421T194246
CREATED:20240313T014129Z
LAST-MODIFIED:20241219T090502Z
UID:10011405-1790613000-1790616600@swanscombeandgreenhithetowncouncil.gov.uk
SUMMARY:1st Swanscombe Rainbows - Monday 4.30pm to 5.30pm
DESCRIPTION:We meet every Monday during term time for fun\, crafts\, games and badge work.\nWe also now take Rainbows from 4 years old !\nContact Sandra on 07831 898205 for more information
URL:https://swanscombeandgreenhithetowncouncil.gov.uk/event/1st-swanscombe-rainbows-monday-4-30pm-to-5-30pm-3/2026-09-28/
LOCATION:Church Road Hall\, Church Rd\, Swanscombe DA10 0HE\, United Kingdom\, United Kingdom
CATEGORIES:Community Event
ATTACH;FMTTYPE=image/jpeg:https://swanscombeandgreenhithetowncouncil.gov.uk/wp-content/uploads/2021/12/58.2021-1st-Swanscombe-Raonbows-3-Dec-scaled-1.jpg
ORGANIZER;CN="Sandra_Kelleher":MAILTO:swanscomberainbows@hotmail.com
END:VEVENT
BEGIN:VEVENT
DTSTART;TZID=Europe/London:20260928T174500
DTEND;TZID=Europe/London:20260928T191500
DTSTAMP:20260421T194246
CREATED:20240424T184312Z
LAST-MODIFIED:20241219T090646Z
UID:10021327-1790617500-1790622900@swanscombeandgreenhithetowncouncil.gov.uk
SUMMARY:2nd Swanscombe Brownies - Monday 5.45pm to 7.15pm
DESCRIPTION:Want to learn new skills?\nWant to make new friends?\nWant to have fun?\nThen come and join us\nWe meet every Monday during term time form 5.45pm to 7.15pm\ncontact Sandra on 07831 898205 for more details
URL:https://swanscombeandgreenhithetowncouncil.gov.uk/event/1st-swanscombe-rainbows-monday-4-30pm-to-5-30pm-2-2-2/2026-09-28/
LOCATION:Church Road Hall\, Church Rd\, Swanscombe DA10 0HE\, United Kingdom\, United Kingdom
CATEGORIES:Community Event
ATTACH;FMTTYPE=image/jpeg:https://swanscombeandgreenhithetowncouncil.gov.uk/wp-content/uploads/2021/12/59.2021-2nd-Swanscombe-Brownies-3-Dec-scaled-1.jpg
ORGANIZER;CN="Sandra_Kelleher":MAILTO:swanscomberainbows@hotmail.com
END:VEVENT
BEGIN:VEVENT
DTSTART;TZID=Europe/London:20261003T100000
DTEND;TZID=Europe/London:20261003T113000
DTSTAMP:20260421T194246
CREATED:20240313T165627Z
LAST-MODIFIED:20240313T165627Z
UID:10013897-1791021600-1791027000@swanscombeandgreenhithetowncouncil.gov.uk
SUMMARY:Cake & Computer Club - Saturdays 10.00am to 11.30am
DESCRIPTION:This is a free club but donations are wlecomed to cover the cost of the hall\, tea and cakes.
URL:https://swanscombeandgreenhithetowncouncil.gov.uk/event/cake-computer-club-saturdays-10-00am-to-11-30am-2/2026-10-03/
LOCATION:Church Road Hall\, Church Rd\, Swanscombe DA10 0HE\, United Kingdom\, United Kingdom
CATEGORIES:Community Event
ATTACH;FMTTYPE=image/jpeg:https://swanscombeandgreenhithetowncouncil.gov.uk/wp-content/uploads/2022/06/80.2022-Cake-Computer-Club-20-June.jpg
END:VEVENT
BEGIN:VEVENT
DTSTART;TZID=Europe/London:20261005T163000
DTEND;TZID=Europe/London:20261005T173000
DTSTAMP:20260421T194246
CREATED:20240313T014129Z
LAST-MODIFIED:20241219T090502Z
UID:10011406-1791217800-1791221400@swanscombeandgreenhithetowncouncil.gov.uk
SUMMARY:1st Swanscombe Rainbows - Monday 4.30pm to 5.30pm
DESCRIPTION:We meet every Monday during term time for fun\, crafts\, games and badge work.\nWe also now take Rainbows from 4 years old !\nContact Sandra on 07831 898205 for more information
URL:https://swanscombeandgreenhithetowncouncil.gov.uk/event/1st-swanscombe-rainbows-monday-4-30pm-to-5-30pm-3/2026-10-05/
LOCATION:Church Road Hall\, Church Rd\, Swanscombe DA10 0HE\, United Kingdom\, United Kingdom
CATEGORIES:Community Event
ATTACH;FMTTYPE=image/jpeg:https://swanscombeandgreenhithetowncouncil.gov.uk/wp-content/uploads/2021/12/58.2021-1st-Swanscombe-Raonbows-3-Dec-scaled-1.jpg
ORGANIZER;CN="Sandra_Kelleher":MAILTO:swanscomberainbows@hotmail.com
END:VEVENT
BEGIN:VEVENT
DTSTART;TZID=Europe/London:20261005T174500
DTEND;TZID=Europe/London:20261005T191500
DTSTAMP:20260421T194246
CREATED:20240424T184312Z
LAST-MODIFIED:20241219T090646Z
UID:10021328-1791222300-1791227700@swanscombeandgreenhithetowncouncil.gov.uk
SUMMARY:2nd Swanscombe Brownies - Monday 5.45pm to 7.15pm
DESCRIPTION:Want to learn new skills?\nWant to make new friends?\nWant to have fun?\nThen come and join us\nWe meet every Monday during term time form 5.45pm to 7.15pm\ncontact Sandra on 07831 898205 for more details
URL:https://swanscombeandgreenhithetowncouncil.gov.uk/event/1st-swanscombe-rainbows-monday-4-30pm-to-5-30pm-2-2-2/2026-10-05/
LOCATION:Church Road Hall\, Church Rd\, Swanscombe DA10 0HE\, United Kingdom\, United Kingdom
CATEGORIES:Community Event
ATTACH;FMTTYPE=image/jpeg:https://swanscombeandgreenhithetowncouncil.gov.uk/wp-content/uploads/2021/12/59.2021-2nd-Swanscombe-Brownies-3-Dec-scaled-1.jpg
ORGANIZER;CN="Sandra_Kelleher":MAILTO:swanscomberainbows@hotmail.com
END:VEVENT
BEGIN:VEVENT
DTSTART;TZID=Europe/London:20261010T100000
DTEND;TZID=Europe/London:20261010T113000
DTSTAMP:20260421T194246
CREATED:20240313T165627Z
LAST-MODIFIED:20240313T165627Z
UID:10013898-1791626400-1791631800@swanscombeandgreenhithetowncouncil.gov.uk
SUMMARY:Cake & Computer Club - Saturdays 10.00am to 11.30am
DESCRIPTION:This is a free club but donations are wlecomed to cover the cost of the hall\, tea and cakes.
URL:https://swanscombeandgreenhithetowncouncil.gov.uk/event/cake-computer-club-saturdays-10-00am-to-11-30am-2/2026-10-10/
LOCATION:Church Road Hall\, Church Rd\, Swanscombe DA10 0HE\, United Kingdom\, United Kingdom
CATEGORIES:Community Event
ATTACH;FMTTYPE=image/jpeg:https://swanscombeandgreenhithetowncouncil.gov.uk/wp-content/uploads/2022/06/80.2022-Cake-Computer-Club-20-June.jpg
END:VEVENT
BEGIN:VEVENT
DTSTART;TZID=Europe/London:20261012T163000
DTEND;TZID=Europe/London:20261012T173000
DTSTAMP:20260421T194246
CREATED:20240313T014129Z
LAST-MODIFIED:20241219T090502Z
UID:10011407-1791822600-1791826200@swanscombeandgreenhithetowncouncil.gov.uk
SUMMARY:1st Swanscombe Rainbows - Monday 4.30pm to 5.30pm
DESCRIPTION:We meet every Monday during term time for fun\, crafts\, games and badge work.\nWe also now take Rainbows from 4 years old !\nContact Sandra on 07831 898205 for more information
URL:https://swanscombeandgreenhithetowncouncil.gov.uk/event/1st-swanscombe-rainbows-monday-4-30pm-to-5-30pm-3/2026-10-12/
LOCATION:Church Road Hall\, Church Rd\, Swanscombe DA10 0HE\, United Kingdom\, United Kingdom
CATEGORIES:Community Event
ATTACH;FMTTYPE=image/jpeg:https://swanscombeandgreenhithetowncouncil.gov.uk/wp-content/uploads/2021/12/58.2021-1st-Swanscombe-Raonbows-3-Dec-scaled-1.jpg
ORGANIZER;CN="Sandra_Kelleher":MAILTO:swanscomberainbows@hotmail.com
END:VEVENT
BEGIN:VEVENT
DTSTART;TZID=Europe/London:20261012T174500
DTEND;TZID=Europe/London:20261012T191500
DTSTAMP:20260421T194246
CREATED:20240424T184312Z
LAST-MODIFIED:20241219T090646Z
UID:10021329-1791827100-1791832500@swanscombeandgreenhithetowncouncil.gov.uk
SUMMARY:2nd Swanscombe Brownies - Monday 5.45pm to 7.15pm
DESCRIPTION:Want to learn new skills?\nWant to make new friends?\nWant to have fun?\nThen come and join us\nWe meet every Monday during term time form 5.45pm to 7.15pm\ncontact Sandra on 07831 898205 for more details
URL:https://swanscombeandgreenhithetowncouncil.gov.uk/event/1st-swanscombe-rainbows-monday-4-30pm-to-5-30pm-2-2-2/2026-10-12/
LOCATION:Church Road Hall\, Church Rd\, Swanscombe DA10 0HE\, United Kingdom\, United Kingdom
CATEGORIES:Community Event
ATTACH;FMTTYPE=image/jpeg:https://swanscombeandgreenhithetowncouncil.gov.uk/wp-content/uploads/2021/12/59.2021-2nd-Swanscombe-Brownies-3-Dec-scaled-1.jpg
ORGANIZER;CN="Sandra_Kelleher":MAILTO:swanscomberainbows@hotmail.com
END:VEVENT
BEGIN:VEVENT
DTSTART;TZID=Europe/London:20261017T100000
DTEND;TZID=Europe/London:20261017T113000
DTSTAMP:20260421T194246
CREATED:20240313T165627Z
LAST-MODIFIED:20240313T165627Z
UID:10013899-1792231200-1792236600@swanscombeandgreenhithetowncouncil.gov.uk
SUMMARY:Cake & Computer Club - Saturdays 10.00am to 11.30am
DESCRIPTION:This is a free club but donations are wlecomed to cover the cost of the hall\, tea and cakes.
URL:https://swanscombeandgreenhithetowncouncil.gov.uk/event/cake-computer-club-saturdays-10-00am-to-11-30am-2/2026-10-17/
LOCATION:Church Road Hall\, Church Rd\, Swanscombe DA10 0HE\, United Kingdom\, United Kingdom
CATEGORIES:Community Event
ATTACH;FMTTYPE=image/jpeg:https://swanscombeandgreenhithetowncouncil.gov.uk/wp-content/uploads/2022/06/80.2022-Cake-Computer-Club-20-June.jpg
END:VEVENT
BEGIN:VEVENT
DTSTART;TZID=Europe/London:20261019T163000
DTEND;TZID=Europe/London:20261019T173000
DTSTAMP:20260421T194246
CREATED:20240313T014129Z
LAST-MODIFIED:20241219T090502Z
UID:10011408-1792427400-1792431000@swanscombeandgreenhithetowncouncil.gov.uk
SUMMARY:1st Swanscombe Rainbows - Monday 4.30pm to 5.30pm
DESCRIPTION:We meet every Monday during term time for fun\, crafts\, games and badge work.\nWe also now take Rainbows from 4 years old !\nContact Sandra on 07831 898205 for more information
URL:https://swanscombeandgreenhithetowncouncil.gov.uk/event/1st-swanscombe-rainbows-monday-4-30pm-to-5-30pm-3/2026-10-19/
LOCATION:Church Road Hall\, Church Rd\, Swanscombe DA10 0HE\, United Kingdom\, United Kingdom
CATEGORIES:Community Event
ATTACH;FMTTYPE=image/jpeg:https://swanscombeandgreenhithetowncouncil.gov.uk/wp-content/uploads/2021/12/58.2021-1st-Swanscombe-Raonbows-3-Dec-scaled-1.jpg
ORGANIZER;CN="Sandra_Kelleher":MAILTO:swanscomberainbows@hotmail.com
END:VEVENT
BEGIN:VEVENT
DTSTART;TZID=Europe/London:20261019T174500
DTEND;TZID=Europe/London:20261019T191500
DTSTAMP:20260421T194246
CREATED:20240424T184312Z
LAST-MODIFIED:20241219T090646Z
UID:10021330-1792431900-1792437300@swanscombeandgreenhithetowncouncil.gov.uk
SUMMARY:2nd Swanscombe Brownies - Monday 5.45pm to 7.15pm
DESCRIPTION:Want to learn new skills?\nWant to make new friends?\nWant to have fun?\nThen come and join us\nWe meet every Monday during term time form 5.45pm to 7.15pm\ncontact Sandra on 07831 898205 for more details
URL:https://swanscombeandgreenhithetowncouncil.gov.uk/event/1st-swanscombe-rainbows-monday-4-30pm-to-5-30pm-2-2-2/2026-10-19/
LOCATION:Church Road Hall\, Church Rd\, Swanscombe DA10 0HE\, United Kingdom\, United Kingdom
CATEGORIES:Community Event
ATTACH;FMTTYPE=image/jpeg:https://swanscombeandgreenhithetowncouncil.gov.uk/wp-content/uploads/2021/12/59.2021-2nd-Swanscombe-Brownies-3-Dec-scaled-1.jpg
ORGANIZER;CN="Sandra_Kelleher":MAILTO:swanscomberainbows@hotmail.com
END:VEVENT
END:VCALENDAR