BEGIN:VCALENDAR
VERSION:2.0
PRODID:-//Swanscombe and Greenhithe Town Council - ECPv6.15.20//NONSGML v1.0//EN
CALSCALE:GREGORIAN
METHOD:PUBLISH
X-WR-CALNAME:Swanscombe and Greenhithe Town Council
X-ORIGINAL-URL:https://swanscombeandgreenhithetowncouncil.gov.uk
X-WR-CALDESC:Events for Swanscombe and Greenhithe Town Council
REFRESH-INTERVAL;VALUE=DURATION:PT1H
X-Robots-Tag:noindex
X-PUBLISHED-TTL:PT1H
BEGIN:VTIMEZONE
TZID:Europe/London
BEGIN:DAYLIGHT
TZOFFSETFROM:+0000
TZOFFSETTO:+0100
TZNAME:BST
DTSTART:20260329T010000
END:DAYLIGHT
BEGIN:STANDARD
TZOFFSETFROM:+0100
TZOFFSETTO:+0000
TZNAME:GMT
DTSTART:20261025T010000
END:STANDARD
BEGIN:DAYLIGHT
TZOFFSETFROM:+0000
TZOFFSETTO:+0100
TZNAME:BST
DTSTART:20270328T010000
END:DAYLIGHT
BEGIN:STANDARD
TZOFFSETFROM:+0100
TZOFFSETTO:+0000
TZNAME:GMT
DTSTART:20271031T010000
END:STANDARD
BEGIN:DAYLIGHT
TZOFFSETFROM:+0000
TZOFFSETTO:+0100
TZNAME:BST
DTSTART:20280326T010000
END:DAYLIGHT
BEGIN:STANDARD
TZOFFSETFROM:+0100
TZOFFSETTO:+0000
TZNAME:GMT
DTSTART:20281029T010000
END:STANDARD
END:VTIMEZONE
BEGIN:VEVENT
DTSTART;TZID=Europe/London:20270505T190000
DTEND;TZID=Europe/London:20270505T203000
DTSTAMP:20260422T025918
CREATED:20240313T165459Z
LAST-MODIFIED:20241219T090929Z
UID:10013566-1809543600-1809549000@swanscombeandgreenhithetowncouncil.gov.uk
SUMMARY:Catzout Community Choir  - Wednesdays 7pm to 8.30pm
DESCRIPTION:
URL:https://swanscombeandgreenhithetowncouncil.gov.uk/event/catzout-community-choir-wednesdays-7pm-to-8-30pm-2/2027-05-05/
LOCATION:Heritage Community Hall\, 22 Craylands Ln\, Swanscombe DA10 0LP\, United Kingdom\, United Kingdom
CATEGORIES:Community Event
ATTACH;FMTTYPE=image/jpeg:https://swanscombeandgreenhithetowncouncil.gov.uk/wp-content/uploads/2022/06/77.2022-Catzout-Choir-22-June.jpg
ORGANIZER;CN="Walk_Tall":MAILTO:info@walk-tall.org.uk
END:VEVENT
BEGIN:VEVENT
DTSTART;TZID=Europe/London:20270506T163000
DTEND;TZID=Europe/London:20270506T184500
DTSTAMP:20260422T025918
CREATED:20240424T184458Z
LAST-MODIFIED:20241219T091149Z
UID:10015965-1809621000-1809629100@swanscombeandgreenhithetowncouncil.gov.uk
SUMMARY:Walk Tall - Drama Project for young people
DESCRIPTION:
URL:https://swanscombeandgreenhithetowncouncil.gov.uk/event/walk-tall-drama-project-for-young-people-2-2/2027-05-06/
LOCATION:Heritage Community Hall\, 22 Craylands Ln\, Swanscombe DA10 0LP\, United Kingdom\, United Kingdom
CATEGORIES:Community Event
ATTACH;FMTTYPE=image/jpeg:https://swanscombeandgreenhithetowncouncil.gov.uk/wp-content/uploads/2023/02/93.2023-new-project-Thursdays.jpg
ORGANIZER;CN="Walk Tall":MAILTO:arts@walk-tall.org.uk
END:VEVENT
BEGIN:VEVENT
DTSTART;TZID=Europe/London:20270512T190000
DTEND;TZID=Europe/London:20270512T203000
DTSTAMP:20260422T025918
CREATED:20240313T165459Z
LAST-MODIFIED:20241219T090929Z
UID:10013567-1810148400-1810153800@swanscombeandgreenhithetowncouncil.gov.uk
SUMMARY:Catzout Community Choir  - Wednesdays 7pm to 8.30pm
DESCRIPTION:
URL:https://swanscombeandgreenhithetowncouncil.gov.uk/event/catzout-community-choir-wednesdays-7pm-to-8-30pm-2/2027-05-12/
LOCATION:Heritage Community Hall\, 22 Craylands Ln\, Swanscombe DA10 0LP\, United Kingdom\, United Kingdom
CATEGORIES:Community Event
ATTACH;FMTTYPE=image/jpeg:https://swanscombeandgreenhithetowncouncil.gov.uk/wp-content/uploads/2022/06/77.2022-Catzout-Choir-22-June.jpg
ORGANIZER;CN="Walk_Tall":MAILTO:info@walk-tall.org.uk
END:VEVENT
BEGIN:VEVENT
DTSTART;TZID=Europe/London:20270513T163000
DTEND;TZID=Europe/London:20270513T184500
DTSTAMP:20260422T025918
CREATED:20240424T184458Z
LAST-MODIFIED:20241219T091149Z
UID:10015966-1810225800-1810233900@swanscombeandgreenhithetowncouncil.gov.uk
SUMMARY:Walk Tall - Drama Project for young people
DESCRIPTION:
URL:https://swanscombeandgreenhithetowncouncil.gov.uk/event/walk-tall-drama-project-for-young-people-2-2/2027-05-13/
LOCATION:Heritage Community Hall\, 22 Craylands Ln\, Swanscombe DA10 0LP\, United Kingdom\, United Kingdom
CATEGORIES:Community Event
ATTACH;FMTTYPE=image/jpeg:https://swanscombeandgreenhithetowncouncil.gov.uk/wp-content/uploads/2023/02/93.2023-new-project-Thursdays.jpg
ORGANIZER;CN="Walk Tall":MAILTO:arts@walk-tall.org.uk
END:VEVENT
BEGIN:VEVENT
DTSTART;TZID=Europe/London:20270519T190000
DTEND;TZID=Europe/London:20270519T203000
DTSTAMP:20260422T025918
CREATED:20240313T165459Z
LAST-MODIFIED:20241219T090929Z
UID:10013568-1810753200-1810758600@swanscombeandgreenhithetowncouncil.gov.uk
SUMMARY:Catzout Community Choir  - Wednesdays 7pm to 8.30pm
DESCRIPTION:
URL:https://swanscombeandgreenhithetowncouncil.gov.uk/event/catzout-community-choir-wednesdays-7pm-to-8-30pm-2/2027-05-19/
LOCATION:Heritage Community Hall\, 22 Craylands Ln\, Swanscombe DA10 0LP\, United Kingdom\, United Kingdom
CATEGORIES:Community Event
ATTACH;FMTTYPE=image/jpeg:https://swanscombeandgreenhithetowncouncil.gov.uk/wp-content/uploads/2022/06/77.2022-Catzout-Choir-22-June.jpg
ORGANIZER;CN="Walk_Tall":MAILTO:info@walk-tall.org.uk
END:VEVENT
BEGIN:VEVENT
DTSTART;TZID=Europe/London:20270520T163000
DTEND;TZID=Europe/London:20270520T184500
DTSTAMP:20260422T025918
CREATED:20240424T184458Z
LAST-MODIFIED:20241219T091149Z
UID:10015967-1810830600-1810838700@swanscombeandgreenhithetowncouncil.gov.uk
SUMMARY:Walk Tall - Drama Project for young people
DESCRIPTION:
URL:https://swanscombeandgreenhithetowncouncil.gov.uk/event/walk-tall-drama-project-for-young-people-2-2/2027-05-20/
LOCATION:Heritage Community Hall\, 22 Craylands Ln\, Swanscombe DA10 0LP\, United Kingdom\, United Kingdom
CATEGORIES:Community Event
ATTACH;FMTTYPE=image/jpeg:https://swanscombeandgreenhithetowncouncil.gov.uk/wp-content/uploads/2023/02/93.2023-new-project-Thursdays.jpg
ORGANIZER;CN="Walk Tall":MAILTO:arts@walk-tall.org.uk
END:VEVENT
BEGIN:VEVENT
DTSTART;TZID=Europe/London:20270526T190000
DTEND;TZID=Europe/London:20270526T203000
DTSTAMP:20260422T025918
CREATED:20240313T165459Z
LAST-MODIFIED:20241219T090929Z
UID:10013569-1811358000-1811363400@swanscombeandgreenhithetowncouncil.gov.uk
SUMMARY:Catzout Community Choir  - Wednesdays 7pm to 8.30pm
DESCRIPTION:
URL:https://swanscombeandgreenhithetowncouncil.gov.uk/event/catzout-community-choir-wednesdays-7pm-to-8-30pm-2/2027-05-26/
LOCATION:Heritage Community Hall\, 22 Craylands Ln\, Swanscombe DA10 0LP\, United Kingdom\, United Kingdom
CATEGORIES:Community Event
ATTACH;FMTTYPE=image/jpeg:https://swanscombeandgreenhithetowncouncil.gov.uk/wp-content/uploads/2022/06/77.2022-Catzout-Choir-22-June.jpg
ORGANIZER;CN="Walk_Tall":MAILTO:info@walk-tall.org.uk
END:VEVENT
BEGIN:VEVENT
DTSTART;TZID=Europe/London:20270527T163000
DTEND;TZID=Europe/London:20270527T184500
DTSTAMP:20260422T025918
CREATED:20240424T184458Z
LAST-MODIFIED:20241219T091149Z
UID:10015968-1811435400-1811443500@swanscombeandgreenhithetowncouncil.gov.uk
SUMMARY:Walk Tall - Drama Project for young people
DESCRIPTION:
URL:https://swanscombeandgreenhithetowncouncil.gov.uk/event/walk-tall-drama-project-for-young-people-2-2/2027-05-27/
LOCATION:Heritage Community Hall\, 22 Craylands Ln\, Swanscombe DA10 0LP\, United Kingdom\, United Kingdom
CATEGORIES:Community Event
ATTACH;FMTTYPE=image/jpeg:https://swanscombeandgreenhithetowncouncil.gov.uk/wp-content/uploads/2023/02/93.2023-new-project-Thursdays.jpg
ORGANIZER;CN="Walk Tall":MAILTO:arts@walk-tall.org.uk
END:VEVENT
BEGIN:VEVENT
DTSTART;TZID=Europe/London:20270602T190000
DTEND;TZID=Europe/London:20270602T203000
DTSTAMP:20260422T025918
CREATED:20240313T165459Z
LAST-MODIFIED:20241219T090929Z
UID:10013570-1811962800-1811968200@swanscombeandgreenhithetowncouncil.gov.uk
SUMMARY:Catzout Community Choir  - Wednesdays 7pm to 8.30pm
DESCRIPTION:
URL:https://swanscombeandgreenhithetowncouncil.gov.uk/event/catzout-community-choir-wednesdays-7pm-to-8-30pm-2/2027-06-02/
LOCATION:Heritage Community Hall\, 22 Craylands Ln\, Swanscombe DA10 0LP\, United Kingdom\, United Kingdom
CATEGORIES:Community Event
ATTACH;FMTTYPE=image/jpeg:https://swanscombeandgreenhithetowncouncil.gov.uk/wp-content/uploads/2022/06/77.2022-Catzout-Choir-22-June.jpg
ORGANIZER;CN="Walk_Tall":MAILTO:info@walk-tall.org.uk
END:VEVENT
BEGIN:VEVENT
DTSTART;TZID=Europe/London:20270603T163000
DTEND;TZID=Europe/London:20270603T184500
DTSTAMP:20260422T025918
CREATED:20240424T184458Z
LAST-MODIFIED:20241219T091149Z
UID:10015969-1812040200-1812048300@swanscombeandgreenhithetowncouncil.gov.uk
SUMMARY:Walk Tall - Drama Project for young people
DESCRIPTION:
URL:https://swanscombeandgreenhithetowncouncil.gov.uk/event/walk-tall-drama-project-for-young-people-2-2/2027-06-03/
LOCATION:Heritage Community Hall\, 22 Craylands Ln\, Swanscombe DA10 0LP\, United Kingdom\, United Kingdom
CATEGORIES:Community Event
ATTACH;FMTTYPE=image/jpeg:https://swanscombeandgreenhithetowncouncil.gov.uk/wp-content/uploads/2023/02/93.2023-new-project-Thursdays.jpg
ORGANIZER;CN="Walk Tall":MAILTO:arts@walk-tall.org.uk
END:VEVENT
BEGIN:VEVENT
DTSTART;TZID=Europe/London:20270609T190000
DTEND;TZID=Europe/London:20270609T203000
DTSTAMP:20260422T025918
CREATED:20240313T165459Z
LAST-MODIFIED:20241219T090929Z
UID:10013571-1812567600-1812573000@swanscombeandgreenhithetowncouncil.gov.uk
SUMMARY:Catzout Community Choir  - Wednesdays 7pm to 8.30pm
DESCRIPTION:
URL:https://swanscombeandgreenhithetowncouncil.gov.uk/event/catzout-community-choir-wednesdays-7pm-to-8-30pm-2/2027-06-09/
LOCATION:Heritage Community Hall\, 22 Craylands Ln\, Swanscombe DA10 0LP\, United Kingdom\, United Kingdom
CATEGORIES:Community Event
ATTACH;FMTTYPE=image/jpeg:https://swanscombeandgreenhithetowncouncil.gov.uk/wp-content/uploads/2022/06/77.2022-Catzout-Choir-22-June.jpg
ORGANIZER;CN="Walk_Tall":MAILTO:info@walk-tall.org.uk
END:VEVENT
BEGIN:VEVENT
DTSTART;TZID=Europe/London:20270610T163000
DTEND;TZID=Europe/London:20270610T184500
DTSTAMP:20260422T025918
CREATED:20240424T184458Z
LAST-MODIFIED:20241219T091149Z
UID:10015970-1812645000-1812653100@swanscombeandgreenhithetowncouncil.gov.uk
SUMMARY:Walk Tall - Drama Project for young people
DESCRIPTION:
URL:https://swanscombeandgreenhithetowncouncil.gov.uk/event/walk-tall-drama-project-for-young-people-2-2/2027-06-10/
LOCATION:Heritage Community Hall\, 22 Craylands Ln\, Swanscombe DA10 0LP\, United Kingdom\, United Kingdom
CATEGORIES:Community Event
ATTACH;FMTTYPE=image/jpeg:https://swanscombeandgreenhithetowncouncil.gov.uk/wp-content/uploads/2023/02/93.2023-new-project-Thursdays.jpg
ORGANIZER;CN="Walk Tall":MAILTO:arts@walk-tall.org.uk
END:VEVENT
BEGIN:VEVENT
DTSTART;TZID=Europe/London:20270616T190000
DTEND;TZID=Europe/London:20270616T203000
DTSTAMP:20260422T025918
CREATED:20240313T165459Z
LAST-MODIFIED:20241219T090929Z
UID:10013572-1813172400-1813177800@swanscombeandgreenhithetowncouncil.gov.uk
SUMMARY:Catzout Community Choir  - Wednesdays 7pm to 8.30pm
DESCRIPTION:
URL:https://swanscombeandgreenhithetowncouncil.gov.uk/event/catzout-community-choir-wednesdays-7pm-to-8-30pm-2/2027-06-16/
LOCATION:Heritage Community Hall\, 22 Craylands Ln\, Swanscombe DA10 0LP\, United Kingdom\, United Kingdom
CATEGORIES:Community Event
ATTACH;FMTTYPE=image/jpeg:https://swanscombeandgreenhithetowncouncil.gov.uk/wp-content/uploads/2022/06/77.2022-Catzout-Choir-22-June.jpg
ORGANIZER;CN="Walk_Tall":MAILTO:info@walk-tall.org.uk
END:VEVENT
BEGIN:VEVENT
DTSTART;TZID=Europe/London:20270617T163000
DTEND;TZID=Europe/London:20270617T184500
DTSTAMP:20260422T025918
CREATED:20240424T184458Z
LAST-MODIFIED:20241219T091149Z
UID:10015971-1813249800-1813257900@swanscombeandgreenhithetowncouncil.gov.uk
SUMMARY:Walk Tall - Drama Project for young people
DESCRIPTION:
URL:https://swanscombeandgreenhithetowncouncil.gov.uk/event/walk-tall-drama-project-for-young-people-2-2/2027-06-17/
LOCATION:Heritage Community Hall\, 22 Craylands Ln\, Swanscombe DA10 0LP\, United Kingdom\, United Kingdom
CATEGORIES:Community Event
ATTACH;FMTTYPE=image/jpeg:https://swanscombeandgreenhithetowncouncil.gov.uk/wp-content/uploads/2023/02/93.2023-new-project-Thursdays.jpg
ORGANIZER;CN="Walk Tall":MAILTO:arts@walk-tall.org.uk
END:VEVENT
BEGIN:VEVENT
DTSTART;TZID=Europe/London:20270623T190000
DTEND;TZID=Europe/London:20270623T203000
DTSTAMP:20260422T025918
CREATED:20240313T165459Z
LAST-MODIFIED:20241219T090929Z
UID:10013573-1813777200-1813782600@swanscombeandgreenhithetowncouncil.gov.uk
SUMMARY:Catzout Community Choir  - Wednesdays 7pm to 8.30pm
DESCRIPTION:
URL:https://swanscombeandgreenhithetowncouncil.gov.uk/event/catzout-community-choir-wednesdays-7pm-to-8-30pm-2/2027-06-23/
LOCATION:Heritage Community Hall\, 22 Craylands Ln\, Swanscombe DA10 0LP\, United Kingdom\, United Kingdom
CATEGORIES:Community Event
ATTACH;FMTTYPE=image/jpeg:https://swanscombeandgreenhithetowncouncil.gov.uk/wp-content/uploads/2022/06/77.2022-Catzout-Choir-22-June.jpg
ORGANIZER;CN="Walk_Tall":MAILTO:info@walk-tall.org.uk
END:VEVENT
BEGIN:VEVENT
DTSTART;TZID=Europe/London:20270624T163000
DTEND;TZID=Europe/London:20270624T184500
DTSTAMP:20260422T025918
CREATED:20240424T184458Z
LAST-MODIFIED:20241219T091149Z
UID:10015972-1813854600-1813862700@swanscombeandgreenhithetowncouncil.gov.uk
SUMMARY:Walk Tall - Drama Project for young people
DESCRIPTION:
URL:https://swanscombeandgreenhithetowncouncil.gov.uk/event/walk-tall-drama-project-for-young-people-2-2/2027-06-24/
LOCATION:Heritage Community Hall\, 22 Craylands Ln\, Swanscombe DA10 0LP\, United Kingdom\, United Kingdom
CATEGORIES:Community Event
ATTACH;FMTTYPE=image/jpeg:https://swanscombeandgreenhithetowncouncil.gov.uk/wp-content/uploads/2023/02/93.2023-new-project-Thursdays.jpg
ORGANIZER;CN="Walk Tall":MAILTO:arts@walk-tall.org.uk
END:VEVENT
BEGIN:VEVENT
DTSTART;TZID=Europe/London:20270630T190000
DTEND;TZID=Europe/London:20270630T203000
DTSTAMP:20260422T025918
CREATED:20240313T165459Z
LAST-MODIFIED:20241219T090929Z
UID:10013574-1814382000-1814387400@swanscombeandgreenhithetowncouncil.gov.uk
SUMMARY:Catzout Community Choir  - Wednesdays 7pm to 8.30pm
DESCRIPTION:
URL:https://swanscombeandgreenhithetowncouncil.gov.uk/event/catzout-community-choir-wednesdays-7pm-to-8-30pm-2/2027-06-30/
LOCATION:Heritage Community Hall\, 22 Craylands Ln\, Swanscombe DA10 0LP\, United Kingdom\, United Kingdom
CATEGORIES:Community Event
ATTACH;FMTTYPE=image/jpeg:https://swanscombeandgreenhithetowncouncil.gov.uk/wp-content/uploads/2022/06/77.2022-Catzout-Choir-22-June.jpg
ORGANIZER;CN="Walk_Tall":MAILTO:info@walk-tall.org.uk
END:VEVENT
BEGIN:VEVENT
DTSTART;TZID=Europe/London:20270701T163000
DTEND;TZID=Europe/London:20270701T184500
DTSTAMP:20260422T025918
CREATED:20240424T184458Z
LAST-MODIFIED:20241219T091149Z
UID:10015973-1814459400-1814467500@swanscombeandgreenhithetowncouncil.gov.uk
SUMMARY:Walk Tall - Drama Project for young people
DESCRIPTION:
URL:https://swanscombeandgreenhithetowncouncil.gov.uk/event/walk-tall-drama-project-for-young-people-2-2/2027-07-01/
LOCATION:Heritage Community Hall\, 22 Craylands Ln\, Swanscombe DA10 0LP\, United Kingdom\, United Kingdom
CATEGORIES:Community Event
ATTACH;FMTTYPE=image/jpeg:https://swanscombeandgreenhithetowncouncil.gov.uk/wp-content/uploads/2023/02/93.2023-new-project-Thursdays.jpg
ORGANIZER;CN="Walk Tall":MAILTO:arts@walk-tall.org.uk
END:VEVENT
BEGIN:VEVENT
DTSTART;TZID=Europe/London:20270707T190000
DTEND;TZID=Europe/London:20270707T203000
DTSTAMP:20260422T025918
CREATED:20240313T165459Z
LAST-MODIFIED:20241219T090929Z
UID:10013575-1814986800-1814992200@swanscombeandgreenhithetowncouncil.gov.uk
SUMMARY:Catzout Community Choir  - Wednesdays 7pm to 8.30pm
DESCRIPTION:
URL:https://swanscombeandgreenhithetowncouncil.gov.uk/event/catzout-community-choir-wednesdays-7pm-to-8-30pm-2/2027-07-07/
LOCATION:Heritage Community Hall\, 22 Craylands Ln\, Swanscombe DA10 0LP\, United Kingdom\, United Kingdom
CATEGORIES:Community Event
ATTACH;FMTTYPE=image/jpeg:https://swanscombeandgreenhithetowncouncil.gov.uk/wp-content/uploads/2022/06/77.2022-Catzout-Choir-22-June.jpg
ORGANIZER;CN="Walk_Tall":MAILTO:info@walk-tall.org.uk
END:VEVENT
BEGIN:VEVENT
DTSTART;TZID=Europe/London:20270708T163000
DTEND;TZID=Europe/London:20270708T184500
DTSTAMP:20260422T025918
CREATED:20240424T184458Z
LAST-MODIFIED:20241219T091149Z
UID:10015974-1815064200-1815072300@swanscombeandgreenhithetowncouncil.gov.uk
SUMMARY:Walk Tall - Drama Project for young people
DESCRIPTION:
URL:https://swanscombeandgreenhithetowncouncil.gov.uk/event/walk-tall-drama-project-for-young-people-2-2/2027-07-08/
LOCATION:Heritage Community Hall\, 22 Craylands Ln\, Swanscombe DA10 0LP\, United Kingdom\, United Kingdom
CATEGORIES:Community Event
ATTACH;FMTTYPE=image/jpeg:https://swanscombeandgreenhithetowncouncil.gov.uk/wp-content/uploads/2023/02/93.2023-new-project-Thursdays.jpg
ORGANIZER;CN="Walk Tall":MAILTO:arts@walk-tall.org.uk
END:VEVENT
BEGIN:VEVENT
DTSTART;TZID=Europe/London:20270714T190000
DTEND;TZID=Europe/London:20270714T203000
DTSTAMP:20260422T025918
CREATED:20240313T165459Z
LAST-MODIFIED:20241219T090929Z
UID:10013576-1815591600-1815597000@swanscombeandgreenhithetowncouncil.gov.uk
SUMMARY:Catzout Community Choir  - Wednesdays 7pm to 8.30pm
DESCRIPTION:
URL:https://swanscombeandgreenhithetowncouncil.gov.uk/event/catzout-community-choir-wednesdays-7pm-to-8-30pm-2/2027-07-14/
LOCATION:Heritage Community Hall\, 22 Craylands Ln\, Swanscombe DA10 0LP\, United Kingdom\, United Kingdom
CATEGORIES:Community Event
ATTACH;FMTTYPE=image/jpeg:https://swanscombeandgreenhithetowncouncil.gov.uk/wp-content/uploads/2022/06/77.2022-Catzout-Choir-22-June.jpg
ORGANIZER;CN="Walk_Tall":MAILTO:info@walk-tall.org.uk
END:VEVENT
BEGIN:VEVENT
DTSTART;TZID=Europe/London:20270715T163000
DTEND;TZID=Europe/London:20270715T184500
DTSTAMP:20260422T025918
CREATED:20240424T184458Z
LAST-MODIFIED:20241219T091149Z
UID:10015975-1815669000-1815677100@swanscombeandgreenhithetowncouncil.gov.uk
SUMMARY:Walk Tall - Drama Project for young people
DESCRIPTION:
URL:https://swanscombeandgreenhithetowncouncil.gov.uk/event/walk-tall-drama-project-for-young-people-2-2/2027-07-15/
LOCATION:Heritage Community Hall\, 22 Craylands Ln\, Swanscombe DA10 0LP\, United Kingdom\, United Kingdom
CATEGORIES:Community Event
ATTACH;FMTTYPE=image/jpeg:https://swanscombeandgreenhithetowncouncil.gov.uk/wp-content/uploads/2023/02/93.2023-new-project-Thursdays.jpg
ORGANIZER;CN="Walk Tall":MAILTO:arts@walk-tall.org.uk
END:VEVENT
BEGIN:VEVENT
DTSTART;TZID=Europe/London:20270721T190000
DTEND;TZID=Europe/London:20270721T203000
DTSTAMP:20260422T025918
CREATED:20240313T165459Z
LAST-MODIFIED:20241219T090929Z
UID:10013577-1816196400-1816201800@swanscombeandgreenhithetowncouncil.gov.uk
SUMMARY:Catzout Community Choir  - Wednesdays 7pm to 8.30pm
DESCRIPTION:
URL:https://swanscombeandgreenhithetowncouncil.gov.uk/event/catzout-community-choir-wednesdays-7pm-to-8-30pm-2/2027-07-21/
LOCATION:Heritage Community Hall\, 22 Craylands Ln\, Swanscombe DA10 0LP\, United Kingdom\, United Kingdom
CATEGORIES:Community Event
ATTACH;FMTTYPE=image/jpeg:https://swanscombeandgreenhithetowncouncil.gov.uk/wp-content/uploads/2022/06/77.2022-Catzout-Choir-22-June.jpg
ORGANIZER;CN="Walk_Tall":MAILTO:info@walk-tall.org.uk
END:VEVENT
BEGIN:VEVENT
DTSTART;TZID=Europe/London:20270722T163000
DTEND;TZID=Europe/London:20270722T184500
DTSTAMP:20260422T025918
CREATED:20240424T184458Z
LAST-MODIFIED:20241219T091149Z
UID:10015976-1816273800-1816281900@swanscombeandgreenhithetowncouncil.gov.uk
SUMMARY:Walk Tall - Drama Project for young people
DESCRIPTION:
URL:https://swanscombeandgreenhithetowncouncil.gov.uk/event/walk-tall-drama-project-for-young-people-2-2/2027-07-22/
LOCATION:Heritage Community Hall\, 22 Craylands Ln\, Swanscombe DA10 0LP\, United Kingdom\, United Kingdom
CATEGORIES:Community Event
ATTACH;FMTTYPE=image/jpeg:https://swanscombeandgreenhithetowncouncil.gov.uk/wp-content/uploads/2023/02/93.2023-new-project-Thursdays.jpg
ORGANIZER;CN="Walk Tall":MAILTO:arts@walk-tall.org.uk
END:VEVENT
BEGIN:VEVENT
DTSTART;TZID=Europe/London:20270728T190000
DTEND;TZID=Europe/London:20270728T203000
DTSTAMP:20260422T025918
CREATED:20240313T165459Z
LAST-MODIFIED:20241219T090929Z
UID:10013578-1816801200-1816806600@swanscombeandgreenhithetowncouncil.gov.uk
SUMMARY:Catzout Community Choir  - Wednesdays 7pm to 8.30pm
DESCRIPTION:
URL:https://swanscombeandgreenhithetowncouncil.gov.uk/event/catzout-community-choir-wednesdays-7pm-to-8-30pm-2/2027-07-28/
LOCATION:Heritage Community Hall\, 22 Craylands Ln\, Swanscombe DA10 0LP\, United Kingdom\, United Kingdom
CATEGORIES:Community Event
ATTACH;FMTTYPE=image/jpeg:https://swanscombeandgreenhithetowncouncil.gov.uk/wp-content/uploads/2022/06/77.2022-Catzout-Choir-22-June.jpg
ORGANIZER;CN="Walk_Tall":MAILTO:info@walk-tall.org.uk
END:VEVENT
BEGIN:VEVENT
DTSTART;TZID=Europe/London:20270729T163000
DTEND;TZID=Europe/London:20270729T184500
DTSTAMP:20260422T025918
CREATED:20240424T184458Z
LAST-MODIFIED:20241219T091149Z
UID:10015977-1816878600-1816886700@swanscombeandgreenhithetowncouncil.gov.uk
SUMMARY:Walk Tall - Drama Project for young people
DESCRIPTION:
URL:https://swanscombeandgreenhithetowncouncil.gov.uk/event/walk-tall-drama-project-for-young-people-2-2/2027-07-29/
LOCATION:Heritage Community Hall\, 22 Craylands Ln\, Swanscombe DA10 0LP\, United Kingdom\, United Kingdom
CATEGORIES:Community Event
ATTACH;FMTTYPE=image/jpeg:https://swanscombeandgreenhithetowncouncil.gov.uk/wp-content/uploads/2023/02/93.2023-new-project-Thursdays.jpg
ORGANIZER;CN="Walk Tall":MAILTO:arts@walk-tall.org.uk
END:VEVENT
BEGIN:VEVENT
DTSTART;TZID=Europe/London:20270804T190000
DTEND;TZID=Europe/London:20270804T203000
DTSTAMP:20260422T025918
CREATED:20240313T165459Z
LAST-MODIFIED:20241219T090929Z
UID:10013579-1817406000-1817411400@swanscombeandgreenhithetowncouncil.gov.uk
SUMMARY:Catzout Community Choir  - Wednesdays 7pm to 8.30pm
DESCRIPTION:
URL:https://swanscombeandgreenhithetowncouncil.gov.uk/event/catzout-community-choir-wednesdays-7pm-to-8-30pm-2/2027-08-04/
LOCATION:Heritage Community Hall\, 22 Craylands Ln\, Swanscombe DA10 0LP\, United Kingdom\, United Kingdom
CATEGORIES:Community Event
ATTACH;FMTTYPE=image/jpeg:https://swanscombeandgreenhithetowncouncil.gov.uk/wp-content/uploads/2022/06/77.2022-Catzout-Choir-22-June.jpg
ORGANIZER;CN="Walk_Tall":MAILTO:info@walk-tall.org.uk
END:VEVENT
BEGIN:VEVENT
DTSTART;TZID=Europe/London:20270805T163000
DTEND;TZID=Europe/London:20270805T184500
DTSTAMP:20260422T025918
CREATED:20240424T184458Z
LAST-MODIFIED:20241219T091149Z
UID:10015978-1817483400-1817491500@swanscombeandgreenhithetowncouncil.gov.uk
SUMMARY:Walk Tall - Drama Project for young people
DESCRIPTION:
URL:https://swanscombeandgreenhithetowncouncil.gov.uk/event/walk-tall-drama-project-for-young-people-2-2/2027-08-05/
LOCATION:Heritage Community Hall\, 22 Craylands Ln\, Swanscombe DA10 0LP\, United Kingdom\, United Kingdom
CATEGORIES:Community Event
ATTACH;FMTTYPE=image/jpeg:https://swanscombeandgreenhithetowncouncil.gov.uk/wp-content/uploads/2023/02/93.2023-new-project-Thursdays.jpg
ORGANIZER;CN="Walk Tall":MAILTO:arts@walk-tall.org.uk
END:VEVENT
BEGIN:VEVENT
DTSTART;TZID=Europe/London:20270811T190000
DTEND;TZID=Europe/London:20270811T203000
DTSTAMP:20260422T025918
CREATED:20240313T165459Z
LAST-MODIFIED:20241219T090929Z
UID:10013580-1818010800-1818016200@swanscombeandgreenhithetowncouncil.gov.uk
SUMMARY:Catzout Community Choir  - Wednesdays 7pm to 8.30pm
DESCRIPTION:
URL:https://swanscombeandgreenhithetowncouncil.gov.uk/event/catzout-community-choir-wednesdays-7pm-to-8-30pm-2/2027-08-11/
LOCATION:Heritage Community Hall\, 22 Craylands Ln\, Swanscombe DA10 0LP\, United Kingdom\, United Kingdom
CATEGORIES:Community Event
ATTACH;FMTTYPE=image/jpeg:https://swanscombeandgreenhithetowncouncil.gov.uk/wp-content/uploads/2022/06/77.2022-Catzout-Choir-22-June.jpg
ORGANIZER;CN="Walk_Tall":MAILTO:info@walk-tall.org.uk
END:VEVENT
BEGIN:VEVENT
DTSTART;TZID=Europe/London:20270812T163000
DTEND;TZID=Europe/London:20270812T184500
DTSTAMP:20260422T025918
CREATED:20240424T184458Z
LAST-MODIFIED:20241219T091149Z
UID:10015979-1818088200-1818096300@swanscombeandgreenhithetowncouncil.gov.uk
SUMMARY:Walk Tall - Drama Project for young people
DESCRIPTION:
URL:https://swanscombeandgreenhithetowncouncil.gov.uk/event/walk-tall-drama-project-for-young-people-2-2/2027-08-12/
LOCATION:Heritage Community Hall\, 22 Craylands Ln\, Swanscombe DA10 0LP\, United Kingdom\, United Kingdom
CATEGORIES:Community Event
ATTACH;FMTTYPE=image/jpeg:https://swanscombeandgreenhithetowncouncil.gov.uk/wp-content/uploads/2023/02/93.2023-new-project-Thursdays.jpg
ORGANIZER;CN="Walk Tall":MAILTO:arts@walk-tall.org.uk
END:VEVENT
END:VCALENDAR