BEGIN:VCALENDAR
VERSION:2.0
PRODID:-//Swanscombe and Greenhithe Town Council - ECPv6.15.20//NONSGML v1.0//EN
CALSCALE:GREGORIAN
METHOD:PUBLISH
X-ORIGINAL-URL:https://swanscombeandgreenhithetowncouncil.gov.uk
X-WR-CALDESC:Events for Swanscombe and Greenhithe Town Council
REFRESH-INTERVAL;VALUE=DURATION:PT1H
X-Robots-Tag:noindex
X-PUBLISHED-TTL:PT1H
BEGIN:VTIMEZONE
TZID:Europe/London
BEGIN:DAYLIGHT
TZOFFSETFROM:+0000
TZOFFSETTO:+0100
TZNAME:BST
DTSTART:20260329T010000
END:DAYLIGHT
BEGIN:STANDARD
TZOFFSETFROM:+0100
TZOFFSETTO:+0000
TZNAME:GMT
DTSTART:20261025T010000
END:STANDARD
BEGIN:DAYLIGHT
TZOFFSETFROM:+0000
TZOFFSETTO:+0100
TZNAME:BST
DTSTART:20270328T010000
END:DAYLIGHT
BEGIN:STANDARD
TZOFFSETFROM:+0100
TZOFFSETTO:+0000
TZNAME:GMT
DTSTART:20271031T010000
END:STANDARD
BEGIN:DAYLIGHT
TZOFFSETFROM:+0000
TZOFFSETTO:+0100
TZNAME:BST
DTSTART:20280326T010000
END:DAYLIGHT
BEGIN:STANDARD
TZOFFSETFROM:+0100
TZOFFSETTO:+0000
TZNAME:GMT
DTSTART:20281029T010000
END:STANDARD
BEGIN:DAYLIGHT
TZOFFSETFROM:+0000
TZOFFSETTO:+0100
TZNAME:BST
DTSTART:20290325T010000
END:DAYLIGHT
BEGIN:STANDARD
TZOFFSETFROM:+0100
TZOFFSETTO:+0000
TZNAME:GMT
DTSTART:20291028T010000
END:STANDARD
END:VTIMEZONE
BEGIN:VEVENT
DTSTART;TZID=Europe/London:20271201T190000
DTEND;TZID=Europe/London:20271201T203000
DTSTAMP:20260422T113507
CREATED:20240313T165459Z
LAST-MODIFIED:20241219T090929Z
UID:10013596-1827687600-1827693000@swanscombeandgreenhithetowncouncil.gov.uk
SUMMARY:Catzout Community Choir  - Wednesdays 7pm to 8.30pm
DESCRIPTION:
URL:https://swanscombeandgreenhithetowncouncil.gov.uk/event/catzout-community-choir-wednesdays-7pm-to-8-30pm-2/2027-12-01/
LOCATION:Heritage Community Hall\, 22 Craylands Ln\, Swanscombe DA10 0LP\, United Kingdom\, United Kingdom
CATEGORIES:Community Event
ATTACH;FMTTYPE=image/jpeg:https://swanscombeandgreenhithetowncouncil.gov.uk/wp-content/uploads/2022/06/77.2022-Catzout-Choir-22-June.jpg
ORGANIZER;CN="Walk_Tall":MAILTO:info@walk-tall.org.uk
END:VEVENT
BEGIN:VEVENT
DTSTART;TZID=Europe/London:20271202T163000
DTEND;TZID=Europe/London:20271202T184500
DTSTAMP:20260422T113507
CREATED:20240424T184458Z
LAST-MODIFIED:20241219T091149Z
UID:10015995-1827765000-1827773100@swanscombeandgreenhithetowncouncil.gov.uk
SUMMARY:Walk Tall - Drama Project for young people
DESCRIPTION:
URL:https://swanscombeandgreenhithetowncouncil.gov.uk/event/walk-tall-drama-project-for-young-people-2-2/2027-12-02/
LOCATION:Heritage Community Hall\, 22 Craylands Ln\, Swanscombe DA10 0LP\, United Kingdom\, United Kingdom
CATEGORIES:Community Event
ATTACH;FMTTYPE=image/jpeg:https://swanscombeandgreenhithetowncouncil.gov.uk/wp-content/uploads/2023/02/93.2023-new-project-Thursdays.jpg
ORGANIZER;CN="Walk Tall":MAILTO:arts@walk-tall.org.uk
END:VEVENT
BEGIN:VEVENT
DTSTART;TZID=Europe/London:20271208T190000
DTEND;TZID=Europe/London:20271208T203000
DTSTAMP:20260422T113507
CREATED:20240313T165459Z
LAST-MODIFIED:20241219T090929Z
UID:10013597-1828292400-1828297800@swanscombeandgreenhithetowncouncil.gov.uk
SUMMARY:Catzout Community Choir  - Wednesdays 7pm to 8.30pm
DESCRIPTION:
URL:https://swanscombeandgreenhithetowncouncil.gov.uk/event/catzout-community-choir-wednesdays-7pm-to-8-30pm-2/2027-12-08/
LOCATION:Heritage Community Hall\, 22 Craylands Ln\, Swanscombe DA10 0LP\, United Kingdom\, United Kingdom
CATEGORIES:Community Event
ATTACH;FMTTYPE=image/jpeg:https://swanscombeandgreenhithetowncouncil.gov.uk/wp-content/uploads/2022/06/77.2022-Catzout-Choir-22-June.jpg
ORGANIZER;CN="Walk_Tall":MAILTO:info@walk-tall.org.uk
END:VEVENT
BEGIN:VEVENT
DTSTART;TZID=Europe/London:20271209T163000
DTEND;TZID=Europe/London:20271209T184500
DTSTAMP:20260422T113507
CREATED:20240424T184458Z
LAST-MODIFIED:20241219T091149Z
UID:10015996-1828369800-1828377900@swanscombeandgreenhithetowncouncil.gov.uk
SUMMARY:Walk Tall - Drama Project for young people
DESCRIPTION:
URL:https://swanscombeandgreenhithetowncouncil.gov.uk/event/walk-tall-drama-project-for-young-people-2-2/2027-12-09/
LOCATION:Heritage Community Hall\, 22 Craylands Ln\, Swanscombe DA10 0LP\, United Kingdom\, United Kingdom
CATEGORIES:Community Event
ATTACH;FMTTYPE=image/jpeg:https://swanscombeandgreenhithetowncouncil.gov.uk/wp-content/uploads/2023/02/93.2023-new-project-Thursdays.jpg
ORGANIZER;CN="Walk Tall":MAILTO:arts@walk-tall.org.uk
END:VEVENT
BEGIN:VEVENT
DTSTART;TZID=Europe/London:20271215T190000
DTEND;TZID=Europe/London:20271215T203000
DTSTAMP:20260422T113507
CREATED:20240313T165459Z
LAST-MODIFIED:20241219T090929Z
UID:10013598-1828897200-1828902600@swanscombeandgreenhithetowncouncil.gov.uk
SUMMARY:Catzout Community Choir  - Wednesdays 7pm to 8.30pm
DESCRIPTION:
URL:https://swanscombeandgreenhithetowncouncil.gov.uk/event/catzout-community-choir-wednesdays-7pm-to-8-30pm-2/2027-12-15/
LOCATION:Heritage Community Hall\, 22 Craylands Ln\, Swanscombe DA10 0LP\, United Kingdom\, United Kingdom
CATEGORIES:Community Event
ATTACH;FMTTYPE=image/jpeg:https://swanscombeandgreenhithetowncouncil.gov.uk/wp-content/uploads/2022/06/77.2022-Catzout-Choir-22-June.jpg
ORGANIZER;CN="Walk_Tall":MAILTO:info@walk-tall.org.uk
END:VEVENT
BEGIN:VEVENT
DTSTART;TZID=Europe/London:20271216T163000
DTEND;TZID=Europe/London:20271216T184500
DTSTAMP:20260422T113507
CREATED:20240424T184458Z
LAST-MODIFIED:20241219T091149Z
UID:10015997-1828974600-1828982700@swanscombeandgreenhithetowncouncil.gov.uk
SUMMARY:Walk Tall - Drama Project for young people
DESCRIPTION:
URL:https://swanscombeandgreenhithetowncouncil.gov.uk/event/walk-tall-drama-project-for-young-people-2-2/2027-12-16/
LOCATION:Heritage Community Hall\, 22 Craylands Ln\, Swanscombe DA10 0LP\, United Kingdom\, United Kingdom
CATEGORIES:Community Event
ATTACH;FMTTYPE=image/jpeg:https://swanscombeandgreenhithetowncouncil.gov.uk/wp-content/uploads/2023/02/93.2023-new-project-Thursdays.jpg
ORGANIZER;CN="Walk Tall":MAILTO:arts@walk-tall.org.uk
END:VEVENT
BEGIN:VEVENT
DTSTART;TZID=Europe/London:20271222T190000
DTEND;TZID=Europe/London:20271222T203000
DTSTAMP:20260422T113507
CREATED:20240313T165459Z
LAST-MODIFIED:20241219T090929Z
UID:10013599-1829502000-1829507400@swanscombeandgreenhithetowncouncil.gov.uk
SUMMARY:Catzout Community Choir  - Wednesdays 7pm to 8.30pm
DESCRIPTION:
URL:https://swanscombeandgreenhithetowncouncil.gov.uk/event/catzout-community-choir-wednesdays-7pm-to-8-30pm-2/2027-12-22/
LOCATION:Heritage Community Hall\, 22 Craylands Ln\, Swanscombe DA10 0LP\, United Kingdom\, United Kingdom
CATEGORIES:Community Event
ATTACH;FMTTYPE=image/jpeg:https://swanscombeandgreenhithetowncouncil.gov.uk/wp-content/uploads/2022/06/77.2022-Catzout-Choir-22-June.jpg
ORGANIZER;CN="Walk_Tall":MAILTO:info@walk-tall.org.uk
END:VEVENT
BEGIN:VEVENT
DTSTART;TZID=Europe/London:20271223T163000
DTEND;TZID=Europe/London:20271223T184500
DTSTAMP:20260422T113507
CREATED:20240424T184458Z
LAST-MODIFIED:20241219T091149Z
UID:10015998-1829579400-1829587500@swanscombeandgreenhithetowncouncil.gov.uk
SUMMARY:Walk Tall - Drama Project for young people
DESCRIPTION:
URL:https://swanscombeandgreenhithetowncouncil.gov.uk/event/walk-tall-drama-project-for-young-people-2-2/2027-12-23/
LOCATION:Heritage Community Hall\, 22 Craylands Ln\, Swanscombe DA10 0LP\, United Kingdom\, United Kingdom
CATEGORIES:Community Event
ATTACH;FMTTYPE=image/jpeg:https://swanscombeandgreenhithetowncouncil.gov.uk/wp-content/uploads/2023/02/93.2023-new-project-Thursdays.jpg
ORGANIZER;CN="Walk Tall":MAILTO:arts@walk-tall.org.uk
END:VEVENT
BEGIN:VEVENT
DTSTART;TZID=Europe/London:20271229T190000
DTEND;TZID=Europe/London:20271229T203000
DTSTAMP:20260422T113507
CREATED:20240313T165459Z
LAST-MODIFIED:20241219T090929Z
UID:10013600-1830106800-1830112200@swanscombeandgreenhithetowncouncil.gov.uk
SUMMARY:Catzout Community Choir  - Wednesdays 7pm to 8.30pm
DESCRIPTION:
URL:https://swanscombeandgreenhithetowncouncil.gov.uk/event/catzout-community-choir-wednesdays-7pm-to-8-30pm-2/2027-12-29/
LOCATION:Heritage Community Hall\, 22 Craylands Ln\, Swanscombe DA10 0LP\, United Kingdom\, United Kingdom
CATEGORIES:Community Event
ATTACH;FMTTYPE=image/jpeg:https://swanscombeandgreenhithetowncouncil.gov.uk/wp-content/uploads/2022/06/77.2022-Catzout-Choir-22-June.jpg
ORGANIZER;CN="Walk_Tall":MAILTO:info@walk-tall.org.uk
END:VEVENT
BEGIN:VEVENT
DTSTART;TZID=Europe/London:20271230T163000
DTEND;TZID=Europe/London:20271230T184500
DTSTAMP:20260422T113507
CREATED:20240424T184458Z
LAST-MODIFIED:20241219T091149Z
UID:10015999-1830184200-1830192300@swanscombeandgreenhithetowncouncil.gov.uk
SUMMARY:Walk Tall - Drama Project for young people
DESCRIPTION:
URL:https://swanscombeandgreenhithetowncouncil.gov.uk/event/walk-tall-drama-project-for-young-people-2-2/2027-12-30/
LOCATION:Heritage Community Hall\, 22 Craylands Ln\, Swanscombe DA10 0LP\, United Kingdom\, United Kingdom
CATEGORIES:Community Event
ATTACH;FMTTYPE=image/jpeg:https://swanscombeandgreenhithetowncouncil.gov.uk/wp-content/uploads/2023/02/93.2023-new-project-Thursdays.jpg
ORGANIZER;CN="Walk Tall":MAILTO:arts@walk-tall.org.uk
END:VEVENT
BEGIN:VEVENT
DTSTART;TZID=Europe/London:20280105T190000
DTEND;TZID=Europe/London:20280105T203000
DTSTAMP:20260422T113507
CREATED:20240313T165459Z
LAST-MODIFIED:20241219T090929Z
UID:10013601-1830711600-1830717000@swanscombeandgreenhithetowncouncil.gov.uk
SUMMARY:Catzout Community Choir  - Wednesdays 7pm to 8.30pm
DESCRIPTION:
URL:https://swanscombeandgreenhithetowncouncil.gov.uk/event/catzout-community-choir-wednesdays-7pm-to-8-30pm-2/2028-01-05/
LOCATION:Heritage Community Hall\, 22 Craylands Ln\, Swanscombe DA10 0LP\, United Kingdom\, United Kingdom
CATEGORIES:Community Event
ATTACH;FMTTYPE=image/jpeg:https://swanscombeandgreenhithetowncouncil.gov.uk/wp-content/uploads/2022/06/77.2022-Catzout-Choir-22-June.jpg
ORGANIZER;CN="Walk_Tall":MAILTO:info@walk-tall.org.uk
END:VEVENT
BEGIN:VEVENT
DTSTART;TZID=Europe/London:20280106T163000
DTEND;TZID=Europe/London:20280106T184500
DTSTAMP:20260422T113507
CREATED:20240424T184458Z
LAST-MODIFIED:20241219T091149Z
UID:10016000-1830789000-1830797100@swanscombeandgreenhithetowncouncil.gov.uk
SUMMARY:Walk Tall - Drama Project for young people
DESCRIPTION:
URL:https://swanscombeandgreenhithetowncouncil.gov.uk/event/walk-tall-drama-project-for-young-people-2-2/2028-01-06/
LOCATION:Heritage Community Hall\, 22 Craylands Ln\, Swanscombe DA10 0LP\, United Kingdom\, United Kingdom
CATEGORIES:Community Event
ATTACH;FMTTYPE=image/jpeg:https://swanscombeandgreenhithetowncouncil.gov.uk/wp-content/uploads/2023/02/93.2023-new-project-Thursdays.jpg
ORGANIZER;CN="Walk Tall":MAILTO:arts@walk-tall.org.uk
END:VEVENT
BEGIN:VEVENT
DTSTART;TZID=Europe/London:20280112T190000
DTEND;TZID=Europe/London:20280112T203000
DTSTAMP:20260422T113507
CREATED:20240313T165459Z
LAST-MODIFIED:20241219T090929Z
UID:10013602-1831316400-1831321800@swanscombeandgreenhithetowncouncil.gov.uk
SUMMARY:Catzout Community Choir  - Wednesdays 7pm to 8.30pm
DESCRIPTION:
URL:https://swanscombeandgreenhithetowncouncil.gov.uk/event/catzout-community-choir-wednesdays-7pm-to-8-30pm-2/2028-01-12/
LOCATION:Heritage Community Hall\, 22 Craylands Ln\, Swanscombe DA10 0LP\, United Kingdom\, United Kingdom
CATEGORIES:Community Event
ATTACH;FMTTYPE=image/jpeg:https://swanscombeandgreenhithetowncouncil.gov.uk/wp-content/uploads/2022/06/77.2022-Catzout-Choir-22-June.jpg
ORGANIZER;CN="Walk_Tall":MAILTO:info@walk-tall.org.uk
END:VEVENT
BEGIN:VEVENT
DTSTART;TZID=Europe/London:20280113T163000
DTEND;TZID=Europe/London:20280113T184500
DTSTAMP:20260422T113507
CREATED:20240424T184458Z
LAST-MODIFIED:20241219T091149Z
UID:10016001-1831393800-1831401900@swanscombeandgreenhithetowncouncil.gov.uk
SUMMARY:Walk Tall - Drama Project for young people
DESCRIPTION:
URL:https://swanscombeandgreenhithetowncouncil.gov.uk/event/walk-tall-drama-project-for-young-people-2-2/2028-01-13/
LOCATION:Heritage Community Hall\, 22 Craylands Ln\, Swanscombe DA10 0LP\, United Kingdom\, United Kingdom
CATEGORIES:Community Event
ATTACH;FMTTYPE=image/jpeg:https://swanscombeandgreenhithetowncouncil.gov.uk/wp-content/uploads/2023/02/93.2023-new-project-Thursdays.jpg
ORGANIZER;CN="Walk Tall":MAILTO:arts@walk-tall.org.uk
END:VEVENT
BEGIN:VEVENT
DTSTART;TZID=Europe/London:20280119T190000
DTEND;TZID=Europe/London:20280119T203000
DTSTAMP:20260422T113507
CREATED:20240313T165459Z
LAST-MODIFIED:20241219T090929Z
UID:10013603-1831921200-1831926600@swanscombeandgreenhithetowncouncil.gov.uk
SUMMARY:Catzout Community Choir  - Wednesdays 7pm to 8.30pm
DESCRIPTION:
URL:https://swanscombeandgreenhithetowncouncil.gov.uk/event/catzout-community-choir-wednesdays-7pm-to-8-30pm-2/2028-01-19/
LOCATION:Heritage Community Hall\, 22 Craylands Ln\, Swanscombe DA10 0LP\, United Kingdom\, United Kingdom
CATEGORIES:Community Event
ATTACH;FMTTYPE=image/jpeg:https://swanscombeandgreenhithetowncouncil.gov.uk/wp-content/uploads/2022/06/77.2022-Catzout-Choir-22-June.jpg
ORGANIZER;CN="Walk_Tall":MAILTO:info@walk-tall.org.uk
END:VEVENT
BEGIN:VEVENT
DTSTART;TZID=Europe/London:20280120T163000
DTEND;TZID=Europe/London:20280120T184500
DTSTAMP:20260422T113507
CREATED:20240424T184458Z
LAST-MODIFIED:20241219T091149Z
UID:10016002-1831998600-1832006700@swanscombeandgreenhithetowncouncil.gov.uk
SUMMARY:Walk Tall - Drama Project for young people
DESCRIPTION:
URL:https://swanscombeandgreenhithetowncouncil.gov.uk/event/walk-tall-drama-project-for-young-people-2-2/2028-01-20/
LOCATION:Heritage Community Hall\, 22 Craylands Ln\, Swanscombe DA10 0LP\, United Kingdom\, United Kingdom
CATEGORIES:Community Event
ATTACH;FMTTYPE=image/jpeg:https://swanscombeandgreenhithetowncouncil.gov.uk/wp-content/uploads/2023/02/93.2023-new-project-Thursdays.jpg
ORGANIZER;CN="Walk Tall":MAILTO:arts@walk-tall.org.uk
END:VEVENT
BEGIN:VEVENT
DTSTART;TZID=Europe/London:20280126T190000
DTEND;TZID=Europe/London:20280126T203000
DTSTAMP:20260422T113507
CREATED:20240313T165459Z
LAST-MODIFIED:20241219T090929Z
UID:10013604-1832526000-1832531400@swanscombeandgreenhithetowncouncil.gov.uk
SUMMARY:Catzout Community Choir  - Wednesdays 7pm to 8.30pm
DESCRIPTION:
URL:https://swanscombeandgreenhithetowncouncil.gov.uk/event/catzout-community-choir-wednesdays-7pm-to-8-30pm-2/2028-01-26/
LOCATION:Heritage Community Hall\, 22 Craylands Ln\, Swanscombe DA10 0LP\, United Kingdom\, United Kingdom
CATEGORIES:Community Event
ATTACH;FMTTYPE=image/jpeg:https://swanscombeandgreenhithetowncouncil.gov.uk/wp-content/uploads/2022/06/77.2022-Catzout-Choir-22-June.jpg
ORGANIZER;CN="Walk_Tall":MAILTO:info@walk-tall.org.uk
END:VEVENT
BEGIN:VEVENT
DTSTART;TZID=Europe/London:20280127T163000
DTEND;TZID=Europe/London:20280127T184500
DTSTAMP:20260422T113507
CREATED:20240424T184458Z
LAST-MODIFIED:20241219T091149Z
UID:10016003-1832603400-1832611500@swanscombeandgreenhithetowncouncil.gov.uk
SUMMARY:Walk Tall - Drama Project for young people
DESCRIPTION:
URL:https://swanscombeandgreenhithetowncouncil.gov.uk/event/walk-tall-drama-project-for-young-people-2-2/2028-01-27/
LOCATION:Heritage Community Hall\, 22 Craylands Ln\, Swanscombe DA10 0LP\, United Kingdom\, United Kingdom
CATEGORIES:Community Event
ATTACH;FMTTYPE=image/jpeg:https://swanscombeandgreenhithetowncouncil.gov.uk/wp-content/uploads/2023/02/93.2023-new-project-Thursdays.jpg
ORGANIZER;CN="Walk Tall":MAILTO:arts@walk-tall.org.uk
END:VEVENT
BEGIN:VEVENT
DTSTART;TZID=Europe/London:20280202T190000
DTEND;TZID=Europe/London:20280202T203000
DTSTAMP:20260422T113507
CREATED:20240313T165459Z
LAST-MODIFIED:20241219T090929Z
UID:10013605-1833130800-1833136200@swanscombeandgreenhithetowncouncil.gov.uk
SUMMARY:Catzout Community Choir  - Wednesdays 7pm to 8.30pm
DESCRIPTION:
URL:https://swanscombeandgreenhithetowncouncil.gov.uk/event/catzout-community-choir-wednesdays-7pm-to-8-30pm-2/2028-02-02/
LOCATION:Heritage Community Hall\, 22 Craylands Ln\, Swanscombe DA10 0LP\, United Kingdom\, United Kingdom
CATEGORIES:Community Event
ATTACH;FMTTYPE=image/jpeg:https://swanscombeandgreenhithetowncouncil.gov.uk/wp-content/uploads/2022/06/77.2022-Catzout-Choir-22-June.jpg
ORGANIZER;CN="Walk_Tall":MAILTO:info@walk-tall.org.uk
END:VEVENT
BEGIN:VEVENT
DTSTART;TZID=Europe/London:20280203T163000
DTEND;TZID=Europe/London:20280203T184500
DTSTAMP:20260422T113507
CREATED:20240424T184458Z
LAST-MODIFIED:20241219T091149Z
UID:10016004-1833208200-1833216300@swanscombeandgreenhithetowncouncil.gov.uk
SUMMARY:Walk Tall - Drama Project for young people
DESCRIPTION:
URL:https://swanscombeandgreenhithetowncouncil.gov.uk/event/walk-tall-drama-project-for-young-people-2-2/2028-02-03/
LOCATION:Heritage Community Hall\, 22 Craylands Ln\, Swanscombe DA10 0LP\, United Kingdom\, United Kingdom
CATEGORIES:Community Event
ATTACH;FMTTYPE=image/jpeg:https://swanscombeandgreenhithetowncouncil.gov.uk/wp-content/uploads/2023/02/93.2023-new-project-Thursdays.jpg
ORGANIZER;CN="Walk Tall":MAILTO:arts@walk-tall.org.uk
END:VEVENT
BEGIN:VEVENT
DTSTART;TZID=Europe/London:20280209T190000
DTEND;TZID=Europe/London:20280209T203000
DTSTAMP:20260422T113507
CREATED:20240313T165459Z
LAST-MODIFIED:20241219T090929Z
UID:10013606-1833735600-1833741000@swanscombeandgreenhithetowncouncil.gov.uk
SUMMARY:Catzout Community Choir  - Wednesdays 7pm to 8.30pm
DESCRIPTION:
URL:https://swanscombeandgreenhithetowncouncil.gov.uk/event/catzout-community-choir-wednesdays-7pm-to-8-30pm-2/2028-02-09/
LOCATION:Heritage Community Hall\, 22 Craylands Ln\, Swanscombe DA10 0LP\, United Kingdom\, United Kingdom
CATEGORIES:Community Event
ATTACH;FMTTYPE=image/jpeg:https://swanscombeandgreenhithetowncouncil.gov.uk/wp-content/uploads/2022/06/77.2022-Catzout-Choir-22-June.jpg
ORGANIZER;CN="Walk_Tall":MAILTO:info@walk-tall.org.uk
END:VEVENT
BEGIN:VEVENT
DTSTART;TZID=Europe/London:20280210T163000
DTEND;TZID=Europe/London:20280210T184500
DTSTAMP:20260422T113507
CREATED:20240424T184458Z
LAST-MODIFIED:20241219T091149Z
UID:10016005-1833813000-1833821100@swanscombeandgreenhithetowncouncil.gov.uk
SUMMARY:Walk Tall - Drama Project for young people
DESCRIPTION:
URL:https://swanscombeandgreenhithetowncouncil.gov.uk/event/walk-tall-drama-project-for-young-people-2-2/2028-02-10/
LOCATION:Heritage Community Hall\, 22 Craylands Ln\, Swanscombe DA10 0LP\, United Kingdom\, United Kingdom
CATEGORIES:Community Event
ATTACH;FMTTYPE=image/jpeg:https://swanscombeandgreenhithetowncouncil.gov.uk/wp-content/uploads/2023/02/93.2023-new-project-Thursdays.jpg
ORGANIZER;CN="Walk Tall":MAILTO:arts@walk-tall.org.uk
END:VEVENT
BEGIN:VEVENT
DTSTART;TZID=Europe/London:20280216T190000
DTEND;TZID=Europe/London:20280216T203000
DTSTAMP:20260422T113507
CREATED:20240313T165459Z
LAST-MODIFIED:20241219T090929Z
UID:10013607-1834340400-1834345800@swanscombeandgreenhithetowncouncil.gov.uk
SUMMARY:Catzout Community Choir  - Wednesdays 7pm to 8.30pm
DESCRIPTION:
URL:https://swanscombeandgreenhithetowncouncil.gov.uk/event/catzout-community-choir-wednesdays-7pm-to-8-30pm-2/2028-02-16/
LOCATION:Heritage Community Hall\, 22 Craylands Ln\, Swanscombe DA10 0LP\, United Kingdom\, United Kingdom
CATEGORIES:Community Event
ATTACH;FMTTYPE=image/jpeg:https://swanscombeandgreenhithetowncouncil.gov.uk/wp-content/uploads/2022/06/77.2022-Catzout-Choir-22-June.jpg
ORGANIZER;CN="Walk_Tall":MAILTO:info@walk-tall.org.uk
END:VEVENT
BEGIN:VEVENT
DTSTART;TZID=Europe/London:20280217T163000
DTEND;TZID=Europe/London:20280217T184500
DTSTAMP:20260422T113507
CREATED:20240424T184458Z
LAST-MODIFIED:20241219T091149Z
UID:10016006-1834417800-1834425900@swanscombeandgreenhithetowncouncil.gov.uk
SUMMARY:Walk Tall - Drama Project for young people
DESCRIPTION:
URL:https://swanscombeandgreenhithetowncouncil.gov.uk/event/walk-tall-drama-project-for-young-people-2-2/2028-02-17/
LOCATION:Heritage Community Hall\, 22 Craylands Ln\, Swanscombe DA10 0LP\, United Kingdom\, United Kingdom
CATEGORIES:Community Event
ATTACH;FMTTYPE=image/jpeg:https://swanscombeandgreenhithetowncouncil.gov.uk/wp-content/uploads/2023/02/93.2023-new-project-Thursdays.jpg
ORGANIZER;CN="Walk Tall":MAILTO:arts@walk-tall.org.uk
END:VEVENT
BEGIN:VEVENT
DTSTART;TZID=Europe/London:20280223T190000
DTEND;TZID=Europe/London:20280223T203000
DTSTAMP:20260422T113507
CREATED:20240313T165459Z
LAST-MODIFIED:20241219T090929Z
UID:10013608-1834945200-1834950600@swanscombeandgreenhithetowncouncil.gov.uk
SUMMARY:Catzout Community Choir  - Wednesdays 7pm to 8.30pm
DESCRIPTION:
URL:https://swanscombeandgreenhithetowncouncil.gov.uk/event/catzout-community-choir-wednesdays-7pm-to-8-30pm-2/2028-02-23/
LOCATION:Heritage Community Hall\, 22 Craylands Ln\, Swanscombe DA10 0LP\, United Kingdom\, United Kingdom
CATEGORIES:Community Event
ATTACH;FMTTYPE=image/jpeg:https://swanscombeandgreenhithetowncouncil.gov.uk/wp-content/uploads/2022/06/77.2022-Catzout-Choir-22-June.jpg
ORGANIZER;CN="Walk_Tall":MAILTO:info@walk-tall.org.uk
END:VEVENT
BEGIN:VEVENT
DTSTART;TZID=Europe/London:20280224T163000
DTEND;TZID=Europe/London:20280224T184500
DTSTAMP:20260422T113507
CREATED:20240424T184458Z
LAST-MODIFIED:20241219T091149Z
UID:10016007-1835022600-1835030700@swanscombeandgreenhithetowncouncil.gov.uk
SUMMARY:Walk Tall - Drama Project for young people
DESCRIPTION:
URL:https://swanscombeandgreenhithetowncouncil.gov.uk/event/walk-tall-drama-project-for-young-people-2-2/2028-02-24/
LOCATION:Heritage Community Hall\, 22 Craylands Ln\, Swanscombe DA10 0LP\, United Kingdom\, United Kingdom
CATEGORIES:Community Event
ATTACH;FMTTYPE=image/jpeg:https://swanscombeandgreenhithetowncouncil.gov.uk/wp-content/uploads/2023/02/93.2023-new-project-Thursdays.jpg
ORGANIZER;CN="Walk Tall":MAILTO:arts@walk-tall.org.uk
END:VEVENT
BEGIN:VEVENT
DTSTART;TZID=Europe/London:20280301T190000
DTEND;TZID=Europe/London:20280301T203000
DTSTAMP:20260422T113507
CREATED:20240313T165459Z
LAST-MODIFIED:20241219T090929Z
UID:10013609-1835550000-1835555400@swanscombeandgreenhithetowncouncil.gov.uk
SUMMARY:Catzout Community Choir  - Wednesdays 7pm to 8.30pm
DESCRIPTION:
URL:https://swanscombeandgreenhithetowncouncil.gov.uk/event/catzout-community-choir-wednesdays-7pm-to-8-30pm-2/2028-03-01/
LOCATION:Heritage Community Hall\, 22 Craylands Ln\, Swanscombe DA10 0LP\, United Kingdom\, United Kingdom
CATEGORIES:Community Event
ATTACH;FMTTYPE=image/jpeg:https://swanscombeandgreenhithetowncouncil.gov.uk/wp-content/uploads/2022/06/77.2022-Catzout-Choir-22-June.jpg
ORGANIZER;CN="Walk_Tall":MAILTO:info@walk-tall.org.uk
END:VEVENT
BEGIN:VEVENT
DTSTART;TZID=Europe/London:20280302T163000
DTEND;TZID=Europe/London:20280302T184500
DTSTAMP:20260422T113507
CREATED:20240424T184458Z
LAST-MODIFIED:20241219T091149Z
UID:10016008-1835627400-1835635500@swanscombeandgreenhithetowncouncil.gov.uk
SUMMARY:Walk Tall - Drama Project for young people
DESCRIPTION:
URL:https://swanscombeandgreenhithetowncouncil.gov.uk/event/walk-tall-drama-project-for-young-people-2-2/2028-03-02/
LOCATION:Heritage Community Hall\, 22 Craylands Ln\, Swanscombe DA10 0LP\, United Kingdom\, United Kingdom
CATEGORIES:Community Event
ATTACH;FMTTYPE=image/jpeg:https://swanscombeandgreenhithetowncouncil.gov.uk/wp-content/uploads/2023/02/93.2023-new-project-Thursdays.jpg
ORGANIZER;CN="Walk Tall":MAILTO:arts@walk-tall.org.uk
END:VEVENT
BEGIN:VEVENT
DTSTART;TZID=Europe/London:20280308T190000
DTEND;TZID=Europe/London:20280308T203000
DTSTAMP:20260422T113507
CREATED:20240313T165459Z
LAST-MODIFIED:20241219T090929Z
UID:10013610-1836154800-1836160200@swanscombeandgreenhithetowncouncil.gov.uk
SUMMARY:Catzout Community Choir  - Wednesdays 7pm to 8.30pm
DESCRIPTION:
URL:https://swanscombeandgreenhithetowncouncil.gov.uk/event/catzout-community-choir-wednesdays-7pm-to-8-30pm-2/2028-03-08/
LOCATION:Heritage Community Hall\, 22 Craylands Ln\, Swanscombe DA10 0LP\, United Kingdom\, United Kingdom
CATEGORIES:Community Event
ATTACH;FMTTYPE=image/jpeg:https://swanscombeandgreenhithetowncouncil.gov.uk/wp-content/uploads/2022/06/77.2022-Catzout-Choir-22-June.jpg
ORGANIZER;CN="Walk_Tall":MAILTO:info@walk-tall.org.uk
END:VEVENT
BEGIN:VEVENT
DTSTART;TZID=Europe/London:20280309T163000
DTEND;TZID=Europe/London:20280309T184500
DTSTAMP:20260422T113507
CREATED:20240424T184458Z
LAST-MODIFIED:20241219T091149Z
UID:10016009-1836232200-1836240300@swanscombeandgreenhithetowncouncil.gov.uk
SUMMARY:Walk Tall - Drama Project for young people
DESCRIPTION:
URL:https://swanscombeandgreenhithetowncouncil.gov.uk/event/walk-tall-drama-project-for-young-people-2-2/2028-03-09/
LOCATION:Heritage Community Hall\, 22 Craylands Ln\, Swanscombe DA10 0LP\, United Kingdom\, United Kingdom
CATEGORIES:Community Event
ATTACH;FMTTYPE=image/jpeg:https://swanscombeandgreenhithetowncouncil.gov.uk/wp-content/uploads/2023/02/93.2023-new-project-Thursdays.jpg
ORGANIZER;CN="Walk Tall":MAILTO:arts@walk-tall.org.uk
END:VEVENT
END:VCALENDAR