BEGIN:VCALENDAR
VERSION:2.0
PRODID:-//Swanscombe and Greenhithe Town Council - ECPv6.15.20//NONSGML v1.0//EN
CALSCALE:GREGORIAN
METHOD:PUBLISH
X-ORIGINAL-URL:https://swanscombeandgreenhithetowncouncil.gov.uk
X-WR-CALDESC:Events for Swanscombe and Greenhithe Town Council
REFRESH-INTERVAL;VALUE=DURATION:PT1H
X-Robots-Tag:noindex
X-PUBLISHED-TTL:PT1H
BEGIN:VTIMEZONE
TZID:Europe/London
BEGIN:DAYLIGHT
TZOFFSETFROM:+0000
TZOFFSETTO:+0100
TZNAME:BST
DTSTART:20280326T010000
END:DAYLIGHT
BEGIN:STANDARD
TZOFFSETFROM:+0100
TZOFFSETTO:+0000
TZNAME:GMT
DTSTART:20281029T010000
END:STANDARD
BEGIN:DAYLIGHT
TZOFFSETFROM:+0000
TZOFFSETTO:+0100
TZNAME:BST
DTSTART:20290325T010000
END:DAYLIGHT
BEGIN:STANDARD
TZOFFSETFROM:+0100
TZOFFSETTO:+0000
TZNAME:GMT
DTSTART:20291028T010000
END:STANDARD
BEGIN:DAYLIGHT
TZOFFSETFROM:+0000
TZOFFSETTO:+0100
TZNAME:BST
DTSTART:20300331T010000
END:DAYLIGHT
BEGIN:STANDARD
TZOFFSETFROM:+0100
TZOFFSETTO:+0000
TZNAME:GMT
DTSTART:20301027T010000
END:STANDARD
END:VTIMEZONE
BEGIN:VEVENT
DTSTART;TZID=Europe/London:20291115T163000
DTEND;TZID=Europe/London:20291115T184500
DTSTAMP:20260423T170156
CREATED:20240424T184458Z
LAST-MODIFIED:20241219T091149Z
UID:10023112-1889454600-1889462700@swanscombeandgreenhithetowncouncil.gov.uk
SUMMARY:Walk Tall - Drama Project for young people
DESCRIPTION:
URL:https://swanscombeandgreenhithetowncouncil.gov.uk/event/walk-tall-drama-project-for-young-people-2-2/2029-11-15/
LOCATION:Heritage Community Hall\, 22 Craylands Ln\, Swanscombe DA10 0LP\, United Kingdom\, United Kingdom
CATEGORIES:Community Event
ATTACH;FMTTYPE=image/jpeg:https://swanscombeandgreenhithetowncouncil.gov.uk/wp-content/uploads/2023/02/93.2023-new-project-Thursdays.jpg
ORGANIZER;CN="Walk Tall":MAILTO:arts@walk-tall.org.uk
END:VEVENT
BEGIN:VEVENT
DTSTART;TZID=Europe/London:20291121T190000
DTEND;TZID=Europe/London:20291121T203000
DTSTAMP:20260423T170156
CREATED:20240313T165459Z
LAST-MODIFIED:20241219T090929Z
UID:10022998-1889982000-1889987400@swanscombeandgreenhithetowncouncil.gov.uk
SUMMARY:Catzout Community Choir  - Wednesdays 7pm to 8.30pm
DESCRIPTION:
URL:https://swanscombeandgreenhithetowncouncil.gov.uk/event/catzout-community-choir-wednesdays-7pm-to-8-30pm-2/2029-11-21/
LOCATION:Heritage Community Hall\, 22 Craylands Ln\, Swanscombe DA10 0LP\, United Kingdom\, United Kingdom
CATEGORIES:Community Event
ATTACH;FMTTYPE=image/jpeg:https://swanscombeandgreenhithetowncouncil.gov.uk/wp-content/uploads/2022/06/77.2022-Catzout-Choir-22-June.jpg
ORGANIZER;CN="Walk_Tall":MAILTO:info@walk-tall.org.uk
END:VEVENT
BEGIN:VEVENT
DTSTART;TZID=Europe/London:20291122T163000
DTEND;TZID=Europe/London:20291122T184500
DTSTAMP:20260423T170156
CREATED:20240424T184458Z
LAST-MODIFIED:20241219T091149Z
UID:10023113-1890059400-1890067500@swanscombeandgreenhithetowncouncil.gov.uk
SUMMARY:Walk Tall - Drama Project for young people
DESCRIPTION:
URL:https://swanscombeandgreenhithetowncouncil.gov.uk/event/walk-tall-drama-project-for-young-people-2-2/2029-11-22/
LOCATION:Heritage Community Hall\, 22 Craylands Ln\, Swanscombe DA10 0LP\, United Kingdom\, United Kingdom
CATEGORIES:Community Event
ATTACH;FMTTYPE=image/jpeg:https://swanscombeandgreenhithetowncouncil.gov.uk/wp-content/uploads/2023/02/93.2023-new-project-Thursdays.jpg
ORGANIZER;CN="Walk Tall":MAILTO:arts@walk-tall.org.uk
END:VEVENT
BEGIN:VEVENT
DTSTART;TZID=Europe/London:20291128T190000
DTEND;TZID=Europe/London:20291128T203000
DTSTAMP:20260423T170156
CREATED:20240313T165459Z
LAST-MODIFIED:20241219T090929Z
UID:10022999-1890586800-1890592200@swanscombeandgreenhithetowncouncil.gov.uk
SUMMARY:Catzout Community Choir  - Wednesdays 7pm to 8.30pm
DESCRIPTION:
URL:https://swanscombeandgreenhithetowncouncil.gov.uk/event/catzout-community-choir-wednesdays-7pm-to-8-30pm-2/2029-11-28/
LOCATION:Heritage Community Hall\, 22 Craylands Ln\, Swanscombe DA10 0LP\, United Kingdom\, United Kingdom
CATEGORIES:Community Event
ATTACH;FMTTYPE=image/jpeg:https://swanscombeandgreenhithetowncouncil.gov.uk/wp-content/uploads/2022/06/77.2022-Catzout-Choir-22-June.jpg
ORGANIZER;CN="Walk_Tall":MAILTO:info@walk-tall.org.uk
END:VEVENT
BEGIN:VEVENT
DTSTART;TZID=Europe/London:20291129T163000
DTEND;TZID=Europe/London:20291129T184500
DTSTAMP:20260423T170156
CREATED:20240424T184458Z
LAST-MODIFIED:20241219T091149Z
UID:10023114-1890664200-1890672300@swanscombeandgreenhithetowncouncil.gov.uk
SUMMARY:Walk Tall - Drama Project for young people
DESCRIPTION:
URL:https://swanscombeandgreenhithetowncouncil.gov.uk/event/walk-tall-drama-project-for-young-people-2-2/2029-11-29/
LOCATION:Heritage Community Hall\, 22 Craylands Ln\, Swanscombe DA10 0LP\, United Kingdom\, United Kingdom
CATEGORIES:Community Event
ATTACH;FMTTYPE=image/jpeg:https://swanscombeandgreenhithetowncouncil.gov.uk/wp-content/uploads/2023/02/93.2023-new-project-Thursdays.jpg
ORGANIZER;CN="Walk Tall":MAILTO:arts@walk-tall.org.uk
END:VEVENT
BEGIN:VEVENT
DTSTART;TZID=Europe/London:20291205T190000
DTEND;TZID=Europe/London:20291205T203000
DTSTAMP:20260423T170156
CREATED:20240313T165459Z
LAST-MODIFIED:20241219T090929Z
UID:10023000-1891191600-1891197000@swanscombeandgreenhithetowncouncil.gov.uk
SUMMARY:Catzout Community Choir  - Wednesdays 7pm to 8.30pm
DESCRIPTION:
URL:https://swanscombeandgreenhithetowncouncil.gov.uk/event/catzout-community-choir-wednesdays-7pm-to-8-30pm-2/2029-12-05/
LOCATION:Heritage Community Hall\, 22 Craylands Ln\, Swanscombe DA10 0LP\, United Kingdom\, United Kingdom
CATEGORIES:Community Event
ATTACH;FMTTYPE=image/jpeg:https://swanscombeandgreenhithetowncouncil.gov.uk/wp-content/uploads/2022/06/77.2022-Catzout-Choir-22-June.jpg
ORGANIZER;CN="Walk_Tall":MAILTO:info@walk-tall.org.uk
END:VEVENT
BEGIN:VEVENT
DTSTART;TZID=Europe/London:20291206T163000
DTEND;TZID=Europe/London:20291206T184500
DTSTAMP:20260423T170156
CREATED:20240424T184458Z
LAST-MODIFIED:20241219T091149Z
UID:10023115-1891269000-1891277100@swanscombeandgreenhithetowncouncil.gov.uk
SUMMARY:Walk Tall - Drama Project for young people
DESCRIPTION:
URL:https://swanscombeandgreenhithetowncouncil.gov.uk/event/walk-tall-drama-project-for-young-people-2-2/2029-12-06/
LOCATION:Heritage Community Hall\, 22 Craylands Ln\, Swanscombe DA10 0LP\, United Kingdom\, United Kingdom
CATEGORIES:Community Event
ATTACH;FMTTYPE=image/jpeg:https://swanscombeandgreenhithetowncouncil.gov.uk/wp-content/uploads/2023/02/93.2023-new-project-Thursdays.jpg
ORGANIZER;CN="Walk Tall":MAILTO:arts@walk-tall.org.uk
END:VEVENT
BEGIN:VEVENT
DTSTART;TZID=Europe/London:20291212T190000
DTEND;TZID=Europe/London:20291212T203000
DTSTAMP:20260423T170156
CREATED:20240313T165459Z
LAST-MODIFIED:20241219T090929Z
UID:10023001-1891796400-1891801800@swanscombeandgreenhithetowncouncil.gov.uk
SUMMARY:Catzout Community Choir  - Wednesdays 7pm to 8.30pm
DESCRIPTION:
URL:https://swanscombeandgreenhithetowncouncil.gov.uk/event/catzout-community-choir-wednesdays-7pm-to-8-30pm-2/2029-12-12/
LOCATION:Heritage Community Hall\, 22 Craylands Ln\, Swanscombe DA10 0LP\, United Kingdom\, United Kingdom
CATEGORIES:Community Event
ATTACH;FMTTYPE=image/jpeg:https://swanscombeandgreenhithetowncouncil.gov.uk/wp-content/uploads/2022/06/77.2022-Catzout-Choir-22-June.jpg
ORGANIZER;CN="Walk_Tall":MAILTO:info@walk-tall.org.uk
END:VEVENT
BEGIN:VEVENT
DTSTART;TZID=Europe/London:20291213T163000
DTEND;TZID=Europe/London:20291213T184500
DTSTAMP:20260423T170156
CREATED:20240424T184458Z
LAST-MODIFIED:20241219T091149Z
UID:10023116-1891873800-1891881900@swanscombeandgreenhithetowncouncil.gov.uk
SUMMARY:Walk Tall - Drama Project for young people
DESCRIPTION:
URL:https://swanscombeandgreenhithetowncouncil.gov.uk/event/walk-tall-drama-project-for-young-people-2-2/2029-12-13/
LOCATION:Heritage Community Hall\, 22 Craylands Ln\, Swanscombe DA10 0LP\, United Kingdom\, United Kingdom
CATEGORIES:Community Event
ATTACH;FMTTYPE=image/jpeg:https://swanscombeandgreenhithetowncouncil.gov.uk/wp-content/uploads/2023/02/93.2023-new-project-Thursdays.jpg
ORGANIZER;CN="Walk Tall":MAILTO:arts@walk-tall.org.uk
END:VEVENT
BEGIN:VEVENT
DTSTART;TZID=Europe/London:20291219T190000
DTEND;TZID=Europe/London:20291219T203000
DTSTAMP:20260423T170156
CREATED:20240313T165459Z
LAST-MODIFIED:20241219T090929Z
UID:10023002-1892401200-1892406600@swanscombeandgreenhithetowncouncil.gov.uk
SUMMARY:Catzout Community Choir  - Wednesdays 7pm to 8.30pm
DESCRIPTION:
URL:https://swanscombeandgreenhithetowncouncil.gov.uk/event/catzout-community-choir-wednesdays-7pm-to-8-30pm-2/2029-12-19/
LOCATION:Heritage Community Hall\, 22 Craylands Ln\, Swanscombe DA10 0LP\, United Kingdom\, United Kingdom
CATEGORIES:Community Event
ATTACH;FMTTYPE=image/jpeg:https://swanscombeandgreenhithetowncouncil.gov.uk/wp-content/uploads/2022/06/77.2022-Catzout-Choir-22-June.jpg
ORGANIZER;CN="Walk_Tall":MAILTO:info@walk-tall.org.uk
END:VEVENT
END:VCALENDAR