BEGIN:VCALENDAR
VERSION:2.0
PRODID:-//Swanscombe and Greenhithe Town Council - ECPv6.15.20//NONSGML v1.0//EN
CALSCALE:GREGORIAN
METHOD:PUBLISH
X-WR-CALNAME:Swanscombe and Greenhithe Town Council
X-ORIGINAL-URL:https://swanscombeandgreenhithetowncouncil.gov.uk
X-WR-CALDESC:Events for Swanscombe and Greenhithe Town Council
REFRESH-INTERVAL;VALUE=DURATION:PT1H
X-Robots-Tag:noindex
X-PUBLISHED-TTL:PT1H
BEGIN:VTIMEZONE
TZID:Europe/London
BEGIN:DAYLIGHT
TZOFFSETFROM:+0000
TZOFFSETTO:+0100
TZNAME:BST
DTSTART:20250330T010000
END:DAYLIGHT
BEGIN:STANDARD
TZOFFSETFROM:+0100
TZOFFSETTO:+0000
TZNAME:GMT
DTSTART:20251026T010000
END:STANDARD
BEGIN:DAYLIGHT
TZOFFSETFROM:+0000
TZOFFSETTO:+0100
TZNAME:BST
DTSTART:20260329T010000
END:DAYLIGHT
BEGIN:STANDARD
TZOFFSETFROM:+0100
TZOFFSETTO:+0000
TZNAME:GMT
DTSTART:20261025T010000
END:STANDARD
BEGIN:DAYLIGHT
TZOFFSETFROM:+0000
TZOFFSETTO:+0100
TZNAME:BST
DTSTART:20270328T010000
END:DAYLIGHT
BEGIN:STANDARD
TZOFFSETFROM:+0100
TZOFFSETTO:+0000
TZNAME:GMT
DTSTART:20271031T010000
END:STANDARD
END:VTIMEZONE
BEGIN:VEVENT
DTSTART;TZID=Europe/London:20260826T190000
DTEND;TZID=Europe/London:20260826T203000
DTSTAMP:20260421T172544
CREATED:20240313T165459Z
LAST-MODIFIED:20241219T090929Z
UID:10013530-1787770800-1787776200@swanscombeandgreenhithetowncouncil.gov.uk
SUMMARY:Catzout Community Choir  - Wednesdays 7pm to 8.30pm
DESCRIPTION:
URL:https://swanscombeandgreenhithetowncouncil.gov.uk/event/catzout-community-choir-wednesdays-7pm-to-8-30pm-2/2026-08-26/
LOCATION:Heritage Community Hall\, 22 Craylands Ln\, Swanscombe DA10 0LP\, United Kingdom\, United Kingdom
CATEGORIES:Community Event
ATTACH;FMTTYPE=image/jpeg:https://swanscombeandgreenhithetowncouncil.gov.uk/wp-content/uploads/2022/06/77.2022-Catzout-Choir-22-June.jpg
ORGANIZER;CN="Walk_Tall":MAILTO:info@walk-tall.org.uk
END:VEVENT
BEGIN:VEVENT
DTSTART;TZID=Europe/London:20260827T163000
DTEND;TZID=Europe/London:20260827T184500
DTSTAMP:20260421T172544
CREATED:20240424T184458Z
LAST-MODIFIED:20241219T091149Z
UID:10015929-1787848200-1787856300@swanscombeandgreenhithetowncouncil.gov.uk
SUMMARY:Walk Tall - Drama Project for young people
DESCRIPTION:
URL:https://swanscombeandgreenhithetowncouncil.gov.uk/event/walk-tall-drama-project-for-young-people-2-2/2026-08-27/
LOCATION:Heritage Community Hall\, 22 Craylands Ln\, Swanscombe DA10 0LP\, United Kingdom\, United Kingdom
CATEGORIES:Community Event
ATTACH;FMTTYPE=image/jpeg:https://swanscombeandgreenhithetowncouncil.gov.uk/wp-content/uploads/2023/02/93.2023-new-project-Thursdays.jpg
ORGANIZER;CN="Walk Tall":MAILTO:arts@walk-tall.org.uk
END:VEVENT
BEGIN:VEVENT
DTSTART;TZID=Europe/London:20260902T190000
DTEND;TZID=Europe/London:20260902T203000
DTSTAMP:20260421T172544
CREATED:20240313T165459Z
LAST-MODIFIED:20241219T090929Z
UID:10013531-1788375600-1788381000@swanscombeandgreenhithetowncouncil.gov.uk
SUMMARY:Catzout Community Choir  - Wednesdays 7pm to 8.30pm
DESCRIPTION:
URL:https://swanscombeandgreenhithetowncouncil.gov.uk/event/catzout-community-choir-wednesdays-7pm-to-8-30pm-2/2026-09-02/
LOCATION:Heritage Community Hall\, 22 Craylands Ln\, Swanscombe DA10 0LP\, United Kingdom\, United Kingdom
CATEGORIES:Community Event
ATTACH;FMTTYPE=image/jpeg:https://swanscombeandgreenhithetowncouncil.gov.uk/wp-content/uploads/2022/06/77.2022-Catzout-Choir-22-June.jpg
ORGANIZER;CN="Walk_Tall":MAILTO:info@walk-tall.org.uk
END:VEVENT
BEGIN:VEVENT
DTSTART;TZID=Europe/London:20260903T163000
DTEND;TZID=Europe/London:20260903T184500
DTSTAMP:20260421T172544
CREATED:20240424T184458Z
LAST-MODIFIED:20241219T091149Z
UID:10015930-1788453000-1788461100@swanscombeandgreenhithetowncouncil.gov.uk
SUMMARY:Walk Tall - Drama Project for young people
DESCRIPTION:
URL:https://swanscombeandgreenhithetowncouncil.gov.uk/event/walk-tall-drama-project-for-young-people-2-2/2026-09-03/
LOCATION:Heritage Community Hall\, 22 Craylands Ln\, Swanscombe DA10 0LP\, United Kingdom\, United Kingdom
CATEGORIES:Community Event
ATTACH;FMTTYPE=image/jpeg:https://swanscombeandgreenhithetowncouncil.gov.uk/wp-content/uploads/2023/02/93.2023-new-project-Thursdays.jpg
ORGANIZER;CN="Walk Tall":MAILTO:arts@walk-tall.org.uk
END:VEVENT
BEGIN:VEVENT
DTSTART;TZID=Europe/London:20260909T190000
DTEND;TZID=Europe/London:20260909T203000
DTSTAMP:20260421T172544
CREATED:20240313T165459Z
LAST-MODIFIED:20241219T090929Z
UID:10013532-1788980400-1788985800@swanscombeandgreenhithetowncouncil.gov.uk
SUMMARY:Catzout Community Choir  - Wednesdays 7pm to 8.30pm
DESCRIPTION:
URL:https://swanscombeandgreenhithetowncouncil.gov.uk/event/catzout-community-choir-wednesdays-7pm-to-8-30pm-2/2026-09-09/
LOCATION:Heritage Community Hall\, 22 Craylands Ln\, Swanscombe DA10 0LP\, United Kingdom\, United Kingdom
CATEGORIES:Community Event
ATTACH;FMTTYPE=image/jpeg:https://swanscombeandgreenhithetowncouncil.gov.uk/wp-content/uploads/2022/06/77.2022-Catzout-Choir-22-June.jpg
ORGANIZER;CN="Walk_Tall":MAILTO:info@walk-tall.org.uk
END:VEVENT
BEGIN:VEVENT
DTSTART;TZID=Europe/London:20260910T163000
DTEND;TZID=Europe/London:20260910T184500
DTSTAMP:20260421T172544
CREATED:20240424T184458Z
LAST-MODIFIED:20241219T091149Z
UID:10015931-1789057800-1789065900@swanscombeandgreenhithetowncouncil.gov.uk
SUMMARY:Walk Tall - Drama Project for young people
DESCRIPTION:
URL:https://swanscombeandgreenhithetowncouncil.gov.uk/event/walk-tall-drama-project-for-young-people-2-2/2026-09-10/
LOCATION:Heritage Community Hall\, 22 Craylands Ln\, Swanscombe DA10 0LP\, United Kingdom\, United Kingdom
CATEGORIES:Community Event
ATTACH;FMTTYPE=image/jpeg:https://swanscombeandgreenhithetowncouncil.gov.uk/wp-content/uploads/2023/02/93.2023-new-project-Thursdays.jpg
ORGANIZER;CN="Walk Tall":MAILTO:arts@walk-tall.org.uk
END:VEVENT
BEGIN:VEVENT
DTSTART;TZID=Europe/London:20260916T190000
DTEND;TZID=Europe/London:20260916T203000
DTSTAMP:20260421T172544
CREATED:20240313T165459Z
LAST-MODIFIED:20241219T090929Z
UID:10013533-1789585200-1789590600@swanscombeandgreenhithetowncouncil.gov.uk
SUMMARY:Catzout Community Choir  - Wednesdays 7pm to 8.30pm
DESCRIPTION:
URL:https://swanscombeandgreenhithetowncouncil.gov.uk/event/catzout-community-choir-wednesdays-7pm-to-8-30pm-2/2026-09-16/
LOCATION:Heritage Community Hall\, 22 Craylands Ln\, Swanscombe DA10 0LP\, United Kingdom\, United Kingdom
CATEGORIES:Community Event
ATTACH;FMTTYPE=image/jpeg:https://swanscombeandgreenhithetowncouncil.gov.uk/wp-content/uploads/2022/06/77.2022-Catzout-Choir-22-June.jpg
ORGANIZER;CN="Walk_Tall":MAILTO:info@walk-tall.org.uk
END:VEVENT
BEGIN:VEVENT
DTSTART;TZID=Europe/London:20260917T163000
DTEND;TZID=Europe/London:20260917T184500
DTSTAMP:20260421T172544
CREATED:20240424T184458Z
LAST-MODIFIED:20241219T091149Z
UID:10015932-1789662600-1789670700@swanscombeandgreenhithetowncouncil.gov.uk
SUMMARY:Walk Tall - Drama Project for young people
DESCRIPTION:
URL:https://swanscombeandgreenhithetowncouncil.gov.uk/event/walk-tall-drama-project-for-young-people-2-2/2026-09-17/
LOCATION:Heritage Community Hall\, 22 Craylands Ln\, Swanscombe DA10 0LP\, United Kingdom\, United Kingdom
CATEGORIES:Community Event
ATTACH;FMTTYPE=image/jpeg:https://swanscombeandgreenhithetowncouncil.gov.uk/wp-content/uploads/2023/02/93.2023-new-project-Thursdays.jpg
ORGANIZER;CN="Walk Tall":MAILTO:arts@walk-tall.org.uk
END:VEVENT
BEGIN:VEVENT
DTSTART;TZID=Europe/London:20260923T190000
DTEND;TZID=Europe/London:20260923T203000
DTSTAMP:20260421T172544
CREATED:20240313T165459Z
LAST-MODIFIED:20241219T090929Z
UID:10013534-1790190000-1790195400@swanscombeandgreenhithetowncouncil.gov.uk
SUMMARY:Catzout Community Choir  - Wednesdays 7pm to 8.30pm
DESCRIPTION:
URL:https://swanscombeandgreenhithetowncouncil.gov.uk/event/catzout-community-choir-wednesdays-7pm-to-8-30pm-2/2026-09-23/
LOCATION:Heritage Community Hall\, 22 Craylands Ln\, Swanscombe DA10 0LP\, United Kingdom\, United Kingdom
CATEGORIES:Community Event
ATTACH;FMTTYPE=image/jpeg:https://swanscombeandgreenhithetowncouncil.gov.uk/wp-content/uploads/2022/06/77.2022-Catzout-Choir-22-June.jpg
ORGANIZER;CN="Walk_Tall":MAILTO:info@walk-tall.org.uk
END:VEVENT
BEGIN:VEVENT
DTSTART;TZID=Europe/London:20260924T163000
DTEND;TZID=Europe/London:20260924T184500
DTSTAMP:20260421T172544
CREATED:20240424T184458Z
LAST-MODIFIED:20241219T091149Z
UID:10015933-1790267400-1790275500@swanscombeandgreenhithetowncouncil.gov.uk
SUMMARY:Walk Tall - Drama Project for young people
DESCRIPTION:
URL:https://swanscombeandgreenhithetowncouncil.gov.uk/event/walk-tall-drama-project-for-young-people-2-2/2026-09-24/
LOCATION:Heritage Community Hall\, 22 Craylands Ln\, Swanscombe DA10 0LP\, United Kingdom\, United Kingdom
CATEGORIES:Community Event
ATTACH;FMTTYPE=image/jpeg:https://swanscombeandgreenhithetowncouncil.gov.uk/wp-content/uploads/2023/02/93.2023-new-project-Thursdays.jpg
ORGANIZER;CN="Walk Tall":MAILTO:arts@walk-tall.org.uk
END:VEVENT
BEGIN:VEVENT
DTSTART;TZID=Europe/London:20260930T190000
DTEND;TZID=Europe/London:20260930T203000
DTSTAMP:20260421T172544
CREATED:20240313T165459Z
LAST-MODIFIED:20241219T090929Z
UID:10013535-1790794800-1790800200@swanscombeandgreenhithetowncouncil.gov.uk
SUMMARY:Catzout Community Choir  - Wednesdays 7pm to 8.30pm
DESCRIPTION:
URL:https://swanscombeandgreenhithetowncouncil.gov.uk/event/catzout-community-choir-wednesdays-7pm-to-8-30pm-2/2026-09-30/
LOCATION:Heritage Community Hall\, 22 Craylands Ln\, Swanscombe DA10 0LP\, United Kingdom\, United Kingdom
CATEGORIES:Community Event
ATTACH;FMTTYPE=image/jpeg:https://swanscombeandgreenhithetowncouncil.gov.uk/wp-content/uploads/2022/06/77.2022-Catzout-Choir-22-June.jpg
ORGANIZER;CN="Walk_Tall":MAILTO:info@walk-tall.org.uk
END:VEVENT
BEGIN:VEVENT
DTSTART;TZID=Europe/London:20261001T163000
DTEND;TZID=Europe/London:20261001T184500
DTSTAMP:20260421T172544
CREATED:20240424T184458Z
LAST-MODIFIED:20241219T091149Z
UID:10015934-1790872200-1790880300@swanscombeandgreenhithetowncouncil.gov.uk
SUMMARY:Walk Tall - Drama Project for young people
DESCRIPTION:
URL:https://swanscombeandgreenhithetowncouncil.gov.uk/event/walk-tall-drama-project-for-young-people-2-2/2026-10-01/
LOCATION:Heritage Community Hall\, 22 Craylands Ln\, Swanscombe DA10 0LP\, United Kingdom\, United Kingdom
CATEGORIES:Community Event
ATTACH;FMTTYPE=image/jpeg:https://swanscombeandgreenhithetowncouncil.gov.uk/wp-content/uploads/2023/02/93.2023-new-project-Thursdays.jpg
ORGANIZER;CN="Walk Tall":MAILTO:arts@walk-tall.org.uk
END:VEVENT
BEGIN:VEVENT
DTSTART;TZID=Europe/London:20261007T190000
DTEND;TZID=Europe/London:20261007T203000
DTSTAMP:20260421T172544
CREATED:20240313T165459Z
LAST-MODIFIED:20241219T090929Z
UID:10013536-1791399600-1791405000@swanscombeandgreenhithetowncouncil.gov.uk
SUMMARY:Catzout Community Choir  - Wednesdays 7pm to 8.30pm
DESCRIPTION:
URL:https://swanscombeandgreenhithetowncouncil.gov.uk/event/catzout-community-choir-wednesdays-7pm-to-8-30pm-2/2026-10-07/
LOCATION:Heritage Community Hall\, 22 Craylands Ln\, Swanscombe DA10 0LP\, United Kingdom\, United Kingdom
CATEGORIES:Community Event
ATTACH;FMTTYPE=image/jpeg:https://swanscombeandgreenhithetowncouncil.gov.uk/wp-content/uploads/2022/06/77.2022-Catzout-Choir-22-June.jpg
ORGANIZER;CN="Walk_Tall":MAILTO:info@walk-tall.org.uk
END:VEVENT
BEGIN:VEVENT
DTSTART;TZID=Europe/London:20261008T163000
DTEND;TZID=Europe/London:20261008T184500
DTSTAMP:20260421T172544
CREATED:20240424T184458Z
LAST-MODIFIED:20241219T091149Z
UID:10015935-1791477000-1791485100@swanscombeandgreenhithetowncouncil.gov.uk
SUMMARY:Walk Tall - Drama Project for young people
DESCRIPTION:
URL:https://swanscombeandgreenhithetowncouncil.gov.uk/event/walk-tall-drama-project-for-young-people-2-2/2026-10-08/
LOCATION:Heritage Community Hall\, 22 Craylands Ln\, Swanscombe DA10 0LP\, United Kingdom\, United Kingdom
CATEGORIES:Community Event
ATTACH;FMTTYPE=image/jpeg:https://swanscombeandgreenhithetowncouncil.gov.uk/wp-content/uploads/2023/02/93.2023-new-project-Thursdays.jpg
ORGANIZER;CN="Walk Tall":MAILTO:arts@walk-tall.org.uk
END:VEVENT
BEGIN:VEVENT
DTSTART;TZID=Europe/London:20261014T190000
DTEND;TZID=Europe/London:20261014T203000
DTSTAMP:20260421T172544
CREATED:20240313T165459Z
LAST-MODIFIED:20241219T090929Z
UID:10013537-1792004400-1792009800@swanscombeandgreenhithetowncouncil.gov.uk
SUMMARY:Catzout Community Choir  - Wednesdays 7pm to 8.30pm
DESCRIPTION:
URL:https://swanscombeandgreenhithetowncouncil.gov.uk/event/catzout-community-choir-wednesdays-7pm-to-8-30pm-2/2026-10-14/
LOCATION:Heritage Community Hall\, 22 Craylands Ln\, Swanscombe DA10 0LP\, United Kingdom\, United Kingdom
CATEGORIES:Community Event
ATTACH;FMTTYPE=image/jpeg:https://swanscombeandgreenhithetowncouncil.gov.uk/wp-content/uploads/2022/06/77.2022-Catzout-Choir-22-June.jpg
ORGANIZER;CN="Walk_Tall":MAILTO:info@walk-tall.org.uk
END:VEVENT
BEGIN:VEVENT
DTSTART;TZID=Europe/London:20261015T163000
DTEND;TZID=Europe/London:20261015T184500
DTSTAMP:20260421T172544
CREATED:20240424T184458Z
LAST-MODIFIED:20241219T091149Z
UID:10015936-1792081800-1792089900@swanscombeandgreenhithetowncouncil.gov.uk
SUMMARY:Walk Tall - Drama Project for young people
DESCRIPTION:
URL:https://swanscombeandgreenhithetowncouncil.gov.uk/event/walk-tall-drama-project-for-young-people-2-2/2026-10-15/
LOCATION:Heritage Community Hall\, 22 Craylands Ln\, Swanscombe DA10 0LP\, United Kingdom\, United Kingdom
CATEGORIES:Community Event
ATTACH;FMTTYPE=image/jpeg:https://swanscombeandgreenhithetowncouncil.gov.uk/wp-content/uploads/2023/02/93.2023-new-project-Thursdays.jpg
ORGANIZER;CN="Walk Tall":MAILTO:arts@walk-tall.org.uk
END:VEVENT
BEGIN:VEVENT
DTSTART;TZID=Europe/London:20261021T190000
DTEND;TZID=Europe/London:20261021T203000
DTSTAMP:20260421T172544
CREATED:20240313T165459Z
LAST-MODIFIED:20241219T090929Z
UID:10013538-1792609200-1792614600@swanscombeandgreenhithetowncouncil.gov.uk
SUMMARY:Catzout Community Choir  - Wednesdays 7pm to 8.30pm
DESCRIPTION:
URL:https://swanscombeandgreenhithetowncouncil.gov.uk/event/catzout-community-choir-wednesdays-7pm-to-8-30pm-2/2026-10-21/
LOCATION:Heritage Community Hall\, 22 Craylands Ln\, Swanscombe DA10 0LP\, United Kingdom\, United Kingdom
CATEGORIES:Community Event
ATTACH;FMTTYPE=image/jpeg:https://swanscombeandgreenhithetowncouncil.gov.uk/wp-content/uploads/2022/06/77.2022-Catzout-Choir-22-June.jpg
ORGANIZER;CN="Walk_Tall":MAILTO:info@walk-tall.org.uk
END:VEVENT
BEGIN:VEVENT
DTSTART;TZID=Europe/London:20261022T163000
DTEND;TZID=Europe/London:20261022T184500
DTSTAMP:20260421T172544
CREATED:20240424T184458Z
LAST-MODIFIED:20241219T091149Z
UID:10015937-1792686600-1792694700@swanscombeandgreenhithetowncouncil.gov.uk
SUMMARY:Walk Tall - Drama Project for young people
DESCRIPTION:
URL:https://swanscombeandgreenhithetowncouncil.gov.uk/event/walk-tall-drama-project-for-young-people-2-2/2026-10-22/
LOCATION:Heritage Community Hall\, 22 Craylands Ln\, Swanscombe DA10 0LP\, United Kingdom\, United Kingdom
CATEGORIES:Community Event
ATTACH;FMTTYPE=image/jpeg:https://swanscombeandgreenhithetowncouncil.gov.uk/wp-content/uploads/2023/02/93.2023-new-project-Thursdays.jpg
ORGANIZER;CN="Walk Tall":MAILTO:arts@walk-tall.org.uk
END:VEVENT
BEGIN:VEVENT
DTSTART;TZID=Europe/London:20261028T190000
DTEND;TZID=Europe/London:20261028T203000
DTSTAMP:20260421T172544
CREATED:20240313T165459Z
LAST-MODIFIED:20241219T090929Z
UID:10013539-1793214000-1793219400@swanscombeandgreenhithetowncouncil.gov.uk
SUMMARY:Catzout Community Choir  - Wednesdays 7pm to 8.30pm
DESCRIPTION:
URL:https://swanscombeandgreenhithetowncouncil.gov.uk/event/catzout-community-choir-wednesdays-7pm-to-8-30pm-2/2026-10-28/
LOCATION:Heritage Community Hall\, 22 Craylands Ln\, Swanscombe DA10 0LP\, United Kingdom\, United Kingdom
CATEGORIES:Community Event
ATTACH;FMTTYPE=image/jpeg:https://swanscombeandgreenhithetowncouncil.gov.uk/wp-content/uploads/2022/06/77.2022-Catzout-Choir-22-June.jpg
ORGANIZER;CN="Walk_Tall":MAILTO:info@walk-tall.org.uk
END:VEVENT
BEGIN:VEVENT
DTSTART;TZID=Europe/London:20261029T163000
DTEND;TZID=Europe/London:20261029T184500
DTSTAMP:20260421T172544
CREATED:20240424T184458Z
LAST-MODIFIED:20241219T091149Z
UID:10015938-1793291400-1793299500@swanscombeandgreenhithetowncouncil.gov.uk
SUMMARY:Walk Tall - Drama Project for young people
DESCRIPTION:
URL:https://swanscombeandgreenhithetowncouncil.gov.uk/event/walk-tall-drama-project-for-young-people-2-2/2026-10-29/
LOCATION:Heritage Community Hall\, 22 Craylands Ln\, Swanscombe DA10 0LP\, United Kingdom\, United Kingdom
CATEGORIES:Community Event
ATTACH;FMTTYPE=image/jpeg:https://swanscombeandgreenhithetowncouncil.gov.uk/wp-content/uploads/2023/02/93.2023-new-project-Thursdays.jpg
ORGANIZER;CN="Walk Tall":MAILTO:arts@walk-tall.org.uk
END:VEVENT
BEGIN:VEVENT
DTSTART;TZID=Europe/London:20261104T190000
DTEND;TZID=Europe/London:20261104T203000
DTSTAMP:20260421T172544
CREATED:20240313T165459Z
LAST-MODIFIED:20241219T090929Z
UID:10013540-1793818800-1793824200@swanscombeandgreenhithetowncouncil.gov.uk
SUMMARY:Catzout Community Choir  - Wednesdays 7pm to 8.30pm
DESCRIPTION:
URL:https://swanscombeandgreenhithetowncouncil.gov.uk/event/catzout-community-choir-wednesdays-7pm-to-8-30pm-2/2026-11-04/
LOCATION:Heritage Community Hall\, 22 Craylands Ln\, Swanscombe DA10 0LP\, United Kingdom\, United Kingdom
CATEGORIES:Community Event
ATTACH;FMTTYPE=image/jpeg:https://swanscombeandgreenhithetowncouncil.gov.uk/wp-content/uploads/2022/06/77.2022-Catzout-Choir-22-June.jpg
ORGANIZER;CN="Walk_Tall":MAILTO:info@walk-tall.org.uk
END:VEVENT
BEGIN:VEVENT
DTSTART;TZID=Europe/London:20261105T163000
DTEND;TZID=Europe/London:20261105T184500
DTSTAMP:20260421T172544
CREATED:20240424T184458Z
LAST-MODIFIED:20241219T091149Z
UID:10015939-1793896200-1793904300@swanscombeandgreenhithetowncouncil.gov.uk
SUMMARY:Walk Tall - Drama Project for young people
DESCRIPTION:
URL:https://swanscombeandgreenhithetowncouncil.gov.uk/event/walk-tall-drama-project-for-young-people-2-2/2026-11-05/
LOCATION:Heritage Community Hall\, 22 Craylands Ln\, Swanscombe DA10 0LP\, United Kingdom\, United Kingdom
CATEGORIES:Community Event
ATTACH;FMTTYPE=image/jpeg:https://swanscombeandgreenhithetowncouncil.gov.uk/wp-content/uploads/2023/02/93.2023-new-project-Thursdays.jpg
ORGANIZER;CN="Walk Tall":MAILTO:arts@walk-tall.org.uk
END:VEVENT
BEGIN:VEVENT
DTSTART;TZID=Europe/London:20261111T190000
DTEND;TZID=Europe/London:20261111T203000
DTSTAMP:20260421T172544
CREATED:20240313T165459Z
LAST-MODIFIED:20241219T090929Z
UID:10013541-1794423600-1794429000@swanscombeandgreenhithetowncouncil.gov.uk
SUMMARY:Catzout Community Choir  - Wednesdays 7pm to 8.30pm
DESCRIPTION:
URL:https://swanscombeandgreenhithetowncouncil.gov.uk/event/catzout-community-choir-wednesdays-7pm-to-8-30pm-2/2026-11-11/
LOCATION:Heritage Community Hall\, 22 Craylands Ln\, Swanscombe DA10 0LP\, United Kingdom\, United Kingdom
CATEGORIES:Community Event
ATTACH;FMTTYPE=image/jpeg:https://swanscombeandgreenhithetowncouncil.gov.uk/wp-content/uploads/2022/06/77.2022-Catzout-Choir-22-June.jpg
ORGANIZER;CN="Walk_Tall":MAILTO:info@walk-tall.org.uk
END:VEVENT
BEGIN:VEVENT
DTSTART;TZID=Europe/London:20261112T163000
DTEND;TZID=Europe/London:20261112T184500
DTSTAMP:20260421T172544
CREATED:20240424T184458Z
LAST-MODIFIED:20241219T091149Z
UID:10015940-1794501000-1794509100@swanscombeandgreenhithetowncouncil.gov.uk
SUMMARY:Walk Tall - Drama Project for young people
DESCRIPTION:
URL:https://swanscombeandgreenhithetowncouncil.gov.uk/event/walk-tall-drama-project-for-young-people-2-2/2026-11-12/
LOCATION:Heritage Community Hall\, 22 Craylands Ln\, Swanscombe DA10 0LP\, United Kingdom\, United Kingdom
CATEGORIES:Community Event
ATTACH;FMTTYPE=image/jpeg:https://swanscombeandgreenhithetowncouncil.gov.uk/wp-content/uploads/2023/02/93.2023-new-project-Thursdays.jpg
ORGANIZER;CN="Walk Tall":MAILTO:arts@walk-tall.org.uk
END:VEVENT
BEGIN:VEVENT
DTSTART;TZID=Europe/London:20261118T190000
DTEND;TZID=Europe/London:20261118T203000
DTSTAMP:20260421T172544
CREATED:20240313T165459Z
LAST-MODIFIED:20241219T090929Z
UID:10013542-1795028400-1795033800@swanscombeandgreenhithetowncouncil.gov.uk
SUMMARY:Catzout Community Choir  - Wednesdays 7pm to 8.30pm
DESCRIPTION:
URL:https://swanscombeandgreenhithetowncouncil.gov.uk/event/catzout-community-choir-wednesdays-7pm-to-8-30pm-2/2026-11-18/
LOCATION:Heritage Community Hall\, 22 Craylands Ln\, Swanscombe DA10 0LP\, United Kingdom\, United Kingdom
CATEGORIES:Community Event
ATTACH;FMTTYPE=image/jpeg:https://swanscombeandgreenhithetowncouncil.gov.uk/wp-content/uploads/2022/06/77.2022-Catzout-Choir-22-June.jpg
ORGANIZER;CN="Walk_Tall":MAILTO:info@walk-tall.org.uk
END:VEVENT
BEGIN:VEVENT
DTSTART;TZID=Europe/London:20261119T163000
DTEND;TZID=Europe/London:20261119T184500
DTSTAMP:20260421T172544
CREATED:20240424T184458Z
LAST-MODIFIED:20241219T091149Z
UID:10015941-1795105800-1795113900@swanscombeandgreenhithetowncouncil.gov.uk
SUMMARY:Walk Tall - Drama Project for young people
DESCRIPTION:
URL:https://swanscombeandgreenhithetowncouncil.gov.uk/event/walk-tall-drama-project-for-young-people-2-2/2026-11-19/
LOCATION:Heritage Community Hall\, 22 Craylands Ln\, Swanscombe DA10 0LP\, United Kingdom\, United Kingdom
CATEGORIES:Community Event
ATTACH;FMTTYPE=image/jpeg:https://swanscombeandgreenhithetowncouncil.gov.uk/wp-content/uploads/2023/02/93.2023-new-project-Thursdays.jpg
ORGANIZER;CN="Walk Tall":MAILTO:arts@walk-tall.org.uk
END:VEVENT
BEGIN:VEVENT
DTSTART;TZID=Europe/London:20261125T190000
DTEND;TZID=Europe/London:20261125T203000
DTSTAMP:20260421T172544
CREATED:20240313T165459Z
LAST-MODIFIED:20241219T090929Z
UID:10013543-1795633200-1795638600@swanscombeandgreenhithetowncouncil.gov.uk
SUMMARY:Catzout Community Choir  - Wednesdays 7pm to 8.30pm
DESCRIPTION:
URL:https://swanscombeandgreenhithetowncouncil.gov.uk/event/catzout-community-choir-wednesdays-7pm-to-8-30pm-2/2026-11-25/
LOCATION:Heritage Community Hall\, 22 Craylands Ln\, Swanscombe DA10 0LP\, United Kingdom\, United Kingdom
CATEGORIES:Community Event
ATTACH;FMTTYPE=image/jpeg:https://swanscombeandgreenhithetowncouncil.gov.uk/wp-content/uploads/2022/06/77.2022-Catzout-Choir-22-June.jpg
ORGANIZER;CN="Walk_Tall":MAILTO:info@walk-tall.org.uk
END:VEVENT
BEGIN:VEVENT
DTSTART;TZID=Europe/London:20261126T163000
DTEND;TZID=Europe/London:20261126T184500
DTSTAMP:20260421T172544
CREATED:20240424T184458Z
LAST-MODIFIED:20241219T091149Z
UID:10015942-1795710600-1795718700@swanscombeandgreenhithetowncouncil.gov.uk
SUMMARY:Walk Tall - Drama Project for young people
DESCRIPTION:
URL:https://swanscombeandgreenhithetowncouncil.gov.uk/event/walk-tall-drama-project-for-young-people-2-2/2026-11-26/
LOCATION:Heritage Community Hall\, 22 Craylands Ln\, Swanscombe DA10 0LP\, United Kingdom\, United Kingdom
CATEGORIES:Community Event
ATTACH;FMTTYPE=image/jpeg:https://swanscombeandgreenhithetowncouncil.gov.uk/wp-content/uploads/2023/02/93.2023-new-project-Thursdays.jpg
ORGANIZER;CN="Walk Tall":MAILTO:arts@walk-tall.org.uk
END:VEVENT
BEGIN:VEVENT
DTSTART;TZID=Europe/London:20261202T190000
DTEND;TZID=Europe/London:20261202T203000
DTSTAMP:20260421T172544
CREATED:20240313T165459Z
LAST-MODIFIED:20241219T090929Z
UID:10013544-1796238000-1796243400@swanscombeandgreenhithetowncouncil.gov.uk
SUMMARY:Catzout Community Choir  - Wednesdays 7pm to 8.30pm
DESCRIPTION:
URL:https://swanscombeandgreenhithetowncouncil.gov.uk/event/catzout-community-choir-wednesdays-7pm-to-8-30pm-2/2026-12-02/
LOCATION:Heritage Community Hall\, 22 Craylands Ln\, Swanscombe DA10 0LP\, United Kingdom\, United Kingdom
CATEGORIES:Community Event
ATTACH;FMTTYPE=image/jpeg:https://swanscombeandgreenhithetowncouncil.gov.uk/wp-content/uploads/2022/06/77.2022-Catzout-Choir-22-June.jpg
ORGANIZER;CN="Walk_Tall":MAILTO:info@walk-tall.org.uk
END:VEVENT
BEGIN:VEVENT
DTSTART;TZID=Europe/London:20261203T163000
DTEND;TZID=Europe/London:20261203T184500
DTSTAMP:20260421T172544
CREATED:20240424T184458Z
LAST-MODIFIED:20241219T091149Z
UID:10015943-1796315400-1796323500@swanscombeandgreenhithetowncouncil.gov.uk
SUMMARY:Walk Tall - Drama Project for young people
DESCRIPTION:
URL:https://swanscombeandgreenhithetowncouncil.gov.uk/event/walk-tall-drama-project-for-young-people-2-2/2026-12-03/
LOCATION:Heritage Community Hall\, 22 Craylands Ln\, Swanscombe DA10 0LP\, United Kingdom\, United Kingdom
CATEGORIES:Community Event
ATTACH;FMTTYPE=image/jpeg:https://swanscombeandgreenhithetowncouncil.gov.uk/wp-content/uploads/2023/02/93.2023-new-project-Thursdays.jpg
ORGANIZER;CN="Walk Tall":MAILTO:arts@walk-tall.org.uk
END:VEVENT
END:VCALENDAR