BEGIN:VCALENDAR
VERSION:2.0
PRODID:-//Swanscombe and Greenhithe Town Council - ECPv6.15.20//NONSGML v1.0//EN
CALSCALE:GREGORIAN
METHOD:PUBLISH
X-ORIGINAL-URL:https://swanscombeandgreenhithetowncouncil.gov.uk
X-WR-CALDESC:Events for Swanscombe and Greenhithe Town Council
REFRESH-INTERVAL;VALUE=DURATION:PT1H
X-Robots-Tag:noindex
X-PUBLISHED-TTL:PT1H
BEGIN:VTIMEZONE
TZID:Europe/London
BEGIN:DAYLIGHT
TZOFFSETFROM:+0000
TZOFFSETTO:+0100
TZNAME:BST
DTSTART:20250330T010000
END:DAYLIGHT
BEGIN:STANDARD
TZOFFSETFROM:+0100
TZOFFSETTO:+0000
TZNAME:GMT
DTSTART:20251026T010000
END:STANDARD
BEGIN:DAYLIGHT
TZOFFSETFROM:+0000
TZOFFSETTO:+0100
TZNAME:BST
DTSTART:20260329T010000
END:DAYLIGHT
BEGIN:STANDARD
TZOFFSETFROM:+0100
TZOFFSETTO:+0000
TZNAME:GMT
DTSTART:20261025T010000
END:STANDARD
BEGIN:DAYLIGHT
TZOFFSETFROM:+0000
TZOFFSETTO:+0100
TZNAME:BST
DTSTART:20270328T010000
END:DAYLIGHT
BEGIN:STANDARD
TZOFFSETFROM:+0100
TZOFFSETTO:+0000
TZNAME:GMT
DTSTART:20271031T010000
END:STANDARD
END:VTIMEZONE
BEGIN:VEVENT
DTSTART;TZID=Europe/London:20260204T140000
DTEND;TZID=Europe/London:20260204T150000
DTSTAMP:20260421T223135
CREATED:20260105T104233Z
LAST-MODIFIED:20260105T104233Z
UID:10023854-1770213600-1770217200@swanscombeandgreenhithetowncouncil.gov.uk
SUMMARY:Who's Who in Hoo - Christoph Bull Illustrated Talk & Lunch
DESCRIPTION:Who’s who in Hoo (Illustrated talk) \nSpeaker: Christoph Bull \nOn: Wednesday 4th February 2026 \nBegins: 2pm \nAt: Medway Archives\, 32 Bryant Road\, Strood ME2 3EP \nPrice: £4.00 \nBooking: 01634 332 714 \nDiscovering the Hoo Peninsula parishes-and their stories.
URL:https://swanscombeandgreenhithetowncouncil.gov.uk/event/whos-who-in-hoo-christoph-bull-illustrated-talk-lunch-2/
LOCATION:Medway Archives\, 32 Bryant Road\, Strood\, Kent\, ME2 3EP\, United Kingdom
ORGANIZER;CN="Christoph Bull":MAILTO:christoph.bull@talktalk.net
END:VEVENT
END:VCALENDAR