BEGIN:VCALENDAR
VERSION:2.0
PRODID:-//Swanscombe and Greenhithe Town Council - ECPv6.15.20//NONSGML v1.0//EN
CALSCALE:GREGORIAN
METHOD:PUBLISH
X-ORIGINAL-URL:https://swanscombeandgreenhithetowncouncil.gov.uk
X-WR-CALDESC:Events for Swanscombe and Greenhithe Town Council
REFRESH-INTERVAL;VALUE=DURATION:PT1H
X-Robots-Tag:noindex
X-PUBLISHED-TTL:PT1H
BEGIN:VTIMEZONE
TZID:Europe/London
BEGIN:DAYLIGHT
TZOFFSETFROM:+0000
TZOFFSETTO:+0100
TZNAME:BST
DTSTART:20240331T010000
END:DAYLIGHT
BEGIN:STANDARD
TZOFFSETFROM:+0100
TZOFFSETTO:+0000
TZNAME:GMT
DTSTART:20241027T010000
END:STANDARD
BEGIN:DAYLIGHT
TZOFFSETFROM:+0000
TZOFFSETTO:+0100
TZNAME:BST
DTSTART:20250330T010000
END:DAYLIGHT
BEGIN:STANDARD
TZOFFSETFROM:+0100
TZOFFSETTO:+0000
TZNAME:GMT
DTSTART:20251026T010000
END:STANDARD
BEGIN:DAYLIGHT
TZOFFSETFROM:+0000
TZOFFSETTO:+0100
TZNAME:BST
DTSTART:20260329T010000
END:DAYLIGHT
BEGIN:STANDARD
TZOFFSETFROM:+0100
TZOFFSETTO:+0000
TZNAME:GMT
DTSTART:20261025T010000
END:STANDARD
END:VTIMEZONE
BEGIN:VEVENT
DTSTART;TZID=Europe/London:20251126T130000
DTEND;TZID=Europe/London:20251126T160000
DTSTAMP:20260422T033139
CREATED:20251121T154030Z
LAST-MODIFIED:20251121T154030Z
UID:10023852-1764162000-1764172800@swanscombeandgreenhithetowncouncil.gov.uk
SUMMARY:Local Police Surgery
DESCRIPTION:
URL:https://swanscombeandgreenhithetowncouncil.gov.uk/event/local-police-surgery-2/
LOCATION:Old Fire Station Cafe\, Church Road\, Swanscombe\, DA10 0HF
ATTACH;FMTTYPE=image/jpeg:https://swanscombeandgreenhithetowncouncil.gov.uk/wp-content/uploads/2025/11/2025-Comm-engage-Portrait-26-Nov.jpg
ORGANIZER;CN="Kent Police":MAILTO:management.secretaries.north.division@kent.police.uk
END:VEVENT
BEGIN:VEVENT
DTSTART;TZID=Europe/London:20250709T123000
DTEND;TZID=Europe/London:20250709T123000
DTSTAMP:20260422T033139
CREATED:20250707T095157Z
LAST-MODIFIED:20250707T095445Z
UID:10023564-1752064200-1752064200@swanscombeandgreenhithetowncouncil.gov.uk
SUMMARY:Local Police Surgery
DESCRIPTION:
URL:https://swanscombeandgreenhithetowncouncil.gov.uk/event/local-police-surgery/
LOCATION:Old Fire Station Cafe\, Church Road\, Swanscombe\, DA10 0HF
ATTACH;FMTTYPE=image/jpeg:https://swanscombeandgreenhithetowncouncil.gov.uk/wp-content/uploads/2025/07/2025-Comm-engage-Portrait-9-July.jpg
END:VEVENT
END:VCALENDAR