BEGIN:VCALENDAR
VERSION:2.0
PRODID:-//Swanscombe and Greenhithe Town Council - ECPv6.15.20//NONSGML v1.0//EN
CALSCALE:GREGORIAN
METHOD:PUBLISH
X-WR-CALNAME:Swanscombe and Greenhithe Town Council
X-ORIGINAL-URL:https://swanscombeandgreenhithetowncouncil.gov.uk
X-WR-CALDESC:Events for Swanscombe and Greenhithe Town Council
REFRESH-INTERVAL;VALUE=DURATION:PT1H
X-Robots-Tag:noindex
X-PUBLISHED-TTL:PT1H
BEGIN:VTIMEZONE
TZID:Europe/London
BEGIN:DAYLIGHT
TZOFFSETFROM:+0000
TZOFFSETTO:+0100
TZNAME:BST
DTSTART:20240331T010000
END:DAYLIGHT
BEGIN:STANDARD
TZOFFSETFROM:+0100
TZOFFSETTO:+0000
TZNAME:GMT
DTSTART:20241027T010000
END:STANDARD
BEGIN:DAYLIGHT
TZOFFSETFROM:+0000
TZOFFSETTO:+0100
TZNAME:BST
DTSTART:20250330T010000
END:DAYLIGHT
BEGIN:STANDARD
TZOFFSETFROM:+0100
TZOFFSETTO:+0000
TZNAME:GMT
DTSTART:20251026T010000
END:STANDARD
BEGIN:DAYLIGHT
TZOFFSETFROM:+0000
TZOFFSETTO:+0100
TZNAME:BST
DTSTART:20260329T010000
END:DAYLIGHT
BEGIN:STANDARD
TZOFFSETFROM:+0100
TZOFFSETTO:+0000
TZNAME:GMT
DTSTART:20261025T010000
END:STANDARD
END:VTIMEZONE
BEGIN:VEVENT
DTSTART;TZID=Europe/London:20250929T100000
DTEND;TZID=Europe/London:20250929T120000
DTSTAMP:20260422T051255
CREATED:20240912T114910Z
LAST-MODIFIED:20250922T135856Z
UID:10022475-1759140000-1759147200@swanscombeandgreenhithetowncouncil.gov.uk
SUMMARY:Macmillan Coffee Morning
DESCRIPTION:
URL:https://swanscombeandgreenhithetowncouncil.gov.uk/event/macmillan-coffee-morning-2/
LOCATION:Old Fire Station\, Church Road\, Swanscombe\, DA10 0HF
ATTACH;FMTTYPE=image/jpeg:https://swanscombeandgreenhithetowncouncil.gov.uk/wp-content/uploads/2024/09/2025-Macmillan-Poster-29-Sep.jpg
ORGANIZER;CN="Swanscombe & Greenhithe Town Council":MAILTO:info@swanscombeandgreenhithetowncouncil.gov.uk
END:VEVENT
BEGIN:VEVENT
DTSTART;TZID=Europe/London:20250707T100000
DTEND;TZID=Europe/London:20250707T120000
DTSTAMP:20260422T051255
CREATED:20250623T113033Z
LAST-MODIFIED:20250623T113043Z
UID:10023560-1751882400-1751889600@swanscombeandgreenhithetowncouncil.gov.uk
SUMMARY:NHS Big Tea - Monday 7 July 2025
DESCRIPTION:
URL:https://swanscombeandgreenhithetowncouncil.gov.uk/event/nhs-big-tea-monday-7-july-2025/
LOCATION:Old Fire Station\, Church Road\, Swanscombe\, DA10 0HF
CATEGORIES:Community Event
ATTACH;FMTTYPE=image/jpeg:https://swanscombeandgreenhithetowncouncil.gov.uk/wp-content/uploads/2025/06/2025-NHS-Big-Tea-7-July.jpg
ORGANIZER;CN="Swanscombe and Greenhithe Town Council":MAILTO:info@swanscombeandgreenhithetowncouncil.gov.uk
END:VEVENT
BEGIN:VEVENT
DTSTART;TZID=Europe/London:20250212T100000
DTEND;TZID=Europe/London:20250212T120000
DTSTAMP:20260422T051255
CREATED:20250206T162858Z
LAST-MODIFIED:20250206T162858Z
UID:10023547-1739354400-1739361600@swanscombeandgreenhithetowncouncil.gov.uk
SUMMARY:Ebbsfleet Drop-In Events
DESCRIPTION:For more information please contact:\nhello@ebbsfleetdc.org.uk\n 
URL:https://swanscombeandgreenhithetowncouncil.gov.uk/event/ebbsfleet-drop-in-events/
LOCATION:Old Fire Station\, Church Road\, Swanscombe\, DA10 0HF
CATEGORIES:Community Event
END:VEVENT
END:VCALENDAR