BEGIN:VCALENDAR
VERSION:2.0
PRODID:-//Swanscombe and Greenhithe Town Council - ECPv6.15.20//NONSGML v1.0//EN
CALSCALE:GREGORIAN
METHOD:PUBLISH
X-ORIGINAL-URL:https://swanscombeandgreenhithetowncouncil.gov.uk
X-WR-CALDESC:Events for Swanscombe and Greenhithe Town Council
REFRESH-INTERVAL;VALUE=DURATION:PT1H
X-Robots-Tag:noindex
X-PUBLISHED-TTL:PT1H
BEGIN:VTIMEZONE
TZID:Europe/London
BEGIN:DAYLIGHT
TZOFFSETFROM:+0000
TZOFFSETTO:+0100
TZNAME:BST
DTSTART:20230326T010000
END:DAYLIGHT
BEGIN:STANDARD
TZOFFSETFROM:+0100
TZOFFSETTO:+0000
TZNAME:GMT
DTSTART:20231029T010000
END:STANDARD
BEGIN:DAYLIGHT
TZOFFSETFROM:+0000
TZOFFSETTO:+0100
TZNAME:BST
DTSTART:20240331T010000
END:DAYLIGHT
BEGIN:STANDARD
TZOFFSETFROM:+0100
TZOFFSETTO:+0000
TZNAME:GMT
DTSTART:20241027T010000
END:STANDARD
BEGIN:DAYLIGHT
TZOFFSETFROM:+0000
TZOFFSETTO:+0100
TZNAME:BST
DTSTART:20250330T010000
END:DAYLIGHT
BEGIN:STANDARD
TZOFFSETFROM:+0100
TZOFFSETTO:+0000
TZNAME:GMT
DTSTART:20251026T010000
END:STANDARD
END:VTIMEZONE
BEGIN:VEVENT
DTSTART;TZID=Europe/London:20241021T180000
DTEND;TZID=Europe/London:20241021T200000
DTSTAMP:20260423T045459
CREATED:20240920T103353Z
LAST-MODIFIED:20240920T103353Z
UID:10022478-1729533600-1729540800@swanscombeandgreenhithetowncouncil.gov.uk
SUMMARY:Swanscombe Peninsula - Cement\, Paper & Poo (Illustrated talk with supper)
DESCRIPTION:Speaker: Christoph Bull (Local Historian) \nOn: Monday 21st October 2024. \nMeet: Reliance Restaurant\, Queen Street\, Gravesend \nTime: 6pm for supper-talk to follow \nPrice: £22 inclusive of the talk and award winning fish and chips. \nBooking and pre payment essential: Reliance 01474 533593 \nor Jack 07768087036
URL:https://swanscombeandgreenhithetowncouncil.gov.uk/event/swanscombe-peninsula-cement-paper-poo-illustrated-talk-with-supper/
LOCATION:Reliance Fish Restaurant Gravesend\, 4 Queen St\, Gravesend DA12 2EE\, United Kingdom\, United Kingdom
ATTACH;FMTTYPE=image/jpeg:https://swanscombeandgreenhithetowncouncil.gov.uk/wp-content/uploads/2024/09/2024-Swanscombe-Peninsula-Talk-21-Oct.jpg
ORGANIZER;CN="Christoph Bull":MAILTO:christoph.bull@talktalk.net
END:VEVENT
END:VCALENDAR