BEGIN:VCALENDAR
VERSION:2.0
PRODID:-//Swanscombe and Greenhithe Town Council - ECPv6.15.20//NONSGML v1.0//EN
CALSCALE:GREGORIAN
METHOD:PUBLISH
X-ORIGINAL-URL:https://swanscombeandgreenhithetowncouncil.gov.uk
X-WR-CALDESC:Events for Swanscombe and Greenhithe Town Council
REFRESH-INTERVAL;VALUE=DURATION:PT1H
X-Robots-Tag:noindex
X-PUBLISHED-TTL:PT1H
BEGIN:VTIMEZONE
TZID:Europe/London
BEGIN:DAYLIGHT
TZOFFSETFROM:+0000
TZOFFSETTO:+0100
TZNAME:BST
DTSTART:20240331T010000
END:DAYLIGHT
BEGIN:STANDARD
TZOFFSETFROM:+0100
TZOFFSETTO:+0000
TZNAME:GMT
DTSTART:20241027T010000
END:STANDARD
BEGIN:DAYLIGHT
TZOFFSETFROM:+0000
TZOFFSETTO:+0100
TZNAME:BST
DTSTART:20250330T010000
END:DAYLIGHT
BEGIN:STANDARD
TZOFFSETFROM:+0100
TZOFFSETTO:+0000
TZNAME:GMT
DTSTART:20251026T010000
END:STANDARD
BEGIN:DAYLIGHT
TZOFFSETFROM:+0000
TZOFFSETTO:+0100
TZNAME:BST
DTSTART:20260329T010000
END:DAYLIGHT
BEGIN:STANDARD
TZOFFSETFROM:+0100
TZOFFSETTO:+0000
TZNAME:GMT
DTSTART:20261025T010000
END:STANDARD
END:VTIMEZONE
BEGIN:VEVENT
DTSTART;TZID=Europe/London:20250506T110000
DTEND;TZID=Europe/London:20250506T110000
DTSTAMP:20260422T133530
CREATED:20250331T094654Z
LAST-MODIFIED:20250331T095229Z
UID:10023550-1746529200-1746529200@swanscombeandgreenhithetowncouncil.gov.uk
SUMMARY:OLD SWANSCOMBE (Illustrated Talk & Lunch)
DESCRIPTION:Old Swanscombe (illustrated talk & lunch) \nSpeaker: Christoph Bull \nAt: Swan Café\, 43 High Street\, Swanscombe \nCost: £16 for both lunch and illustrated talk \nBooking and pre-payment essential: Miko 07308818188 or merkajneritan54@gmail.com  – or come into the café (Closed Tuesdays-but WILL BE OPEN on the day of the talk) \nI will be talking about Swanscombe’ s fascinating history-much of it unknown-and how this story can never be smothered by Ebbsfleet. Lots of great stories with a chance to eat and chat afterwards. \n 
URL:https://swanscombeandgreenhithetowncouncil.gov.uk/event/old-swanscombe-illustrated-talk-lunch/
LOCATION:Swan Cafe\, 43\, High St\, Swanscombe
ORGANIZER;CN="Christoph Bull":MAILTO:christoph.bull@talktalk.net
END:VEVENT
END:VCALENDAR