BEGIN:VCALENDAR
VERSION:2.0
PRODID:-//Swanscombe and Greenhithe Town Council - ECPv6.15.20//NONSGML v1.0//EN
CALSCALE:GREGORIAN
METHOD:PUBLISH
X-ORIGINAL-URL:https://swanscombeandgreenhithetowncouncil.gov.uk
X-WR-CALDESC:Events for Swanscombe and Greenhithe Town Council
REFRESH-INTERVAL;VALUE=DURATION:PT1H
X-Robots-Tag:noindex
X-PUBLISHED-TTL:PT1H
BEGIN:VTIMEZONE
TZID:Europe/London
BEGIN:DAYLIGHT
TZOFFSETFROM:+0000
TZOFFSETTO:+0100
TZNAME:BST
DTSTART:20250330T010000
END:DAYLIGHT
BEGIN:STANDARD
TZOFFSETFROM:+0100
TZOFFSETTO:+0000
TZNAME:GMT
DTSTART:20251026T010000
END:STANDARD
BEGIN:DAYLIGHT
TZOFFSETFROM:+0000
TZOFFSETTO:+0100
TZNAME:BST
DTSTART:20260329T010000
END:DAYLIGHT
BEGIN:STANDARD
TZOFFSETFROM:+0100
TZOFFSETTO:+0000
TZNAME:GMT
DTSTART:20261025T010000
END:STANDARD
BEGIN:DAYLIGHT
TZOFFSETFROM:+0000
TZOFFSETTO:+0100
TZNAME:BST
DTSTART:20270328T010000
END:DAYLIGHT
BEGIN:STANDARD
TZOFFSETFROM:+0100
TZOFFSETTO:+0000
TZNAME:GMT
DTSTART:20271031T010000
END:STANDARD
END:VTIMEZONE
BEGIN:VEVENT
DTSTART;TZID=Europe/London:20260615T170000
DTEND;TZID=Europe/London:20260615T173000
DTSTAMP:20260425T213754
CREATED:20250929T093455Z
LAST-MODIFIED:20250929T093455Z
UID:10023621-1781542800-1781544600@swanscombeandgreenhithetowncouncil.gov.uk
SUMMARY:Baby Ballet - CB Studio
DESCRIPTION:
URL:https://swanscombeandgreenhithetowncouncil.gov.uk/event/baby-ballet-cb-studio/2026-06-15/
LOCATION:Swanscombe and Greenhithe Town Council and Community Hall\, 16 The Grove\, Swanscombe DA10 0AD\, United Kingdom\, United Kingdom
ATTACH;FMTTYPE=image/jpeg:https://swanscombeandgreenhithetowncouncil.gov.uk/wp-content/uploads/2025/09/2025-CB-Studio-Ballet-Publicity-Poster-29-Sep.jpg
ORGANIZER;CN="CB Studio":MAILTO:cheybdance@gmail.com
END:VEVENT
BEGIN:VEVENT
DTSTART;TZID=Europe/London:20260617T173000
DTEND;TZID=Europe/London:20260617T203000
DTSTAMP:20260425T213754
CREATED:20240424T184609Z
LAST-MODIFIED:20241219T092041Z
UID:10021578-1781717400-1781728200@swanscombeandgreenhithetowncouncil.gov.uk
SUMMARY:North Kent Martial Arts Club
DESCRIPTION:Please click on the photo below for details of the North Kent Martial Arts Club operating in Swanscombe.
URL:https://swanscombeandgreenhithetowncouncil.gov.uk/event/north-kent-martial-arts-club-4-2-2/2026-06-17/
LOCATION:Swanscombe and Greenhithe Town Council and Community Hall\, 16 The Grove\, Swanscombe DA10 0AD\, United Kingdom\, United Kingdom
CATEGORIES:Sports & Recreation Group
END:VEVENT
BEGIN:VEVENT
DTSTART;TZID=Europe/London:20260619T183000
DTEND;TZID=Europe/London:20260619T203000
DTSTAMP:20260425T213754
CREATED:20240424T184742Z
LAST-MODIFIED:20241219T091732Z
UID:10021838-1781893800-1781901000@swanscombeandgreenhithetowncouncil.gov.uk
SUMMARY:North Kent Martial Arts Club
DESCRIPTION:Please click on the photo below for details of the North Kent Martial Arts Club operating in Swanscombe.
URL:https://swanscombeandgreenhithetowncouncil.gov.uk/event/north-kent-martial-arts-club-4-3-2/2026-06-19/
LOCATION:Swanscombe and Greenhithe Town Council and Community Hall\, 16 The Grove\, Swanscombe DA10 0AD\, United Kingdom\, United Kingdom
CATEGORIES:Sports & Recreation Group
END:VEVENT
BEGIN:VEVENT
DTSTART;TZID=Europe/London:20260620T093000
DTEND;TZID=Europe/London:20260620T143000
DTSTAMP:20260425T213754
CREATED:20240312T171726Z
LAST-MODIFIED:20240313T005116Z
UID:10008227-1781947800-1781965800@swanscombeandgreenhithetowncouncil.gov.uk
SUMMARY:Rosie's Groovy Movers - Children's Dance Groups
DESCRIPTION:
URL:https://swanscombeandgreenhithetowncouncil.gov.uk/event/rosies-groovy-movers-childrens-dance-groups-2-2-2/2026-06-20/
LOCATION:Swanscombe and Greenhithe Town Council and Community Hall\, 16 The Grove\, Swanscombe DA10 0AD\, United Kingdom\, United Kingdom
CATEGORIES:Community Event
ATTACH;FMTTYPE=image/jpeg:https://swanscombeandgreenhithetowncouncil.gov.uk/wp-content/uploads/2020/02/38.2021-Rosies-Groovy-Movers-25-Oct.jpg
ORGANIZER;CN="Rosie":MAILTO:groovymovers@yahoo.co.uk
END:VEVENT
BEGIN:VEVENT
DTSTART;TZID=Europe/London:20260621T090000
DTEND;TZID=Europe/London:20260621T100000
DTSTAMP:20260425T213754
CREATED:20210520T102552Z
LAST-MODIFIED:20241219T091648Z
UID:10020529-1782032400-1782036000@swanscombeandgreenhithetowncouncil.gov.uk
SUMMARY:Free Weekly Health Walk
DESCRIPTION:
URL:https://swanscombeandgreenhithetowncouncil.gov.uk/event/free-weekly-health-walk/2026-06-21/
LOCATION:Swanscombe and Greenhithe Town Council and Community Hall\, 16 The Grove\, Swanscombe DA10 0AD\, United Kingdom\, United Kingdom
CATEGORIES:Community Event|Sports & Recreation Group
ATTACH;FMTTYPE=image/jpeg:https://swanscombeandgreenhithetowncouncil.gov.uk/wp-content/uploads/2021/05/43.2021-Health-Walks-S-and-G.jpg
ORGANIZER;CN="One You Kent team":MAILTO:oneyou@dartford.gov.uk
END:VEVENT
BEGIN:VEVENT
DTSTART;TZID=Europe/London:20260622T170000
DTEND;TZID=Europe/London:20260622T173000
DTSTAMP:20260425T213754
CREATED:20250929T093455Z
LAST-MODIFIED:20250929T093455Z
UID:10023622-1782147600-1782149400@swanscombeandgreenhithetowncouncil.gov.uk
SUMMARY:Baby Ballet - CB Studio
DESCRIPTION:
URL:https://swanscombeandgreenhithetowncouncil.gov.uk/event/baby-ballet-cb-studio/2026-06-22/
LOCATION:Swanscombe and Greenhithe Town Council and Community Hall\, 16 The Grove\, Swanscombe DA10 0AD\, United Kingdom\, United Kingdom
ATTACH;FMTTYPE=image/jpeg:https://swanscombeandgreenhithetowncouncil.gov.uk/wp-content/uploads/2025/09/2025-CB-Studio-Ballet-Publicity-Poster-29-Sep.jpg
ORGANIZER;CN="CB Studio":MAILTO:cheybdance@gmail.com
END:VEVENT
BEGIN:VEVENT
DTSTART;TZID=Europe/London:20260624T173000
DTEND;TZID=Europe/London:20260624T203000
DTSTAMP:20260425T213754
CREATED:20240424T184609Z
LAST-MODIFIED:20241219T092041Z
UID:10021579-1782322200-1782333000@swanscombeandgreenhithetowncouncil.gov.uk
SUMMARY:North Kent Martial Arts Club
DESCRIPTION:Please click on the photo below for details of the North Kent Martial Arts Club operating in Swanscombe.
URL:https://swanscombeandgreenhithetowncouncil.gov.uk/event/north-kent-martial-arts-club-4-2-2/2026-06-24/
LOCATION:Swanscombe and Greenhithe Town Council and Community Hall\, 16 The Grove\, Swanscombe DA10 0AD\, United Kingdom\, United Kingdom
CATEGORIES:Sports & Recreation Group
END:VEVENT
BEGIN:VEVENT
DTSTART;TZID=Europe/London:20260626T183000
DTEND;TZID=Europe/London:20260626T203000
DTSTAMP:20260425T213754
CREATED:20240424T184742Z
LAST-MODIFIED:20241219T091732Z
UID:10021839-1782498600-1782505800@swanscombeandgreenhithetowncouncil.gov.uk
SUMMARY:North Kent Martial Arts Club
DESCRIPTION:Please click on the photo below for details of the North Kent Martial Arts Club operating in Swanscombe.
URL:https://swanscombeandgreenhithetowncouncil.gov.uk/event/north-kent-martial-arts-club-4-3-2/2026-06-26/
LOCATION:Swanscombe and Greenhithe Town Council and Community Hall\, 16 The Grove\, Swanscombe DA10 0AD\, United Kingdom\, United Kingdom
CATEGORIES:Sports & Recreation Group
END:VEVENT
BEGIN:VEVENT
DTSTART;TZID=Europe/London:20260627T093000
DTEND;TZID=Europe/London:20260627T143000
DTSTAMP:20260425T213754
CREATED:20240312T171726Z
LAST-MODIFIED:20240313T005116Z
UID:10008228-1782552600-1782570600@swanscombeandgreenhithetowncouncil.gov.uk
SUMMARY:Rosie's Groovy Movers - Children's Dance Groups
DESCRIPTION:
URL:https://swanscombeandgreenhithetowncouncil.gov.uk/event/rosies-groovy-movers-childrens-dance-groups-2-2-2/2026-06-27/
LOCATION:Swanscombe and Greenhithe Town Council and Community Hall\, 16 The Grove\, Swanscombe DA10 0AD\, United Kingdom\, United Kingdom
CATEGORIES:Community Event
ATTACH;FMTTYPE=image/jpeg:https://swanscombeandgreenhithetowncouncil.gov.uk/wp-content/uploads/2020/02/38.2021-Rosies-Groovy-Movers-25-Oct.jpg
ORGANIZER;CN="Rosie":MAILTO:groovymovers@yahoo.co.uk
END:VEVENT
BEGIN:VEVENT
DTSTART;TZID=Europe/London:20260628T090000
DTEND;TZID=Europe/London:20260628T100000
DTSTAMP:20260425T213754
CREATED:20210520T102552Z
LAST-MODIFIED:20241219T091648Z
UID:10020530-1782637200-1782640800@swanscombeandgreenhithetowncouncil.gov.uk
SUMMARY:Free Weekly Health Walk
DESCRIPTION:
URL:https://swanscombeandgreenhithetowncouncil.gov.uk/event/free-weekly-health-walk/2026-06-28/
LOCATION:Swanscombe and Greenhithe Town Council and Community Hall\, 16 The Grove\, Swanscombe DA10 0AD\, United Kingdom\, United Kingdom
CATEGORIES:Community Event|Sports & Recreation Group
ATTACH;FMTTYPE=image/jpeg:https://swanscombeandgreenhithetowncouncil.gov.uk/wp-content/uploads/2021/05/43.2021-Health-Walks-S-and-G.jpg
ORGANIZER;CN="One You Kent team":MAILTO:oneyou@dartford.gov.uk
END:VEVENT
BEGIN:VEVENT
DTSTART;TZID=Europe/London:20260629T170000
DTEND;TZID=Europe/London:20260629T173000
DTSTAMP:20260425T213754
CREATED:20250929T093455Z
LAST-MODIFIED:20250929T093455Z
UID:10023623-1782752400-1782754200@swanscombeandgreenhithetowncouncil.gov.uk
SUMMARY:Baby Ballet - CB Studio
DESCRIPTION:
URL:https://swanscombeandgreenhithetowncouncil.gov.uk/event/baby-ballet-cb-studio/2026-06-29/
LOCATION:Swanscombe and Greenhithe Town Council and Community Hall\, 16 The Grove\, Swanscombe DA10 0AD\, United Kingdom\, United Kingdom
ATTACH;FMTTYPE=image/jpeg:https://swanscombeandgreenhithetowncouncil.gov.uk/wp-content/uploads/2025/09/2025-CB-Studio-Ballet-Publicity-Poster-29-Sep.jpg
ORGANIZER;CN="CB Studio":MAILTO:cheybdance@gmail.com
END:VEVENT
BEGIN:VEVENT
DTSTART;TZID=Europe/London:20260701T173000
DTEND;TZID=Europe/London:20260701T203000
DTSTAMP:20260425T213754
CREATED:20240424T184609Z
LAST-MODIFIED:20241219T092041Z
UID:10021580-1782927000-1782937800@swanscombeandgreenhithetowncouncil.gov.uk
SUMMARY:North Kent Martial Arts Club
DESCRIPTION:Please click on the photo below for details of the North Kent Martial Arts Club operating in Swanscombe.
URL:https://swanscombeandgreenhithetowncouncil.gov.uk/event/north-kent-martial-arts-club-4-2-2/2026-07-01/
LOCATION:Swanscombe and Greenhithe Town Council and Community Hall\, 16 The Grove\, Swanscombe DA10 0AD\, United Kingdom\, United Kingdom
CATEGORIES:Sports & Recreation Group
END:VEVENT
BEGIN:VEVENT
DTSTART;TZID=Europe/London:20260703T183000
DTEND;TZID=Europe/London:20260703T203000
DTSTAMP:20260425T213754
CREATED:20240424T184742Z
LAST-MODIFIED:20241219T091732Z
UID:10021840-1783103400-1783110600@swanscombeandgreenhithetowncouncil.gov.uk
SUMMARY:North Kent Martial Arts Club
DESCRIPTION:Please click on the photo below for details of the North Kent Martial Arts Club operating in Swanscombe.
URL:https://swanscombeandgreenhithetowncouncil.gov.uk/event/north-kent-martial-arts-club-4-3-2/2026-07-03/
LOCATION:Swanscombe and Greenhithe Town Council and Community Hall\, 16 The Grove\, Swanscombe DA10 0AD\, United Kingdom\, United Kingdom
CATEGORIES:Sports & Recreation Group
END:VEVENT
BEGIN:VEVENT
DTSTART;TZID=Europe/London:20260704T093000
DTEND;TZID=Europe/London:20260704T143000
DTSTAMP:20260425T213754
CREATED:20240312T171726Z
LAST-MODIFIED:20240313T005116Z
UID:10008229-1783157400-1783175400@swanscombeandgreenhithetowncouncil.gov.uk
SUMMARY:Rosie's Groovy Movers - Children's Dance Groups
DESCRIPTION:
URL:https://swanscombeandgreenhithetowncouncil.gov.uk/event/rosies-groovy-movers-childrens-dance-groups-2-2-2/2026-07-04/
LOCATION:Swanscombe and Greenhithe Town Council and Community Hall\, 16 The Grove\, Swanscombe DA10 0AD\, United Kingdom\, United Kingdom
CATEGORIES:Community Event
ATTACH;FMTTYPE=image/jpeg:https://swanscombeandgreenhithetowncouncil.gov.uk/wp-content/uploads/2020/02/38.2021-Rosies-Groovy-Movers-25-Oct.jpg
ORGANIZER;CN="Rosie":MAILTO:groovymovers@yahoo.co.uk
END:VEVENT
BEGIN:VEVENT
DTSTART;TZID=Europe/London:20260705T090000
DTEND;TZID=Europe/London:20260705T100000
DTSTAMP:20260425T213754
CREATED:20210520T102552Z
LAST-MODIFIED:20241219T091648Z
UID:10020531-1783242000-1783245600@swanscombeandgreenhithetowncouncil.gov.uk
SUMMARY:Free Weekly Health Walk
DESCRIPTION:
URL:https://swanscombeandgreenhithetowncouncil.gov.uk/event/free-weekly-health-walk/2026-07-05/
LOCATION:Swanscombe and Greenhithe Town Council and Community Hall\, 16 The Grove\, Swanscombe DA10 0AD\, United Kingdom\, United Kingdom
CATEGORIES:Community Event|Sports & Recreation Group
ATTACH;FMTTYPE=image/jpeg:https://swanscombeandgreenhithetowncouncil.gov.uk/wp-content/uploads/2021/05/43.2021-Health-Walks-S-and-G.jpg
ORGANIZER;CN="One You Kent team":MAILTO:oneyou@dartford.gov.uk
END:VEVENT
BEGIN:VEVENT
DTSTART;TZID=Europe/London:20260706T170000
DTEND;TZID=Europe/London:20260706T173000
DTSTAMP:20260425T213754
CREATED:20250929T093455Z
LAST-MODIFIED:20250929T093455Z
UID:10023624-1783357200-1783359000@swanscombeandgreenhithetowncouncil.gov.uk
SUMMARY:Baby Ballet - CB Studio
DESCRIPTION:
URL:https://swanscombeandgreenhithetowncouncil.gov.uk/event/baby-ballet-cb-studio/2026-07-06/
LOCATION:Swanscombe and Greenhithe Town Council and Community Hall\, 16 The Grove\, Swanscombe DA10 0AD\, United Kingdom\, United Kingdom
ATTACH;FMTTYPE=image/jpeg:https://swanscombeandgreenhithetowncouncil.gov.uk/wp-content/uploads/2025/09/2025-CB-Studio-Ballet-Publicity-Poster-29-Sep.jpg
ORGANIZER;CN="CB Studio":MAILTO:cheybdance@gmail.com
END:VEVENT
BEGIN:VEVENT
DTSTART;TZID=Europe/London:20260708T173000
DTEND;TZID=Europe/London:20260708T203000
DTSTAMP:20260425T213754
CREATED:20240424T184609Z
LAST-MODIFIED:20241219T092041Z
UID:10021581-1783531800-1783542600@swanscombeandgreenhithetowncouncil.gov.uk
SUMMARY:North Kent Martial Arts Club
DESCRIPTION:Please click on the photo below for details of the North Kent Martial Arts Club operating in Swanscombe.
URL:https://swanscombeandgreenhithetowncouncil.gov.uk/event/north-kent-martial-arts-club-4-2-2/2026-07-08/
LOCATION:Swanscombe and Greenhithe Town Council and Community Hall\, 16 The Grove\, Swanscombe DA10 0AD\, United Kingdom\, United Kingdom
CATEGORIES:Sports & Recreation Group
END:VEVENT
BEGIN:VEVENT
DTSTART;TZID=Europe/London:20260710T183000
DTEND;TZID=Europe/London:20260710T203000
DTSTAMP:20260425T213754
CREATED:20240424T184742Z
LAST-MODIFIED:20241219T091732Z
UID:10021841-1783708200-1783715400@swanscombeandgreenhithetowncouncil.gov.uk
SUMMARY:North Kent Martial Arts Club
DESCRIPTION:Please click on the photo below for details of the North Kent Martial Arts Club operating in Swanscombe.
URL:https://swanscombeandgreenhithetowncouncil.gov.uk/event/north-kent-martial-arts-club-4-3-2/2026-07-10/
LOCATION:Swanscombe and Greenhithe Town Council and Community Hall\, 16 The Grove\, Swanscombe DA10 0AD\, United Kingdom\, United Kingdom
CATEGORIES:Sports & Recreation Group
END:VEVENT
BEGIN:VEVENT
DTSTART;TZID=Europe/London:20260711T093000
DTEND;TZID=Europe/London:20260711T143000
DTSTAMP:20260425T213754
CREATED:20240312T171726Z
LAST-MODIFIED:20240313T005116Z
UID:10008230-1783762200-1783780200@swanscombeandgreenhithetowncouncil.gov.uk
SUMMARY:Rosie's Groovy Movers - Children's Dance Groups
DESCRIPTION:
URL:https://swanscombeandgreenhithetowncouncil.gov.uk/event/rosies-groovy-movers-childrens-dance-groups-2-2-2/2026-07-11/
LOCATION:Swanscombe and Greenhithe Town Council and Community Hall\, 16 The Grove\, Swanscombe DA10 0AD\, United Kingdom\, United Kingdom
CATEGORIES:Community Event
ATTACH;FMTTYPE=image/jpeg:https://swanscombeandgreenhithetowncouncil.gov.uk/wp-content/uploads/2020/02/38.2021-Rosies-Groovy-Movers-25-Oct.jpg
ORGANIZER;CN="Rosie":MAILTO:groovymovers@yahoo.co.uk
END:VEVENT
BEGIN:VEVENT
DTSTART;TZID=Europe/London:20260712T090000
DTEND;TZID=Europe/London:20260712T100000
DTSTAMP:20260425T213754
CREATED:20210520T102552Z
LAST-MODIFIED:20241219T091648Z
UID:10020532-1783846800-1783850400@swanscombeandgreenhithetowncouncil.gov.uk
SUMMARY:Free Weekly Health Walk
DESCRIPTION:
URL:https://swanscombeandgreenhithetowncouncil.gov.uk/event/free-weekly-health-walk/2026-07-12/
LOCATION:Swanscombe and Greenhithe Town Council and Community Hall\, 16 The Grove\, Swanscombe DA10 0AD\, United Kingdom\, United Kingdom
CATEGORIES:Community Event|Sports & Recreation Group
ATTACH;FMTTYPE=image/jpeg:https://swanscombeandgreenhithetowncouncil.gov.uk/wp-content/uploads/2021/05/43.2021-Health-Walks-S-and-G.jpg
ORGANIZER;CN="One You Kent team":MAILTO:oneyou@dartford.gov.uk
END:VEVENT
BEGIN:VEVENT
DTSTART;TZID=Europe/London:20260713T170000
DTEND;TZID=Europe/London:20260713T173000
DTSTAMP:20260425T213754
CREATED:20250929T093455Z
LAST-MODIFIED:20250929T093455Z
UID:10023625-1783962000-1783963800@swanscombeandgreenhithetowncouncil.gov.uk
SUMMARY:Baby Ballet - CB Studio
DESCRIPTION:
URL:https://swanscombeandgreenhithetowncouncil.gov.uk/event/baby-ballet-cb-studio/2026-07-13/
LOCATION:Swanscombe and Greenhithe Town Council and Community Hall\, 16 The Grove\, Swanscombe DA10 0AD\, United Kingdom\, United Kingdom
ATTACH;FMTTYPE=image/jpeg:https://swanscombeandgreenhithetowncouncil.gov.uk/wp-content/uploads/2025/09/2025-CB-Studio-Ballet-Publicity-Poster-29-Sep.jpg
ORGANIZER;CN="CB Studio":MAILTO:cheybdance@gmail.com
END:VEVENT
BEGIN:VEVENT
DTSTART;TZID=Europe/London:20260715T173000
DTEND;TZID=Europe/London:20260715T203000
DTSTAMP:20260425T213754
CREATED:20240424T184609Z
LAST-MODIFIED:20241219T092041Z
UID:10021582-1784136600-1784147400@swanscombeandgreenhithetowncouncil.gov.uk
SUMMARY:North Kent Martial Arts Club
DESCRIPTION:Please click on the photo below for details of the North Kent Martial Arts Club operating in Swanscombe.
URL:https://swanscombeandgreenhithetowncouncil.gov.uk/event/north-kent-martial-arts-club-4-2-2/2026-07-15/
LOCATION:Swanscombe and Greenhithe Town Council and Community Hall\, 16 The Grove\, Swanscombe DA10 0AD\, United Kingdom\, United Kingdom
CATEGORIES:Sports & Recreation Group
END:VEVENT
BEGIN:VEVENT
DTSTART;TZID=Europe/London:20260717T183000
DTEND;TZID=Europe/London:20260717T203000
DTSTAMP:20260425T213754
CREATED:20240424T184742Z
LAST-MODIFIED:20241219T091732Z
UID:10021842-1784313000-1784320200@swanscombeandgreenhithetowncouncil.gov.uk
SUMMARY:North Kent Martial Arts Club
DESCRIPTION:Please click on the photo below for details of the North Kent Martial Arts Club operating in Swanscombe.
URL:https://swanscombeandgreenhithetowncouncil.gov.uk/event/north-kent-martial-arts-club-4-3-2/2026-07-17/
LOCATION:Swanscombe and Greenhithe Town Council and Community Hall\, 16 The Grove\, Swanscombe DA10 0AD\, United Kingdom\, United Kingdom
CATEGORIES:Sports & Recreation Group
END:VEVENT
BEGIN:VEVENT
DTSTART;TZID=Europe/London:20260718T093000
DTEND;TZID=Europe/London:20260718T143000
DTSTAMP:20260425T213754
CREATED:20240312T171726Z
LAST-MODIFIED:20240313T005116Z
UID:10008231-1784367000-1784385000@swanscombeandgreenhithetowncouncil.gov.uk
SUMMARY:Rosie's Groovy Movers - Children's Dance Groups
DESCRIPTION:
URL:https://swanscombeandgreenhithetowncouncil.gov.uk/event/rosies-groovy-movers-childrens-dance-groups-2-2-2/2026-07-18/
LOCATION:Swanscombe and Greenhithe Town Council and Community Hall\, 16 The Grove\, Swanscombe DA10 0AD\, United Kingdom\, United Kingdom
CATEGORIES:Community Event
ATTACH;FMTTYPE=image/jpeg:https://swanscombeandgreenhithetowncouncil.gov.uk/wp-content/uploads/2020/02/38.2021-Rosies-Groovy-Movers-25-Oct.jpg
ORGANIZER;CN="Rosie":MAILTO:groovymovers@yahoo.co.uk
END:VEVENT
BEGIN:VEVENT
DTSTART;TZID=Europe/London:20260719T090000
DTEND;TZID=Europe/London:20260719T100000
DTSTAMP:20260425T213754
CREATED:20210520T102552Z
LAST-MODIFIED:20241219T091648Z
UID:10020533-1784451600-1784455200@swanscombeandgreenhithetowncouncil.gov.uk
SUMMARY:Free Weekly Health Walk
DESCRIPTION:
URL:https://swanscombeandgreenhithetowncouncil.gov.uk/event/free-weekly-health-walk/2026-07-19/
LOCATION:Swanscombe and Greenhithe Town Council and Community Hall\, 16 The Grove\, Swanscombe DA10 0AD\, United Kingdom\, United Kingdom
CATEGORIES:Community Event|Sports & Recreation Group
ATTACH;FMTTYPE=image/jpeg:https://swanscombeandgreenhithetowncouncil.gov.uk/wp-content/uploads/2021/05/43.2021-Health-Walks-S-and-G.jpg
ORGANIZER;CN="One You Kent team":MAILTO:oneyou@dartford.gov.uk
END:VEVENT
BEGIN:VEVENT
DTSTART;TZID=Europe/London:20260720T170000
DTEND;TZID=Europe/London:20260720T173000
DTSTAMP:20260425T213754
CREATED:20250929T093455Z
LAST-MODIFIED:20250929T093455Z
UID:10023626-1784566800-1784568600@swanscombeandgreenhithetowncouncil.gov.uk
SUMMARY:Baby Ballet - CB Studio
DESCRIPTION:
URL:https://swanscombeandgreenhithetowncouncil.gov.uk/event/baby-ballet-cb-studio/2026-07-20/
LOCATION:Swanscombe and Greenhithe Town Council and Community Hall\, 16 The Grove\, Swanscombe DA10 0AD\, United Kingdom\, United Kingdom
ATTACH;FMTTYPE=image/jpeg:https://swanscombeandgreenhithetowncouncil.gov.uk/wp-content/uploads/2025/09/2025-CB-Studio-Ballet-Publicity-Poster-29-Sep.jpg
ORGANIZER;CN="CB Studio":MAILTO:cheybdance@gmail.com
END:VEVENT
BEGIN:VEVENT
DTSTART;TZID=Europe/London:20260722T173000
DTEND;TZID=Europe/London:20260722T203000
DTSTAMP:20260425T213754
CREATED:20240424T184609Z
LAST-MODIFIED:20241219T092041Z
UID:10021583-1784741400-1784752200@swanscombeandgreenhithetowncouncil.gov.uk
SUMMARY:North Kent Martial Arts Club
DESCRIPTION:Please click on the photo below for details of the North Kent Martial Arts Club operating in Swanscombe.
URL:https://swanscombeandgreenhithetowncouncil.gov.uk/event/north-kent-martial-arts-club-4-2-2/2026-07-22/
LOCATION:Swanscombe and Greenhithe Town Council and Community Hall\, 16 The Grove\, Swanscombe DA10 0AD\, United Kingdom\, United Kingdom
CATEGORIES:Sports & Recreation Group
END:VEVENT
BEGIN:VEVENT
DTSTART;TZID=Europe/London:20260724T183000
DTEND;TZID=Europe/London:20260724T203000
DTSTAMP:20260425T213754
CREATED:20240424T184742Z
LAST-MODIFIED:20241219T091732Z
UID:10021843-1784917800-1784925000@swanscombeandgreenhithetowncouncil.gov.uk
SUMMARY:North Kent Martial Arts Club
DESCRIPTION:Please click on the photo below for details of the North Kent Martial Arts Club operating in Swanscombe.
URL:https://swanscombeandgreenhithetowncouncil.gov.uk/event/north-kent-martial-arts-club-4-3-2/2026-07-24/
LOCATION:Swanscombe and Greenhithe Town Council and Community Hall\, 16 The Grove\, Swanscombe DA10 0AD\, United Kingdom\, United Kingdom
CATEGORIES:Sports & Recreation Group
END:VEVENT
BEGIN:VEVENT
DTSTART;TZID=Europe/London:20260725T093000
DTEND;TZID=Europe/London:20260725T143000
DTSTAMP:20260425T213754
CREATED:20240312T171726Z
LAST-MODIFIED:20240313T005116Z
UID:10008232-1784971800-1784989800@swanscombeandgreenhithetowncouncil.gov.uk
SUMMARY:Rosie's Groovy Movers - Children's Dance Groups
DESCRIPTION:
URL:https://swanscombeandgreenhithetowncouncil.gov.uk/event/rosies-groovy-movers-childrens-dance-groups-2-2-2/2026-07-25/
LOCATION:Swanscombe and Greenhithe Town Council and Community Hall\, 16 The Grove\, Swanscombe DA10 0AD\, United Kingdom\, United Kingdom
CATEGORIES:Community Event
ATTACH;FMTTYPE=image/jpeg:https://swanscombeandgreenhithetowncouncil.gov.uk/wp-content/uploads/2020/02/38.2021-Rosies-Groovy-Movers-25-Oct.jpg
ORGANIZER;CN="Rosie":MAILTO:groovymovers@yahoo.co.uk
END:VEVENT
BEGIN:VEVENT
DTSTART;TZID=Europe/London:20260726T090000
DTEND;TZID=Europe/London:20260726T100000
DTSTAMP:20260425T213754
CREATED:20210520T102552Z
LAST-MODIFIED:20241219T091648Z
UID:10020534-1785056400-1785060000@swanscombeandgreenhithetowncouncil.gov.uk
SUMMARY:Free Weekly Health Walk
DESCRIPTION:
URL:https://swanscombeandgreenhithetowncouncil.gov.uk/event/free-weekly-health-walk/2026-07-26/
LOCATION:Swanscombe and Greenhithe Town Council and Community Hall\, 16 The Grove\, Swanscombe DA10 0AD\, United Kingdom\, United Kingdom
CATEGORIES:Community Event|Sports & Recreation Group
ATTACH;FMTTYPE=image/jpeg:https://swanscombeandgreenhithetowncouncil.gov.uk/wp-content/uploads/2021/05/43.2021-Health-Walks-S-and-G.jpg
ORGANIZER;CN="One You Kent team":MAILTO:oneyou@dartford.gov.uk
END:VEVENT
END:VCALENDAR