BEGIN:VCALENDAR
VERSION:2.0
PRODID:-//Swanscombe and Greenhithe Town Council - ECPv6.15.20//NONSGML v1.0//EN
CALSCALE:GREGORIAN
METHOD:PUBLISH
X-WR-CALNAME:Swanscombe and Greenhithe Town Council
X-ORIGINAL-URL:https://swanscombeandgreenhithetowncouncil.gov.uk
X-WR-CALDESC:Events for Swanscombe and Greenhithe Town Council
REFRESH-INTERVAL;VALUE=DURATION:PT1H
X-Robots-Tag:noindex
X-PUBLISHED-TTL:PT1H
BEGIN:VTIMEZONE
TZID:Europe/London
BEGIN:DAYLIGHT
TZOFFSETFROM:+0000
TZOFFSETTO:+0100
TZNAME:BST
DTSTART:20250330T010000
END:DAYLIGHT
BEGIN:STANDARD
TZOFFSETFROM:+0100
TZOFFSETTO:+0000
TZNAME:GMT
DTSTART:20251026T010000
END:STANDARD
BEGIN:DAYLIGHT
TZOFFSETFROM:+0000
TZOFFSETTO:+0100
TZNAME:BST
DTSTART:20260329T010000
END:DAYLIGHT
BEGIN:STANDARD
TZOFFSETFROM:+0100
TZOFFSETTO:+0000
TZNAME:GMT
DTSTART:20261025T010000
END:STANDARD
BEGIN:DAYLIGHT
TZOFFSETFROM:+0000
TZOFFSETTO:+0100
TZNAME:BST
DTSTART:20270328T010000
END:DAYLIGHT
BEGIN:STANDARD
TZOFFSETFROM:+0100
TZOFFSETTO:+0000
TZNAME:GMT
DTSTART:20271031T010000
END:STANDARD
END:VTIMEZONE
BEGIN:VEVENT
DTSTART;TZID=Europe/London:20260719T090000
DTEND;TZID=Europe/London:20260719T100000
DTSTAMP:20260426T011245
CREATED:20210520T102552Z
LAST-MODIFIED:20241219T091648Z
UID:10020533-1784451600-1784455200@swanscombeandgreenhithetowncouncil.gov.uk
SUMMARY:Free Weekly Health Walk
DESCRIPTION:
URL:https://swanscombeandgreenhithetowncouncil.gov.uk/event/free-weekly-health-walk/2026-07-19/
LOCATION:Swanscombe and Greenhithe Town Council and Community Hall\, 16 The Grove\, Swanscombe DA10 0AD\, United Kingdom\, United Kingdom
CATEGORIES:Community Event|Sports & Recreation Group
ATTACH;FMTTYPE=image/jpeg:https://swanscombeandgreenhithetowncouncil.gov.uk/wp-content/uploads/2021/05/43.2021-Health-Walks-S-and-G.jpg
ORGANIZER;CN="One You Kent team":MAILTO:oneyou@dartford.gov.uk
END:VEVENT
BEGIN:VEVENT
DTSTART;TZID=Europe/London:20260720T170000
DTEND;TZID=Europe/London:20260720T173000
DTSTAMP:20260426T011245
CREATED:20250929T093455Z
LAST-MODIFIED:20250929T093455Z
UID:10023626-1784566800-1784568600@swanscombeandgreenhithetowncouncil.gov.uk
SUMMARY:Baby Ballet - CB Studio
DESCRIPTION:
URL:https://swanscombeandgreenhithetowncouncil.gov.uk/event/baby-ballet-cb-studio/2026-07-20/
LOCATION:Swanscombe and Greenhithe Town Council and Community Hall\, 16 The Grove\, Swanscombe DA10 0AD\, United Kingdom\, United Kingdom
ATTACH;FMTTYPE=image/jpeg:https://swanscombeandgreenhithetowncouncil.gov.uk/wp-content/uploads/2025/09/2025-CB-Studio-Ballet-Publicity-Poster-29-Sep.jpg
ORGANIZER;CN="CB Studio":MAILTO:cheybdance@gmail.com
END:VEVENT
BEGIN:VEVENT
DTSTART;TZID=Europe/London:20260722T173000
DTEND;TZID=Europe/London:20260722T203000
DTSTAMP:20260426T011245
CREATED:20240424T184609Z
LAST-MODIFIED:20241219T092041Z
UID:10021583-1784741400-1784752200@swanscombeandgreenhithetowncouncil.gov.uk
SUMMARY:North Kent Martial Arts Club
DESCRIPTION:Please click on the photo below for details of the North Kent Martial Arts Club operating in Swanscombe.
URL:https://swanscombeandgreenhithetowncouncil.gov.uk/event/north-kent-martial-arts-club-4-2-2/2026-07-22/
LOCATION:Swanscombe and Greenhithe Town Council and Community Hall\, 16 The Grove\, Swanscombe DA10 0AD\, United Kingdom\, United Kingdom
CATEGORIES:Sports & Recreation Group
END:VEVENT
BEGIN:VEVENT
DTSTART;TZID=Europe/London:20260724T183000
DTEND;TZID=Europe/London:20260724T203000
DTSTAMP:20260426T011245
CREATED:20240424T184742Z
LAST-MODIFIED:20241219T091732Z
UID:10021843-1784917800-1784925000@swanscombeandgreenhithetowncouncil.gov.uk
SUMMARY:North Kent Martial Arts Club
DESCRIPTION:Please click on the photo below for details of the North Kent Martial Arts Club operating in Swanscombe.
URL:https://swanscombeandgreenhithetowncouncil.gov.uk/event/north-kent-martial-arts-club-4-3-2/2026-07-24/
LOCATION:Swanscombe and Greenhithe Town Council and Community Hall\, 16 The Grove\, Swanscombe DA10 0AD\, United Kingdom\, United Kingdom
CATEGORIES:Sports & Recreation Group
END:VEVENT
BEGIN:VEVENT
DTSTART;TZID=Europe/London:20260725T093000
DTEND;TZID=Europe/London:20260725T143000
DTSTAMP:20260426T011245
CREATED:20240312T171726Z
LAST-MODIFIED:20240313T005116Z
UID:10008232-1784971800-1784989800@swanscombeandgreenhithetowncouncil.gov.uk
SUMMARY:Rosie's Groovy Movers - Children's Dance Groups
DESCRIPTION:
URL:https://swanscombeandgreenhithetowncouncil.gov.uk/event/rosies-groovy-movers-childrens-dance-groups-2-2-2/2026-07-25/
LOCATION:Swanscombe and Greenhithe Town Council and Community Hall\, 16 The Grove\, Swanscombe DA10 0AD\, United Kingdom\, United Kingdom
CATEGORIES:Community Event
ATTACH;FMTTYPE=image/jpeg:https://swanscombeandgreenhithetowncouncil.gov.uk/wp-content/uploads/2020/02/38.2021-Rosies-Groovy-Movers-25-Oct.jpg
ORGANIZER;CN="Rosie":MAILTO:groovymovers@yahoo.co.uk
END:VEVENT
BEGIN:VEVENT
DTSTART;TZID=Europe/London:20260726T090000
DTEND;TZID=Europe/London:20260726T100000
DTSTAMP:20260426T011245
CREATED:20210520T102552Z
LAST-MODIFIED:20241219T091648Z
UID:10020534-1785056400-1785060000@swanscombeandgreenhithetowncouncil.gov.uk
SUMMARY:Free Weekly Health Walk
DESCRIPTION:
URL:https://swanscombeandgreenhithetowncouncil.gov.uk/event/free-weekly-health-walk/2026-07-26/
LOCATION:Swanscombe and Greenhithe Town Council and Community Hall\, 16 The Grove\, Swanscombe DA10 0AD\, United Kingdom\, United Kingdom
CATEGORIES:Community Event|Sports & Recreation Group
ATTACH;FMTTYPE=image/jpeg:https://swanscombeandgreenhithetowncouncil.gov.uk/wp-content/uploads/2021/05/43.2021-Health-Walks-S-and-G.jpg
ORGANIZER;CN="One You Kent team":MAILTO:oneyou@dartford.gov.uk
END:VEVENT
BEGIN:VEVENT
DTSTART;TZID=Europe/London:20260727T170000
DTEND;TZID=Europe/London:20260727T173000
DTSTAMP:20260426T011245
CREATED:20250929T093455Z
LAST-MODIFIED:20250929T093455Z
UID:10023627-1785171600-1785173400@swanscombeandgreenhithetowncouncil.gov.uk
SUMMARY:Baby Ballet - CB Studio
DESCRIPTION:
URL:https://swanscombeandgreenhithetowncouncil.gov.uk/event/baby-ballet-cb-studio/2026-07-27/
LOCATION:Swanscombe and Greenhithe Town Council and Community Hall\, 16 The Grove\, Swanscombe DA10 0AD\, United Kingdom\, United Kingdom
ATTACH;FMTTYPE=image/jpeg:https://swanscombeandgreenhithetowncouncil.gov.uk/wp-content/uploads/2025/09/2025-CB-Studio-Ballet-Publicity-Poster-29-Sep.jpg
ORGANIZER;CN="CB Studio":MAILTO:cheybdance@gmail.com
END:VEVENT
BEGIN:VEVENT
DTSTART;TZID=Europe/London:20260729T173000
DTEND;TZID=Europe/London:20260729T203000
DTSTAMP:20260426T011245
CREATED:20240424T184609Z
LAST-MODIFIED:20241219T092041Z
UID:10021584-1785346200-1785357000@swanscombeandgreenhithetowncouncil.gov.uk
SUMMARY:North Kent Martial Arts Club
DESCRIPTION:Please click on the photo below for details of the North Kent Martial Arts Club operating in Swanscombe.
URL:https://swanscombeandgreenhithetowncouncil.gov.uk/event/north-kent-martial-arts-club-4-2-2/2026-07-29/
LOCATION:Swanscombe and Greenhithe Town Council and Community Hall\, 16 The Grove\, Swanscombe DA10 0AD\, United Kingdom\, United Kingdom
CATEGORIES:Sports & Recreation Group
END:VEVENT
BEGIN:VEVENT
DTSTART;TZID=Europe/London:20260731T183000
DTEND;TZID=Europe/London:20260731T203000
DTSTAMP:20260426T011245
CREATED:20240424T184742Z
LAST-MODIFIED:20241219T091732Z
UID:10021844-1785522600-1785529800@swanscombeandgreenhithetowncouncil.gov.uk
SUMMARY:North Kent Martial Arts Club
DESCRIPTION:Please click on the photo below for details of the North Kent Martial Arts Club operating in Swanscombe.
URL:https://swanscombeandgreenhithetowncouncil.gov.uk/event/north-kent-martial-arts-club-4-3-2/2026-07-31/
LOCATION:Swanscombe and Greenhithe Town Council and Community Hall\, 16 The Grove\, Swanscombe DA10 0AD\, United Kingdom\, United Kingdom
CATEGORIES:Sports & Recreation Group
END:VEVENT
BEGIN:VEVENT
DTSTART;TZID=Europe/London:20260801T093000
DTEND;TZID=Europe/London:20260801T143000
DTSTAMP:20260426T011245
CREATED:20240312T171726Z
LAST-MODIFIED:20240313T005116Z
UID:10008233-1785576600-1785594600@swanscombeandgreenhithetowncouncil.gov.uk
SUMMARY:Rosie's Groovy Movers - Children's Dance Groups
DESCRIPTION:
URL:https://swanscombeandgreenhithetowncouncil.gov.uk/event/rosies-groovy-movers-childrens-dance-groups-2-2-2/2026-08-01/
LOCATION:Swanscombe and Greenhithe Town Council and Community Hall\, 16 The Grove\, Swanscombe DA10 0AD\, United Kingdom\, United Kingdom
CATEGORIES:Community Event
ATTACH;FMTTYPE=image/jpeg:https://swanscombeandgreenhithetowncouncil.gov.uk/wp-content/uploads/2020/02/38.2021-Rosies-Groovy-Movers-25-Oct.jpg
ORGANIZER;CN="Rosie":MAILTO:groovymovers@yahoo.co.uk
END:VEVENT
BEGIN:VEVENT
DTSTART;TZID=Europe/London:20260802T090000
DTEND;TZID=Europe/London:20260802T100000
DTSTAMP:20260426T011245
CREATED:20210520T102552Z
LAST-MODIFIED:20241219T091648Z
UID:10020535-1785661200-1785664800@swanscombeandgreenhithetowncouncil.gov.uk
SUMMARY:Free Weekly Health Walk
DESCRIPTION:
URL:https://swanscombeandgreenhithetowncouncil.gov.uk/event/free-weekly-health-walk/2026-08-02/
LOCATION:Swanscombe and Greenhithe Town Council and Community Hall\, 16 The Grove\, Swanscombe DA10 0AD\, United Kingdom\, United Kingdom
CATEGORIES:Community Event|Sports & Recreation Group
ATTACH;FMTTYPE=image/jpeg:https://swanscombeandgreenhithetowncouncil.gov.uk/wp-content/uploads/2021/05/43.2021-Health-Walks-S-and-G.jpg
ORGANIZER;CN="One You Kent team":MAILTO:oneyou@dartford.gov.uk
END:VEVENT
BEGIN:VEVENT
DTSTART;TZID=Europe/London:20260803T170000
DTEND;TZID=Europe/London:20260803T173000
DTSTAMP:20260426T011245
CREATED:20250929T093455Z
LAST-MODIFIED:20250929T093455Z
UID:10023628-1785776400-1785778200@swanscombeandgreenhithetowncouncil.gov.uk
SUMMARY:Baby Ballet - CB Studio
DESCRIPTION:
URL:https://swanscombeandgreenhithetowncouncil.gov.uk/event/baby-ballet-cb-studio/2026-08-03/
LOCATION:Swanscombe and Greenhithe Town Council and Community Hall\, 16 The Grove\, Swanscombe DA10 0AD\, United Kingdom\, United Kingdom
ATTACH;FMTTYPE=image/jpeg:https://swanscombeandgreenhithetowncouncil.gov.uk/wp-content/uploads/2025/09/2025-CB-Studio-Ballet-Publicity-Poster-29-Sep.jpg
ORGANIZER;CN="CB Studio":MAILTO:cheybdance@gmail.com
END:VEVENT
BEGIN:VEVENT
DTSTART;TZID=Europe/London:20260805T173000
DTEND;TZID=Europe/London:20260805T203000
DTSTAMP:20260426T011245
CREATED:20240424T184609Z
LAST-MODIFIED:20241219T092041Z
UID:10021585-1785951000-1785961800@swanscombeandgreenhithetowncouncil.gov.uk
SUMMARY:North Kent Martial Arts Club
DESCRIPTION:Please click on the photo below for details of the North Kent Martial Arts Club operating in Swanscombe.
URL:https://swanscombeandgreenhithetowncouncil.gov.uk/event/north-kent-martial-arts-club-4-2-2/2026-08-05/
LOCATION:Swanscombe and Greenhithe Town Council and Community Hall\, 16 The Grove\, Swanscombe DA10 0AD\, United Kingdom\, United Kingdom
CATEGORIES:Sports & Recreation Group
END:VEVENT
BEGIN:VEVENT
DTSTART;TZID=Europe/London:20260807T183000
DTEND;TZID=Europe/London:20260807T203000
DTSTAMP:20260426T011245
CREATED:20240424T184742Z
LAST-MODIFIED:20241219T091732Z
UID:10021845-1786127400-1786134600@swanscombeandgreenhithetowncouncil.gov.uk
SUMMARY:North Kent Martial Arts Club
DESCRIPTION:Please click on the photo below for details of the North Kent Martial Arts Club operating in Swanscombe.
URL:https://swanscombeandgreenhithetowncouncil.gov.uk/event/north-kent-martial-arts-club-4-3-2/2026-08-07/
LOCATION:Swanscombe and Greenhithe Town Council and Community Hall\, 16 The Grove\, Swanscombe DA10 0AD\, United Kingdom\, United Kingdom
CATEGORIES:Sports & Recreation Group
END:VEVENT
BEGIN:VEVENT
DTSTART;TZID=Europe/London:20260808T093000
DTEND;TZID=Europe/London:20260808T143000
DTSTAMP:20260426T011245
CREATED:20240312T171726Z
LAST-MODIFIED:20240313T005116Z
UID:10008234-1786181400-1786199400@swanscombeandgreenhithetowncouncil.gov.uk
SUMMARY:Rosie's Groovy Movers - Children's Dance Groups
DESCRIPTION:
URL:https://swanscombeandgreenhithetowncouncil.gov.uk/event/rosies-groovy-movers-childrens-dance-groups-2-2-2/2026-08-08/
LOCATION:Swanscombe and Greenhithe Town Council and Community Hall\, 16 The Grove\, Swanscombe DA10 0AD\, United Kingdom\, United Kingdom
CATEGORIES:Community Event
ATTACH;FMTTYPE=image/jpeg:https://swanscombeandgreenhithetowncouncil.gov.uk/wp-content/uploads/2020/02/38.2021-Rosies-Groovy-Movers-25-Oct.jpg
ORGANIZER;CN="Rosie":MAILTO:groovymovers@yahoo.co.uk
END:VEVENT
BEGIN:VEVENT
DTSTART;TZID=Europe/London:20260809T090000
DTEND;TZID=Europe/London:20260809T100000
DTSTAMP:20260426T011245
CREATED:20210520T102552Z
LAST-MODIFIED:20241219T091648Z
UID:10020536-1786266000-1786269600@swanscombeandgreenhithetowncouncil.gov.uk
SUMMARY:Free Weekly Health Walk
DESCRIPTION:
URL:https://swanscombeandgreenhithetowncouncil.gov.uk/event/free-weekly-health-walk/2026-08-09/
LOCATION:Swanscombe and Greenhithe Town Council and Community Hall\, 16 The Grove\, Swanscombe DA10 0AD\, United Kingdom\, United Kingdom
CATEGORIES:Community Event|Sports & Recreation Group
ATTACH;FMTTYPE=image/jpeg:https://swanscombeandgreenhithetowncouncil.gov.uk/wp-content/uploads/2021/05/43.2021-Health-Walks-S-and-G.jpg
ORGANIZER;CN="One You Kent team":MAILTO:oneyou@dartford.gov.uk
END:VEVENT
BEGIN:VEVENT
DTSTART;TZID=Europe/London:20260810T170000
DTEND;TZID=Europe/London:20260810T173000
DTSTAMP:20260426T011245
CREATED:20250929T093455Z
LAST-MODIFIED:20250929T093455Z
UID:10023629-1786381200-1786383000@swanscombeandgreenhithetowncouncil.gov.uk
SUMMARY:Baby Ballet - CB Studio
DESCRIPTION:
URL:https://swanscombeandgreenhithetowncouncil.gov.uk/event/baby-ballet-cb-studio/2026-08-10/
LOCATION:Swanscombe and Greenhithe Town Council and Community Hall\, 16 The Grove\, Swanscombe DA10 0AD\, United Kingdom\, United Kingdom
ATTACH;FMTTYPE=image/jpeg:https://swanscombeandgreenhithetowncouncil.gov.uk/wp-content/uploads/2025/09/2025-CB-Studio-Ballet-Publicity-Poster-29-Sep.jpg
ORGANIZER;CN="CB Studio":MAILTO:cheybdance@gmail.com
END:VEVENT
BEGIN:VEVENT
DTSTART;TZID=Europe/London:20260812T173000
DTEND;TZID=Europe/London:20260812T203000
DTSTAMP:20260426T011245
CREATED:20240424T184609Z
LAST-MODIFIED:20241219T092041Z
UID:10021586-1786555800-1786566600@swanscombeandgreenhithetowncouncil.gov.uk
SUMMARY:North Kent Martial Arts Club
DESCRIPTION:Please click on the photo below for details of the North Kent Martial Arts Club operating in Swanscombe.
URL:https://swanscombeandgreenhithetowncouncil.gov.uk/event/north-kent-martial-arts-club-4-2-2/2026-08-12/
LOCATION:Swanscombe and Greenhithe Town Council and Community Hall\, 16 The Grove\, Swanscombe DA10 0AD\, United Kingdom\, United Kingdom
CATEGORIES:Sports & Recreation Group
END:VEVENT
BEGIN:VEVENT
DTSTART;TZID=Europe/London:20260814T183000
DTEND;TZID=Europe/London:20260814T203000
DTSTAMP:20260426T011245
CREATED:20240424T184742Z
LAST-MODIFIED:20241219T091732Z
UID:10021846-1786732200-1786739400@swanscombeandgreenhithetowncouncil.gov.uk
SUMMARY:North Kent Martial Arts Club
DESCRIPTION:Please click on the photo below for details of the North Kent Martial Arts Club operating in Swanscombe.
URL:https://swanscombeandgreenhithetowncouncil.gov.uk/event/north-kent-martial-arts-club-4-3-2/2026-08-14/
LOCATION:Swanscombe and Greenhithe Town Council and Community Hall\, 16 The Grove\, Swanscombe DA10 0AD\, United Kingdom\, United Kingdom
CATEGORIES:Sports & Recreation Group
END:VEVENT
BEGIN:VEVENT
DTSTART;TZID=Europe/London:20260815T093000
DTEND;TZID=Europe/London:20260815T143000
DTSTAMP:20260426T011245
CREATED:20240312T171726Z
LAST-MODIFIED:20240313T005116Z
UID:10008235-1786786200-1786804200@swanscombeandgreenhithetowncouncil.gov.uk
SUMMARY:Rosie's Groovy Movers - Children's Dance Groups
DESCRIPTION:
URL:https://swanscombeandgreenhithetowncouncil.gov.uk/event/rosies-groovy-movers-childrens-dance-groups-2-2-2/2026-08-15/
LOCATION:Swanscombe and Greenhithe Town Council and Community Hall\, 16 The Grove\, Swanscombe DA10 0AD\, United Kingdom\, United Kingdom
CATEGORIES:Community Event
ATTACH;FMTTYPE=image/jpeg:https://swanscombeandgreenhithetowncouncil.gov.uk/wp-content/uploads/2020/02/38.2021-Rosies-Groovy-Movers-25-Oct.jpg
ORGANIZER;CN="Rosie":MAILTO:groovymovers@yahoo.co.uk
END:VEVENT
BEGIN:VEVENT
DTSTART;TZID=Europe/London:20260816T090000
DTEND;TZID=Europe/London:20260816T100000
DTSTAMP:20260426T011245
CREATED:20210520T102552Z
LAST-MODIFIED:20241219T091648Z
UID:10020537-1786870800-1786874400@swanscombeandgreenhithetowncouncil.gov.uk
SUMMARY:Free Weekly Health Walk
DESCRIPTION:
URL:https://swanscombeandgreenhithetowncouncil.gov.uk/event/free-weekly-health-walk/2026-08-16/
LOCATION:Swanscombe and Greenhithe Town Council and Community Hall\, 16 The Grove\, Swanscombe DA10 0AD\, United Kingdom\, United Kingdom
CATEGORIES:Community Event|Sports & Recreation Group
ATTACH;FMTTYPE=image/jpeg:https://swanscombeandgreenhithetowncouncil.gov.uk/wp-content/uploads/2021/05/43.2021-Health-Walks-S-and-G.jpg
ORGANIZER;CN="One You Kent team":MAILTO:oneyou@dartford.gov.uk
END:VEVENT
BEGIN:VEVENT
DTSTART;TZID=Europe/London:20260817T170000
DTEND;TZID=Europe/London:20260817T173000
DTSTAMP:20260426T011245
CREATED:20250929T093455Z
LAST-MODIFIED:20250929T093455Z
UID:10023630-1786986000-1786987800@swanscombeandgreenhithetowncouncil.gov.uk
SUMMARY:Baby Ballet - CB Studio
DESCRIPTION:
URL:https://swanscombeandgreenhithetowncouncil.gov.uk/event/baby-ballet-cb-studio/2026-08-17/
LOCATION:Swanscombe and Greenhithe Town Council and Community Hall\, 16 The Grove\, Swanscombe DA10 0AD\, United Kingdom\, United Kingdom
ATTACH;FMTTYPE=image/jpeg:https://swanscombeandgreenhithetowncouncil.gov.uk/wp-content/uploads/2025/09/2025-CB-Studio-Ballet-Publicity-Poster-29-Sep.jpg
ORGANIZER;CN="CB Studio":MAILTO:cheybdance@gmail.com
END:VEVENT
BEGIN:VEVENT
DTSTART;TZID=Europe/London:20260819T173000
DTEND;TZID=Europe/London:20260819T203000
DTSTAMP:20260426T011245
CREATED:20240424T184609Z
LAST-MODIFIED:20241219T092041Z
UID:10021587-1787160600-1787171400@swanscombeandgreenhithetowncouncil.gov.uk
SUMMARY:North Kent Martial Arts Club
DESCRIPTION:Please click on the photo below for details of the North Kent Martial Arts Club operating in Swanscombe.
URL:https://swanscombeandgreenhithetowncouncil.gov.uk/event/north-kent-martial-arts-club-4-2-2/2026-08-19/
LOCATION:Swanscombe and Greenhithe Town Council and Community Hall\, 16 The Grove\, Swanscombe DA10 0AD\, United Kingdom\, United Kingdom
CATEGORIES:Sports & Recreation Group
END:VEVENT
BEGIN:VEVENT
DTSTART;TZID=Europe/London:20260821T183000
DTEND;TZID=Europe/London:20260821T203000
DTSTAMP:20260426T011245
CREATED:20240424T184742Z
LAST-MODIFIED:20241219T091732Z
UID:10021847-1787337000-1787344200@swanscombeandgreenhithetowncouncil.gov.uk
SUMMARY:North Kent Martial Arts Club
DESCRIPTION:Please click on the photo below for details of the North Kent Martial Arts Club operating in Swanscombe.
URL:https://swanscombeandgreenhithetowncouncil.gov.uk/event/north-kent-martial-arts-club-4-3-2/2026-08-21/
LOCATION:Swanscombe and Greenhithe Town Council and Community Hall\, 16 The Grove\, Swanscombe DA10 0AD\, United Kingdom\, United Kingdom
CATEGORIES:Sports & Recreation Group
END:VEVENT
BEGIN:VEVENT
DTSTART;TZID=Europe/London:20260822T093000
DTEND;TZID=Europe/London:20260822T143000
DTSTAMP:20260426T011245
CREATED:20240312T171726Z
LAST-MODIFIED:20240313T005116Z
UID:10008236-1787391000-1787409000@swanscombeandgreenhithetowncouncil.gov.uk
SUMMARY:Rosie's Groovy Movers - Children's Dance Groups
DESCRIPTION:
URL:https://swanscombeandgreenhithetowncouncil.gov.uk/event/rosies-groovy-movers-childrens-dance-groups-2-2-2/2026-08-22/
LOCATION:Swanscombe and Greenhithe Town Council and Community Hall\, 16 The Grove\, Swanscombe DA10 0AD\, United Kingdom\, United Kingdom
CATEGORIES:Community Event
ATTACH;FMTTYPE=image/jpeg:https://swanscombeandgreenhithetowncouncil.gov.uk/wp-content/uploads/2020/02/38.2021-Rosies-Groovy-Movers-25-Oct.jpg
ORGANIZER;CN="Rosie":MAILTO:groovymovers@yahoo.co.uk
END:VEVENT
BEGIN:VEVENT
DTSTART;TZID=Europe/London:20260823T090000
DTEND;TZID=Europe/London:20260823T100000
DTSTAMP:20260426T011245
CREATED:20210520T102552Z
LAST-MODIFIED:20241219T091648Z
UID:10020538-1787475600-1787479200@swanscombeandgreenhithetowncouncil.gov.uk
SUMMARY:Free Weekly Health Walk
DESCRIPTION:
URL:https://swanscombeandgreenhithetowncouncil.gov.uk/event/free-weekly-health-walk/2026-08-23/
LOCATION:Swanscombe and Greenhithe Town Council and Community Hall\, 16 The Grove\, Swanscombe DA10 0AD\, United Kingdom\, United Kingdom
CATEGORIES:Community Event|Sports & Recreation Group
ATTACH;FMTTYPE=image/jpeg:https://swanscombeandgreenhithetowncouncil.gov.uk/wp-content/uploads/2021/05/43.2021-Health-Walks-S-and-G.jpg
ORGANIZER;CN="One You Kent team":MAILTO:oneyou@dartford.gov.uk
END:VEVENT
BEGIN:VEVENT
DTSTART;TZID=Europe/London:20260824T170000
DTEND;TZID=Europe/London:20260824T173000
DTSTAMP:20260426T011245
CREATED:20250929T093455Z
LAST-MODIFIED:20250929T093455Z
UID:10023631-1787590800-1787592600@swanscombeandgreenhithetowncouncil.gov.uk
SUMMARY:Baby Ballet - CB Studio
DESCRIPTION:
URL:https://swanscombeandgreenhithetowncouncil.gov.uk/event/baby-ballet-cb-studio/2026-08-24/
LOCATION:Swanscombe and Greenhithe Town Council and Community Hall\, 16 The Grove\, Swanscombe DA10 0AD\, United Kingdom\, United Kingdom
ATTACH;FMTTYPE=image/jpeg:https://swanscombeandgreenhithetowncouncil.gov.uk/wp-content/uploads/2025/09/2025-CB-Studio-Ballet-Publicity-Poster-29-Sep.jpg
ORGANIZER;CN="CB Studio":MAILTO:cheybdance@gmail.com
END:VEVENT
BEGIN:VEVENT
DTSTART;TZID=Europe/London:20260826T173000
DTEND;TZID=Europe/London:20260826T203000
DTSTAMP:20260426T011245
CREATED:20240424T184609Z
LAST-MODIFIED:20241219T092041Z
UID:10021588-1787765400-1787776200@swanscombeandgreenhithetowncouncil.gov.uk
SUMMARY:North Kent Martial Arts Club
DESCRIPTION:Please click on the photo below for details of the North Kent Martial Arts Club operating in Swanscombe.
URL:https://swanscombeandgreenhithetowncouncil.gov.uk/event/north-kent-martial-arts-club-4-2-2/2026-08-26/
LOCATION:Swanscombe and Greenhithe Town Council and Community Hall\, 16 The Grove\, Swanscombe DA10 0AD\, United Kingdom\, United Kingdom
CATEGORIES:Sports & Recreation Group
END:VEVENT
BEGIN:VEVENT
DTSTART;TZID=Europe/London:20260828T183000
DTEND;TZID=Europe/London:20260828T203000
DTSTAMP:20260426T011245
CREATED:20240424T184742Z
LAST-MODIFIED:20241219T091732Z
UID:10021848-1787941800-1787949000@swanscombeandgreenhithetowncouncil.gov.uk
SUMMARY:North Kent Martial Arts Club
DESCRIPTION:Please click on the photo below for details of the North Kent Martial Arts Club operating in Swanscombe.
URL:https://swanscombeandgreenhithetowncouncil.gov.uk/event/north-kent-martial-arts-club-4-3-2/2026-08-28/
LOCATION:Swanscombe and Greenhithe Town Council and Community Hall\, 16 The Grove\, Swanscombe DA10 0AD\, United Kingdom\, United Kingdom
CATEGORIES:Sports & Recreation Group
END:VEVENT
BEGIN:VEVENT
DTSTART;TZID=Europe/London:20260829T093000
DTEND;TZID=Europe/London:20260829T143000
DTSTAMP:20260426T011245
CREATED:20240312T171726Z
LAST-MODIFIED:20240313T005116Z
UID:10008237-1787995800-1788013800@swanscombeandgreenhithetowncouncil.gov.uk
SUMMARY:Rosie's Groovy Movers - Children's Dance Groups
DESCRIPTION:
URL:https://swanscombeandgreenhithetowncouncil.gov.uk/event/rosies-groovy-movers-childrens-dance-groups-2-2-2/2026-08-29/
LOCATION:Swanscombe and Greenhithe Town Council and Community Hall\, 16 The Grove\, Swanscombe DA10 0AD\, United Kingdom\, United Kingdom
CATEGORIES:Community Event
ATTACH;FMTTYPE=image/jpeg:https://swanscombeandgreenhithetowncouncil.gov.uk/wp-content/uploads/2020/02/38.2021-Rosies-Groovy-Movers-25-Oct.jpg
ORGANIZER;CN="Rosie":MAILTO:groovymovers@yahoo.co.uk
END:VEVENT
END:VCALENDAR