BEGIN:VCALENDAR
VERSION:2.0
PRODID:-//Swanscombe and Greenhithe Town Council - ECPv6.15.20//NONSGML v1.0//EN
CALSCALE:GREGORIAN
METHOD:PUBLISH
X-WR-CALNAME:Swanscombe and Greenhithe Town Council
X-ORIGINAL-URL:https://swanscombeandgreenhithetowncouncil.gov.uk
X-WR-CALDESC:Events for Swanscombe and Greenhithe Town Council
REFRESH-INTERVAL;VALUE=DURATION:PT1H
X-Robots-Tag:noindex
X-PUBLISHED-TTL:PT1H
BEGIN:VTIMEZONE
TZID:Europe/London
BEGIN:DAYLIGHT
TZOFFSETFROM:+0000
TZOFFSETTO:+0100
TZNAME:BST
DTSTART:20270328T010000
END:DAYLIGHT
BEGIN:STANDARD
TZOFFSETFROM:+0100
TZOFFSETTO:+0000
TZNAME:GMT
DTSTART:20271031T010000
END:STANDARD
BEGIN:DAYLIGHT
TZOFFSETFROM:+0000
TZOFFSETTO:+0100
TZNAME:BST
DTSTART:20280326T010000
END:DAYLIGHT
BEGIN:STANDARD
TZOFFSETFROM:+0100
TZOFFSETTO:+0000
TZNAME:GMT
DTSTART:20281029T010000
END:STANDARD
BEGIN:DAYLIGHT
TZOFFSETFROM:+0000
TZOFFSETTO:+0100
TZNAME:BST
DTSTART:20290325T010000
END:DAYLIGHT
BEGIN:STANDARD
TZOFFSETFROM:+0100
TZOFFSETTO:+0000
TZNAME:GMT
DTSTART:20291028T010000
END:STANDARD
BEGIN:DAYLIGHT
TZOFFSETFROM:+0000
TZOFFSETTO:+0100
TZNAME:BST
DTSTART:20300331T010000
END:DAYLIGHT
BEGIN:STANDARD
TZOFFSETFROM:+0100
TZOFFSETTO:+0000
TZNAME:GMT
DTSTART:20301027T010000
END:STANDARD
END:VTIMEZONE
BEGIN:VEVENT
DTSTART;TZID=Europe/London:20280811T100000
DTEND;TZID=Europe/London:20280811T100000
DTSTAMP:20260422T082048
CREATED:20240313T170048Z
LAST-MODIFIED:20241219T091026Z
UID:10014684-1849600800-1849600800@swanscombeandgreenhithetowncouncil.gov.uk
SUMMARY:Weekly Healthy Walks - Fridays at 10.00am
DESCRIPTION:
URL:https://swanscombeandgreenhithetowncouncil.gov.uk/event/weekly-healthy-walks-fridays-at-10-00am-2/2028-08-11/
LOCATION:The Fire Station Cafe\, Church Rd\, Swanscombe DA10 0HF\, United Kingdom\, United Kingdom
CATEGORIES:Community Event
END:VEVENT
BEGIN:VEVENT
DTSTART;TZID=Europe/London:20280818T100000
DTEND;TZID=Europe/London:20280818T100000
DTSTAMP:20260422T082048
CREATED:20240313T170048Z
LAST-MODIFIED:20241219T091026Z
UID:10014685-1850205600-1850205600@swanscombeandgreenhithetowncouncil.gov.uk
SUMMARY:Weekly Healthy Walks - Fridays at 10.00am
DESCRIPTION:
URL:https://swanscombeandgreenhithetowncouncil.gov.uk/event/weekly-healthy-walks-fridays-at-10-00am-2/2028-08-18/
LOCATION:The Fire Station Cafe\, Church Rd\, Swanscombe DA10 0HF\, United Kingdom\, United Kingdom
CATEGORIES:Community Event
END:VEVENT
BEGIN:VEVENT
DTSTART;TZID=Europe/London:20280825T100000
DTEND;TZID=Europe/London:20280825T100000
DTSTAMP:20260422T082048
CREATED:20240313T170048Z
LAST-MODIFIED:20241219T091026Z
UID:10014686-1850810400-1850810400@swanscombeandgreenhithetowncouncil.gov.uk
SUMMARY:Weekly Healthy Walks - Fridays at 10.00am
DESCRIPTION:
URL:https://swanscombeandgreenhithetowncouncil.gov.uk/event/weekly-healthy-walks-fridays-at-10-00am-2/2028-08-25/
LOCATION:The Fire Station Cafe\, Church Rd\, Swanscombe DA10 0HF\, United Kingdom\, United Kingdom
CATEGORIES:Community Event
END:VEVENT
BEGIN:VEVENT
DTSTART;TZID=Europe/London:20280901T100000
DTEND;TZID=Europe/London:20280901T100000
DTSTAMP:20260422T082048
CREATED:20240313T170048Z
LAST-MODIFIED:20241219T091026Z
UID:10014687-1851415200-1851415200@swanscombeandgreenhithetowncouncil.gov.uk
SUMMARY:Weekly Healthy Walks - Fridays at 10.00am
DESCRIPTION:
URL:https://swanscombeandgreenhithetowncouncil.gov.uk/event/weekly-healthy-walks-fridays-at-10-00am-2/2028-09-01/
LOCATION:The Fire Station Cafe\, Church Rd\, Swanscombe DA10 0HF\, United Kingdom\, United Kingdom
CATEGORIES:Community Event
END:VEVENT
BEGIN:VEVENT
DTSTART;TZID=Europe/London:20280908T100000
DTEND;TZID=Europe/London:20280908T100000
DTSTAMP:20260422T082048
CREATED:20240313T170048Z
LAST-MODIFIED:20241219T091026Z
UID:10014688-1852020000-1852020000@swanscombeandgreenhithetowncouncil.gov.uk
SUMMARY:Weekly Healthy Walks - Fridays at 10.00am
DESCRIPTION:
URL:https://swanscombeandgreenhithetowncouncil.gov.uk/event/weekly-healthy-walks-fridays-at-10-00am-2/2028-09-08/
LOCATION:The Fire Station Cafe\, Church Rd\, Swanscombe DA10 0HF\, United Kingdom\, United Kingdom
CATEGORIES:Community Event
END:VEVENT
BEGIN:VEVENT
DTSTART;TZID=Europe/London:20280915T100000
DTEND;TZID=Europe/London:20280915T100000
DTSTAMP:20260422T082048
CREATED:20240313T170048Z
LAST-MODIFIED:20241219T091026Z
UID:10014689-1852624800-1852624800@swanscombeandgreenhithetowncouncil.gov.uk
SUMMARY:Weekly Healthy Walks - Fridays at 10.00am
DESCRIPTION:
URL:https://swanscombeandgreenhithetowncouncil.gov.uk/event/weekly-healthy-walks-fridays-at-10-00am-2/2028-09-15/
LOCATION:The Fire Station Cafe\, Church Rd\, Swanscombe DA10 0HF\, United Kingdom\, United Kingdom
CATEGORIES:Community Event
END:VEVENT
BEGIN:VEVENT
DTSTART;TZID=Europe/London:20280922T100000
DTEND;TZID=Europe/London:20280922T100000
DTSTAMP:20260422T082048
CREATED:20240313T170048Z
LAST-MODIFIED:20241219T091026Z
UID:10014690-1853229600-1853229600@swanscombeandgreenhithetowncouncil.gov.uk
SUMMARY:Weekly Healthy Walks - Fridays at 10.00am
DESCRIPTION:
URL:https://swanscombeandgreenhithetowncouncil.gov.uk/event/weekly-healthy-walks-fridays-at-10-00am-2/2028-09-22/
LOCATION:The Fire Station Cafe\, Church Rd\, Swanscombe DA10 0HF\, United Kingdom\, United Kingdom
CATEGORIES:Community Event
END:VEVENT
BEGIN:VEVENT
DTSTART;TZID=Europe/London:20280929T100000
DTEND;TZID=Europe/London:20280929T100000
DTSTAMP:20260422T082048
CREATED:20240313T170048Z
LAST-MODIFIED:20241219T091026Z
UID:10014691-1853834400-1853834400@swanscombeandgreenhithetowncouncil.gov.uk
SUMMARY:Weekly Healthy Walks - Fridays at 10.00am
DESCRIPTION:
URL:https://swanscombeandgreenhithetowncouncil.gov.uk/event/weekly-healthy-walks-fridays-at-10-00am-2/2028-09-29/
LOCATION:The Fire Station Cafe\, Church Rd\, Swanscombe DA10 0HF\, United Kingdom\, United Kingdom
CATEGORIES:Community Event
END:VEVENT
BEGIN:VEVENT
DTSTART;TZID=Europe/London:20281006T100000
DTEND;TZID=Europe/London:20281006T100000
DTSTAMP:20260422T082048
CREATED:20240313T170048Z
LAST-MODIFIED:20241219T091026Z
UID:10014692-1854439200-1854439200@swanscombeandgreenhithetowncouncil.gov.uk
SUMMARY:Weekly Healthy Walks - Fridays at 10.00am
DESCRIPTION:
URL:https://swanscombeandgreenhithetowncouncil.gov.uk/event/weekly-healthy-walks-fridays-at-10-00am-2/2028-10-06/
LOCATION:The Fire Station Cafe\, Church Rd\, Swanscombe DA10 0HF\, United Kingdom\, United Kingdom
CATEGORIES:Community Event
END:VEVENT
BEGIN:VEVENT
DTSTART;TZID=Europe/London:20281013T100000
DTEND;TZID=Europe/London:20281013T100000
DTSTAMP:20260422T082048
CREATED:20240313T170048Z
LAST-MODIFIED:20241219T091026Z
UID:10014693-1855044000-1855044000@swanscombeandgreenhithetowncouncil.gov.uk
SUMMARY:Weekly Healthy Walks - Fridays at 10.00am
DESCRIPTION:
URL:https://swanscombeandgreenhithetowncouncil.gov.uk/event/weekly-healthy-walks-fridays-at-10-00am-2/2028-10-13/
LOCATION:The Fire Station Cafe\, Church Rd\, Swanscombe DA10 0HF\, United Kingdom\, United Kingdom
CATEGORIES:Community Event
END:VEVENT
BEGIN:VEVENT
DTSTART;TZID=Europe/London:20281020T100000
DTEND;TZID=Europe/London:20281020T100000
DTSTAMP:20260422T082048
CREATED:20240313T170048Z
LAST-MODIFIED:20241219T091026Z
UID:10014694-1855648800-1855648800@swanscombeandgreenhithetowncouncil.gov.uk
SUMMARY:Weekly Healthy Walks - Fridays at 10.00am
DESCRIPTION:
URL:https://swanscombeandgreenhithetowncouncil.gov.uk/event/weekly-healthy-walks-fridays-at-10-00am-2/2028-10-20/
LOCATION:The Fire Station Cafe\, Church Rd\, Swanscombe DA10 0HF\, United Kingdom\, United Kingdom
CATEGORIES:Community Event
END:VEVENT
BEGIN:VEVENT
DTSTART;TZID=Europe/London:20281027T100000
DTEND;TZID=Europe/London:20281027T100000
DTSTAMP:20260422T082048
CREATED:20240313T170048Z
LAST-MODIFIED:20241219T091026Z
UID:10014695-1856253600-1856253600@swanscombeandgreenhithetowncouncil.gov.uk
SUMMARY:Weekly Healthy Walks - Fridays at 10.00am
DESCRIPTION:
URL:https://swanscombeandgreenhithetowncouncil.gov.uk/event/weekly-healthy-walks-fridays-at-10-00am-2/2028-10-27/
LOCATION:The Fire Station Cafe\, Church Rd\, Swanscombe DA10 0HF\, United Kingdom\, United Kingdom
CATEGORIES:Community Event
END:VEVENT
BEGIN:VEVENT
DTSTART;TZID=Europe/London:20281103T100000
DTEND;TZID=Europe/London:20281103T100000
DTSTAMP:20260422T082048
CREATED:20240313T170048Z
LAST-MODIFIED:20241219T091026Z
UID:10014696-1856858400-1856858400@swanscombeandgreenhithetowncouncil.gov.uk
SUMMARY:Weekly Healthy Walks - Fridays at 10.00am
DESCRIPTION:
URL:https://swanscombeandgreenhithetowncouncil.gov.uk/event/weekly-healthy-walks-fridays-at-10-00am-2/2028-11-03/
LOCATION:The Fire Station Cafe\, Church Rd\, Swanscombe DA10 0HF\, United Kingdom\, United Kingdom
CATEGORIES:Community Event
END:VEVENT
BEGIN:VEVENT
DTSTART;TZID=Europe/London:20281110T100000
DTEND;TZID=Europe/London:20281110T100000
DTSTAMP:20260422T082048
CREATED:20240313T170048Z
LAST-MODIFIED:20241219T091026Z
UID:10014697-1857463200-1857463200@swanscombeandgreenhithetowncouncil.gov.uk
SUMMARY:Weekly Healthy Walks - Fridays at 10.00am
DESCRIPTION:
URL:https://swanscombeandgreenhithetowncouncil.gov.uk/event/weekly-healthy-walks-fridays-at-10-00am-2/2028-11-10/
LOCATION:The Fire Station Cafe\, Church Rd\, Swanscombe DA10 0HF\, United Kingdom\, United Kingdom
CATEGORIES:Community Event
END:VEVENT
BEGIN:VEVENT
DTSTART;TZID=Europe/London:20281117T100000
DTEND;TZID=Europe/London:20281117T100000
DTSTAMP:20260422T082048
CREATED:20240313T170048Z
LAST-MODIFIED:20241219T091026Z
UID:10014698-1858068000-1858068000@swanscombeandgreenhithetowncouncil.gov.uk
SUMMARY:Weekly Healthy Walks - Fridays at 10.00am
DESCRIPTION:
URL:https://swanscombeandgreenhithetowncouncil.gov.uk/event/weekly-healthy-walks-fridays-at-10-00am-2/2028-11-17/
LOCATION:The Fire Station Cafe\, Church Rd\, Swanscombe DA10 0HF\, United Kingdom\, United Kingdom
CATEGORIES:Community Event
END:VEVENT
BEGIN:VEVENT
DTSTART;TZID=Europe/London:20281124T100000
DTEND;TZID=Europe/London:20281124T100000
DTSTAMP:20260422T082048
CREATED:20240313T170048Z
LAST-MODIFIED:20241219T091026Z
UID:10014699-1858672800-1858672800@swanscombeandgreenhithetowncouncil.gov.uk
SUMMARY:Weekly Healthy Walks - Fridays at 10.00am
DESCRIPTION:
URL:https://swanscombeandgreenhithetowncouncil.gov.uk/event/weekly-healthy-walks-fridays-at-10-00am-2/2028-11-24/
LOCATION:The Fire Station Cafe\, Church Rd\, Swanscombe DA10 0HF\, United Kingdom\, United Kingdom
CATEGORIES:Community Event
END:VEVENT
BEGIN:VEVENT
DTSTART;TZID=Europe/London:20281201T100000
DTEND;TZID=Europe/London:20281201T100000
DTSTAMP:20260422T082048
CREATED:20240313T170048Z
LAST-MODIFIED:20241219T091026Z
UID:10014700-1859277600-1859277600@swanscombeandgreenhithetowncouncil.gov.uk
SUMMARY:Weekly Healthy Walks - Fridays at 10.00am
DESCRIPTION:
URL:https://swanscombeandgreenhithetowncouncil.gov.uk/event/weekly-healthy-walks-fridays-at-10-00am-2/2028-12-01/
LOCATION:The Fire Station Cafe\, Church Rd\, Swanscombe DA10 0HF\, United Kingdom\, United Kingdom
CATEGORIES:Community Event
END:VEVENT
BEGIN:VEVENT
DTSTART;TZID=Europe/London:20281208T100000
DTEND;TZID=Europe/London:20281208T100000
DTSTAMP:20260422T082048
CREATED:20240313T170048Z
LAST-MODIFIED:20241219T091026Z
UID:10014701-1859882400-1859882400@swanscombeandgreenhithetowncouncil.gov.uk
SUMMARY:Weekly Healthy Walks - Fridays at 10.00am
DESCRIPTION:
URL:https://swanscombeandgreenhithetowncouncil.gov.uk/event/weekly-healthy-walks-fridays-at-10-00am-2/2028-12-08/
LOCATION:The Fire Station Cafe\, Church Rd\, Swanscombe DA10 0HF\, United Kingdom\, United Kingdom
CATEGORIES:Community Event
END:VEVENT
BEGIN:VEVENT
DTSTART;TZID=Europe/London:20281215T100000
DTEND;TZID=Europe/London:20281215T100000
DTSTAMP:20260422T082048
CREATED:20240313T170048Z
LAST-MODIFIED:20241219T091026Z
UID:10014702-1860487200-1860487200@swanscombeandgreenhithetowncouncil.gov.uk
SUMMARY:Weekly Healthy Walks - Fridays at 10.00am
DESCRIPTION:
URL:https://swanscombeandgreenhithetowncouncil.gov.uk/event/weekly-healthy-walks-fridays-at-10-00am-2/2028-12-15/
LOCATION:The Fire Station Cafe\, Church Rd\, Swanscombe DA10 0HF\, United Kingdom\, United Kingdom
CATEGORIES:Community Event
END:VEVENT
BEGIN:VEVENT
DTSTART;TZID=Europe/London:20281222T100000
DTEND;TZID=Europe/London:20281222T100000
DTSTAMP:20260422T082048
CREATED:20240313T170048Z
LAST-MODIFIED:20241219T091026Z
UID:10014703-1861092000-1861092000@swanscombeandgreenhithetowncouncil.gov.uk
SUMMARY:Weekly Healthy Walks - Fridays at 10.00am
DESCRIPTION:
URL:https://swanscombeandgreenhithetowncouncil.gov.uk/event/weekly-healthy-walks-fridays-at-10-00am-2/2028-12-22/
LOCATION:The Fire Station Cafe\, Church Rd\, Swanscombe DA10 0HF\, United Kingdom\, United Kingdom
CATEGORIES:Community Event
END:VEVENT
BEGIN:VEVENT
DTSTART;TZID=Europe/London:20281229T100000
DTEND;TZID=Europe/London:20281229T100000
DTSTAMP:20260422T082048
CREATED:20240313T170048Z
LAST-MODIFIED:20241219T091026Z
UID:10014704-1861696800-1861696800@swanscombeandgreenhithetowncouncil.gov.uk
SUMMARY:Weekly Healthy Walks - Fridays at 10.00am
DESCRIPTION:
URL:https://swanscombeandgreenhithetowncouncil.gov.uk/event/weekly-healthy-walks-fridays-at-10-00am-2/2028-12-29/
LOCATION:The Fire Station Cafe\, Church Rd\, Swanscombe DA10 0HF\, United Kingdom\, United Kingdom
CATEGORIES:Community Event
END:VEVENT
BEGIN:VEVENT
DTSTART;TZID=Europe/London:20290105T100000
DTEND;TZID=Europe/London:20290105T100000
DTSTAMP:20260422T082048
CREATED:20240313T170048Z
LAST-MODIFIED:20241219T091026Z
UID:10014705-1862301600-1862301600@swanscombeandgreenhithetowncouncil.gov.uk
SUMMARY:Weekly Healthy Walks - Fridays at 10.00am
DESCRIPTION:
URL:https://swanscombeandgreenhithetowncouncil.gov.uk/event/weekly-healthy-walks-fridays-at-10-00am-2/2029-01-05/
LOCATION:The Fire Station Cafe\, Church Rd\, Swanscombe DA10 0HF\, United Kingdom\, United Kingdom
CATEGORIES:Community Event
END:VEVENT
BEGIN:VEVENT
DTSTART;TZID=Europe/London:20290112T100000
DTEND;TZID=Europe/London:20290112T100000
DTSTAMP:20260422T082048
CREATED:20240313T170048Z
LAST-MODIFIED:20241219T091026Z
UID:10014706-1862906400-1862906400@swanscombeandgreenhithetowncouncil.gov.uk
SUMMARY:Weekly Healthy Walks - Fridays at 10.00am
DESCRIPTION:
URL:https://swanscombeandgreenhithetowncouncil.gov.uk/event/weekly-healthy-walks-fridays-at-10-00am-2/2029-01-12/
LOCATION:The Fire Station Cafe\, Church Rd\, Swanscombe DA10 0HF\, United Kingdom\, United Kingdom
CATEGORIES:Community Event
END:VEVENT
BEGIN:VEVENT
DTSTART;TZID=Europe/London:20290119T100000
DTEND;TZID=Europe/London:20290119T100000
DTSTAMP:20260422T082048
CREATED:20240313T170048Z
LAST-MODIFIED:20241219T091026Z
UID:10014707-1863511200-1863511200@swanscombeandgreenhithetowncouncil.gov.uk
SUMMARY:Weekly Healthy Walks - Fridays at 10.00am
DESCRIPTION:
URL:https://swanscombeandgreenhithetowncouncil.gov.uk/event/weekly-healthy-walks-fridays-at-10-00am-2/2029-01-19/
LOCATION:The Fire Station Cafe\, Church Rd\, Swanscombe DA10 0HF\, United Kingdom\, United Kingdom
CATEGORIES:Community Event
END:VEVENT
BEGIN:VEVENT
DTSTART;TZID=Europe/London:20290126T100000
DTEND;TZID=Europe/London:20290126T100000
DTSTAMP:20260422T082048
CREATED:20240313T170048Z
LAST-MODIFIED:20241219T091026Z
UID:10014708-1864116000-1864116000@swanscombeandgreenhithetowncouncil.gov.uk
SUMMARY:Weekly Healthy Walks - Fridays at 10.00am
DESCRIPTION:
URL:https://swanscombeandgreenhithetowncouncil.gov.uk/event/weekly-healthy-walks-fridays-at-10-00am-2/2029-01-26/
LOCATION:The Fire Station Cafe\, Church Rd\, Swanscombe DA10 0HF\, United Kingdom\, United Kingdom
CATEGORIES:Community Event
END:VEVENT
BEGIN:VEVENT
DTSTART;TZID=Europe/London:20290202T100000
DTEND;TZID=Europe/London:20290202T100000
DTSTAMP:20260422T082048
CREATED:20240313T170048Z
LAST-MODIFIED:20241219T091026Z
UID:10014709-1864720800-1864720800@swanscombeandgreenhithetowncouncil.gov.uk
SUMMARY:Weekly Healthy Walks - Fridays at 10.00am
DESCRIPTION:
URL:https://swanscombeandgreenhithetowncouncil.gov.uk/event/weekly-healthy-walks-fridays-at-10-00am-2/2029-02-02/
LOCATION:The Fire Station Cafe\, Church Rd\, Swanscombe DA10 0HF\, United Kingdom\, United Kingdom
CATEGORIES:Community Event
END:VEVENT
BEGIN:VEVENT
DTSTART;TZID=Europe/London:20290209T100000
DTEND;TZID=Europe/London:20290209T100000
DTSTAMP:20260422T082048
CREATED:20240313T170048Z
LAST-MODIFIED:20241219T091026Z
UID:10014710-1865325600-1865325600@swanscombeandgreenhithetowncouncil.gov.uk
SUMMARY:Weekly Healthy Walks - Fridays at 10.00am
DESCRIPTION:
URL:https://swanscombeandgreenhithetowncouncil.gov.uk/event/weekly-healthy-walks-fridays-at-10-00am-2/2029-02-09/
LOCATION:The Fire Station Cafe\, Church Rd\, Swanscombe DA10 0HF\, United Kingdom\, United Kingdom
CATEGORIES:Community Event
END:VEVENT
BEGIN:VEVENT
DTSTART;TZID=Europe/London:20290216T100000
DTEND;TZID=Europe/London:20290216T100000
DTSTAMP:20260422T082048
CREATED:20240313T170048Z
LAST-MODIFIED:20241219T091026Z
UID:10014711-1865930400-1865930400@swanscombeandgreenhithetowncouncil.gov.uk
SUMMARY:Weekly Healthy Walks - Fridays at 10.00am
DESCRIPTION:
URL:https://swanscombeandgreenhithetowncouncil.gov.uk/event/weekly-healthy-walks-fridays-at-10-00am-2/2029-02-16/
LOCATION:The Fire Station Cafe\, Church Rd\, Swanscombe DA10 0HF\, United Kingdom\, United Kingdom
CATEGORIES:Community Event
END:VEVENT
BEGIN:VEVENT
DTSTART;TZID=Europe/London:20290223T100000
DTEND;TZID=Europe/London:20290223T100000
DTSTAMP:20260422T082048
CREATED:20240313T170048Z
LAST-MODIFIED:20241219T091026Z
UID:10014712-1866535200-1866535200@swanscombeandgreenhithetowncouncil.gov.uk
SUMMARY:Weekly Healthy Walks - Fridays at 10.00am
DESCRIPTION:
URL:https://swanscombeandgreenhithetowncouncil.gov.uk/event/weekly-healthy-walks-fridays-at-10-00am-2/2029-02-23/
LOCATION:The Fire Station Cafe\, Church Rd\, Swanscombe DA10 0HF\, United Kingdom\, United Kingdom
CATEGORIES:Community Event
END:VEVENT
BEGIN:VEVENT
DTSTART;TZID=Europe/London:20290302T100000
DTEND;TZID=Europe/London:20290302T100000
DTSTAMP:20260422T082048
CREATED:20240313T170048Z
LAST-MODIFIED:20241219T091026Z
UID:10020321-1867140000-1867140000@swanscombeandgreenhithetowncouncil.gov.uk
SUMMARY:Weekly Healthy Walks - Fridays at 10.00am
DESCRIPTION:
URL:https://swanscombeandgreenhithetowncouncil.gov.uk/event/weekly-healthy-walks-fridays-at-10-00am-2/2029-03-02/
LOCATION:The Fire Station Cafe\, Church Rd\, Swanscombe DA10 0HF\, United Kingdom\, United Kingdom
CATEGORIES:Community Event
END:VEVENT
END:VCALENDAR