BEGIN:VCALENDAR
VERSION:2.0
PRODID:-//Swanscombe and Greenhithe Town Council - ECPv6.15.20//NONSGML v1.0//EN
CALSCALE:GREGORIAN
METHOD:PUBLISH
X-WR-CALNAME:Swanscombe and Greenhithe Town Council
X-ORIGINAL-URL:https://swanscombeandgreenhithetowncouncil.gov.uk
X-WR-CALDESC:Events for Swanscombe and Greenhithe Town Council
REFRESH-INTERVAL;VALUE=DURATION:PT1H
X-Robots-Tag:noindex
X-PUBLISHED-TTL:PT1H
BEGIN:VTIMEZONE
TZID:Europe/London
BEGIN:DAYLIGHT
TZOFFSETFROM:+0000
TZOFFSETTO:+0100
TZNAME:BST
DTSTART:20280326T010000
END:DAYLIGHT
BEGIN:STANDARD
TZOFFSETFROM:+0100
TZOFFSETTO:+0000
TZNAME:GMT
DTSTART:20281029T010000
END:STANDARD
BEGIN:DAYLIGHT
TZOFFSETFROM:+0000
TZOFFSETTO:+0100
TZNAME:BST
DTSTART:20290325T010000
END:DAYLIGHT
BEGIN:STANDARD
TZOFFSETFROM:+0100
TZOFFSETTO:+0000
TZNAME:GMT
DTSTART:20291028T010000
END:STANDARD
BEGIN:DAYLIGHT
TZOFFSETFROM:+0000
TZOFFSETTO:+0100
TZNAME:BST
DTSTART:20300331T010000
END:DAYLIGHT
BEGIN:STANDARD
TZOFFSETFROM:+0100
TZOFFSETTO:+0000
TZNAME:GMT
DTSTART:20301027T010000
END:STANDARD
END:VTIMEZONE
BEGIN:VEVENT
DTSTART;TZID=Europe/London:20290420T100000
DTEND;TZID=Europe/London:20290420T100000
DTSTAMP:20260422T131545
CREATED:20240313T170048Z
LAST-MODIFIED:20241219T091026Z
UID:10023008-1871373600-1871373600@swanscombeandgreenhithetowncouncil.gov.uk
SUMMARY:Weekly Healthy Walks - Fridays at 10.00am
DESCRIPTION:
URL:https://swanscombeandgreenhithetowncouncil.gov.uk/event/weekly-healthy-walks-fridays-at-10-00am-2/2029-04-20/
LOCATION:The Fire Station Cafe\, Church Rd\, Swanscombe DA10 0HF\, United Kingdom\, United Kingdom
CATEGORIES:Community Event
END:VEVENT
BEGIN:VEVENT
DTSTART;TZID=Europe/London:20290427T100000
DTEND;TZID=Europe/London:20290427T100000
DTSTAMP:20260422T131545
CREATED:20240313T170048Z
LAST-MODIFIED:20241219T091026Z
UID:10023009-1871978400-1871978400@swanscombeandgreenhithetowncouncil.gov.uk
SUMMARY:Weekly Healthy Walks - Fridays at 10.00am
DESCRIPTION:
URL:https://swanscombeandgreenhithetowncouncil.gov.uk/event/weekly-healthy-walks-fridays-at-10-00am-2/2029-04-27/
LOCATION:The Fire Station Cafe\, Church Rd\, Swanscombe DA10 0HF\, United Kingdom\, United Kingdom
CATEGORIES:Community Event
END:VEVENT
BEGIN:VEVENT
DTSTART;TZID=Europe/London:20290504T100000
DTEND;TZID=Europe/London:20290504T100000
DTSTAMP:20260422T131545
CREATED:20240313T170048Z
LAST-MODIFIED:20241219T091026Z
UID:10023010-1872583200-1872583200@swanscombeandgreenhithetowncouncil.gov.uk
SUMMARY:Weekly Healthy Walks - Fridays at 10.00am
DESCRIPTION:
URL:https://swanscombeandgreenhithetowncouncil.gov.uk/event/weekly-healthy-walks-fridays-at-10-00am-2/2029-05-04/
LOCATION:The Fire Station Cafe\, Church Rd\, Swanscombe DA10 0HF\, United Kingdom\, United Kingdom
CATEGORIES:Community Event
END:VEVENT
BEGIN:VEVENT
DTSTART;TZID=Europe/London:20290511T100000
DTEND;TZID=Europe/London:20290511T100000
DTSTAMP:20260422T131545
CREATED:20240313T170048Z
LAST-MODIFIED:20241219T091026Z
UID:10023011-1873188000-1873188000@swanscombeandgreenhithetowncouncil.gov.uk
SUMMARY:Weekly Healthy Walks - Fridays at 10.00am
DESCRIPTION:
URL:https://swanscombeandgreenhithetowncouncil.gov.uk/event/weekly-healthy-walks-fridays-at-10-00am-2/2029-05-11/
LOCATION:The Fire Station Cafe\, Church Rd\, Swanscombe DA10 0HF\, United Kingdom\, United Kingdom
CATEGORIES:Community Event
END:VEVENT
BEGIN:VEVENT
DTSTART;TZID=Europe/London:20290518T100000
DTEND;TZID=Europe/London:20290518T100000
DTSTAMP:20260422T131545
CREATED:20240313T170048Z
LAST-MODIFIED:20241219T091026Z
UID:10023012-1873792800-1873792800@swanscombeandgreenhithetowncouncil.gov.uk
SUMMARY:Weekly Healthy Walks - Fridays at 10.00am
DESCRIPTION:
URL:https://swanscombeandgreenhithetowncouncil.gov.uk/event/weekly-healthy-walks-fridays-at-10-00am-2/2029-05-18/
LOCATION:The Fire Station Cafe\, Church Rd\, Swanscombe DA10 0HF\, United Kingdom\, United Kingdom
CATEGORIES:Community Event
END:VEVENT
BEGIN:VEVENT
DTSTART;TZID=Europe/London:20290525T100000
DTEND;TZID=Europe/London:20290525T100000
DTSTAMP:20260422T131545
CREATED:20240313T170048Z
LAST-MODIFIED:20241219T091026Z
UID:10023013-1874397600-1874397600@swanscombeandgreenhithetowncouncil.gov.uk
SUMMARY:Weekly Healthy Walks - Fridays at 10.00am
DESCRIPTION:
URL:https://swanscombeandgreenhithetowncouncil.gov.uk/event/weekly-healthy-walks-fridays-at-10-00am-2/2029-05-25/
LOCATION:The Fire Station Cafe\, Church Rd\, Swanscombe DA10 0HF\, United Kingdom\, United Kingdom
CATEGORIES:Community Event
END:VEVENT
BEGIN:VEVENT
DTSTART;TZID=Europe/London:20290601T100000
DTEND;TZID=Europe/London:20290601T100000
DTSTAMP:20260422T131545
CREATED:20240313T170048Z
LAST-MODIFIED:20241219T091026Z
UID:10023014-1875002400-1875002400@swanscombeandgreenhithetowncouncil.gov.uk
SUMMARY:Weekly Healthy Walks - Fridays at 10.00am
DESCRIPTION:
URL:https://swanscombeandgreenhithetowncouncil.gov.uk/event/weekly-healthy-walks-fridays-at-10-00am-2/2029-06-01/
LOCATION:The Fire Station Cafe\, Church Rd\, Swanscombe DA10 0HF\, United Kingdom\, United Kingdom
CATEGORIES:Community Event
END:VEVENT
BEGIN:VEVENT
DTSTART;TZID=Europe/London:20290608T100000
DTEND;TZID=Europe/London:20290608T100000
DTSTAMP:20260422T131545
CREATED:20240313T170048Z
LAST-MODIFIED:20241219T091026Z
UID:10023015-1875607200-1875607200@swanscombeandgreenhithetowncouncil.gov.uk
SUMMARY:Weekly Healthy Walks - Fridays at 10.00am
DESCRIPTION:
URL:https://swanscombeandgreenhithetowncouncil.gov.uk/event/weekly-healthy-walks-fridays-at-10-00am-2/2029-06-08/
LOCATION:The Fire Station Cafe\, Church Rd\, Swanscombe DA10 0HF\, United Kingdom\, United Kingdom
CATEGORIES:Community Event
END:VEVENT
BEGIN:VEVENT
DTSTART;TZID=Europe/London:20290615T100000
DTEND;TZID=Europe/London:20290615T100000
DTSTAMP:20260422T131545
CREATED:20240313T170048Z
LAST-MODIFIED:20241219T091026Z
UID:10023016-1876212000-1876212000@swanscombeandgreenhithetowncouncil.gov.uk
SUMMARY:Weekly Healthy Walks - Fridays at 10.00am
DESCRIPTION:
URL:https://swanscombeandgreenhithetowncouncil.gov.uk/event/weekly-healthy-walks-fridays-at-10-00am-2/2029-06-15/
LOCATION:The Fire Station Cafe\, Church Rd\, Swanscombe DA10 0HF\, United Kingdom\, United Kingdom
CATEGORIES:Community Event
END:VEVENT
BEGIN:VEVENT
DTSTART;TZID=Europe/London:20290622T100000
DTEND;TZID=Europe/London:20290622T100000
DTSTAMP:20260422T131545
CREATED:20240313T170048Z
LAST-MODIFIED:20241219T091026Z
UID:10023017-1876816800-1876816800@swanscombeandgreenhithetowncouncil.gov.uk
SUMMARY:Weekly Healthy Walks - Fridays at 10.00am
DESCRIPTION:
URL:https://swanscombeandgreenhithetowncouncil.gov.uk/event/weekly-healthy-walks-fridays-at-10-00am-2/2029-06-22/
LOCATION:The Fire Station Cafe\, Church Rd\, Swanscombe DA10 0HF\, United Kingdom\, United Kingdom
CATEGORIES:Community Event
END:VEVENT
BEGIN:VEVENT
DTSTART;TZID=Europe/London:20290629T100000
DTEND;TZID=Europe/London:20290629T100000
DTSTAMP:20260422T131545
CREATED:20240313T170048Z
LAST-MODIFIED:20241219T091026Z
UID:10023018-1877421600-1877421600@swanscombeandgreenhithetowncouncil.gov.uk
SUMMARY:Weekly Healthy Walks - Fridays at 10.00am
DESCRIPTION:
URL:https://swanscombeandgreenhithetowncouncil.gov.uk/event/weekly-healthy-walks-fridays-at-10-00am-2/2029-06-29/
LOCATION:The Fire Station Cafe\, Church Rd\, Swanscombe DA10 0HF\, United Kingdom\, United Kingdom
CATEGORIES:Community Event
END:VEVENT
BEGIN:VEVENT
DTSTART;TZID=Europe/London:20290706T100000
DTEND;TZID=Europe/London:20290706T100000
DTSTAMP:20260422T131545
CREATED:20240313T170048Z
LAST-MODIFIED:20241219T091026Z
UID:10023019-1878026400-1878026400@swanscombeandgreenhithetowncouncil.gov.uk
SUMMARY:Weekly Healthy Walks - Fridays at 10.00am
DESCRIPTION:
URL:https://swanscombeandgreenhithetowncouncil.gov.uk/event/weekly-healthy-walks-fridays-at-10-00am-2/2029-07-06/
LOCATION:The Fire Station Cafe\, Church Rd\, Swanscombe DA10 0HF\, United Kingdom\, United Kingdom
CATEGORIES:Community Event
END:VEVENT
BEGIN:VEVENT
DTSTART;TZID=Europe/London:20290713T100000
DTEND;TZID=Europe/London:20290713T100000
DTSTAMP:20260422T131545
CREATED:20240313T170048Z
LAST-MODIFIED:20241219T091026Z
UID:10023020-1878631200-1878631200@swanscombeandgreenhithetowncouncil.gov.uk
SUMMARY:Weekly Healthy Walks - Fridays at 10.00am
DESCRIPTION:
URL:https://swanscombeandgreenhithetowncouncil.gov.uk/event/weekly-healthy-walks-fridays-at-10-00am-2/2029-07-13/
LOCATION:The Fire Station Cafe\, Church Rd\, Swanscombe DA10 0HF\, United Kingdom\, United Kingdom
CATEGORIES:Community Event
END:VEVENT
BEGIN:VEVENT
DTSTART;TZID=Europe/London:20290720T100000
DTEND;TZID=Europe/London:20290720T100000
DTSTAMP:20260422T131545
CREATED:20240313T170048Z
LAST-MODIFIED:20241219T091026Z
UID:10023021-1879236000-1879236000@swanscombeandgreenhithetowncouncil.gov.uk
SUMMARY:Weekly Healthy Walks - Fridays at 10.00am
DESCRIPTION:
URL:https://swanscombeandgreenhithetowncouncil.gov.uk/event/weekly-healthy-walks-fridays-at-10-00am-2/2029-07-20/
LOCATION:The Fire Station Cafe\, Church Rd\, Swanscombe DA10 0HF\, United Kingdom\, United Kingdom
CATEGORIES:Community Event
END:VEVENT
BEGIN:VEVENT
DTSTART;TZID=Europe/London:20290727T100000
DTEND;TZID=Europe/London:20290727T100000
DTSTAMP:20260422T131545
CREATED:20240313T170048Z
LAST-MODIFIED:20241219T091026Z
UID:10023022-1879840800-1879840800@swanscombeandgreenhithetowncouncil.gov.uk
SUMMARY:Weekly Healthy Walks - Fridays at 10.00am
DESCRIPTION:
URL:https://swanscombeandgreenhithetowncouncil.gov.uk/event/weekly-healthy-walks-fridays-at-10-00am-2/2029-07-27/
LOCATION:The Fire Station Cafe\, Church Rd\, Swanscombe DA10 0HF\, United Kingdom\, United Kingdom
CATEGORIES:Community Event
END:VEVENT
BEGIN:VEVENT
DTSTART;TZID=Europe/London:20290803T100000
DTEND;TZID=Europe/London:20290803T100000
DTSTAMP:20260422T131545
CREATED:20240313T170048Z
LAST-MODIFIED:20241219T091026Z
UID:10023023-1880445600-1880445600@swanscombeandgreenhithetowncouncil.gov.uk
SUMMARY:Weekly Healthy Walks - Fridays at 10.00am
DESCRIPTION:
URL:https://swanscombeandgreenhithetowncouncil.gov.uk/event/weekly-healthy-walks-fridays-at-10-00am-2/2029-08-03/
LOCATION:The Fire Station Cafe\, Church Rd\, Swanscombe DA10 0HF\, United Kingdom\, United Kingdom
CATEGORIES:Community Event
END:VEVENT
BEGIN:VEVENT
DTSTART;TZID=Europe/London:20290810T100000
DTEND;TZID=Europe/London:20290810T100000
DTSTAMP:20260422T131545
CREATED:20240313T170048Z
LAST-MODIFIED:20241219T091026Z
UID:10023024-1881050400-1881050400@swanscombeandgreenhithetowncouncil.gov.uk
SUMMARY:Weekly Healthy Walks - Fridays at 10.00am
DESCRIPTION:
URL:https://swanscombeandgreenhithetowncouncil.gov.uk/event/weekly-healthy-walks-fridays-at-10-00am-2/2029-08-10/
LOCATION:The Fire Station Cafe\, Church Rd\, Swanscombe DA10 0HF\, United Kingdom\, United Kingdom
CATEGORIES:Community Event
END:VEVENT
BEGIN:VEVENT
DTSTART;TZID=Europe/London:20290817T100000
DTEND;TZID=Europe/London:20290817T100000
DTSTAMP:20260422T131545
CREATED:20240313T170048Z
LAST-MODIFIED:20241219T091026Z
UID:10023025-1881655200-1881655200@swanscombeandgreenhithetowncouncil.gov.uk
SUMMARY:Weekly Healthy Walks - Fridays at 10.00am
DESCRIPTION:
URL:https://swanscombeandgreenhithetowncouncil.gov.uk/event/weekly-healthy-walks-fridays-at-10-00am-2/2029-08-17/
LOCATION:The Fire Station Cafe\, Church Rd\, Swanscombe DA10 0HF\, United Kingdom\, United Kingdom
CATEGORIES:Community Event
END:VEVENT
BEGIN:VEVENT
DTSTART;TZID=Europe/London:20290824T100000
DTEND;TZID=Europe/London:20290824T100000
DTSTAMP:20260422T131545
CREATED:20240313T170048Z
LAST-MODIFIED:20241219T091026Z
UID:10023026-1882260000-1882260000@swanscombeandgreenhithetowncouncil.gov.uk
SUMMARY:Weekly Healthy Walks - Fridays at 10.00am
DESCRIPTION:
URL:https://swanscombeandgreenhithetowncouncil.gov.uk/event/weekly-healthy-walks-fridays-at-10-00am-2/2029-08-24/
LOCATION:The Fire Station Cafe\, Church Rd\, Swanscombe DA10 0HF\, United Kingdom\, United Kingdom
CATEGORIES:Community Event
END:VEVENT
BEGIN:VEVENT
DTSTART;TZID=Europe/London:20290831T100000
DTEND;TZID=Europe/London:20290831T100000
DTSTAMP:20260422T131545
CREATED:20240313T170048Z
LAST-MODIFIED:20241219T091026Z
UID:10023027-1882864800-1882864800@swanscombeandgreenhithetowncouncil.gov.uk
SUMMARY:Weekly Healthy Walks - Fridays at 10.00am
DESCRIPTION:
URL:https://swanscombeandgreenhithetowncouncil.gov.uk/event/weekly-healthy-walks-fridays-at-10-00am-2/2029-08-31/
LOCATION:The Fire Station Cafe\, Church Rd\, Swanscombe DA10 0HF\, United Kingdom\, United Kingdom
CATEGORIES:Community Event
END:VEVENT
BEGIN:VEVENT
DTSTART;TZID=Europe/London:20290907T100000
DTEND;TZID=Europe/London:20290907T100000
DTSTAMP:20260422T131545
CREATED:20240313T170048Z
LAST-MODIFIED:20241219T091026Z
UID:10023028-1883469600-1883469600@swanscombeandgreenhithetowncouncil.gov.uk
SUMMARY:Weekly Healthy Walks - Fridays at 10.00am
DESCRIPTION:
URL:https://swanscombeandgreenhithetowncouncil.gov.uk/event/weekly-healthy-walks-fridays-at-10-00am-2/2029-09-07/
LOCATION:The Fire Station Cafe\, Church Rd\, Swanscombe DA10 0HF\, United Kingdom\, United Kingdom
CATEGORIES:Community Event
END:VEVENT
BEGIN:VEVENT
DTSTART;TZID=Europe/London:20290914T100000
DTEND;TZID=Europe/London:20290914T100000
DTSTAMP:20260422T131545
CREATED:20240313T170048Z
LAST-MODIFIED:20241219T091026Z
UID:10023029-1884074400-1884074400@swanscombeandgreenhithetowncouncil.gov.uk
SUMMARY:Weekly Healthy Walks - Fridays at 10.00am
DESCRIPTION:
URL:https://swanscombeandgreenhithetowncouncil.gov.uk/event/weekly-healthy-walks-fridays-at-10-00am-2/2029-09-14/
LOCATION:The Fire Station Cafe\, Church Rd\, Swanscombe DA10 0HF\, United Kingdom\, United Kingdom
CATEGORIES:Community Event
END:VEVENT
BEGIN:VEVENT
DTSTART;TZID=Europe/London:20290921T100000
DTEND;TZID=Europe/London:20290921T100000
DTSTAMP:20260422T131545
CREATED:20240313T170048Z
LAST-MODIFIED:20241219T091026Z
UID:10023030-1884679200-1884679200@swanscombeandgreenhithetowncouncil.gov.uk
SUMMARY:Weekly Healthy Walks - Fridays at 10.00am
DESCRIPTION:
URL:https://swanscombeandgreenhithetowncouncil.gov.uk/event/weekly-healthy-walks-fridays-at-10-00am-2/2029-09-21/
LOCATION:The Fire Station Cafe\, Church Rd\, Swanscombe DA10 0HF\, United Kingdom\, United Kingdom
CATEGORIES:Community Event
END:VEVENT
BEGIN:VEVENT
DTSTART;TZID=Europe/London:20290928T100000
DTEND;TZID=Europe/London:20290928T100000
DTSTAMP:20260422T131545
CREATED:20240313T170048Z
LAST-MODIFIED:20241219T091026Z
UID:10023031-1885284000-1885284000@swanscombeandgreenhithetowncouncil.gov.uk
SUMMARY:Weekly Healthy Walks - Fridays at 10.00am
DESCRIPTION:
URL:https://swanscombeandgreenhithetowncouncil.gov.uk/event/weekly-healthy-walks-fridays-at-10-00am-2/2029-09-28/
LOCATION:The Fire Station Cafe\, Church Rd\, Swanscombe DA10 0HF\, United Kingdom\, United Kingdom
CATEGORIES:Community Event
END:VEVENT
BEGIN:VEVENT
DTSTART;TZID=Europe/London:20291005T100000
DTEND;TZID=Europe/London:20291005T100000
DTSTAMP:20260422T131545
CREATED:20240313T170048Z
LAST-MODIFIED:20241219T091026Z
UID:10023032-1885888800-1885888800@swanscombeandgreenhithetowncouncil.gov.uk
SUMMARY:Weekly Healthy Walks - Fridays at 10.00am
DESCRIPTION:
URL:https://swanscombeandgreenhithetowncouncil.gov.uk/event/weekly-healthy-walks-fridays-at-10-00am-2/2029-10-05/
LOCATION:The Fire Station Cafe\, Church Rd\, Swanscombe DA10 0HF\, United Kingdom\, United Kingdom
CATEGORIES:Community Event
END:VEVENT
BEGIN:VEVENT
DTSTART;TZID=Europe/London:20291012T100000
DTEND;TZID=Europe/London:20291012T100000
DTSTAMP:20260422T131545
CREATED:20240313T170048Z
LAST-MODIFIED:20241219T091026Z
UID:10023033-1886493600-1886493600@swanscombeandgreenhithetowncouncil.gov.uk
SUMMARY:Weekly Healthy Walks - Fridays at 10.00am
DESCRIPTION:
URL:https://swanscombeandgreenhithetowncouncil.gov.uk/event/weekly-healthy-walks-fridays-at-10-00am-2/2029-10-12/
LOCATION:The Fire Station Cafe\, Church Rd\, Swanscombe DA10 0HF\, United Kingdom\, United Kingdom
CATEGORIES:Community Event
END:VEVENT
BEGIN:VEVENT
DTSTART;TZID=Europe/London:20291019T100000
DTEND;TZID=Europe/London:20291019T100000
DTSTAMP:20260422T131545
CREATED:20240313T170048Z
LAST-MODIFIED:20241219T091026Z
UID:10023034-1887098400-1887098400@swanscombeandgreenhithetowncouncil.gov.uk
SUMMARY:Weekly Healthy Walks - Fridays at 10.00am
DESCRIPTION:
URL:https://swanscombeandgreenhithetowncouncil.gov.uk/event/weekly-healthy-walks-fridays-at-10-00am-2/2029-10-19/
LOCATION:The Fire Station Cafe\, Church Rd\, Swanscombe DA10 0HF\, United Kingdom\, United Kingdom
CATEGORIES:Community Event
END:VEVENT
BEGIN:VEVENT
DTSTART;TZID=Europe/London:20291026T100000
DTEND;TZID=Europe/London:20291026T100000
DTSTAMP:20260422T131545
CREATED:20240313T170048Z
LAST-MODIFIED:20241219T091026Z
UID:10023035-1887703200-1887703200@swanscombeandgreenhithetowncouncil.gov.uk
SUMMARY:Weekly Healthy Walks - Fridays at 10.00am
DESCRIPTION:
URL:https://swanscombeandgreenhithetowncouncil.gov.uk/event/weekly-healthy-walks-fridays-at-10-00am-2/2029-10-26/
LOCATION:The Fire Station Cafe\, Church Rd\, Swanscombe DA10 0HF\, United Kingdom\, United Kingdom
CATEGORIES:Community Event
END:VEVENT
BEGIN:VEVENT
DTSTART;TZID=Europe/London:20291102T100000
DTEND;TZID=Europe/London:20291102T100000
DTSTAMP:20260422T131545
CREATED:20240313T170048Z
LAST-MODIFIED:20241219T091026Z
UID:10023036-1888308000-1888308000@swanscombeandgreenhithetowncouncil.gov.uk
SUMMARY:Weekly Healthy Walks - Fridays at 10.00am
DESCRIPTION:
URL:https://swanscombeandgreenhithetowncouncil.gov.uk/event/weekly-healthy-walks-fridays-at-10-00am-2/2029-11-02/
LOCATION:The Fire Station Cafe\, Church Rd\, Swanscombe DA10 0HF\, United Kingdom\, United Kingdom
CATEGORIES:Community Event
END:VEVENT
BEGIN:VEVENT
DTSTART;TZID=Europe/London:20291109T100000
DTEND;TZID=Europe/London:20291109T100000
DTSTAMP:20260422T131545
CREATED:20240313T170048Z
LAST-MODIFIED:20241219T091026Z
UID:10023037-1888912800-1888912800@swanscombeandgreenhithetowncouncil.gov.uk
SUMMARY:Weekly Healthy Walks - Fridays at 10.00am
DESCRIPTION:
URL:https://swanscombeandgreenhithetowncouncil.gov.uk/event/weekly-healthy-walks-fridays-at-10-00am-2/2029-11-09/
LOCATION:The Fire Station Cafe\, Church Rd\, Swanscombe DA10 0HF\, United Kingdom\, United Kingdom
CATEGORIES:Community Event
END:VEVENT
END:VCALENDAR