BEGIN:VCALENDAR
VERSION:2.0
PRODID:-//Swanscombe and Greenhithe Town Council - ECPv6.15.20//NONSGML v1.0//EN
CALSCALE:GREGORIAN
METHOD:PUBLISH
X-WR-CALNAME:Swanscombe and Greenhithe Town Council
X-ORIGINAL-URL:https://swanscombeandgreenhithetowncouncil.gov.uk
X-WR-CALDESC:Events for Swanscombe and Greenhithe Town Council
REFRESH-INTERVAL;VALUE=DURATION:PT1H
X-Robots-Tag:noindex
X-PUBLISHED-TTL:PT1H
BEGIN:VTIMEZONE
TZID:Europe/London
BEGIN:DAYLIGHT
TZOFFSETFROM:+0000
TZOFFSETTO:+0100
TZNAME:BST
DTSTART:20250330T010000
END:DAYLIGHT
BEGIN:STANDARD
TZOFFSETFROM:+0100
TZOFFSETTO:+0000
TZNAME:GMT
DTSTART:20251026T010000
END:STANDARD
BEGIN:DAYLIGHT
TZOFFSETFROM:+0000
TZOFFSETTO:+0100
TZNAME:BST
DTSTART:20260329T010000
END:DAYLIGHT
BEGIN:STANDARD
TZOFFSETFROM:+0100
TZOFFSETTO:+0000
TZNAME:GMT
DTSTART:20261025T010000
END:STANDARD
BEGIN:DAYLIGHT
TZOFFSETFROM:+0000
TZOFFSETTO:+0100
TZNAME:BST
DTSTART:20270328T010000
END:DAYLIGHT
BEGIN:STANDARD
TZOFFSETFROM:+0100
TZOFFSETTO:+0000
TZNAME:GMT
DTSTART:20271031T010000
END:STANDARD
BEGIN:DAYLIGHT
TZOFFSETFROM:+0000
TZOFFSETTO:+0100
TZNAME:BST
DTSTART:20280326T010000
END:DAYLIGHT
BEGIN:STANDARD
TZOFFSETFROM:+0100
TZOFFSETTO:+0000
TZNAME:GMT
DTSTART:20281029T010000
END:STANDARD
END:VTIMEZONE
BEGIN:VEVENT
DTSTART;TZID=Europe/London:20260717T100000
DTEND;TZID=Europe/London:20260717T100000
DTSTAMP:20260421T170455
CREATED:20240313T170048Z
LAST-MODIFIED:20241219T091026Z
UID:10014576-1784282400-1784282400@swanscombeandgreenhithetowncouncil.gov.uk
SUMMARY:Weekly Healthy Walks - Fridays at 10.00am
DESCRIPTION:
URL:https://swanscombeandgreenhithetowncouncil.gov.uk/event/weekly-healthy-walks-fridays-at-10-00am-2/2026-07-17/
LOCATION:The Fire Station Cafe\, Church Rd\, Swanscombe DA10 0HF\, United Kingdom\, United Kingdom
CATEGORIES:Community Event
END:VEVENT
BEGIN:VEVENT
DTSTART;TZID=Europe/London:20260724T100000
DTEND;TZID=Europe/London:20260724T100000
DTSTAMP:20260421T170455
CREATED:20240313T170048Z
LAST-MODIFIED:20241219T091026Z
UID:10014577-1784887200-1784887200@swanscombeandgreenhithetowncouncil.gov.uk
SUMMARY:Weekly Healthy Walks - Fridays at 10.00am
DESCRIPTION:
URL:https://swanscombeandgreenhithetowncouncil.gov.uk/event/weekly-healthy-walks-fridays-at-10-00am-2/2026-07-24/
LOCATION:The Fire Station Cafe\, Church Rd\, Swanscombe DA10 0HF\, United Kingdom\, United Kingdom
CATEGORIES:Community Event
END:VEVENT
BEGIN:VEVENT
DTSTART;TZID=Europe/London:20260731T100000
DTEND;TZID=Europe/London:20260731T100000
DTSTAMP:20260421T170455
CREATED:20240313T170048Z
LAST-MODIFIED:20241219T091026Z
UID:10014578-1785492000-1785492000@swanscombeandgreenhithetowncouncil.gov.uk
SUMMARY:Weekly Healthy Walks - Fridays at 10.00am
DESCRIPTION:
URL:https://swanscombeandgreenhithetowncouncil.gov.uk/event/weekly-healthy-walks-fridays-at-10-00am-2/2026-07-31/
LOCATION:The Fire Station Cafe\, Church Rd\, Swanscombe DA10 0HF\, United Kingdom\, United Kingdom
CATEGORIES:Community Event
END:VEVENT
BEGIN:VEVENT
DTSTART;TZID=Europe/London:20260807T100000
DTEND;TZID=Europe/London:20260807T100000
DTSTAMP:20260421T170455
CREATED:20240313T170048Z
LAST-MODIFIED:20241219T091026Z
UID:10014579-1786096800-1786096800@swanscombeandgreenhithetowncouncil.gov.uk
SUMMARY:Weekly Healthy Walks - Fridays at 10.00am
DESCRIPTION:
URL:https://swanscombeandgreenhithetowncouncil.gov.uk/event/weekly-healthy-walks-fridays-at-10-00am-2/2026-08-07/
LOCATION:The Fire Station Cafe\, Church Rd\, Swanscombe DA10 0HF\, United Kingdom\, United Kingdom
CATEGORIES:Community Event
END:VEVENT
BEGIN:VEVENT
DTSTART;TZID=Europe/London:20260814T100000
DTEND;TZID=Europe/London:20260814T100000
DTSTAMP:20260421T170455
CREATED:20240313T170048Z
LAST-MODIFIED:20241219T091026Z
UID:10014580-1786701600-1786701600@swanscombeandgreenhithetowncouncil.gov.uk
SUMMARY:Weekly Healthy Walks - Fridays at 10.00am
DESCRIPTION:
URL:https://swanscombeandgreenhithetowncouncil.gov.uk/event/weekly-healthy-walks-fridays-at-10-00am-2/2026-08-14/
LOCATION:The Fire Station Cafe\, Church Rd\, Swanscombe DA10 0HF\, United Kingdom\, United Kingdom
CATEGORIES:Community Event
END:VEVENT
BEGIN:VEVENT
DTSTART;TZID=Europe/London:20260821T100000
DTEND;TZID=Europe/London:20260821T100000
DTSTAMP:20260421T170455
CREATED:20240313T170048Z
LAST-MODIFIED:20241219T091026Z
UID:10014581-1787306400-1787306400@swanscombeandgreenhithetowncouncil.gov.uk
SUMMARY:Weekly Healthy Walks - Fridays at 10.00am
DESCRIPTION:
URL:https://swanscombeandgreenhithetowncouncil.gov.uk/event/weekly-healthy-walks-fridays-at-10-00am-2/2026-08-21/
LOCATION:The Fire Station Cafe\, Church Rd\, Swanscombe DA10 0HF\, United Kingdom\, United Kingdom
CATEGORIES:Community Event
END:VEVENT
BEGIN:VEVENT
DTSTART;TZID=Europe/London:20260828T100000
DTEND;TZID=Europe/London:20260828T100000
DTSTAMP:20260421T170455
CREATED:20240313T170048Z
LAST-MODIFIED:20241219T091026Z
UID:10014582-1787911200-1787911200@swanscombeandgreenhithetowncouncil.gov.uk
SUMMARY:Weekly Healthy Walks - Fridays at 10.00am
DESCRIPTION:
URL:https://swanscombeandgreenhithetowncouncil.gov.uk/event/weekly-healthy-walks-fridays-at-10-00am-2/2026-08-28/
LOCATION:The Fire Station Cafe\, Church Rd\, Swanscombe DA10 0HF\, United Kingdom\, United Kingdom
CATEGORIES:Community Event
END:VEVENT
BEGIN:VEVENT
DTSTART;TZID=Europe/London:20260904T100000
DTEND;TZID=Europe/London:20260904T100000
DTSTAMP:20260421T170455
CREATED:20240313T170048Z
LAST-MODIFIED:20241219T091026Z
UID:10014583-1788516000-1788516000@swanscombeandgreenhithetowncouncil.gov.uk
SUMMARY:Weekly Healthy Walks - Fridays at 10.00am
DESCRIPTION:
URL:https://swanscombeandgreenhithetowncouncil.gov.uk/event/weekly-healthy-walks-fridays-at-10-00am-2/2026-09-04/
LOCATION:The Fire Station Cafe\, Church Rd\, Swanscombe DA10 0HF\, United Kingdom\, United Kingdom
CATEGORIES:Community Event
END:VEVENT
BEGIN:VEVENT
DTSTART;TZID=Europe/London:20260911T100000
DTEND;TZID=Europe/London:20260911T100000
DTSTAMP:20260421T170455
CREATED:20240313T170048Z
LAST-MODIFIED:20241219T091026Z
UID:10014584-1789120800-1789120800@swanscombeandgreenhithetowncouncil.gov.uk
SUMMARY:Weekly Healthy Walks - Fridays at 10.00am
DESCRIPTION:
URL:https://swanscombeandgreenhithetowncouncil.gov.uk/event/weekly-healthy-walks-fridays-at-10-00am-2/2026-09-11/
LOCATION:The Fire Station Cafe\, Church Rd\, Swanscombe DA10 0HF\, United Kingdom\, United Kingdom
CATEGORIES:Community Event
END:VEVENT
BEGIN:VEVENT
DTSTART;TZID=Europe/London:20260918T100000
DTEND;TZID=Europe/London:20260918T100000
DTSTAMP:20260421T170455
CREATED:20240313T170048Z
LAST-MODIFIED:20241219T091026Z
UID:10014585-1789725600-1789725600@swanscombeandgreenhithetowncouncil.gov.uk
SUMMARY:Weekly Healthy Walks - Fridays at 10.00am
DESCRIPTION:
URL:https://swanscombeandgreenhithetowncouncil.gov.uk/event/weekly-healthy-walks-fridays-at-10-00am-2/2026-09-18/
LOCATION:The Fire Station Cafe\, Church Rd\, Swanscombe DA10 0HF\, United Kingdom\, United Kingdom
CATEGORIES:Community Event
END:VEVENT
BEGIN:VEVENT
DTSTART;TZID=Europe/London:20260925T100000
DTEND;TZID=Europe/London:20260925T100000
DTSTAMP:20260421T170455
CREATED:20240313T170048Z
LAST-MODIFIED:20241219T091026Z
UID:10014586-1790330400-1790330400@swanscombeandgreenhithetowncouncil.gov.uk
SUMMARY:Weekly Healthy Walks - Fridays at 10.00am
DESCRIPTION:
URL:https://swanscombeandgreenhithetowncouncil.gov.uk/event/weekly-healthy-walks-fridays-at-10-00am-2/2026-09-25/
LOCATION:The Fire Station Cafe\, Church Rd\, Swanscombe DA10 0HF\, United Kingdom\, United Kingdom
CATEGORIES:Community Event
END:VEVENT
BEGIN:VEVENT
DTSTART;TZID=Europe/London:20261002T100000
DTEND;TZID=Europe/London:20261002T100000
DTSTAMP:20260421T170455
CREATED:20240313T170048Z
LAST-MODIFIED:20241219T091026Z
UID:10014587-1790935200-1790935200@swanscombeandgreenhithetowncouncil.gov.uk
SUMMARY:Weekly Healthy Walks - Fridays at 10.00am
DESCRIPTION:
URL:https://swanscombeandgreenhithetowncouncil.gov.uk/event/weekly-healthy-walks-fridays-at-10-00am-2/2026-10-02/
LOCATION:The Fire Station Cafe\, Church Rd\, Swanscombe DA10 0HF\, United Kingdom\, United Kingdom
CATEGORIES:Community Event
END:VEVENT
BEGIN:VEVENT
DTSTART;TZID=Europe/London:20261009T100000
DTEND;TZID=Europe/London:20261009T100000
DTSTAMP:20260421T170455
CREATED:20240313T170048Z
LAST-MODIFIED:20241219T091026Z
UID:10014588-1791540000-1791540000@swanscombeandgreenhithetowncouncil.gov.uk
SUMMARY:Weekly Healthy Walks - Fridays at 10.00am
DESCRIPTION:
URL:https://swanscombeandgreenhithetowncouncil.gov.uk/event/weekly-healthy-walks-fridays-at-10-00am-2/2026-10-09/
LOCATION:The Fire Station Cafe\, Church Rd\, Swanscombe DA10 0HF\, United Kingdom\, United Kingdom
CATEGORIES:Community Event
END:VEVENT
BEGIN:VEVENT
DTSTART;TZID=Europe/London:20261016T100000
DTEND;TZID=Europe/London:20261016T100000
DTSTAMP:20260421T170455
CREATED:20240313T170048Z
LAST-MODIFIED:20241219T091026Z
UID:10014589-1792144800-1792144800@swanscombeandgreenhithetowncouncil.gov.uk
SUMMARY:Weekly Healthy Walks - Fridays at 10.00am
DESCRIPTION:
URL:https://swanscombeandgreenhithetowncouncil.gov.uk/event/weekly-healthy-walks-fridays-at-10-00am-2/2026-10-16/
LOCATION:The Fire Station Cafe\, Church Rd\, Swanscombe DA10 0HF\, United Kingdom\, United Kingdom
CATEGORIES:Community Event
END:VEVENT
BEGIN:VEVENT
DTSTART;TZID=Europe/London:20261023T100000
DTEND;TZID=Europe/London:20261023T100000
DTSTAMP:20260421T170455
CREATED:20240313T170048Z
LAST-MODIFIED:20241219T091026Z
UID:10014590-1792749600-1792749600@swanscombeandgreenhithetowncouncil.gov.uk
SUMMARY:Weekly Healthy Walks - Fridays at 10.00am
DESCRIPTION:
URL:https://swanscombeandgreenhithetowncouncil.gov.uk/event/weekly-healthy-walks-fridays-at-10-00am-2/2026-10-23/
LOCATION:The Fire Station Cafe\, Church Rd\, Swanscombe DA10 0HF\, United Kingdom\, United Kingdom
CATEGORIES:Community Event
END:VEVENT
BEGIN:VEVENT
DTSTART;TZID=Europe/London:20261030T100000
DTEND;TZID=Europe/London:20261030T100000
DTSTAMP:20260421T170455
CREATED:20240313T170048Z
LAST-MODIFIED:20241219T091026Z
UID:10014591-1793354400-1793354400@swanscombeandgreenhithetowncouncil.gov.uk
SUMMARY:Weekly Healthy Walks - Fridays at 10.00am
DESCRIPTION:
URL:https://swanscombeandgreenhithetowncouncil.gov.uk/event/weekly-healthy-walks-fridays-at-10-00am-2/2026-10-30/
LOCATION:The Fire Station Cafe\, Church Rd\, Swanscombe DA10 0HF\, United Kingdom\, United Kingdom
CATEGORIES:Community Event
END:VEVENT
BEGIN:VEVENT
DTSTART;TZID=Europe/London:20261106T100000
DTEND;TZID=Europe/London:20261106T100000
DTSTAMP:20260421T170455
CREATED:20240313T170048Z
LAST-MODIFIED:20241219T091026Z
UID:10014592-1793959200-1793959200@swanscombeandgreenhithetowncouncil.gov.uk
SUMMARY:Weekly Healthy Walks - Fridays at 10.00am
DESCRIPTION:
URL:https://swanscombeandgreenhithetowncouncil.gov.uk/event/weekly-healthy-walks-fridays-at-10-00am-2/2026-11-06/
LOCATION:The Fire Station Cafe\, Church Rd\, Swanscombe DA10 0HF\, United Kingdom\, United Kingdom
CATEGORIES:Community Event
END:VEVENT
BEGIN:VEVENT
DTSTART;TZID=Europe/London:20261113T100000
DTEND;TZID=Europe/London:20261113T100000
DTSTAMP:20260421T170455
CREATED:20240313T170048Z
LAST-MODIFIED:20241219T091026Z
UID:10014593-1794564000-1794564000@swanscombeandgreenhithetowncouncil.gov.uk
SUMMARY:Weekly Healthy Walks - Fridays at 10.00am
DESCRIPTION:
URL:https://swanscombeandgreenhithetowncouncil.gov.uk/event/weekly-healthy-walks-fridays-at-10-00am-2/2026-11-13/
LOCATION:The Fire Station Cafe\, Church Rd\, Swanscombe DA10 0HF\, United Kingdom\, United Kingdom
CATEGORIES:Community Event
END:VEVENT
BEGIN:VEVENT
DTSTART;TZID=Europe/London:20261120T100000
DTEND;TZID=Europe/London:20261120T100000
DTSTAMP:20260421T170455
CREATED:20240313T170048Z
LAST-MODIFIED:20241219T091026Z
UID:10014594-1795168800-1795168800@swanscombeandgreenhithetowncouncil.gov.uk
SUMMARY:Weekly Healthy Walks - Fridays at 10.00am
DESCRIPTION:
URL:https://swanscombeandgreenhithetowncouncil.gov.uk/event/weekly-healthy-walks-fridays-at-10-00am-2/2026-11-20/
LOCATION:The Fire Station Cafe\, Church Rd\, Swanscombe DA10 0HF\, United Kingdom\, United Kingdom
CATEGORIES:Community Event
END:VEVENT
BEGIN:VEVENT
DTSTART;TZID=Europe/London:20261127T100000
DTEND;TZID=Europe/London:20261127T100000
DTSTAMP:20260421T170455
CREATED:20240313T170048Z
LAST-MODIFIED:20241219T091026Z
UID:10014595-1795773600-1795773600@swanscombeandgreenhithetowncouncil.gov.uk
SUMMARY:Weekly Healthy Walks - Fridays at 10.00am
DESCRIPTION:
URL:https://swanscombeandgreenhithetowncouncil.gov.uk/event/weekly-healthy-walks-fridays-at-10-00am-2/2026-11-27/
LOCATION:The Fire Station Cafe\, Church Rd\, Swanscombe DA10 0HF\, United Kingdom\, United Kingdom
CATEGORIES:Community Event
END:VEVENT
BEGIN:VEVENT
DTSTART;TZID=Europe/London:20261204T100000
DTEND;TZID=Europe/London:20261204T100000
DTSTAMP:20260421T170455
CREATED:20240313T170048Z
LAST-MODIFIED:20241219T091026Z
UID:10014596-1796378400-1796378400@swanscombeandgreenhithetowncouncil.gov.uk
SUMMARY:Weekly Healthy Walks - Fridays at 10.00am
DESCRIPTION:
URL:https://swanscombeandgreenhithetowncouncil.gov.uk/event/weekly-healthy-walks-fridays-at-10-00am-2/2026-12-04/
LOCATION:The Fire Station Cafe\, Church Rd\, Swanscombe DA10 0HF\, United Kingdom\, United Kingdom
CATEGORIES:Community Event
END:VEVENT
BEGIN:VEVENT
DTSTART;TZID=Europe/London:20261211T100000
DTEND;TZID=Europe/London:20261211T100000
DTSTAMP:20260421T170455
CREATED:20240313T170048Z
LAST-MODIFIED:20241219T091026Z
UID:10014597-1796983200-1796983200@swanscombeandgreenhithetowncouncil.gov.uk
SUMMARY:Weekly Healthy Walks - Fridays at 10.00am
DESCRIPTION:
URL:https://swanscombeandgreenhithetowncouncil.gov.uk/event/weekly-healthy-walks-fridays-at-10-00am-2/2026-12-11/
LOCATION:The Fire Station Cafe\, Church Rd\, Swanscombe DA10 0HF\, United Kingdom\, United Kingdom
CATEGORIES:Community Event
END:VEVENT
BEGIN:VEVENT
DTSTART;TZID=Europe/London:20261218T100000
DTEND;TZID=Europe/London:20261218T100000
DTSTAMP:20260421T170455
CREATED:20240313T170048Z
LAST-MODIFIED:20241219T091026Z
UID:10014598-1797588000-1797588000@swanscombeandgreenhithetowncouncil.gov.uk
SUMMARY:Weekly Healthy Walks - Fridays at 10.00am
DESCRIPTION:
URL:https://swanscombeandgreenhithetowncouncil.gov.uk/event/weekly-healthy-walks-fridays-at-10-00am-2/2026-12-18/
LOCATION:The Fire Station Cafe\, Church Rd\, Swanscombe DA10 0HF\, United Kingdom\, United Kingdom
CATEGORIES:Community Event
END:VEVENT
BEGIN:VEVENT
DTSTART;TZID=Europe/London:20261225T100000
DTEND;TZID=Europe/London:20261225T100000
DTSTAMP:20260421T170455
CREATED:20240313T170048Z
LAST-MODIFIED:20241219T091026Z
UID:10014599-1798192800-1798192800@swanscombeandgreenhithetowncouncil.gov.uk
SUMMARY:Weekly Healthy Walks - Fridays at 10.00am
DESCRIPTION:
URL:https://swanscombeandgreenhithetowncouncil.gov.uk/event/weekly-healthy-walks-fridays-at-10-00am-2/2026-12-25/
LOCATION:The Fire Station Cafe\, Church Rd\, Swanscombe DA10 0HF\, United Kingdom\, United Kingdom
CATEGORIES:Community Event
END:VEVENT
BEGIN:VEVENT
DTSTART;TZID=Europe/London:20270101T100000
DTEND;TZID=Europe/London:20270101T100000
DTSTAMP:20260421T170455
CREATED:20240313T170048Z
LAST-MODIFIED:20241219T091026Z
UID:10014600-1798797600-1798797600@swanscombeandgreenhithetowncouncil.gov.uk
SUMMARY:Weekly Healthy Walks - Fridays at 10.00am
DESCRIPTION:
URL:https://swanscombeandgreenhithetowncouncil.gov.uk/event/weekly-healthy-walks-fridays-at-10-00am-2/2027-01-01/
LOCATION:The Fire Station Cafe\, Church Rd\, Swanscombe DA10 0HF\, United Kingdom\, United Kingdom
CATEGORIES:Community Event
END:VEVENT
BEGIN:VEVENT
DTSTART;TZID=Europe/London:20270108T100000
DTEND;TZID=Europe/London:20270108T100000
DTSTAMP:20260421T170455
CREATED:20240313T170048Z
LAST-MODIFIED:20241219T091026Z
UID:10014601-1799402400-1799402400@swanscombeandgreenhithetowncouncil.gov.uk
SUMMARY:Weekly Healthy Walks - Fridays at 10.00am
DESCRIPTION:
URL:https://swanscombeandgreenhithetowncouncil.gov.uk/event/weekly-healthy-walks-fridays-at-10-00am-2/2027-01-08/
LOCATION:The Fire Station Cafe\, Church Rd\, Swanscombe DA10 0HF\, United Kingdom\, United Kingdom
CATEGORIES:Community Event
END:VEVENT
BEGIN:VEVENT
DTSTART;TZID=Europe/London:20270115T100000
DTEND;TZID=Europe/London:20270115T100000
DTSTAMP:20260421T170455
CREATED:20240313T170048Z
LAST-MODIFIED:20241219T091026Z
UID:10014602-1800007200-1800007200@swanscombeandgreenhithetowncouncil.gov.uk
SUMMARY:Weekly Healthy Walks - Fridays at 10.00am
DESCRIPTION:
URL:https://swanscombeandgreenhithetowncouncil.gov.uk/event/weekly-healthy-walks-fridays-at-10-00am-2/2027-01-15/
LOCATION:The Fire Station Cafe\, Church Rd\, Swanscombe DA10 0HF\, United Kingdom\, United Kingdom
CATEGORIES:Community Event
END:VEVENT
BEGIN:VEVENT
DTSTART;TZID=Europe/London:20270122T100000
DTEND;TZID=Europe/London:20270122T100000
DTSTAMP:20260421T170455
CREATED:20240313T170048Z
LAST-MODIFIED:20241219T091026Z
UID:10014603-1800612000-1800612000@swanscombeandgreenhithetowncouncil.gov.uk
SUMMARY:Weekly Healthy Walks - Fridays at 10.00am
DESCRIPTION:
URL:https://swanscombeandgreenhithetowncouncil.gov.uk/event/weekly-healthy-walks-fridays-at-10-00am-2/2027-01-22/
LOCATION:The Fire Station Cafe\, Church Rd\, Swanscombe DA10 0HF\, United Kingdom\, United Kingdom
CATEGORIES:Community Event
END:VEVENT
BEGIN:VEVENT
DTSTART;TZID=Europe/London:20270129T100000
DTEND;TZID=Europe/London:20270129T100000
DTSTAMP:20260421T170455
CREATED:20240313T170048Z
LAST-MODIFIED:20241219T091026Z
UID:10014604-1801216800-1801216800@swanscombeandgreenhithetowncouncil.gov.uk
SUMMARY:Weekly Healthy Walks - Fridays at 10.00am
DESCRIPTION:
URL:https://swanscombeandgreenhithetowncouncil.gov.uk/event/weekly-healthy-walks-fridays-at-10-00am-2/2027-01-29/
LOCATION:The Fire Station Cafe\, Church Rd\, Swanscombe DA10 0HF\, United Kingdom\, United Kingdom
CATEGORIES:Community Event
END:VEVENT
BEGIN:VEVENT
DTSTART;TZID=Europe/London:20270205T100000
DTEND;TZID=Europe/London:20270205T100000
DTSTAMP:20260421T170455
CREATED:20240313T170048Z
LAST-MODIFIED:20241219T091026Z
UID:10014605-1801821600-1801821600@swanscombeandgreenhithetowncouncil.gov.uk
SUMMARY:Weekly Healthy Walks - Fridays at 10.00am
DESCRIPTION:
URL:https://swanscombeandgreenhithetowncouncil.gov.uk/event/weekly-healthy-walks-fridays-at-10-00am-2/2027-02-05/
LOCATION:The Fire Station Cafe\, Church Rd\, Swanscombe DA10 0HF\, United Kingdom\, United Kingdom
CATEGORIES:Community Event
END:VEVENT
END:VCALENDAR